{"text_format":"1","workbook":"xlsx","n_sheets":10,"sheets":["Cover","Screenshots","Statistics","Conformance Statement","Success Criteria","Colour Contrast Analysis","Non-text Contrast","Changelog","Comboboxes","Data Table"],"not_rendered":{"charts":0,"images":26,"macros":1,"external_links":2,"defined_names":58,"comments":0,"pivot_tables":0},"unopened":[],"bounds":{"document_bytes":16777216,"sheet_cells":100000,"rows_first":2000,"rows_last":500,"rows_between":2000,"halvings":0,"cell_chars":16384,"cell_head_chars":4096},"cells_cut":0,"cells_raw":0,"read":"whole","date_system":"1900"}

{"sheet":"Cover","index":0,"n_rows":0,"n_cols":0,"rows_kept":0,"cut":false,"hidden":true,"merged":[[0,0,0,3]]}

{"sheet":"Screenshots","index":1,"n_rows":301,"n_cols":1,"rows_kept":301,"cut":false,"hidden":false,"merged":[]}
[]
[]
[{"$f":" Statistics!A15 & \": \" & Statistics!B15","v":"1: Header"}]
[]
[{"$f":"Statistics!A16 & \": \" & Statistics!B16","v":"2: Footer"}]
[]
[{"$f":"Statistics!A17 & \": \" & Statistics!B17","v":"3: Home page"}]
[]
[{"$f":"Statistics!A18 & \": \" & Statistics!B18","v":"4: Search - Find a volunteering role"}]
[]
[{"$f":"Statistics!A19 & \": \" & Statistics!B19","v":"5: Opportunity page"}]
[]
[{"$f":"Statistics!A20 & \": \" & Statistics!B20","v":"6: Find volunteers"}]
[]
[{"$f":"Statistics!A21 & \": \" & Statistics!B21","v":"7: Page 7"}]
[]
[{"$f":"Statistics!A22 & \": \" & Statistics!B22","v":"8: Page 8"}]
[]
[{"$f":"Statistics!A23 & \": \" & Statistics!B23","v":"9: Page 9"}]
[]
[{"$f":"Statistics!A24 & \": \" & Statistics!B24","v":"10: Page 10"}]
[]
[{"$f":"Statistics!A25 & \": \" & Statistics!B25","v":"11: Page 11"}]
[]
[{"$f":" Statistics!A26 & \": \" & Statistics!B26","v":"12: Page 12"}]
[]
[{"$f":"Statistics!A27 & \": \" & Statistics!B27","v":"13: Page 13"}]
[]
[{"$f":"Statistics!A28 & \": \" & Statistics!B28","v":"14: Page 14"}]
[]
[{"$f":"Statistics!A29 & \": \" & Statistics!B29","v":"15: Page 15"}]
[]
[{"$f":"Statistics!A30 & \": \" & Statistics!B30","v":"16: Page 16"}]
[]
[{"$f":"Statistics!A31 & \": \" & Statistics!B31","v":"17: Page 17"}]
[]
[{"$f":"Statistics!A32 & \": \" & Statistics!B32","v":"18: Page 18"}]
[]
[{"$f":"Statistics!A33 & \": \" & Statistics!B33","v":"19: Page 19"}]
[]
[{"$f":"Statistics!A34 & \": \" & Statistics!B34","v":"20: Page 20"}]
[]
[{"$f":"Statistics!A35 & \": \" & Statistics!B35","v":"21: Page 21"}]
[]
[{"$f":"Statistics!A36 & \": \" & Statistics!B36","v":"22: Page 22"}]
[]
[{"$f":" Statistics!A37 & \": \" & Statistics!B37","v":"23: Page 23"}]
[]
[{"$f":"Statistics!A38 & \": \" & Statistics!B38","v":"24: Page 24"}]
[]
[{"$f":"Statistics!A39 & \": \" & Statistics!B39","v":"25: Page 25"}]
[]
[{"$f":"Statistics!A40 & \": \" & Statistics!B40","v":"26: Page 26"}]
[]
[{"$f":"Statistics!A41 & \": \" & Statistics!B41","v":"27: Page 27"}]
[]
[{"$f":"Statistics!A42 & \": \" & Statistics!B42","v":"28: Page 28"}]
[]
[{"$f":"Statistics!A43 & \": \" & Statistics!B43","v":"29: Page 29"}]
[]
[{"$f":"Statistics!A44 & \": \" & Statistics!B44","v":"30: Page 30"}]
[]
[{"$f":"Statistics!A45 & \": \" & Statistics!B45","v":"31: Page 31"}]
[]
[{"$f":"Statistics!A46 & \": \" & Statistics!B46","v":"32: Page 32"}]
[]
[{"$f":"Statistics!A47 & \": \" & Statistics!B47","v":"33: Page 33"}]
[]
[{"$f":" Statistics!A48 & \": \" & Statistics!B48","v":"34: Page 34"}]
[]
[{"$f":"Statistics!A49 & \": \" & Statistics!B49","v":"35: Page 35"}]
[]
[{"$f":"Statistics!A50 & \": \" & Statistics!B50","v":"36: Page 36"}]
[]
[{"$f":"Statistics!A51 & \": \" & Statistics!B51","v":"37: Page 37"}]
[]
[{"$f":"Statistics!A52 & \": \" & Statistics!B52","v":"38: Page 38"}]
[]
[{"$f":"Statistics!A53 & \": \" & Statistics!B53","v":"39: Page 39"}]
[]
[{"$f":"Statistics!A54 & \": \" & Statistics!B54","v":"40: Page 40"}]
[]
[{"$f":"Statistics!A55 & \": \" & Statistics!B55","v":"41: Page 41"}]
[]
[{"$f":"Statistics!A56 & \": \" & Statistics!B56","v":"42: Page 42"}]
[]
[{"$f":"Statistics!A57 & \": \" & Statistics!B57","v":"43: Page 43"}]
[]
[{"$f":"Statistics!A58 & \": \" & Statistics!B58","v":"44: Page 44"}]
[]
[{"$f":" Statistics!A59 & \": \" & Statistics!B59","v":"45: Page 45"}]
[]
[{"$f":"Statistics!A60 & \": \" & Statistics!B60","v":"46: Page 46"}]
[]
[{"$f":"Statistics!A61 & \": \" & Statistics!B61","v":"47: Page 47"}]
[]
[{"$f":"Statistics!A62 & \": \" & Statistics!B62","v":"48: Page 48"}]
[]
[{"$f":"Statistics!A63 & \": \" & Statistics!B63","v":"49: Page 49"}]
[]
[{"$f":"Statistics!A64 & \": \" & Statistics!B64","v":"50: Page 50"}]
[]
[{"$f":"Statistics!A65 & \": \" & Statistics!B65","v":"51: Page 51"}]
[]
[{"$f":"Statistics!A66 & \": \" & Statistics!B66","v":"52: Page 52"}]
[]
[{"$f":"Statistics!A67 & \": \" & Statistics!B67","v":"53: Page 53"}]
[]
[{"$f":"Statistics!A68 & \": \" & Statistics!B68","v":"54: Page 54"}]
[]
[{"$f":"Statistics!A69 & \": \" & Statistics!B69","v":"55: Page 55"}]
[]
[{"$f":" Statistics!A70 & \": \" & Statistics!B70","v":"56: Page 56"}]
[]
[{"$f":"Statistics!A71 & \": \" & Statistics!B71","v":"57: Page 57"}]
[]
[{"$f":"Statistics!A72 & \": \" & Statistics!B72","v":"58: Page 58"}]
[]
[{"$f":"Statistics!A73 & \": \" & Statistics!B73","v":"59: Page 59"}]
[]
[{"$f":"Statistics!A74 & \": \" & Statistics!B74","v":"60: Page 60"}]
[]
[{"$f":"Statistics!A75 & \": \" & Statistics!B75","v":"61: Page 61"}]
[]
[{"$f":"Statistics!A76 & \": \" & Statistics!B76","v":"62: Page 62"}]
[]
[{"$f":"Statistics!A77 & \": \" & Statistics!B77","v":"63: Page 63"}]
[]
[{"$f":"Statistics!A78 & \": \" & Statistics!B78","v":"64: Page 64"}]
[]
[{"$f":"Statistics!A79 & \": \" & Statistics!B79","v":"65: Page 65"}]
[]
[{"$f":"Statistics!A80 & \": \" & Statistics!B80","v":"66: Page 66"}]
[]
[{"$f":"Statistics!A81 & \": \" & Statistics!B81","v":"67: Page 67"}]
[]
[{"$f":"Statistics!A82 & \": \" & Statistics!B82","v":"68: Page 68"}]
[]
[{"$f":"Statistics!A83 & \": \" & Statistics!B83","v":"69: Page 69"}]
[]
[{"$f":"Statistics!A84 & \": \" & Statistics!B84","v":"70: Page 70"}]
[]
[{"$f":"Statistics!A85 & \": \" & Statistics!B85","v":"71: Page 71"}]
[]
[{"$f":"Statistics!A86 & \": \" & Statistics!B86","v":"72: Page 72"}]
[]
[{"$f":"Statistics!A87 & \": \" & Statistics!B87","v":"73: Page 73"}]
[]
[{"$f":"Statistics!A88 & \": \" & Statistics!B88","v":"74: Page 74"}]
[]
[{"$f":"Statistics!A89 & \": \" & Statistics!B89","v":"75: Page 75"}]
[]
[{"$f":"Statistics!A90 & \": \" & Statistics!B90","v":"76: Page 76"}]
[]
[{"$f":"Statistics!A91 & \": \" & Statistics!B91","v":"77: Page 77"}]
[]
[{"$f":"Statistics!A92 & \": \" & Statistics!B92","v":"78: Page 78"}]
[]
[{"$f":"Statistics!A93 & \": \" & Statistics!B93","v":"79: Page 79"}]
[]
[{"$f":"Statistics!A94 & \": \" & Statistics!B94","v":"80: Page 80"}]
[]
[{"$f":"Statistics!A95 & \": \" & Statistics!B95","v":"81: Page 81"}]
[]
[{"$f":"Statistics!A96 & \": \" & Statistics!B96","v":"82: Page 82"}]
[]
[{"$f":"Statistics!A97 & \": \" & Statistics!B97","v":"83: Page 83"}]
[]
[{"$f":"Statistics!A98 & \": \" & Statistics!B98","v":"84: Page 84"}]
[]
[{"$f":"Statistics!A99 & \": \" & Statistics!B99","v":"85: Page 85"}]
[]
[{"$f":"Statistics!A100 & \": \" & Statistics!B100","v":"86: Page 86"}]
[]
[{"$f":"Statistics!A101 & \": \" & Statistics!B101","v":"87: Page 87"}]
[]
[{"$f":"Statistics!A102 & \": \" & Statistics!B102","v":"88: Page 88"}]
[]
[{"$f":"Statistics!A103 & \": \" & Statistics!B103","v":"89: Page 89"}]
[]
[{"$f":"Statistics!A104 & \": \" & Statistics!B104","v":"90: Page 90"}]
[]
[{"$f":"Statistics!A105 & \": \" & Statistics!B105","v":"91: Page 91"}]
[]
[{"$f":"Statistics!A106 & \": \" & Statistics!B106","v":"92: Page 92"}]
[]
[{"$f":"Statistics!A107 & \": \" & Statistics!B107","v":"93: Page 93"}]
[]
[{"$f":"Statistics!A108 & \": \" & Statistics!B108","v":"94: Page 94"}]
[]
[{"$f":"Statistics!A109 & \": \" & Statistics!B109","v":"95: Page 95"}]
[]
[{"$f":"Statistics!A110 & \": \" & Statistics!B110","v":"96: Page 96"}]
[]
[{"$f":"Statistics!A111 & \": \" & Statistics!B111","v":"97: Page 97"}]
[]
[{"$f":"Statistics!A112 & \": \" & Statistics!B112","v":"98: Page 98"}]
[]
[{"$f":"Statistics!A113 & \": \" & Statistics!B113","v":"99: Page 99"}]
[]
[{"$f":"Statistics!A114 & \": \" & Statistics!B114","v":"100: Page 100"}]
[]
[{"$f":"Statistics!A115 & \": \" & Statistics!B115","v":"101: Page 101"}]
[]
[{"$f":"Statistics!A116 & \": \" & Statistics!B116","v":"102: Page 102"}]
[]
[{"$f":"Statistics!A117 & \": \" & Statistics!B117","v":"103: Page 103"}]
[]
[{"$f":"Statistics!A118 & \": \" & Statistics!B118","v":"104: Page 104"}]
[]
[{"$f":"Statistics!A119 & \": \" & Statistics!B119","v":"105: Page 105"}]
[]
[{"$f":"Statistics!A120 & \": \" & Statistics!B120","v":"106: Page 106"}]
[]
[{"$f":"Statistics!A121 & \": \" & Statistics!B121","v":"107: Page 107"}]
[]
[{"$f":"Statistics!A122 & \": \" & Statistics!B122","v":"108: Page 108"}]
[]
[{"$f":"Statistics!A123 & \": \" & Statistics!B123","v":"109: Page 109"}]
[]
[{"$f":"Statistics!A124 & \": \" & Statistics!B124","v":"110: Page 110"}]
[]
[{"$f":"Statistics!A125 & \": \" & Statistics!B125","v":"111: Page 111"}]
[]
[{"$f":"Statistics!A126 & \": \" & Statistics!B126","v":"112: Page 112"}]
[]
[{"$f":"Statistics!A127 & \": \" & Statistics!B127","v":"113: Page 113"}]
[]
[{"$f":"Statistics!A128 & \": \" & Statistics!B128","v":"114: Page 114"}]
[]
[{"$f":"Statistics!A129 & \": \" & Statistics!B129","v":"115: Page 115"}]
[]
[{"$f":"Statistics!A130 & \": \" & Statistics!B130","v":"116: Page 116"}]
[]
[{"$f":"Statistics!A131 & \": \" & Statistics!B131","v":"117: Page 117"}]
[]
[{"$f":"Statistics!A132 & \": \" & Statistics!B132","v":"118: Page 118"}]
[]
[{"$f":"Statistics!A133 & \": \" & Statistics!B133","v":"119: Page 119"}]
[]
[{"$f":"Statistics!A134 & \": \" & Statistics!B134","v":"120: Page 120"}]
[]
[{"$f":"Statistics!A135 & \": \" & Statistics!B135","v":"121: Page 121"}]
[]
[{"$f":"Statistics!A136 & \": \" & Statistics!B136","v":"122: Page 122"}]
[]
[{"$f":"Statistics!A137 & \": \" & Statistics!B137","v":"123: Page 123"}]
[]
[{"$f":"Statistics!A138 & \": \" & Statistics!B138","v":"124: Page 124"}]
[]
[{"$f":"Statistics!A139 & \": \" & Statistics!B139","v":"125: Page 125"}]
[]
[{"$f":"Statistics!A140 & \": \" & Statistics!B140","v":"126: Page 126"}]
[]
[{"$f":"Statistics!A141 & \": \" & Statistics!B141","v":"127: Page 127"}]
[]
[{"$f":"Statistics!A142 & \": \" & Statistics!B142","v":"128: Page 128"}]
[]
[{"$f":"Statistics!A143 & \": \" & Statistics!B143","v":"129: Page 129"}]
[]
[{"$f":"Statistics!A144 & \": \" & Statistics!B144","v":"130: Page 130"}]
[]
[{"$f":"Statistics!A145 & \": \" & Statistics!B145","v":"131: Page 131"}]
[]
[{"$f":"Statistics!A146 & \": \" & Statistics!B146","v":"132: Page 132"}]
[]
[{"$f":"Statistics!A147 & \": \" & Statistics!B147","v":"133: Page 133"}]
[]
[{"$f":"Statistics!A148 & \": \" & Statistics!B148","v":"134: Page 134"}]
[]
[{"$f":"Statistics!A149 & \": \" & Statistics!B149","v":"135: Page 135"}]
[]
[{"$f":"Statistics!A150 & \": \" & Statistics!B150","v":"136: Page 136"}]
[]
[{"$f":"Statistics!A151 & \": \" & Statistics!B151","v":"137: Page 137"}]
[]
[{"$f":"Statistics!A152 & \": \" & Statistics!B152","v":"138: Page 138"}]
[]
[{"$f":"Statistics!A153 & \": \" & Statistics!B153","v":"139: Page 139"}]
[]
[{"$f":"Statistics!A154 & \": \" & Statistics!B154","v":"140: Page 140"}]
[]
[{"$f":"Statistics!A155 & \": \" & Statistics!B155","v":"141: Page 141"}]
[]
[{"$f":"Statistics!A156 & \": \" & Statistics!B156","v":"142: Page 142"}]
[]
[{"$f":"Statistics!A157 & \": \" & Statistics!B157","v":"143: Page 143"}]
[]
[{"$f":"Statistics!A158 & \": \" & Statistics!B158","v":"144: Page 144"}]
[]
[{"$f":"Statistics!A159 & \": \" & Statistics!B159","v":"145: Page 145"}]
[]
[{"$f":"Statistics!A160 & \": \" & Statistics!B160","v":"146: Page 146"}]
[]
[{"$f":"Statistics!A161 & \": \" & Statistics!B161","v":"147: Page 147"}]
[]
[{"$f":"Statistics!A162 & \": \" & Statistics!B162","v":"148: Page 148"}]
[]
[{"$f":"Statistics!A163 & \": \" & Statistics!B163","v":"149: Page 149"}]
[]
[{"$f":"Statistics!A164 & \": \" & Statistics!B164","v":"150: Page 150"}]

{"sheet":"Statistics","index":2,"n_rows":169,"n_cols":27,"rows_kept":169,"cut":false,"hidden":false,"merged":[[1,2,1,7],[2,2,2,7],[3,2,3,7],[1,16,1,17],[2,16,2,17],[3,16,3,17],[4,16,4,17],[1,8,1,11],[2,12,2,15],[3,12,3,15],[4,12,4,15],[2,8,2,11],[3,8,3,11],[4,8,4,11],[5,8,5,11],[12,0,12,3],[5,2,5,7],[8,2,8,7],[7,8,7,11],[9,2,9,7],[9,8,9,11],[8,8,8,11],[8,12,8,15],[168,0,168,2],[167,0,167,2],[12,4,12,7],[12,8,12,11],[165,8,165,11],[165,4,165,7],[12,23,13,23],[12,22,13,22],[9,12,9,15],[12,24,13,24],[165,16,165,19],[12,16,12,19],[12,12,12,15],[165,12,165,15],[0,21,0,26],[1,21,10,26],[6,12,6,15],[0,0,0,15],[12,26,13,26],[12,25,13,25],[12,21,13,21],[6,8,6,11],[10,2,10,7],[10,8,10,11],[10,12,10,15],[6,2,6,7],[7,2,7,7],[4,2,4,7],[7,12,7,15],[5,12,5,15]]}
["\nWCAG 2.1 website accessibility audit\nStatistics",null,null,null,null,null,null,null,null,null,null,null,null,null,null,null,null,null,null,null,null,"Hide these columns before delivery to the client"]
["Client",null,"GLA",null,null,null,null,null,"Test Environment",null,null,null,null,null,null,null,"Scope",null,null,null,null,"Many cells are protected and cannot be edited. Unprotect the worksheet to delete columns or rows.\nDo not add columns or rows.\n\nSee Steve Green if amendments are necessary."]
["Website",null,"Team London",null,null,null,null,null,"Primary Operating System",null,null,null,null,null,null,null,"Level A",null,"Yes"]
["URL",null," https://wwwtest.london.gov.uk/team-london/",null,null,null,null,null,"Primary Browser",null,null,null,null,null,null,null,"Level AA",null,"Yes"]
["Quotation Number",null,"005798",null,null,null,null,null,"Primary Screen Reader",null,null,null,null,null,null,null,"Level AAA",null,"No"]
["Report Version Number",null,"2.0",null,null,null,null,null,"Screen Size"]
["Testing last conducted by:",null,"Paul Crichton",null,null,null,null,null,"Screen Resolution"]
["Testing last conducted on:",null,"2022-04-14",null,null,null,null,null,"Secondary Browser 1"]
["Report last reviewed by:",null,"Paul Crichton",null,null,null,null,null,"Secondary Browser 2"]
["Report last reviewed on:",null,"2022-04-19",null,null,null,null,null,"Secondary Browser 3"]
[null,null,null,null,null,null,null,null,"Primary PDF Reader"]
[]
[null,null,null,null,"Level A",null,null,null,"Level AA",null,null,null,"Level AAA",null,null,null,"Total",null,null,null,null,"Level A Checkpoints Done ","Level A Checkpoints Complete ","Level AA Checkpoints Done ","Level AA Checkpoints Complete ","Level AAA Checkpoints Done ","Level AAA Checkpoints Complete "]
["ID","Page Name","Page URL","Page or Component","Pass","Fail","N/A","Not tested","Pass","Fail","N/A ","Not tested","Pass","Fail","N/A ","Not tested","Pass","Fail","N/A ","Not tested"]
[1,"Header"," https://wwwtest.london.gov.uk/team-london/","HTML Component",{"$f":"SUM(COUNTIF(INDIRECT(\"'Success Criteria'!\" & ADDRESS(8,A15+4)):INDIRECT(\"'Success Criteria'!\" & ADDRESS(70,A15+4)),\"PASS\"),COUNTIF(INDIRECT(\"'Success Criteria'!\" & ADDRESS(8,A15+4)):INDIRECT(\"'Success Criteria'!\" & ADDRESS(70,A15+4)),\"PASS with comments\"))","v":17},{"$f":"COUNTIF(INDIRECT(\"'Success Criteria'!\" & ADDRESS(8,A15+4)):INDIRECT(\"'Success Criteria'!\" & ADDRESS(70,A15+4)),\"NON conformant\")","v":1},{"$f":"COUNTIF(INDIRECT(\"'Success Criteria'!\" & ADDRESS(8,A15+4)):INDIRECT(\"'Success Criteria'!\" & ADDRESS(70,A15+4)),\"N/A\")","v":12},{"$f":"COUNTIF(INDIRECT(\"'Success Criteria'!\" & ADDRESS(8,A15+4)):INDIRECT(\"'Success Criteria'!\" & ADDRESS(70,A15+4)),\"not tested\")","v":0},{"$f":"SUM(COUNTIF(INDIRECT(\"'Success Criteria'!\" & ADDRESS(74,A15+4)):INDIRECT(\"'Success Criteria'!\" & ADDRESS(115,A15+4)),\"PASS\"),COUNTIF(INDIRECT(\"'Success Criteria'!\" & ADDRESS(74,A15+4)):INDIRECT(\"'Success Criteria'!\" & ADDRESS(115,A15+4)),\"PASS with comments\"))","v":12},{"$f":"COUNTIF(INDIRECT(\"'Success Criteria'!\" & ADDRESS(74,A15+4)):INDIRECT(\"'Success Criteria'!\" & ADDRESS(115,A15+4)),\"NON conformant\")","v":0},{"$f":"COUNTIF(INDIRECT(\"'Success Criteria'!\" & ADDRESS(74,A15+4)):INDIRECT(\"'Success Criteria'!\" & ADDRESS(115,A15+4)),\"N/A\")","v":8},{"$f":"COUNTIF(INDIRECT(\"'Success Criteria'!\" & ADDRESS(74,A15+4)):INDIRECT(\"'Success Criteria'!\" & ADDRESS(115,A15+4)),\"not tested\")","v":0},{"$f":"SUM(COUNTIF(INDIRECT(\"'Success Criteria'!\" & ADDRESS(120,A15+4)):INDIRECT(\"'Success Criteria'!\" & ADDRESS(174,A15+4)),\"PASS\"),COUNTIF(INDIRECT(\"'Success Criteria'!\" & ADDRESS(120,A15+4)):INDIRECT(\"'Success Criteria'!\" & ADDRESS(174,A15+4)),\"PASS with comments\"))","v":0},{"$f":"COUNTIF(INDIRECT(\"'Success Criteria'!\" & ADDRESS(120,A15+4)):INDIRECT(\"'Success Criteria'!\" & ADDRESS(174,A15+4)),\"NON conformant\")","v":0},{"$f":"COUNTIF(INDIRECT(\"'Success Criteria'!\" & ADDRESS(120,A15+4)):INDIRECT(\"'Success Criteria'!\" & ADDRESS(174,A15+4)),\"N/A\")","v":0},{"$f":"COUNTIF(INDIRECT(\"'Success Criteria'!\" & ADDRESS(120,A15+4)):INDIRECT(\"'Success Criteria'!\" & ADDRESS(174,A15+4)),\"not tested\")","v":28},{"$f":"SUM(E15+I15+M15)","v":29},{"$f":"SUM(F15+J15+N15)","v":1},{"$f":"SUM(G15+K15+O15)","v":20},{"$f":"SUM(H15+L15+P15)","v":28},null,{"$f":"SUM(E15:H15)","v":30},{"$f":"IF(V15=30,1,\"\")","v":1},{"$f":"SUM($I15:$L15)","v":20},{"$f":"IF(X15=20,1,\"\")","v":1},{"$f":"SUM($M15:$P15)","v":28},{"$f":"IF(Z15=28,1,\"\")","v":1}]
[2,"Footer"," https://wwwtest.london.gov.uk/team-london/","HTML Component",{"$f":"SUM(COUNTIF(INDIRECT(\"'Success Criteria'!\" & ADDRESS(8,A16+4)):INDIRECT(\"'Success Criteria'!\" & ADDRESS(70,A16+4)),\"PASS\"),COUNTIF(INDIRECT(\"'Success Criteria'!\" & ADDRESS(8,A16+4)):INDIRECT(\"'Success Criteria'!\" & ADDRESS(70,A16+4)),\"PASS with comments\"))","v":16},{"$f":"COUNTIF(INDIRECT(\"'Success Criteria'!\" & ADDRESS(8,A16+4)):INDIRECT(\"'Success Criteria'!\" & ADDRESS(70,A16+4)),\"NON conformant\")","v":1},{"$f":"COUNTIF(INDIRECT(\"'Success Criteria'!\" & ADDRESS(8,A16+4)):INDIRECT(\"'Success Criteria'!\" & ADDRESS(70,A16+4)),\"N/A\")","v":13},{"$f":"COUNTIF(INDIRECT(\"'Success Criteria'!\" & ADDRESS(8,A16+4)):INDIRECT(\"'Success Criteria'!\" & ADDRESS(70,A16+4)),\"not tested\")","v":0},{"$f":"SUM(COUNTIF(INDIRECT(\"'Success Criteria'!\" & ADDRESS(74,A16+4)):INDIRECT(\"'Success Criteria'!\" & ADDRESS(115,A16+4)),\"PASS\"),COUNTIF(INDIRECT(\"'Success Criteria'!\" & ADDRESS(74,A16+4)):INDIRECT(\"'Success Criteria'!\" & ADDRESS(115,A16+4)),\"PASS with comments\"))","v":13},{"$f":"COUNTIF(INDIRECT(\"'Success Criteria'!\" & ADDRESS(74,A16+4)):INDIRECT(\"'Success Criteria'!\" & ADDRESS(115,A16+4)),\"NON conformant\")","v":0},{"$f":"COUNTIF(INDIRECT(\"'Success Criteria'!\" & ADDRESS(74,A16+4)):INDIRECT(\"'Success Criteria'!\" & ADDRESS(115,A16+4)),\"N/A\")","v":7},{"$f":"COUNTIF(INDIRECT(\"'Success Criteria'!\" & ADDRESS(74,A16+4)):INDIRECT(\"'Success Criteria'!\" & ADDRESS(115,A16+4)),\"not tested\")","v":0},{"$f":"SUM(COUNTIF(INDIRECT(\"'Success Criteria'!\" & ADDRESS(120,A16+4)):INDIRECT(\"'Success Criteria'!\" & ADDRESS(174,A16+4)),\"PASS\"),COUNTIF(INDIRECT(\"'Success Criteria'!\" & ADDRESS(120,A16+4)):INDIRECT(\"'Success Criteria'!\" & ADDRESS(174,A16+4)),\"PASS with comments\"))","v":0},{"$f":"COUNTIF(INDIRECT(\"'Success Criteria'!\" & ADDRESS(120,A16+4)):INDIRECT(\"'Success Criteria'!\" & ADDRESS(174,A16+4)),\"NON conformant\")","v":0},{"$f":"COUNTIF(INDIRECT(\"'Success Criteria'!\" & ADDRESS(120,A16+4)):INDIRECT(\"'Success Criteria'!\" & ADDRESS(174,A16+4)),\"N/A\")","v":0},{"$f":"COUNTIF(INDIRECT(\"'Success Criteria'!\" & ADDRESS(120,A16+4)):INDIRECT(\"'Success Criteria'!\" & ADDRESS(174,A16+4)),\"not tested\")","v":28},{"$f":"SUM(E16+I16+M16)","v":29},{"$f":"SUM(F16+J16+N16)","v":1},20,28,null,30,1,{"$f":"SUM($I16:$L16)","v":20},1,{"$f":"SUM($M16:$P16)","v":28},{"$f":"IF(Z16=28,1,\"\")","v":1}]
[3,"Home page","https://wwwtest.london.gov.uk/team-london/","HTML Page",{"$f":"SUM(COUNTIF(INDIRECT(\"'Success Criteria'!\" & ADDRESS(8,A17+4)):INDIRECT(\"'Success Criteria'!\" & ADDRESS(70,A17+4)),\"PASS\"),COUNTIF(INDIRECT(\"'Success Criteria'!\" & ADDRESS(8,A17+4)):INDIRECT(\"'Success Criteria'!\" & ADDRESS(70,A17+4)),\"PASS with comments\"))","v":19},{"$f":"COUNTIF(INDIRECT(\"'Success Criteria'!\" & ADDRESS(8,A17+4)):INDIRECT(\"'Success Criteria'!\" & ADDRESS(70,A17+4)),\"NON conformant\")","v":2},{"$f":"COUNTIF(INDIRECT(\"'Success Criteria'!\" & ADDRESS(8,A17+4)):INDIRECT(\"'Success Criteria'!\" & ADDRESS(70,A17+4)),\"N/A\")","v":9},{"$f":"COUNTIF(INDIRECT(\"'Success Criteria'!\" & ADDRESS(8,A17+4)):INDIRECT(\"'Success Criteria'!\" & ADDRESS(70,A17+4)),\"not tested\")","v":0},{"$f":"SUM(COUNTIF(INDIRECT(\"'Success Criteria'!\" & ADDRESS(74,A17+4)):INDIRECT(\"'Success Criteria'!\" & ADDRESS(115,A17+4)),\"PASS\"),COUNTIF(INDIRECT(\"'Success Criteria'!\" & ADDRESS(74,A17+4)):INDIRECT(\"'Success Criteria'!\" & ADDRESS(115,A17+4)),\"PASS with comments\"))","v":13},{"$f":"COUNTIF(INDIRECT(\"'Success Criteria'!\" & ADDRESS(74,A17+4)):INDIRECT(\"'Success Criteria'!\" & ADDRESS(115,A17+4)),\"NON conformant\")","v":0},{"$f":"COUNTIF(INDIRECT(\"'Success Criteria'!\" & ADDRESS(74,A17+4)):INDIRECT(\"'Success Criteria'!\" & ADDRESS(115,A17+4)),\"N/A\")","v":7},{"$f":"COUNTIF(INDIRECT(\"'Success Criteria'!\" & ADDRESS(74,A17+4)):INDIRECT(\"'Success Criteria'!\" & ADDRESS(115,A17+4)),\"not tested\")","v":0},{"$f":"SUM(COUNTIF(INDIRECT(\"'Success Criteria'!\" & ADDRESS(120,A17+4)):INDIRECT(\"'Success Criteria'!\" & ADDRESS(174,A17+4)),\"PASS\"),COUNTIF(INDIRECT(\"'Success Criteria'!\" & ADDRESS(120,A17+4)):INDIRECT(\"'Success Criteria'!\" & ADDRESS(174,A17+4)),\"PASS with comments\"))","v":0},{"$f":"COUNTIF(INDIRECT(\"'Success Criteria'!\" & ADDRESS(120,A17+4)):INDIRECT(\"'Success Criteria'!\" & ADDRESS(174,A17+4)),\"NON conformant\")","v":0},{"$f":"COUNTIF(INDIRECT(\"'Success Criteria'!\" & ADDRESS(120,A17+4)):INDIRECT(\"'Success Criteria'!\" & ADDRESS(174,A17+4)),\"N/A\")","v":0},{"$f":"COUNTIF(INDIRECT(\"'Success Criteria'!\" & ADDRESS(120,A17+4)):INDIRECT(\"'Success Criteria'!\" & ADDRESS(174,A17+4)),\"not tested\")","v":28},32,2,16,28,null,30,1,20,1,28,1]
[4,"Search - Find a volunteering role","https://wwwtest.london.gov.uk/team-london/search-opportunities?search_api_fulltext=&latlng%5Bvalue%5D=&latlng%5Bdistance%5D%5Bfrom%5D=100000","HTML Page",{"$f":"SUM(COUNTIF(INDIRECT(\"'Success Criteria'!\" & ADDRESS(8,A18+4)):INDIRECT(\"'Success Criteria'!\" & ADDRESS(70,A18+4)),\"PASS\"),COUNTIF(INDIRECT(\"'Success Criteria'!\" & ADDRESS(8,A18+4)):INDIRECT(\"'Success Criteria'!\" & ADDRESS(70,A18+4)),\"PASS with comments\"))","v":18},{"$f":"COUNTIF(INDIRECT(\"'Success Criteria'!\" & ADDRESS(8,A18+4)):INDIRECT(\"'Success Criteria'!\" & ADDRESS(70,A18+4)),\"NON conformant\")","v":3},{"$f":"COUNTIF(INDIRECT(\"'Success Criteria'!\" & ADDRESS(8,A18+4)):INDIRECT(\"'Success Criteria'!\" & ADDRESS(70,A18+4)),\"N/A\")","v":9},{"$f":"COUNTIF(INDIRECT(\"'Success Criteria'!\" & ADDRESS(8,A18+4)):INDIRECT(\"'Success Criteria'!\" & ADDRESS(70,A18+4)),\"not tested\")","v":0},{"$f":"SUM(COUNTIF(INDIRECT(\"'Success Criteria'!\" & ADDRESS(74,A18+4)):INDIRECT(\"'Success Criteria'!\" & ADDRESS(115,A18+4)),\"PASS\"),COUNTIF(INDIRECT(\"'Success Criteria'!\" & ADDRESS(74,A18+4)):INDIRECT(\"'Success Criteria'!\" & ADDRESS(115,A18+4)),\"PASS with comments\"))","v":13},{"$f":"COUNTIF(INDIRECT(\"'Success Criteria'!\" & ADDRESS(74,A18+4)):INDIRECT(\"'Success Criteria'!\" & ADDRESS(115,A18+4)),\"NON conformant\")","v":0},{"$f":"COUNTIF(INDIRECT(\"'Success Criteria'!\" & ADDRESS(74,A18+4)):INDIRECT(\"'Success Criteria'!\" & ADDRESS(115,A18+4)),\"N/A\")","v":7},{"$f":"COUNTIF(INDIRECT(\"'Success Criteria'!\" & ADDRESS(74,A18+4)):INDIRECT(\"'Success Criteria'!\" & ADDRESS(115,A18+4)),\"not tested\")","v":0},{"$f":"SUM(COUNTIF(INDIRECT(\"'Success Criteria'!\" & ADDRESS(120,A18+4)):INDIRECT(\"'Success Criteria'!\" & ADDRESS(174,A18+4)),\"PASS\"),COUNTIF(INDIRECT(\"'Success Criteria'!\" & ADDRESS(120,A18+4)):INDIRECT(\"'Success Criteria'!\" & ADDRESS(174,A18+4)),\"PASS with comments\"))","v":0},{"$f":"COUNTIF(INDIRECT(\"'Success Criteria'!\" & ADDRESS(120,A18+4)):INDIRECT(\"'Success Criteria'!\" & ADDRESS(174,A18+4)),\"NON conformant\")","v":0},{"$f":"COUNTIF(INDIRECT(\"'Success Criteria'!\" & ADDRESS(120,A18+4)):INDIRECT(\"'Success Criteria'!\" & ADDRESS(174,A18+4)),\"N/A\")","v":0},{"$f":"COUNTIF(INDIRECT(\"'Success Criteria'!\" & ADDRESS(120,A18+4)):INDIRECT(\"'Success Criteria'!\" & ADDRESS(174,A18+4)),\"not tested\")","v":28},31,3,16,28,null,30,1,20,1,28,1]
[5,"Opportunity page","https://wwwtest.london.gov.uk/team-london/one-to-one-sports-and-games-coach-for-children-with-disabilities","HTML Page",{"$f":"SUM(COUNTIF(INDIRECT(\"'Success Criteria'!\" & ADDRESS(8,A19+4)):INDIRECT(\"'Success Criteria'!\" & ADDRESS(70,A19+4)),\"PASS\"),COUNTIF(INDIRECT(\"'Success Criteria'!\" & ADDRESS(8,A19+4)):INDIRECT(\"'Success Criteria'!\" & ADDRESS(70,A19+4)),\"PASS with comments\"))","v":19},{"$f":"COUNTIF(INDIRECT(\"'Success Criteria'!\" & ADDRESS(8,A19+4)):INDIRECT(\"'Success Criteria'!\" & ADDRESS(70,A19+4)),\"NON conformant\")","v":1},{"$f":"COUNTIF(INDIRECT(\"'Success Criteria'!\" & ADDRESS(8,A19+4)):INDIRECT(\"'Success Criteria'!\" & ADDRESS(70,A19+4)),\"N/A\")","v":10},{"$f":"COUNTIF(INDIRECT(\"'Success Criteria'!\" & ADDRESS(8,A19+4)):INDIRECT(\"'Success Criteria'!\" & ADDRESS(70,A19+4)),\"not tested\")","v":0},{"$f":"SUM(COUNTIF(INDIRECT(\"'Success Criteria'!\" & ADDRESS(74,A19+4)):INDIRECT(\"'Success Criteria'!\" & ADDRESS(115,A19+4)),\"PASS\"),COUNTIF(INDIRECT(\"'Success Criteria'!\" & ADDRESS(74,A19+4)):INDIRECT(\"'Success Criteria'!\" & ADDRESS(115,A19+4)),\"PASS with comments\"))","v":12},{"$f":"COUNTIF(INDIRECT(\"'Success Criteria'!\" & ADDRESS(74,A19+4)):INDIRECT(\"'Success Criteria'!\" & ADDRESS(115,A19+4)),\"NON conformant\")","v":0},{"$f":"COUNTIF(INDIRECT(\"'Success Criteria'!\" & ADDRESS(74,A19+4)):INDIRECT(\"'Success Criteria'!\" & ADDRESS(115,A19+4)),\"N/A\")","v":7},{"$f":"COUNTIF(INDIRECT(\"'Success Criteria'!\" & ADDRESS(74,A19+4)):INDIRECT(\"'Success Criteria'!\" & ADDRESS(115,A19+4)),\"not tested\")","v":0},{"$f":"SUM(COUNTIF(INDIRECT(\"'Success Criteria'!\" & ADDRESS(120,A19+4)):INDIRECT(\"'Success Criteria'!\" & ADDRESS(174,A19+4)),\"PASS\"),COUNTIF(INDIRECT(\"'Success Criteria'!\" & ADDRESS(120,A19+4)):INDIRECT(\"'Success Criteria'!\" & ADDRESS(174,A19+4)),\"PASS with comments\"))","v":0},{"$f":"COUNTIF(INDIRECT(\"'Success Criteria'!\" & ADDRESS(120,A19+4)):INDIRECT(\"'Success Criteria'!\" & ADDRESS(174,A19+4)),\"NON conformant\")","v":0},{"$f":"COUNTIF(INDIRECT(\"'Success Criteria'!\" & ADDRESS(120,A19+4)):INDIRECT(\"'Success Criteria'!\" & ADDRESS(174,A19+4)),\"N/A\")","v":0},{"$f":"COUNTIF(INDIRECT(\"'Success Criteria'!\" & ADDRESS(120,A19+4)):INDIRECT(\"'Success Criteria'!\" & ADDRESS(174,A19+4)),\"not tested\")","v":28},31,1,17,28,null,30,1,19,"",28,1]
[6,"Find volunteers","https://wwwtest.london.gov.uk/team-london/find-volunteers","HTML Page",{"$f":"SUM(COUNTIF(INDIRECT(\"'Success Criteria'!\" & ADDRESS(8,A20+4)):INDIRECT(\"'Success Criteria'!\" & ADDRESS(70,A20+4)),\"PASS\"),COUNTIF(INDIRECT(\"'Success Criteria'!\" & ADDRESS(8,A20+4)):INDIRECT(\"'Success Criteria'!\" & ADDRESS(70,A20+4)),\"PASS with comments\"))","v":19},{"$f":"COUNTIF(INDIRECT(\"'Success Criteria'!\" & ADDRESS(8,A20+4)):INDIRECT(\"'Success Criteria'!\" & ADDRESS(70,A20+4)),\"NON conformant\")","v":1},{"$f":"COUNTIF(INDIRECT(\"'Success Criteria'!\" & ADDRESS(8,A20+4)):INDIRECT(\"'Success Criteria'!\" & ADDRESS(70,A20+4)),\"N/A\")","v":10},{"$f":"COUNTIF(INDIRECT(\"'Success Criteria'!\" & ADDRESS(8,A20+4)):INDIRECT(\"'Success Criteria'!\" & ADDRESS(70,A20+4)),\"not tested\")","v":0},{"$f":"SUM(COUNTIF(INDIRECT(\"'Success Criteria'!\" & ADDRESS(74,A20+4)):INDIRECT(\"'Success Criteria'!\" & ADDRESS(115,A20+4)),\"PASS\"),COUNTIF(INDIRECT(\"'Success Criteria'!\" & ADDRESS(74,A20+4)):INDIRECT(\"'Success Criteria'!\" & ADDRESS(115,A20+4)),\"PASS with comments\"))","v":11},{"$f":"COUNTIF(INDIRECT(\"'Success Criteria'!\" & ADDRESS(74,A20+4)):INDIRECT(\"'Success Criteria'!\" & ADDRESS(115,A20+4)),\"NON conformant\")","v":2},{"$f":"COUNTIF(INDIRECT(\"'Success Criteria'!\" & ADDRESS(74,A20+4)):INDIRECT(\"'Success Criteria'!\" & ADDRESS(115,A20+4)),\"N/A\")","v":7},{"$f":"COUNTIF(INDIRECT(\"'Success Criteria'!\" & ADDRESS(74,A20+4)):INDIRECT(\"'Success Criteria'!\" & ADDRESS(115,A20+4)),\"not tested\")","v":0},{"$f":"SUM(COUNTIF(INDIRECT(\"'Success Criteria'!\" & ADDRESS(120,A20+4)):INDIRECT(\"'Success Criteria'!\" & ADDRESS(174,A20+4)),\"PASS\"),COUNTIF(INDIRECT(\"'Success Criteria'!\" & ADDRESS(120,A20+4)):INDIRECT(\"'Success Criteria'!\" & ADDRESS(174,A20+4)),\"PASS with comments\"))","v":0},{"$f":"COUNTIF(INDIRECT(\"'Success Criteria'!\" & ADDRESS(120,A20+4)):INDIRECT(\"'Success Criteria'!\" & ADDRESS(174,A20+4)),\"NON conformant\")","v":0},{"$f":"COUNTIF(INDIRECT(\"'Success Criteria'!\" & ADDRESS(120,A20+4)):INDIRECT(\"'Success Criteria'!\" & ADDRESS(174,A20+4)),\"N/A\")","v":0},{"$f":"COUNTIF(INDIRECT(\"'Success Criteria'!\" & ADDRESS(120,A20+4)):INDIRECT(\"'Success Criteria'!\" & ADDRESS(174,A20+4)),\"not tested\")","v":28},30,3,17,28,null,30,1,20,1,28,1]
[7,"Page 7","URL 7","Please select",{"$f":"SUM(COUNTIF(INDIRECT(\"'Success Criteria'!\" & ADDRESS(8,A21+4)):INDIRECT(\"'Success Criteria'!\" & ADDRESS(70,A21+4)),\"PASS\"),COUNTIF(INDIRECT(\"'Success Criteria'!\" & ADDRESS(8,A21+4)):INDIRECT(\"'Success Criteria'!\" & ADDRESS(70,A21+4)),\"PASS with comments\"))","v":0},{"$f":"COUNTIF(INDIRECT(\"'Success Criteria'!\" & ADDRESS(8,A21+4)):INDIRECT(\"'Success Criteria'!\" & ADDRESS(70,A21+4)),\"NON conformant\")","v":0},{"$f":"COUNTIF(INDIRECT(\"'Success Criteria'!\" & ADDRESS(8,A21+4)):INDIRECT(\"'Success Criteria'!\" & ADDRESS(70,A21+4)),\"N/A\")","v":0},{"$f":"COUNTIF(INDIRECT(\"'Success Criteria'!\" & ADDRESS(8,A21+4)):INDIRECT(\"'Success Criteria'!\" & ADDRESS(70,A21+4)),\"not tested\")","v":0},{"$f":"SUM(COUNTIF(INDIRECT(\"'Success Criteria'!\" & ADDRESS(74,A21+4)):INDIRECT(\"'Success Criteria'!\" & ADDRESS(115,A21+4)),\"PASS\"),COUNTIF(INDIRECT(\"'Success Criteria'!\" & ADDRESS(74,A21+4)):INDIRECT(\"'Success Criteria'!\" & ADDRESS(115,A21+4)),\"PASS with comments\"))","v":2},{"$f":"COUNTIF(INDIRECT(\"'Success Criteria'!\" & ADDRESS(74,A21+4)):INDIRECT(\"'Success Criteria'!\" & ADDRESS(115,A21+4)),\"NON conformant\")","v":0},{"$f":"COUNTIF(INDIRECT(\"'Success Criteria'!\" & ADDRESS(74,A21+4)):INDIRECT(\"'Success Criteria'!\" & ADDRESS(115,A21+4)),\"N/A\")","v":0},{"$f":"COUNTIF(INDIRECT(\"'Success Criteria'!\" & ADDRESS(74,A21+4)):INDIRECT(\"'Success Criteria'!\" & ADDRESS(115,A21+4)),\"not tested\")","v":0},{"$f":"SUM(COUNTIF(INDIRECT(\"'Success Criteria'!\" & ADDRESS(120,A21+4)):INDIRECT(\"'Success Criteria'!\" & ADDRESS(174,A21+4)),\"PASS\"),COUNTIF(INDIRECT(\"'Success Criteria'!\" & ADDRESS(120,A21+4)):INDIRECT(\"'Success Criteria'!\" & ADDRESS(174,A21+4)),\"PASS with comments\"))","v":0},{"$f":"COUNTIF(INDIRECT(\"'Success Criteria'!\" & ADDRESS(120,A21+4)):INDIRECT(\"'Success Criteria'!\" & ADDRESS(174,A21+4)),\"NON conformant\")","v":0},{"$f":"COUNTIF(INDIRECT(\"'Success Criteria'!\" & ADDRESS(120,A21+4)):INDIRECT(\"'Success Criteria'!\" & ADDRESS(174,A21+4)),\"N/A\")","v":0},{"$f":"COUNTIF(INDIRECT(\"'Success Criteria'!\" & ADDRESS(120,A21+4)):INDIRECT(\"'Success Criteria'!\" & ADDRESS(174,A21+4)),\"not tested\")","v":28},2,0,0,28,null,0,"",2,"",28,1]
[8,"Page 8","URL 8","Please select",{"$f":"SUM(COUNTIF(INDIRECT(\"'Success Criteria'!\" & ADDRESS(8,A22+4)):INDIRECT(\"'Success Criteria'!\" & ADDRESS(70,A22+4)),\"PASS\"),COUNTIF(INDIRECT(\"'Success Criteria'!\" & ADDRESS(8,A22+4)):INDIRECT(\"'Success Criteria'!\" & ADDRESS(70,A22+4)),\"PASS with comments\"))","v":0},{"$f":"COUNTIF(INDIRECT(\"'Success Criteria'!\" & ADDRESS(8,A22+4)):INDIRECT(\"'Success Criteria'!\" & ADDRESS(70,A22+4)),\"NON conformant\")","v":0},{"$f":"COUNTIF(INDIRECT(\"'Success Criteria'!\" & ADDRESS(8,A22+4)):INDIRECT(\"'Success Criteria'!\" & ADDRESS(70,A22+4)),\"N/A\")","v":0},{"$f":"COUNTIF(INDIRECT(\"'Success Criteria'!\" & ADDRESS(8,A22+4)):INDIRECT(\"'Success Criteria'!\" & ADDRESS(70,A22+4)),\"not tested\")","v":0},{"$f":"SUM(COUNTIF(INDIRECT(\"'Success Criteria'!\" & ADDRESS(74,A22+4)):INDIRECT(\"'Success Criteria'!\" & ADDRESS(115,A22+4)),\"PASS\"),COUNTIF(INDIRECT(\"'Success Criteria'!\" & ADDRESS(74,A22+4)):INDIRECT(\"'Success Criteria'!\" & ADDRESS(115,A22+4)),\"PASS with comments\"))","v":2},{"$f":"COUNTIF(INDIRECT(\"'Success Criteria'!\" & ADDRESS(74,A22+4)):INDIRECT(\"'Success Criteria'!\" & ADDRESS(115,A22+4)),\"NON conformant\")","v":0},{"$f":"COUNTIF(INDIRECT(\"'Success Criteria'!\" & ADDRESS(74,A22+4)):INDIRECT(\"'Success Criteria'!\" & ADDRESS(115,A22+4)),\"N/A\")","v":0},{"$f":"COUNTIF(INDIRECT(\"'Success Criteria'!\" & ADDRESS(74,A22+4)):INDIRECT(\"'Success Criteria'!\" & ADDRESS(115,A22+4)),\"not tested\")","v":0},{"$f":"SUM(COUNTIF(INDIRECT(\"'Success Criteria'!\" & ADDRESS(120,A22+4)):INDIRECT(\"'Success Criteria'!\" & ADDRESS(174,A22+4)),\"PASS\"),COUNTIF(INDIRECT(\"'Success Criteria'!\" & ADDRESS(120,A22+4)):INDIRECT(\"'Success Criteria'!\" & ADDRESS(174,A22+4)),\"PASS with comments\"))","v":0},{"$f":"COUNTIF(INDIRECT(\"'Success Criteria'!\" & ADDRESS(120,A22+4)):INDIRECT(\"'Success Criteria'!\" & ADDRESS(174,A22+4)),\"NON conformant\")","v":0},{"$f":"COUNTIF(INDIRECT(\"'Success Criteria'!\" & ADDRESS(120,A22+4)):INDIRECT(\"'Success Criteria'!\" & ADDRESS(174,A22+4)),\"N/A\")","v":0},{"$f":"COUNTIF(INDIRECT(\"'Success Criteria'!\" & ADDRESS(120,A22+4)):INDIRECT(\"'Success Criteria'!\" & ADDRESS(174,A22+4)),\"not tested\")","v":28},2,0,0,28,null,0,"",2,"",28,1]
[9,"Page 9","URL 9","Please select",{"$f":"SUM(COUNTIF(INDIRECT(\"'Success Criteria'!\" & ADDRESS(8,A23+4)):INDIRECT(\"'Success Criteria'!\" & ADDRESS(70,A23+4)),\"PASS\"),COUNTIF(INDIRECT(\"'Success Criteria'!\" & ADDRESS(8,A23+4)):INDIRECT(\"'Success Criteria'!\" & ADDRESS(70,A23+4)),\"PASS with comments\"))","v":0},{"$f":"COUNTIF(INDIRECT(\"'Success Criteria'!\" & ADDRESS(8,A23+4)):INDIRECT(\"'Success Criteria'!\" & ADDRESS(70,A23+4)),\"NON conformant\")","v":0},{"$f":"COUNTIF(INDIRECT(\"'Success Criteria'!\" & ADDRESS(8,A23+4)):INDIRECT(\"'Success Criteria'!\" & ADDRESS(70,A23+4)),\"N/A\")","v":0},{"$f":"COUNTIF(INDIRECT(\"'Success Criteria'!\" & ADDRESS(8,A23+4)):INDIRECT(\"'Success Criteria'!\" & ADDRESS(70,A23+4)),\"not tested\")","v":0},{"$f":"SUM(COUNTIF(INDIRECT(\"'Success Criteria'!\" & ADDRESS(74,A23+4)):INDIRECT(\"'Success Criteria'!\" & ADDRESS(115,A23+4)),\"PASS\"),COUNTIF(INDIRECT(\"'Success Criteria'!\" & ADDRESS(74,A23+4)):INDIRECT(\"'Success Criteria'!\" & ADDRESS(115,A23+4)),\"PASS with comments\"))","v":2},{"$f":"COUNTIF(INDIRECT(\"'Success Criteria'!\" & ADDRESS(74,A23+4)):INDIRECT(\"'Success Criteria'!\" & ADDRESS(115,A23+4)),\"NON conformant\")","v":0},{"$f":"COUNTIF(INDIRECT(\"'Success Criteria'!\" & ADDRESS(74,A23+4)):INDIRECT(\"'Success Criteria'!\" & ADDRESS(115,A23+4)),\"N/A\")","v":0},{"$f":"COUNTIF(INDIRECT(\"'Success Criteria'!\" & ADDRESS(74,A23+4)):INDIRECT(\"'Success Criteria'!\" & ADDRESS(115,A23+4)),\"not tested\")","v":0},{"$f":"SUM(COUNTIF(INDIRECT(\"'Success Criteria'!\" & ADDRESS(120,A23+4)):INDIRECT(\"'Success Criteria'!\" & ADDRESS(174,A23+4)),\"PASS\"),COUNTIF(INDIRECT(\"'Success Criteria'!\" & ADDRESS(120,A23+4)):INDIRECT(\"'Success Criteria'!\" & ADDRESS(174,A23+4)),\"PASS with comments\"))","v":0},{"$f":"COUNTIF(INDIRECT(\"'Success Criteria'!\" & ADDRESS(120,A23+4)):INDIRECT(\"'Success Criteria'!\" & ADDRESS(174,A23+4)),\"NON conformant\")","v":0},{"$f":"COUNTIF(INDIRECT(\"'Success Criteria'!\" & ADDRESS(120,A23+4)):INDIRECT(\"'Success Criteria'!\" & ADDRESS(174,A23+4)),\"N/A\")","v":0},{"$f":"COUNTIF(INDIRECT(\"'Success Criteria'!\" & ADDRESS(120,A23+4)):INDIRECT(\"'Success Criteria'!\" & ADDRESS(174,A23+4)),\"not tested\")","v":28},2,0,0,28,null,0,"",2,"",28,1]
[10,"Page 10","URL 10","Please select",{"$f":"SUM(COUNTIF(INDIRECT(\"'Success Criteria'!\" & ADDRESS(8,A24+4)):INDIRECT(\"'Success Criteria'!\" & ADDRESS(70,A24+4)),\"PASS\"),COUNTIF(INDIRECT(\"'Success Criteria'!\" & ADDRESS(8,A24+4)):INDIRECT(\"'Success Criteria'!\" & ADDRESS(70,A24+4)),\"PASS with comments\"))","v":0},{"$f":"COUNTIF(INDIRECT(\"'Success Criteria'!\" & ADDRESS(8,A24+4)):INDIRECT(\"'Success Criteria'!\" & ADDRESS(70,A24+4)),\"NON conformant\")","v":0},{"$f":"COUNTIF(INDIRECT(\"'Success Criteria'!\" & ADDRESS(8,A24+4)):INDIRECT(\"'Success Criteria'!\" & ADDRESS(70,A24+4)),\"N/A\")","v":0},{"$f":"COUNTIF(INDIRECT(\"'Success Criteria'!\" & ADDRESS(8,A24+4)):INDIRECT(\"'Success Criteria'!\" & ADDRESS(70,A24+4)),\"not tested\")","v":0},{"$f":"SUM(COUNTIF(INDIRECT(\"'Success Criteria'!\" & ADDRESS(74,A24+4)):INDIRECT(\"'Success Criteria'!\" & ADDRESS(115,A24+4)),\"PASS\"),COUNTIF(INDIRECT(\"'Success Criteria'!\" & ADDRESS(74,A24+4)):INDIRECT(\"'Success Criteria'!\" & ADDRESS(115,A24+4)),\"PASS with comments\"))","v":2},{"$f":"COUNTIF(INDIRECT(\"'Success Criteria'!\" & ADDRESS(74,A24+4)):INDIRECT(\"'Success Criteria'!\" & ADDRESS(115,A24+4)),\"NON conformant\")","v":0},{"$f":"COUNTIF(INDIRECT(\"'Success Criteria'!\" & ADDRESS(74,A24+4)):INDIRECT(\"'Success Criteria'!\" & ADDRESS(115,A24+4)),\"N/A\")","v":0},{"$f":"COUNTIF(INDIRECT(\"'Success Criteria'!\" & ADDRESS(74,A24+4)):INDIRECT(\"'Success Criteria'!\" & ADDRESS(115,A24+4)),\"not tested\")","v":0},{"$f":"SUM(COUNTIF(INDIRECT(\"'Success Criteria'!\" & ADDRESS(120,A24+4)):INDIRECT(\"'Success Criteria'!\" & ADDRESS(174,A24+4)),\"PASS\"),COUNTIF(INDIRECT(\"'Success Criteria'!\" & ADDRESS(120,A24+4)):INDIRECT(\"'Success Criteria'!\" & ADDRESS(174,A24+4)),\"PASS with comments\"))","v":0},{"$f":"COUNTIF(INDIRECT(\"'Success Criteria'!\" & ADDRESS(120,A24+4)):INDIRECT(\"'Success Criteria'!\" & ADDRESS(174,A24+4)),\"NON conformant\")","v":0},{"$f":"COUNTIF(INDIRECT(\"'Success Criteria'!\" & ADDRESS(120,A24+4)):INDIRECT(\"'Success Criteria'!\" & ADDRESS(174,A24+4)),\"N/A\")","v":0},{"$f":"COUNTIF(INDIRECT(\"'Success Criteria'!\" & ADDRESS(120,A24+4)):INDIRECT(\"'Success Criteria'!\" & ADDRESS(174,A24+4)),\"not tested\")","v":28},2,0,0,28,null,0,"",2,"",28,1]
[11,"Page 11","URL 11","Please select",{"$f":"SUM(COUNTIF(INDIRECT(\"'Success Criteria'!\" & ADDRESS(8,A25+4)):INDIRECT(\"'Success Criteria'!\" & ADDRESS(70,A25+4)),\"PASS\"),COUNTIF(INDIRECT(\"'Success Criteria'!\" & ADDRESS(8,A25+4)):INDIRECT(\"'Success Criteria'!\" & ADDRESS(70,A25+4)),\"PASS with comments\"))","v":0},{"$f":"COUNTIF(INDIRECT(\"'Success Criteria'!\" & ADDRESS(8,A25+4)):INDIRECT(\"'Success Criteria'!\" & ADDRESS(70,A25+4)),\"NON conformant\")","v":0},{"$f":"COUNTIF(INDIRECT(\"'Success Criteria'!\" & ADDRESS(8,A25+4)):INDIRECT(\"'Success Criteria'!\" & ADDRESS(70,A25+4)),\"N/A\")","v":0},{"$f":"COUNTIF(INDIRECT(\"'Success Criteria'!\" & ADDRESS(8,A25+4)):INDIRECT(\"'Success Criteria'!\" & ADDRESS(70,A25+4)),\"not tested\")","v":0},{"$f":"SUM(COUNTIF(INDIRECT(\"'Success Criteria'!\" & ADDRESS(74,A25+4)):INDIRECT(\"'Success Criteria'!\" & ADDRESS(115,A25+4)),\"PASS\"),COUNTIF(INDIRECT(\"'Success Criteria'!\" & ADDRESS(74,A25+4)):INDIRECT(\"'Success Criteria'!\" & ADDRESS(115,A25+4)),\"PASS with comments\"))","v":2},{"$f":"COUNTIF(INDIRECT(\"'Success Criteria'!\" & ADDRESS(74,A25+4)):INDIRECT(\"'Success Criteria'!\" & ADDRESS(115,A25+4)),\"NON conformant\")","v":0},{"$f":"COUNTIF(INDIRECT(\"'Success Criteria'!\" & ADDRESS(74,A25+4)):INDIRECT(\"'Success Criteria'!\" & ADDRESS(115,A25+4)),\"N/A\")","v":0},{"$f":"COUNTIF(INDIRECT(\"'Success Criteria'!\" & ADDRESS(74,A25+4)):INDIRECT(\"'Success Criteria'!\" & ADDRESS(115,A25+4)),\"not tested\")","v":0},{"$f":"SUM(COUNTIF(INDIRECT(\"'Success Criteria'!\" & ADDRESS(120,A25+4)):INDIRECT(\"'Success Criteria'!\" & ADDRESS(174,A25+4)),\"PASS\"),COUNTIF(INDIRECT(\"'Success Criteria'!\" & ADDRESS(120,A25+4)):INDIRECT(\"'Success Criteria'!\" & ADDRESS(174,A25+4)),\"PASS with comments\"))","v":0},{"$f":"COUNTIF(INDIRECT(\"'Success Criteria'!\" & ADDRESS(120,A25+4)):INDIRECT(\"'Success Criteria'!\" & ADDRESS(174,A25+4)),\"NON conformant\")","v":0},{"$f":"COUNTIF(INDIRECT(\"'Success Criteria'!\" & ADDRESS(120,A25+4)):INDIRECT(\"'Success Criteria'!\" & ADDRESS(174,A25+4)),\"N/A\")","v":0},{"$f":"COUNTIF(INDIRECT(\"'Success Criteria'!\" & ADDRESS(120,A25+4)):INDIRECT(\"'Success Criteria'!\" & ADDRESS(174,A25+4)),\"not tested\")","v":28},2,0,0,28,null,0,"",2,"",28,1]
[12,"Page 12","URL 12","Please select",{"$f":"SUM(COUNTIF(INDIRECT(\"'Success Criteria'!\" & ADDRESS(8,A26+4)):INDIRECT(\"'Success Criteria'!\" & ADDRESS(70,A26+4)),\"PASS\"),COUNTIF(INDIRECT(\"'Success Criteria'!\" & ADDRESS(8,A26+4)):INDIRECT(\"'Success Criteria'!\" & ADDRESS(70,A26+4)),\"PASS with comments\"))","v":0},{"$f":"COUNTIF(INDIRECT(\"'Success Criteria'!\" & ADDRESS(8,A26+4)):INDIRECT(\"'Success Criteria'!\" & ADDRESS(70,A26+4)),\"NON conformant\")","v":0},{"$f":"COUNTIF(INDIRECT(\"'Success Criteria'!\" & ADDRESS(8,A26+4)):INDIRECT(\"'Success Criteria'!\" & ADDRESS(70,A26+4)),\"N/A\")","v":0},{"$f":"COUNTIF(INDIRECT(\"'Success Criteria'!\" & ADDRESS(8,A26+4)):INDIRECT(\"'Success Criteria'!\" & ADDRESS(70,A26+4)),\"not tested\")","v":0},{"$f":"SUM(COUNTIF(INDIRECT(\"'Success Criteria'!\" & ADDRESS(74,A26+4)):INDIRECT(\"'Success Criteria'!\" & ADDRESS(115,A26+4)),\"PASS\"),COUNTIF(INDIRECT(\"'Success Criteria'!\" & ADDRESS(74,A26+4)):INDIRECT(\"'Success Criteria'!\" & ADDRESS(115,A26+4)),\"PASS with comments\"))","v":2},{"$f":"COUNTIF(INDIRECT(\"'Success Criteria'!\" & ADDRESS(74,A26+4)):INDIRECT(\"'Success Criteria'!\" & ADDRESS(115,A26+4)),\"NON conformant\")","v":0},{"$f":"COUNTIF(INDIRECT(\"'Success Criteria'!\" & ADDRESS(74,A26+4)):INDIRECT(\"'Success Criteria'!\" & ADDRESS(115,A26+4)),\"N/A\")","v":0},{"$f":"COUNTIF(INDIRECT(\"'Success Criteria'!\" & ADDRESS(74,A26+4)):INDIRECT(\"'Success Criteria'!\" & ADDRESS(115,A26+4)),\"not tested\")","v":0},{"$f":"SUM(COUNTIF(INDIRECT(\"'Success Criteria'!\" & ADDRESS(120,A26+4)):INDIRECT(\"'Success Criteria'!\" & ADDRESS(174,A26+4)),\"PASS\"),COUNTIF(INDIRECT(\"'Success Criteria'!\" & ADDRESS(120,A26+4)):INDIRECT(\"'Success Criteria'!\" & ADDRESS(174,A26+4)),\"PASS with comments\"))","v":0},{"$f":"COUNTIF(INDIRECT(\"'Success Criteria'!\" & ADDRESS(120,A26+4)):INDIRECT(\"'Success Criteria'!\" & ADDRESS(174,A26+4)),\"NON conformant\")","v":0},{"$f":"COUNTIF(INDIRECT(\"'Success Criteria'!\" & ADDRESS(120,A26+4)):INDIRECT(\"'Success Criteria'!\" & ADDRESS(174,A26+4)),\"N/A\")","v":0},{"$f":"COUNTIF(INDIRECT(\"'Success Criteria'!\" & ADDRESS(120,A26+4)):INDIRECT(\"'Success Criteria'!\" & ADDRESS(174,A26+4)),\"not tested\")","v":28},2,0,0,28,null,0,"",2,"",28,1]
[13,"Page 13","URL 13","Please select",{"$f":"SUM(COUNTIF(INDIRECT(\"'Success Criteria'!\" & ADDRESS(8,A27+4)):INDIRECT(\"'Success Criteria'!\" & ADDRESS(70,A27+4)),\"PASS\"),COUNTIF(INDIRECT(\"'Success Criteria'!\" & ADDRESS(8,A27+4)):INDIRECT(\"'Success Criteria'!\" & ADDRESS(70,A27+4)),\"PASS with comments\"))","v":0},{"$f":"COUNTIF(INDIRECT(\"'Success Criteria'!\" & ADDRESS(8,A27+4)):INDIRECT(\"'Success Criteria'!\" & ADDRESS(70,A27+4)),\"NON conformant\")","v":0},{"$f":"COUNTIF(INDIRECT(\"'Success Criteria'!\" & ADDRESS(8,A27+4)):INDIRECT(\"'Success Criteria'!\" & ADDRESS(70,A27+4)),\"N/A\")","v":0},{"$f":"COUNTIF(INDIRECT(\"'Success Criteria'!\" & ADDRESS(8,A27+4)):INDIRECT(\"'Success Criteria'!\" & ADDRESS(70,A27+4)),\"not tested\")","v":0},{"$f":"SUM(COUNTIF(INDIRECT(\"'Success Criteria'!\" & ADDRESS(74,A27+4)):INDIRECT(\"'Success Criteria'!\" & ADDRESS(115,A27+4)),\"PASS\"),COUNTIF(INDIRECT(\"'Success Criteria'!\" & ADDRESS(74,A27+4)):INDIRECT(\"'Success Criteria'!\" & ADDRESS(115,A27+4)),\"PASS with comments\"))","v":2},{"$f":"COUNTIF(INDIRECT(\"'Success Criteria'!\" & ADDRESS(74,A27+4)):INDIRECT(\"'Success Criteria'!\" & ADDRESS(115,A27+4)),\"NON conformant\")","v":0},{"$f":"COUNTIF(INDIRECT(\"'Success Criteria'!\" & ADDRESS(74,A27+4)):INDIRECT(\"'Success Criteria'!\" & ADDRESS(115,A27+4)),\"N/A\")","v":0},{"$f":"COUNTIF(INDIRECT(\"'Success Criteria'!\" & ADDRESS(74,A27+4)):INDIRECT(\"'Success Criteria'!\" & ADDRESS(115,A27+4)),\"not tested\")","v":0},{"$f":"SUM(COUNTIF(INDIRECT(\"'Success Criteria'!\" & ADDRESS(120,A27+4)):INDIRECT(\"'Success Criteria'!\" & ADDRESS(174,A27+4)),\"PASS\"),COUNTIF(INDIRECT(\"'Success Criteria'!\" & ADDRESS(120,A27+4)):INDIRECT(\"'Success Criteria'!\" & ADDRESS(174,A27+4)),\"PASS with comments\"))","v":0},{"$f":"COUNTIF(INDIRECT(\"'Success Criteria'!\" & ADDRESS(120,A27+4)):INDIRECT(\"'Success Criteria'!\" & ADDRESS(174,A27+4)),\"NON conformant\")","v":0},{"$f":"COUNTIF(INDIRECT(\"'Success Criteria'!\" & ADDRESS(120,A27+4)):INDIRECT(\"'Success Criteria'!\" & ADDRESS(174,A27+4)),\"N/A\")","v":0},{"$f":"COUNTIF(INDIRECT(\"'Success Criteria'!\" & ADDRESS(120,A27+4)):INDIRECT(\"'Success Criteria'!\" & ADDRESS(174,A27+4)),\"not tested\")","v":28},2,0,0,28,null,0,"",2,"",28,1]
[14,"Page 14","URL 14","Please select",{"$f":"SUM(COUNTIF(INDIRECT(\"'Success Criteria'!\" & ADDRESS(8,A28+4)):INDIRECT(\"'Success Criteria'!\" & ADDRESS(70,A28+4)),\"PASS\"),COUNTIF(INDIRECT(\"'Success Criteria'!\" & ADDRESS(8,A28+4)):INDIRECT(\"'Success Criteria'!\" & ADDRESS(70,A28+4)),\"PASS with comments\"))","v":0},{"$f":"COUNTIF(INDIRECT(\"'Success Criteria'!\" & ADDRESS(8,A28+4)):INDIRECT(\"'Success Criteria'!\" & ADDRESS(70,A28+4)),\"NON conformant\")","v":0},{"$f":"COUNTIF(INDIRECT(\"'Success Criteria'!\" & ADDRESS(8,A28+4)):INDIRECT(\"'Success Criteria'!\" & ADDRESS(70,A28+4)),\"N/A\")","v":0},{"$f":"COUNTIF(INDIRECT(\"'Success Criteria'!\" & ADDRESS(8,A28+4)):INDIRECT(\"'Success Criteria'!\" & ADDRESS(70,A28+4)),\"not tested\")","v":0},{"$f":"SUM(COUNTIF(INDIRECT(\"'Success Criteria'!\" & ADDRESS(74,A28+4)):INDIRECT(\"'Success Criteria'!\" & ADDRESS(115,A28+4)),\"PASS\"),COUNTIF(INDIRECT(\"'Success Criteria'!\" & ADDRESS(74,A28+4)):INDIRECT(\"'Success Criteria'!\" & ADDRESS(115,A28+4)),\"PASS with comments\"))","v":2},{"$f":"COUNTIF(INDIRECT(\"'Success Criteria'!\" & ADDRESS(74,A28+4)):INDIRECT(\"'Success Criteria'!\" & ADDRESS(115,A28+4)),\"NON conformant\")","v":0},{"$f":"COUNTIF(INDIRECT(\"'Success Criteria'!\" & ADDRESS(74,A28+4)):INDIRECT(\"'Success Criteria'!\" & ADDRESS(115,A28+4)),\"N/A\")","v":0},{"$f":"COUNTIF(INDIRECT(\"'Success Criteria'!\" & ADDRESS(74,A28+4)):INDIRECT(\"'Success Criteria'!\" & ADDRESS(115,A28+4)),\"not tested\")","v":0},{"$f":"SUM(COUNTIF(INDIRECT(\"'Success Criteria'!\" & ADDRESS(120,A28+4)):INDIRECT(\"'Success Criteria'!\" & ADDRESS(174,A28+4)),\"PASS\"),COUNTIF(INDIRECT(\"'Success Criteria'!\" & ADDRESS(120,A28+4)):INDIRECT(\"'Success Criteria'!\" & ADDRESS(174,A28+4)),\"PASS with comments\"))","v":0},{"$f":"COUNTIF(INDIRECT(\"'Success Criteria'!\" & ADDRESS(120,A28+4)):INDIRECT(\"'Success Criteria'!\" & ADDRESS(174,A28+4)),\"NON conformant\")","v":0},{"$f":"COUNTIF(INDIRECT(\"'Success Criteria'!\" & ADDRESS(120,A28+4)):INDIRECT(\"'Success Criteria'!\" & ADDRESS(174,A28+4)),\"N/A\")","v":0},{"$f":"COUNTIF(INDIRECT(\"'Success Criteria'!\" & ADDRESS(120,A28+4)):INDIRECT(\"'Success Criteria'!\" & ADDRESS(174,A28+4)),\"not tested\")","v":28},2,0,0,28,null,0,"",2,"",28,1]
[15,"Page 15","URL 15","Please select",{"$f":"SUM(COUNTIF(INDIRECT(\"'Success Criteria'!\" & ADDRESS(8,A29+4)):INDIRECT(\"'Success Criteria'!\" & ADDRESS(70,A29+4)),\"PASS\"),COUNTIF(INDIRECT(\"'Success Criteria'!\" & ADDRESS(8,A29+4)):INDIRECT(\"'Success Criteria'!\" & ADDRESS(70,A29+4)),\"PASS with comments\"))","v":0},{"$f":"COUNTIF(INDIRECT(\"'Success Criteria'!\" & ADDRESS(8,A29+4)):INDIRECT(\"'Success Criteria'!\" & ADDRESS(70,A29+4)),\"NON conformant\")","v":0},{"$f":"COUNTIF(INDIRECT(\"'Success Criteria'!\" & ADDRESS(8,A29+4)):INDIRECT(\"'Success Criteria'!\" & ADDRESS(70,A29+4)),\"N/A\")","v":0},{"$f":"COUNTIF(INDIRECT(\"'Success Criteria'!\" & ADDRESS(8,A29+4)):INDIRECT(\"'Success Criteria'!\" & ADDRESS(70,A29+4)),\"not tested\")","v":0},{"$f":"SUM(COUNTIF(INDIRECT(\"'Success Criteria'!\" & ADDRESS(74,A29+4)):INDIRECT(\"'Success Criteria'!\" & ADDRESS(115,A29+4)),\"PASS\"),COUNTIF(INDIRECT(\"'Success Criteria'!\" & ADDRESS(74,A29+4)):INDIRECT(\"'Success Criteria'!\" & ADDRESS(115,A29+4)),\"PASS with comments\"))","v":2},{"$f":"COUNTIF(INDIRECT(\"'Success Criteria'!\" & ADDRESS(74,A29+4)):INDIRECT(\"'Success Criteria'!\" & ADDRESS(115,A29+4)),\"NON conformant\")","v":0},{"$f":"COUNTIF(INDIRECT(\"'Success Criteria'!\" & ADDRESS(74,A29+4)):INDIRECT(\"'Success Criteria'!\" & ADDRESS(115,A29+4)),\"N/A\")","v":0},{"$f":"COUNTIF(INDIRECT(\"'Success Criteria'!\" & ADDRESS(74,A29+4)):INDIRECT(\"'Success Criteria'!\" & ADDRESS(115,A29+4)),\"not tested\")","v":0},{"$f":"SUM(COUNTIF(INDIRECT(\"'Success Criteria'!\" & ADDRESS(120,A29+4)):INDIRECT(\"'Success Criteria'!\" & ADDRESS(174,A29+4)),\"PASS\"),COUNTIF(INDIRECT(\"'Success Criteria'!\" & ADDRESS(120,A29+4)):INDIRECT(\"'Success Criteria'!\" & ADDRESS(174,A29+4)),\"PASS with comments\"))","v":0},{"$f":"COUNTIF(INDIRECT(\"'Success Criteria'!\" & ADDRESS(120,A29+4)):INDIRECT(\"'Success Criteria'!\" & ADDRESS(174,A29+4)),\"NON conformant\")","v":0},{"$f":"COUNTIF(INDIRECT(\"'Success Criteria'!\" & ADDRESS(120,A29+4)):INDIRECT(\"'Success Criteria'!\" & ADDRESS(174,A29+4)),\"N/A\")","v":0},{"$f":"COUNTIF(INDIRECT(\"'Success Criteria'!\" & ADDRESS(120,A29+4)):INDIRECT(\"'Success Criteria'!\" & ADDRESS(174,A29+4)),\"not tested\")","v":28},2,0,0,28,null,0,"",2,"",28,1]
[16,"Page 16","URL 16","Please select",{"$f":"SUM(COUNTIF(INDIRECT(\"'Success Criteria'!\" & ADDRESS(8,A30+4)):INDIRECT(\"'Success Criteria'!\" & ADDRESS(70,A30+4)),\"PASS\"),COUNTIF(INDIRECT(\"'Success Criteria'!\" & ADDRESS(8,A30+4)):INDIRECT(\"'Success Criteria'!\" & ADDRESS(70,A30+4)),\"PASS with comments\"))","v":0},{"$f":"COUNTIF(INDIRECT(\"'Success Criteria'!\" & ADDRESS(8,A30+4)):INDIRECT(\"'Success Criteria'!\" & ADDRESS(70,A30+4)),\"NON conformant\")","v":0},{"$f":"COUNTIF(INDIRECT(\"'Success Criteria'!\" & ADDRESS(8,A30+4)):INDIRECT(\"'Success Criteria'!\" & ADDRESS(70,A30+4)),\"N/A\")","v":0},{"$f":"COUNTIF(INDIRECT(\"'Success Criteria'!\" & ADDRESS(8,A30+4)):INDIRECT(\"'Success Criteria'!\" & ADDRESS(70,A30+4)),\"not tested\")","v":0},{"$f":"SUM(COUNTIF(INDIRECT(\"'Success Criteria'!\" & ADDRESS(74,A30+4)):INDIRECT(\"'Success Criteria'!\" & ADDRESS(115,A30+4)),\"PASS\"),COUNTIF(INDIRECT(\"'Success Criteria'!\" & ADDRESS(74,A30+4)):INDIRECT(\"'Success Criteria'!\" & ADDRESS(115,A30+4)),\"PASS with comments\"))","v":2},{"$f":"COUNTIF(INDIRECT(\"'Success Criteria'!\" & ADDRESS(74,A30+4)):INDIRECT(\"'Success Criteria'!\" & ADDRESS(115,A30+4)),\"NON conformant\")","v":0},{"$f":"COUNTIF(INDIRECT(\"'Success Criteria'!\" & ADDRESS(74,A30+4)):INDIRECT(\"'Success Criteria'!\" & ADDRESS(115,A30+4)),\"N/A\")","v":0},{"$f":"COUNTIF(INDIRECT(\"'Success Criteria'!\" & ADDRESS(74,A30+4)):INDIRECT(\"'Success Criteria'!\" & ADDRESS(115,A30+4)),\"not tested\")","v":0},{"$f":"SUM(COUNTIF(INDIRECT(\"'Success Criteria'!\" & ADDRESS(120,A30+4)):INDIRECT(\"'Success Criteria'!\" & ADDRESS(174,A30+4)),\"PASS\"),COUNTIF(INDIRECT(\"'Success Criteria'!\" & ADDRESS(120,A30+4)):INDIRECT(\"'Success Criteria'!\" & ADDRESS(174,A30+4)),\"PASS with comments\"))","v":0},{"$f":"COUNTIF(INDIRECT(\"'Success Criteria'!\" & ADDRESS(120,A30+4)):INDIRECT(\"'Success Criteria'!\" & ADDRESS(174,A30+4)),\"NON conformant\")","v":0},{"$f":"COUNTIF(INDIRECT(\"'Success Criteria'!\" & ADDRESS(120,A30+4)):INDIRECT(\"'Success Criteria'!\" & ADDRESS(174,A30+4)),\"N/A\")","v":0},{"$f":"COUNTIF(INDIRECT(\"'Success Criteria'!\" & ADDRESS(120,A30+4)):INDIRECT(\"'Success Criteria'!\" & ADDRESS(174,A30+4)),\"not tested\")","v":28},2,0,0,28,null,0,"",2,"",28,1]
[17,"Page 17","URL 17","Please select",{"$f":"SUM(COUNTIF(INDIRECT(\"'Success Criteria'!\" & ADDRESS(8,A31+4)):INDIRECT(\"'Success Criteria'!\" & ADDRESS(70,A31+4)),\"PASS\"),COUNTIF(INDIRECT(\"'Success Criteria'!\" & ADDRESS(8,A31+4)):INDIRECT(\"'Success Criteria'!\" & ADDRESS(70,A31+4)),\"PASS with comments\"))","v":0},{"$f":"COUNTIF(INDIRECT(\"'Success Criteria'!\" & ADDRESS(8,A31+4)):INDIRECT(\"'Success Criteria'!\" & ADDRESS(70,A31+4)),\"NON conformant\")","v":0},{"$f":"COUNTIF(INDIRECT(\"'Success Criteria'!\" & ADDRESS(8,A31+4)):INDIRECT(\"'Success Criteria'!\" & ADDRESS(70,A31+4)),\"N/A\")","v":0},{"$f":"COUNTIF(INDIRECT(\"'Success Criteria'!\" & ADDRESS(8,A31+4)):INDIRECT(\"'Success Criteria'!\" & ADDRESS(70,A31+4)),\"not tested\")","v":0},{"$f":"SUM(COUNTIF(INDIRECT(\"'Success Criteria'!\" & ADDRESS(74,A31+4)):INDIRECT(\"'Success Criteria'!\" & ADDRESS(115,A31+4)),\"PASS\"),COUNTIF(INDIRECT(\"'Success Criteria'!\" & ADDRESS(74,A31+4)):INDIRECT(\"'Success Criteria'!\" & ADDRESS(115,A31+4)),\"PASS with comments\"))","v":2},{"$f":"COUNTIF(INDIRECT(\"'Success Criteria'!\" & ADDRESS(74,A31+4)):INDIRECT(\"'Success Criteria'!\" & ADDRESS(115,A31+4)),\"NON conformant\")","v":0},{"$f":"COUNTIF(INDIRECT(\"'Success Criteria'!\" & ADDRESS(74,A31+4)):INDIRECT(\"'Success Criteria'!\" & ADDRESS(115,A31+4)),\"N/A\")","v":0},{"$f":"COUNTIF(INDIRECT(\"'Success Criteria'!\" & ADDRESS(74,A31+4)):INDIRECT(\"'Success Criteria'!\" & ADDRESS(115,A31+4)),\"not tested\")","v":0},{"$f":"SUM(COUNTIF(INDIRECT(\"'Success Criteria'!\" & ADDRESS(120,A31+4)):INDIRECT(\"'Success Criteria'!\" & ADDRESS(174,A31+4)),\"PASS\"),COUNTIF(INDIRECT(\"'Success Criteria'!\" & ADDRESS(120,A31+4)):INDIRECT(\"'Success Criteria'!\" & ADDRESS(174,A31+4)),\"PASS with comments\"))","v":0},{"$f":"COUNTIF(INDIRECT(\"'Success Criteria'!\" & ADDRESS(120,A31+4)):INDIRECT(\"'Success Criteria'!\" & ADDRESS(174,A31+4)),\"NON conformant\")","v":0},{"$f":"COUNTIF(INDIRECT(\"'Success Criteria'!\" & ADDRESS(120,A31+4)):INDIRECT(\"'Success Criteria'!\" & ADDRESS(174,A31+4)),\"N/A\")","v":0},{"$f":"COUNTIF(INDIRECT(\"'Success Criteria'!\" & ADDRESS(120,A31+4)):INDIRECT(\"'Success Criteria'!\" & ADDRESS(174,A31+4)),\"not tested\")","v":28},2,0,0,28,null,0,"",2,"",28,1]
[18,"Page 18","URL 18","Please select",{"$f":"SUM(COUNTIF(INDIRECT(\"'Success Criteria'!\" & ADDRESS(8,A32+4)):INDIRECT(\"'Success Criteria'!\" & ADDRESS(70,A32+4)),\"PASS\"),COUNTIF(INDIRECT(\"'Success Criteria'!\" & ADDRESS(8,A32+4)):INDIRECT(\"'Success Criteria'!\" & ADDRESS(70,A32+4)),\"PASS with comments\"))","v":0},{"$f":"COUNTIF(INDIRECT(\"'Success Criteria'!\" & ADDRESS(8,A32+4)):INDIRECT(\"'Success Criteria'!\" & ADDRESS(70,A32+4)),\"NON conformant\")","v":0},{"$f":"COUNTIF(INDIRECT(\"'Success Criteria'!\" & ADDRESS(8,A32+4)):INDIRECT(\"'Success Criteria'!\" & ADDRESS(70,A32+4)),\"N/A\")","v":0},{"$f":"COUNTIF(INDIRECT(\"'Success Criteria'!\" & ADDRESS(8,A32+4)):INDIRECT(\"'Success Criteria'!\" & ADDRESS(70,A32+4)),\"not tested\")","v":0},{"$f":"SUM(COUNTIF(INDIRECT(\"'Success Criteria'!\" & ADDRESS(74,A32+4)):INDIRECT(\"'Success Criteria'!\" & ADDRESS(115,A32+4)),\"PASS\"),COUNTIF(INDIRECT(\"'Success Criteria'!\" & ADDRESS(74,A32+4)):INDIRECT(\"'Success Criteria'!\" & ADDRESS(115,A32+4)),\"PASS with comments\"))","v":2},{"$f":"COUNTIF(INDIRECT(\"'Success Criteria'!\" & ADDRESS(74,A32+4)):INDIRECT(\"'Success Criteria'!\" & ADDRESS(115,A32+4)),\"NON conformant\")","v":0},{"$f":"COUNTIF(INDIRECT(\"'Success Criteria'!\" & ADDRESS(74,A32+4)):INDIRECT(\"'Success Criteria'!\" & ADDRESS(115,A32+4)),\"N/A\")","v":0},{"$f":"COUNTIF(INDIRECT(\"'Success Criteria'!\" & ADDRESS(74,A32+4)):INDIRECT(\"'Success Criteria'!\" & ADDRESS(115,A32+4)),\"not tested\")","v":0},{"$f":"SUM(COUNTIF(INDIRECT(\"'Success Criteria'!\" & ADDRESS(120,A32+4)):INDIRECT(\"'Success Criteria'!\" & ADDRESS(174,A32+4)),\"PASS\"),COUNTIF(INDIRECT(\"'Success Criteria'!\" & ADDRESS(120,A32+4)):INDIRECT(\"'Success Criteria'!\" & ADDRESS(174,A32+4)),\"PASS with comments\"))","v":0},{"$f":"COUNTIF(INDIRECT(\"'Success Criteria'!\" & ADDRESS(120,A32+4)):INDIRECT(\"'Success Criteria'!\" & ADDRESS(174,A32+4)),\"NON conformant\")","v":0},{"$f":"COUNTIF(INDIRECT(\"'Success Criteria'!\" & ADDRESS(120,A32+4)):INDIRECT(\"'Success Criteria'!\" & ADDRESS(174,A32+4)),\"N/A\")","v":0},{"$f":"COUNTIF(INDIRECT(\"'Success Criteria'!\" & ADDRESS(120,A32+4)):INDIRECT(\"'Success Criteria'!\" & ADDRESS(174,A32+4)),\"not tested\")","v":28},2,0,0,28,null,0,"",2,"",28,1]
[19,"Page 19","URL 19","Please select",{"$f":"SUM(COUNTIF(INDIRECT(\"'Success Criteria'!\" & ADDRESS(8,A33+4)):INDIRECT(\"'Success Criteria'!\" & ADDRESS(70,A33+4)),\"PASS\"),COUNTIF(INDIRECT(\"'Success Criteria'!\" & ADDRESS(8,A33+4)):INDIRECT(\"'Success Criteria'!\" & ADDRESS(70,A33+4)),\"PASS with comments\"))","v":0},{"$f":"COUNTIF(INDIRECT(\"'Success Criteria'!\" & ADDRESS(8,A33+4)):INDIRECT(\"'Success Criteria'!\" & ADDRESS(70,A33+4)),\"NON conformant\")","v":0},{"$f":"COUNTIF(INDIRECT(\"'Success Criteria'!\" & ADDRESS(8,A33+4)):INDIRECT(\"'Success Criteria'!\" & ADDRESS(70,A33+4)),\"N/A\")","v":0},{"$f":"COUNTIF(INDIRECT(\"'Success Criteria'!\" & ADDRESS(8,A33+4)):INDIRECT(\"'Success Criteria'!\" & ADDRESS(70,A33+4)),\"not tested\")","v":0},{"$f":"SUM(COUNTIF(INDIRECT(\"'Success Criteria'!\" & ADDRESS(74,A33+4)):INDIRECT(\"'Success Criteria'!\" & ADDRESS(115,A33+4)),\"PASS\"),COUNTIF(INDIRECT(\"'Success Criteria'!\" & ADDRESS(74,A33+4)):INDIRECT(\"'Success Criteria'!\" & ADDRESS(115,A33+4)),\"PASS with comments\"))","v":2},{"$f":"COUNTIF(INDIRECT(\"'Success Criteria'!\" & ADDRESS(74,A33+4)):INDIRECT(\"'Success Criteria'!\" & ADDRESS(115,A33+4)),\"NON conformant\")","v":0},{"$f":"COUNTIF(INDIRECT(\"'Success Criteria'!\" & ADDRESS(74,A33+4)):INDIRECT(\"'Success Criteria'!\" & ADDRESS(115,A33+4)),\"N/A\")","v":0},{"$f":"COUNTIF(INDIRECT(\"'Success Criteria'!\" & ADDRESS(74,A33+4)):INDIRECT(\"'Success Criteria'!\" & ADDRESS(115,A33+4)),\"not tested\")","v":0},{"$f":"SUM(COUNTIF(INDIRECT(\"'Success Criteria'!\" & ADDRESS(120,A33+4)):INDIRECT(\"'Success Criteria'!\" & ADDRESS(174,A33+4)),\"PASS\"),COUNTIF(INDIRECT(\"'Success Criteria'!\" & ADDRESS(120,A33+4)):INDIRECT(\"'Success Criteria'!\" & ADDRESS(174,A33+4)),\"PASS with comments\"))","v":0},{"$f":"COUNTIF(INDIRECT(\"'Success Criteria'!\" & ADDRESS(120,A33+4)):INDIRECT(\"'Success Criteria'!\" & ADDRESS(174,A33+4)),\"NON conformant\")","v":0},{"$f":"COUNTIF(INDIRECT(\"'Success Criteria'!\" & ADDRESS(120,A33+4)):INDIRECT(\"'Success Criteria'!\" & ADDRESS(174,A33+4)),\"N/A\")","v":0},{"$f":"COUNTIF(INDIRECT(\"'Success Criteria'!\" & ADDRESS(120,A33+4)):INDIRECT(\"'Success Criteria'!\" & ADDRESS(174,A33+4)),\"not tested\")","v":28},2,0,0,28,null,0,"",2,"",28,1]
[20,"Page 20","URL 20","Please select",{"$f":"SUM(COUNTIF(INDIRECT(\"'Success Criteria'!\" & ADDRESS(8,A34+4)):INDIRECT(\"'Success Criteria'!\" & ADDRESS(70,A34+4)),\"PASS\"),COUNTIF(INDIRECT(\"'Success Criteria'!\" & ADDRESS(8,A34+4)):INDIRECT(\"'Success Criteria'!\" & ADDRESS(70,A34+4)),\"PASS with comments\"))","v":0},{"$f":"COUNTIF(INDIRECT(\"'Success Criteria'!\" & ADDRESS(8,A34+4)):INDIRECT(\"'Success Criteria'!\" & ADDRESS(70,A34+4)),\"NON conformant\")","v":0},{"$f":"COUNTIF(INDIRECT(\"'Success Criteria'!\" & ADDRESS(8,A34+4)):INDIRECT(\"'Success Criteria'!\" & ADDRESS(70,A34+4)),\"N/A\")","v":0},{"$f":"COUNTIF(INDIRECT(\"'Success Criteria'!\" & ADDRESS(8,A34+4)):INDIRECT(\"'Success Criteria'!\" & ADDRESS(70,A34+4)),\"not tested\")","v":0},{"$f":"SUM(COUNTIF(INDIRECT(\"'Success Criteria'!\" & ADDRESS(74,A34+4)):INDIRECT(\"'Success Criteria'!\" & ADDRESS(115,A34+4)),\"PASS\"),COUNTIF(INDIRECT(\"'Success Criteria'!\" & ADDRESS(74,A34+4)):INDIRECT(\"'Success Criteria'!\" & ADDRESS(115,A34+4)),\"PASS with comments\"))","v":2},{"$f":"COUNTIF(INDIRECT(\"'Success Criteria'!\" & ADDRESS(74,A34+4)):INDIRECT(\"'Success Criteria'!\" & ADDRESS(115,A34+4)),\"NON conformant\")","v":0},{"$f":"COUNTIF(INDIRECT(\"'Success Criteria'!\" & ADDRESS(74,A34+4)):INDIRECT(\"'Success Criteria'!\" & ADDRESS(115,A34+4)),\"N/A\")","v":0},{"$f":"COUNTIF(INDIRECT(\"'Success Criteria'!\" & ADDRESS(74,A34+4)):INDIRECT(\"'Success Criteria'!\" & ADDRESS(115,A34+4)),\"not tested\")","v":0},{"$f":"SUM(COUNTIF(INDIRECT(\"'Success Criteria'!\" & ADDRESS(120,A34+4)):INDIRECT(\"'Success Criteria'!\" & ADDRESS(174,A34+4)),\"PASS\"),COUNTIF(INDIRECT(\"'Success Criteria'!\" & ADDRESS(120,A34+4)):INDIRECT(\"'Success Criteria'!\" & ADDRESS(174,A34+4)),\"PASS with comments\"))","v":0},{"$f":"COUNTIF(INDIRECT(\"'Success Criteria'!\" & ADDRESS(120,A34+4)):INDIRECT(\"'Success Criteria'!\" & ADDRESS(174,A34+4)),\"NON conformant\")","v":0},{"$f":"COUNTIF(INDIRECT(\"'Success Criteria'!\" & ADDRESS(120,A34+4)):INDIRECT(\"'Success Criteria'!\" & ADDRESS(174,A34+4)),\"N/A\")","v":0},{"$f":"COUNTIF(INDIRECT(\"'Success Criteria'!\" & ADDRESS(120,A34+4)):INDIRECT(\"'Success Criteria'!\" & ADDRESS(174,A34+4)),\"not tested\")","v":28},2,0,0,28,null,0,"",2,"",28,1]
[21,"Page 21","URL 21","Please select",{"$f":"SUM(COUNTIF(INDIRECT(\"'Success Criteria'!\" & ADDRESS(8,A35+4)):INDIRECT(\"'Success Criteria'!\" & ADDRESS(70,A35+4)),\"PASS\"),COUNTIF(INDIRECT(\"'Success Criteria'!\" & ADDRESS(8,A35+4)):INDIRECT(\"'Success Criteria'!\" & ADDRESS(70,A35+4)),\"PASS with comments\"))","v":0},{"$f":"COUNTIF(INDIRECT(\"'Success Criteria'!\" & ADDRESS(8,A35+4)):INDIRECT(\"'Success Criteria'!\" & ADDRESS(70,A35+4)),\"NON conformant\")","v":0},{"$f":"COUNTIF(INDIRECT(\"'Success Criteria'!\" & ADDRESS(8,A35+4)):INDIRECT(\"'Success Criteria'!\" & ADDRESS(70,A35+4)),\"N/A\")","v":0},{"$f":"COUNTIF(INDIRECT(\"'Success Criteria'!\" & ADDRESS(8,A35+4)):INDIRECT(\"'Success Criteria'!\" & ADDRESS(70,A35+4)),\"not tested\")","v":0},{"$f":"SUM(COUNTIF(INDIRECT(\"'Success Criteria'!\" & ADDRESS(74,A35+4)):INDIRECT(\"'Success Criteria'!\" & ADDRESS(115,A35+4)),\"PASS\"),COUNTIF(INDIRECT(\"'Success Criteria'!\" & ADDRESS(74,A35+4)):INDIRECT(\"'Success Criteria'!\" & ADDRESS(115,A35+4)),\"PASS with comments\"))","v":2},{"$f":"COUNTIF(INDIRECT(\"'Success Criteria'!\" & ADDRESS(74,A35+4)):INDIRECT(\"'Success Criteria'!\" & ADDRESS(115,A35+4)),\"NON conformant\")","v":0},{"$f":"COUNTIF(INDIRECT(\"'Success Criteria'!\" & ADDRESS(74,A35+4)):INDIRECT(\"'Success Criteria'!\" & ADDRESS(115,A35+4)),\"N/A\")","v":0},{"$f":"COUNTIF(INDIRECT(\"'Success Criteria'!\" & ADDRESS(74,A35+4)):INDIRECT(\"'Success Criteria'!\" & ADDRESS(115,A35+4)),\"not tested\")","v":0},{"$f":"SUM(COUNTIF(INDIRECT(\"'Success Criteria'!\" & ADDRESS(120,A35+4)):INDIRECT(\"'Success Criteria'!\" & ADDRESS(174,A35+4)),\"PASS\"),COUNTIF(INDIRECT(\"'Success Criteria'!\" & ADDRESS(120,A35+4)):INDIRECT(\"'Success Criteria'!\" & ADDRESS(174,A35+4)),\"PASS with comments\"))","v":0},{"$f":"COUNTIF(INDIRECT(\"'Success Criteria'!\" & ADDRESS(120,A35+4)):INDIRECT(\"'Success Criteria'!\" & ADDRESS(174,A35+4)),\"NON conformant\")","v":0},{"$f":"COUNTIF(INDIRECT(\"'Success Criteria'!\" & ADDRESS(120,A35+4)):INDIRECT(\"'Success Criteria'!\" & ADDRESS(174,A35+4)),\"N/A\")","v":0},{"$f":"COUNTIF(INDIRECT(\"'Success Criteria'!\" & ADDRESS(120,A35+4)):INDIRECT(\"'Success Criteria'!\" & ADDRESS(174,A35+4)),\"not tested\")","v":28},2,0,0,28,null,0,"",2,"",28,1]
[22,"Page 22","URL 22","Please select",{"$f":"SUM(COUNTIF(INDIRECT(\"'Success Criteria'!\" & ADDRESS(8,A36+4)):INDIRECT(\"'Success Criteria'!\" & ADDRESS(70,A36+4)),\"PASS\"),COUNTIF(INDIRECT(\"'Success Criteria'!\" & ADDRESS(8,A36+4)):INDIRECT(\"'Success Criteria'!\" & ADDRESS(70,A36+4)),\"PASS with comments\"))","v":0},{"$f":"COUNTIF(INDIRECT(\"'Success Criteria'!\" & ADDRESS(8,A36+4)):INDIRECT(\"'Success Criteria'!\" & ADDRESS(70,A36+4)),\"NON conformant\")","v":0},{"$f":"COUNTIF(INDIRECT(\"'Success Criteria'!\" & ADDRESS(8,A36+4)):INDIRECT(\"'Success Criteria'!\" & ADDRESS(70,A36+4)),\"N/A\")","v":0},{"$f":"COUNTIF(INDIRECT(\"'Success Criteria'!\" & ADDRESS(8,A36+4)):INDIRECT(\"'Success Criteria'!\" & ADDRESS(70,A36+4)),\"not tested\")","v":0},{"$f":"SUM(COUNTIF(INDIRECT(\"'Success Criteria'!\" & ADDRESS(74,A36+4)):INDIRECT(\"'Success Criteria'!\" & ADDRESS(115,A36+4)),\"PASS\"),COUNTIF(INDIRECT(\"'Success Criteria'!\" & ADDRESS(74,A36+4)):INDIRECT(\"'Success Criteria'!\" & ADDRESS(115,A36+4)),\"PASS with comments\"))","v":2},{"$f":"COUNTIF(INDIRECT(\"'Success Criteria'!\" & ADDRESS(74,A36+4)):INDIRECT(\"'Success Criteria'!\" & ADDRESS(115,A36+4)),\"NON conformant\")","v":0},{"$f":"COUNTIF(INDIRECT(\"'Success Criteria'!\" & ADDRESS(74,A36+4)):INDIRECT(\"'Success Criteria'!\" & ADDRESS(115,A36+4)),\"N/A\")","v":0},{"$f":"COUNTIF(INDIRECT(\"'Success Criteria'!\" & ADDRESS(74,A36+4)):INDIRECT(\"'Success Criteria'!\" & ADDRESS(115,A36+4)),\"not tested\")","v":0},{"$f":"SUM(COUNTIF(INDIRECT(\"'Success Criteria'!\" & ADDRESS(120,A36+4)):INDIRECT(\"'Success Criteria'!\" & ADDRESS(174,A36+4)),\"PASS\"),COUNTIF(INDIRECT(\"'Success Criteria'!\" & ADDRESS(120,A36+4)):INDIRECT(\"'Success Criteria'!\" & ADDRESS(174,A36+4)),\"PASS with comments\"))","v":0},{"$f":"COUNTIF(INDIRECT(\"'Success Criteria'!\" & ADDRESS(120,A36+4)):INDIRECT(\"'Success Criteria'!\" & ADDRESS(174,A36+4)),\"NON conformant\")","v":0},{"$f":"COUNTIF(INDIRECT(\"'Success Criteria'!\" & ADDRESS(120,A36+4)):INDIRECT(\"'Success Criteria'!\" & ADDRESS(174,A36+4)),\"N/A\")","v":0},{"$f":"COUNTIF(INDIRECT(\"'Success Criteria'!\" & ADDRESS(120,A36+4)):INDIRECT(\"'Success Criteria'!\" & ADDRESS(174,A36+4)),\"not tested\")","v":28},2,0,0,28,null,0,"",2,"",28,1]
[23,"Page 23","URL 23","Please select",{"$f":"SUM(COUNTIF(INDIRECT(\"'Success Criteria'!\" & ADDRESS(8,A37+4)):INDIRECT(\"'Success Criteria'!\" & ADDRESS(70,A37+4)),\"PASS\"),COUNTIF(INDIRECT(\"'Success Criteria'!\" & ADDRESS(8,A37+4)):INDIRECT(\"'Success Criteria'!\" & ADDRESS(70,A37+4)),\"PASS with comments\"))","v":0},{"$f":"COUNTIF(INDIRECT(\"'Success Criteria'!\" & ADDRESS(8,A37+4)):INDIRECT(\"'Success Criteria'!\" & ADDRESS(70,A37+4)),\"NON conformant\")","v":0},{"$f":"COUNTIF(INDIRECT(\"'Success Criteria'!\" & ADDRESS(8,A37+4)):INDIRECT(\"'Success Criteria'!\" & ADDRESS(70,A37+4)),\"N/A\")","v":0},{"$f":"COUNTIF(INDIRECT(\"'Success Criteria'!\" & ADDRESS(8,A37+4)):INDIRECT(\"'Success Criteria'!\" & ADDRESS(70,A37+4)),\"not tested\")","v":0},{"$f":"SUM(COUNTIF(INDIRECT(\"'Success Criteria'!\" & ADDRESS(74,A37+4)):INDIRECT(\"'Success Criteria'!\" & ADDRESS(115,A37+4)),\"PASS\"),COUNTIF(INDIRECT(\"'Success Criteria'!\" & ADDRESS(74,A37+4)):INDIRECT(\"'Success Criteria'!\" & ADDRESS(115,A37+4)),\"PASS with comments\"))","v":2},{"$f":"COUNTIF(INDIRECT(\"'Success Criteria'!\" & ADDRESS(74,A37+4)):INDIRECT(\"'Success Criteria'!\" & ADDRESS(115,A37+4)),\"NON conformant\")","v":0},{"$f":"COUNTIF(INDIRECT(\"'Success Criteria'!\" & ADDRESS(74,A37+4)):INDIRECT(\"'Success Criteria'!\" & ADDRESS(115,A37+4)),\"N/A\")","v":0},{"$f":"COUNTIF(INDIRECT(\"'Success Criteria'!\" & ADDRESS(74,A37+4)):INDIRECT(\"'Success Criteria'!\" & ADDRESS(115,A37+4)),\"not tested\")","v":0},{"$f":"SUM(COUNTIF(INDIRECT(\"'Success Criteria'!\" & ADDRESS(120,A37+4)):INDIRECT(\"'Success Criteria'!\" & ADDRESS(174,A37+4)),\"PASS\"),COUNTIF(INDIRECT(\"'Success Criteria'!\" & ADDRESS(120,A37+4)):INDIRECT(\"'Success Criteria'!\" & ADDRESS(174,A37+4)),\"PASS with comments\"))","v":0},{"$f":"COUNTIF(INDIRECT(\"'Success Criteria'!\" & ADDRESS(120,A37+4)):INDIRECT(\"'Success Criteria'!\" & ADDRESS(174,A37+4)),\"NON conformant\")","v":0},{"$f":"COUNTIF(INDIRECT(\"'Success Criteria'!\" & ADDRESS(120,A37+4)):INDIRECT(\"'Success Criteria'!\" & ADDRESS(174,A37+4)),\"N/A\")","v":0},{"$f":"COUNTIF(INDIRECT(\"'Success Criteria'!\" & ADDRESS(120,A37+4)):INDIRECT(\"'Success Criteria'!\" & ADDRESS(174,A37+4)),\"not tested\")","v":28},2,0,0,28,null,0,"",2,"",28,1]
[24,"Page 24","URL 24","Please select",{"$f":"SUM(COUNTIF(INDIRECT(\"'Success Criteria'!\" & ADDRESS(8,A38+4)):INDIRECT(\"'Success Criteria'!\" & ADDRESS(70,A38+4)),\"PASS\"),COUNTIF(INDIRECT(\"'Success Criteria'!\" & ADDRESS(8,A38+4)):INDIRECT(\"'Success Criteria'!\" & ADDRESS(70,A38+4)),\"PASS with comments\"))","v":0},{"$f":"COUNTIF(INDIRECT(\"'Success Criteria'!\" & ADDRESS(8,A38+4)):INDIRECT(\"'Success Criteria'!\" & ADDRESS(70,A38+4)),\"NON conformant\")","v":0},{"$f":"COUNTIF(INDIRECT(\"'Success Criteria'!\" & ADDRESS(8,A38+4)):INDIRECT(\"'Success Criteria'!\" & ADDRESS(70,A38+4)),\"N/A\")","v":0},{"$f":"COUNTIF(INDIRECT(\"'Success Criteria'!\" & ADDRESS(8,A38+4)):INDIRECT(\"'Success Criteria'!\" & ADDRESS(70,A38+4)),\"not tested\")","v":0},{"$f":"SUM(COUNTIF(INDIRECT(\"'Success Criteria'!\" & ADDRESS(74,A38+4)):INDIRECT(\"'Success Criteria'!\" & ADDRESS(115,A38+4)),\"PASS\"),COUNTIF(INDIRECT(\"'Success Criteria'!\" & ADDRESS(74,A38+4)):INDIRECT(\"'Success Criteria'!\" & ADDRESS(115,A38+4)),\"PASS with comments\"))","v":2},{"$f":"COUNTIF(INDIRECT(\"'Success Criteria'!\" & ADDRESS(74,A38+4)):INDIRECT(\"'Success Criteria'!\" & ADDRESS(115,A38+4)),\"NON conformant\")","v":0},{"$f":"COUNTIF(INDIRECT(\"'Success Criteria'!\" & ADDRESS(74,A38+4)):INDIRECT(\"'Success Criteria'!\" & ADDRESS(115,A38+4)),\"N/A\")","v":0},{"$f":"COUNTIF(INDIRECT(\"'Success Criteria'!\" & ADDRESS(74,A38+4)):INDIRECT(\"'Success Criteria'!\" & ADDRESS(115,A38+4)),\"not tested\")","v":0},{"$f":"SUM(COUNTIF(INDIRECT(\"'Success Criteria'!\" & ADDRESS(120,A38+4)):INDIRECT(\"'Success Criteria'!\" & ADDRESS(174,A38+4)),\"PASS\"),COUNTIF(INDIRECT(\"'Success Criteria'!\" & ADDRESS(120,A38+4)):INDIRECT(\"'Success Criteria'!\" & ADDRESS(174,A38+4)),\"PASS with comments\"))","v":0},{"$f":"COUNTIF(INDIRECT(\"'Success Criteria'!\" & ADDRESS(120,A38+4)):INDIRECT(\"'Success Criteria'!\" & ADDRESS(174,A38+4)),\"NON conformant\")","v":0},{"$f":"COUNTIF(INDIRECT(\"'Success Criteria'!\" & ADDRESS(120,A38+4)):INDIRECT(\"'Success Criteria'!\" & ADDRESS(174,A38+4)),\"N/A\")","v":0},{"$f":"COUNTIF(INDIRECT(\"'Success Criteria'!\" & ADDRESS(120,A38+4)):INDIRECT(\"'Success Criteria'!\" & ADDRESS(174,A38+4)),\"not tested\")","v":28},2,0,0,28,null,0,"",2,"",28,1]
[25,"Page 25","URL 25","Please select",{"$f":"SUM(COUNTIF(INDIRECT(\"'Success Criteria'!\" & ADDRESS(8,A39+4)):INDIRECT(\"'Success Criteria'!\" & ADDRESS(70,A39+4)),\"PASS\"),COUNTIF(INDIRECT(\"'Success Criteria'!\" & ADDRESS(8,A39+4)):INDIRECT(\"'Success Criteria'!\" & ADDRESS(70,A39+4)),\"PASS with comments\"))","v":0},{"$f":"COUNTIF(INDIRECT(\"'Success Criteria'!\" & ADDRESS(8,A39+4)):INDIRECT(\"'Success Criteria'!\" & ADDRESS(70,A39+4)),\"NON conformant\")","v":0},{"$f":"COUNTIF(INDIRECT(\"'Success Criteria'!\" & ADDRESS(8,A39+4)):INDIRECT(\"'Success Criteria'!\" & ADDRESS(70,A39+4)),\"N/A\")","v":0},{"$f":"COUNTIF(INDIRECT(\"'Success Criteria'!\" & ADDRESS(8,A39+4)):INDIRECT(\"'Success Criteria'!\" & ADDRESS(70,A39+4)),\"not tested\")","v":0},{"$f":"SUM(COUNTIF(INDIRECT(\"'Success Criteria'!\" & ADDRESS(74,A39+4)):INDIRECT(\"'Success Criteria'!\" & ADDRESS(115,A39+4)),\"PASS\"),COUNTIF(INDIRECT(\"'Success Criteria'!\" & ADDRESS(74,A39+4)):INDIRECT(\"'Success Criteria'!\" & ADDRESS(115,A39+4)),\"PASS with comments\"))","v":2},{"$f":"COUNTIF(INDIRECT(\"'Success Criteria'!\" & ADDRESS(74,A39+4)):INDIRECT(\"'Success Criteria'!\" & ADDRESS(115,A39+4)),\"NON conformant\")","v":0},{"$f":"COUNTIF(INDIRECT(\"'Success Criteria'!\" & ADDRESS(74,A39+4)):INDIRECT(\"'Success Criteria'!\" & ADDRESS(115,A39+4)),\"N/A\")","v":0},{"$f":"COUNTIF(INDIRECT(\"'Success Criteria'!\" & ADDRESS(74,A39+4)):INDIRECT(\"'Success Criteria'!\" & ADDRESS(115,A39+4)),\"not tested\")","v":0},{"$f":"SUM(COUNTIF(INDIRECT(\"'Success Criteria'!\" & ADDRESS(120,A39+4)):INDIRECT(\"'Success Criteria'!\" & ADDRESS(174,A39+4)),\"PASS\"),COUNTIF(INDIRECT(\"'Success Criteria'!\" & ADDRESS(120,A39+4)):INDIRECT(\"'Success Criteria'!\" & ADDRESS(174,A39+4)),\"PASS with comments\"))","v":0},{"$f":"COUNTIF(INDIRECT(\"'Success Criteria'!\" & ADDRESS(120,A39+4)):INDIRECT(\"'Success Criteria'!\" & ADDRESS(174,A39+4)),\"NON conformant\")","v":0},{"$f":"COUNTIF(INDIRECT(\"'Success Criteria'!\" & ADDRESS(120,A39+4)):INDIRECT(\"'Success Criteria'!\" & ADDRESS(174,A39+4)),\"N/A\")","v":0},{"$f":"COUNTIF(INDIRECT(\"'Success Criteria'!\" & ADDRESS(120,A39+4)):INDIRECT(\"'Success Criteria'!\" & ADDRESS(174,A39+4)),\"not tested\")","v":28},2,0,0,28,null,0,"",2,"",28,1]
[26,"Page 26","URL 26","Please select",{"$f":"SUM(COUNTIF(INDIRECT(\"'Success Criteria'!\" & ADDRESS(8,A40+4)):INDIRECT(\"'Success Criteria'!\" & ADDRESS(70,A40+4)),\"PASS\"),COUNTIF(INDIRECT(\"'Success Criteria'!\" & ADDRESS(8,A40+4)):INDIRECT(\"'Success Criteria'!\" & ADDRESS(70,A40+4)),\"PASS with comments\"))","v":0},{"$f":"COUNTIF(INDIRECT(\"'Success Criteria'!\" & ADDRESS(8,A40+4)):INDIRECT(\"'Success Criteria'!\" & ADDRESS(70,A40+4)),\"NON conformant\")","v":0},{"$f":"COUNTIF(INDIRECT(\"'Success Criteria'!\" & ADDRESS(8,A40+4)):INDIRECT(\"'Success Criteria'!\" & ADDRESS(70,A40+4)),\"N/A\")","v":0},{"$f":"COUNTIF(INDIRECT(\"'Success Criteria'!\" & ADDRESS(8,A40+4)):INDIRECT(\"'Success Criteria'!\" & ADDRESS(70,A40+4)),\"not tested\")","v":0},{"$f":"SUM(COUNTIF(INDIRECT(\"'Success Criteria'!\" & ADDRESS(74,A40+4)):INDIRECT(\"'Success Criteria'!\" & ADDRESS(115,A40+4)),\"PASS\"),COUNTIF(INDIRECT(\"'Success Criteria'!\" & ADDRESS(74,A40+4)):INDIRECT(\"'Success Criteria'!\" & ADDRESS(115,A40+4)),\"PASS with comments\"))","v":2},{"$f":"COUNTIF(INDIRECT(\"'Success Criteria'!\" & ADDRESS(74,A40+4)):INDIRECT(\"'Success Criteria'!\" & ADDRESS(115,A40+4)),\"NON conformant\")","v":0},{"$f":"COUNTIF(INDIRECT(\"'Success Criteria'!\" & ADDRESS(74,A40+4)):INDIRECT(\"'Success Criteria'!\" & ADDRESS(115,A40+4)),\"N/A\")","v":0},{"$f":"COUNTIF(INDIRECT(\"'Success Criteria'!\" & ADDRESS(74,A40+4)):INDIRECT(\"'Success Criteria'!\" & ADDRESS(115,A40+4)),\"not tested\")","v":0},{"$f":"SUM(COUNTIF(INDIRECT(\"'Success Criteria'!\" & ADDRESS(120,A40+4)):INDIRECT(\"'Success Criteria'!\" & ADDRESS(174,A40+4)),\"PASS\"),COUNTIF(INDIRECT(\"'Success Criteria'!\" & ADDRESS(120,A40+4)):INDIRECT(\"'Success Criteria'!\" & ADDRESS(174,A40+4)),\"PASS with comments\"))","v":0},{"$f":"COUNTIF(INDIRECT(\"'Success Criteria'!\" & ADDRESS(120,A40+4)):INDIRECT(\"'Success Criteria'!\" & ADDRESS(174,A40+4)),\"NON conformant\")","v":0},{"$f":"COUNTIF(INDIRECT(\"'Success Criteria'!\" & ADDRESS(120,A40+4)):INDIRECT(\"'Success Criteria'!\" & ADDRESS(174,A40+4)),\"N/A\")","v":0},{"$f":"COUNTIF(INDIRECT(\"'Success Criteria'!\" & ADDRESS(120,A40+4)):INDIRECT(\"'Success Criteria'!\" & ADDRESS(174,A40+4)),\"not tested\")","v":28},2,0,0,28,null,0,"",2,"",28,1]
[27,"Page 27","URL 27","Please select",{"$f":"SUM(COUNTIF(INDIRECT(\"'Success Criteria'!\" & ADDRESS(8,A41+4)):INDIRECT(\"'Success Criteria'!\" & ADDRESS(70,A41+4)),\"PASS\"),COUNTIF(INDIRECT(\"'Success Criteria'!\" & ADDRESS(8,A41+4)):INDIRECT(\"'Success Criteria'!\" & ADDRESS(70,A41+4)),\"PASS with comments\"))","v":0},{"$f":"COUNTIF(INDIRECT(\"'Success Criteria'!\" & ADDRESS(8,A41+4)):INDIRECT(\"'Success Criteria'!\" & ADDRESS(70,A41+4)),\"NON conformant\")","v":0},{"$f":"COUNTIF(INDIRECT(\"'Success Criteria'!\" & ADDRESS(8,A41+4)):INDIRECT(\"'Success Criteria'!\" & ADDRESS(70,A41+4)),\"N/A\")","v":0},{"$f":"COUNTIF(INDIRECT(\"'Success Criteria'!\" & ADDRESS(8,A41+4)):INDIRECT(\"'Success Criteria'!\" & ADDRESS(70,A41+4)),\"not tested\")","v":0},{"$f":"SUM(COUNTIF(INDIRECT(\"'Success Criteria'!\" & ADDRESS(74,A41+4)):INDIRECT(\"'Success Criteria'!\" & ADDRESS(115,A41+4)),\"PASS\"),COUNTIF(INDIRECT(\"'Success Criteria'!\" & ADDRESS(74,A41+4)):INDIRECT(\"'Success Criteria'!\" & ADDRESS(115,A41+4)),\"PASS with comments\"))","v":2},{"$f":"COUNTIF(INDIRECT(\"'Success Criteria'!\" & ADDRESS(74,A41+4)):INDIRECT(\"'Success Criteria'!\" & ADDRESS(115,A41+4)),\"NON conformant\")","v":0},{"$f":"COUNTIF(INDIRECT(\"'Success Criteria'!\" & ADDRESS(74,A41+4)):INDIRECT(\"'Success Criteria'!\" & ADDRESS(115,A41+4)),\"N/A\")","v":0},{"$f":"COUNTIF(INDIRECT(\"'Success Criteria'!\" & ADDRESS(74,A41+4)):INDIRECT(\"'Success Criteria'!\" & ADDRESS(115,A41+4)),\"not tested\")","v":0},{"$f":"SUM(COUNTIF(INDIRECT(\"'Success Criteria'!\" & ADDRESS(120,A41+4)):INDIRECT(\"'Success Criteria'!\" & ADDRESS(174,A41+4)),\"PASS\"),COUNTIF(INDIRECT(\"'Success Criteria'!\" & ADDRESS(120,A41+4)):INDIRECT(\"'Success Criteria'!\" & ADDRESS(174,A41+4)),\"PASS with comments\"))","v":0},{"$f":"COUNTIF(INDIRECT(\"'Success Criteria'!\" & ADDRESS(120,A41+4)):INDIRECT(\"'Success Criteria'!\" & ADDRESS(174,A41+4)),\"NON conformant\")","v":0},{"$f":"COUNTIF(INDIRECT(\"'Success Criteria'!\" & ADDRESS(120,A41+4)):INDIRECT(\"'Success Criteria'!\" & ADDRESS(174,A41+4)),\"N/A\")","v":0},{"$f":"COUNTIF(INDIRECT(\"'Success Criteria'!\" & ADDRESS(120,A41+4)):INDIRECT(\"'Success Criteria'!\" & ADDRESS(174,A41+4)),\"not tested\")","v":28},2,0,0,28,null,0,"",2,"",28,1]
[28,"Page 28","URL 28","Please select",{"$f":"SUM(COUNTIF(INDIRECT(\"'Success Criteria'!\" & ADDRESS(8,A42+4)):INDIRECT(\"'Success Criteria'!\" & ADDRESS(70,A42+4)),\"PASS\"),COUNTIF(INDIRECT(\"'Success Criteria'!\" & ADDRESS(8,A42+4)):INDIRECT(\"'Success Criteria'!\" & ADDRESS(70,A42+4)),\"PASS with comments\"))","v":0},{"$f":"COUNTIF(INDIRECT(\"'Success Criteria'!\" & ADDRESS(8,A42+4)):INDIRECT(\"'Success Criteria'!\" & ADDRESS(70,A42+4)),\"NON conformant\")","v":0},{"$f":"COUNTIF(INDIRECT(\"'Success Criteria'!\" & ADDRESS(8,A42+4)):INDIRECT(\"'Success Criteria'!\" & ADDRESS(70,A42+4)),\"N/A\")","v":0},{"$f":"COUNTIF(INDIRECT(\"'Success Criteria'!\" & ADDRESS(8,A42+4)):INDIRECT(\"'Success Criteria'!\" & ADDRESS(70,A42+4)),\"not tested\")","v":0},{"$f":"SUM(COUNTIF(INDIRECT(\"'Success Criteria'!\" & ADDRESS(74,A42+4)):INDIRECT(\"'Success Criteria'!\" & ADDRESS(115,A42+4)),\"PASS\"),COUNTIF(INDIRECT(\"'Success Criteria'!\" & ADDRESS(74,A42+4)):INDIRECT(\"'Success Criteria'!\" & ADDRESS(115,A42+4)),\"PASS with comments\"))","v":2},{"$f":"COUNTIF(INDIRECT(\"'Success Criteria'!\" & ADDRESS(74,A42+4)):INDIRECT(\"'Success Criteria'!\" & ADDRESS(115,A42+4)),\"NON conformant\")","v":0},{"$f":"COUNTIF(INDIRECT(\"'Success Criteria'!\" & ADDRESS(74,A42+4)):INDIRECT(\"'Success Criteria'!\" & ADDRESS(115,A42+4)),\"N/A\")","v":0},{"$f":"COUNTIF(INDIRECT(\"'Success Criteria'!\" & ADDRESS(74,A42+4)):INDIRECT(\"'Success Criteria'!\" & ADDRESS(115,A42+4)),\"not tested\")","v":0},{"$f":"SUM(COUNTIF(INDIRECT(\"'Success Criteria'!\" & ADDRESS(120,A42+4)):INDIRECT(\"'Success Criteria'!\" & ADDRESS(174,A42+4)),\"PASS\"),COUNTIF(INDIRECT(\"'Success Criteria'!\" & ADDRESS(120,A42+4)):INDIRECT(\"'Success Criteria'!\" & ADDRESS(174,A42+4)),\"PASS with comments\"))","v":0},{"$f":"COUNTIF(INDIRECT(\"'Success Criteria'!\" & ADDRESS(120,A42+4)):INDIRECT(\"'Success Criteria'!\" & ADDRESS(174,A42+4)),\"NON conformant\")","v":0},{"$f":"COUNTIF(INDIRECT(\"'Success Criteria'!\" & ADDRESS(120,A42+4)):INDIRECT(\"'Success Criteria'!\" & ADDRESS(174,A42+4)),\"N/A\")","v":0},{"$f":"COUNTIF(INDIRECT(\"'Success Criteria'!\" & ADDRESS(120,A42+4)):INDIRECT(\"'Success Criteria'!\" & ADDRESS(174,A42+4)),\"not tested\")","v":28},2,0,0,28,null,0,"",2,"",28,1]
[29,"Page 29","URL 29","Please select",{"$f":"SUM(COUNTIF(INDIRECT(\"'Success Criteria'!\" & ADDRESS(8,A43+4)):INDIRECT(\"'Success Criteria'!\" & ADDRESS(70,A43+4)),\"PASS\"),COUNTIF(INDIRECT(\"'Success Criteria'!\" & ADDRESS(8,A43+4)):INDIRECT(\"'Success Criteria'!\" & ADDRESS(70,A43+4)),\"PASS with comments\"))","v":0},{"$f":"COUNTIF(INDIRECT(\"'Success Criteria'!\" & ADDRESS(8,A43+4)):INDIRECT(\"'Success Criteria'!\" & ADDRESS(70,A43+4)),\"NON conformant\")","v":0},{"$f":"COUNTIF(INDIRECT(\"'Success Criteria'!\" & ADDRESS(8,A43+4)):INDIRECT(\"'Success Criteria'!\" & ADDRESS(70,A43+4)),\"N/A\")","v":0},{"$f":"COUNTIF(INDIRECT(\"'Success Criteria'!\" & ADDRESS(8,A43+4)):INDIRECT(\"'Success Criteria'!\" & ADDRESS(70,A43+4)),\"not tested\")","v":0},{"$f":"SUM(COUNTIF(INDIRECT(\"'Success Criteria'!\" & ADDRESS(74,A43+4)):INDIRECT(\"'Success Criteria'!\" & ADDRESS(115,A43+4)),\"PASS\"),COUNTIF(INDIRECT(\"'Success Criteria'!\" & ADDRESS(74,A43+4)):INDIRECT(\"'Success Criteria'!\" & ADDRESS(115,A43+4)),\"PASS with comments\"))","v":2},{"$f":"COUNTIF(INDIRECT(\"'Success Criteria'!\" & ADDRESS(74,A43+4)):INDIRECT(\"'Success Criteria'!\" & ADDRESS(115,A43+4)),\"NON conformant\")","v":0},{"$f":"COUNTIF(INDIRECT(\"'Success Criteria'!\" & ADDRESS(74,A43+4)):INDIRECT(\"'Success Criteria'!\" & ADDRESS(115,A43+4)),\"N/A\")","v":0},{"$f":"COUNTIF(INDIRECT(\"'Success Criteria'!\" & ADDRESS(74,A43+4)):INDIRECT(\"'Success Criteria'!\" & ADDRESS(115,A43+4)),\"not tested\")","v":0},{"$f":"SUM(COUNTIF(INDIRECT(\"'Success Criteria'!\" & ADDRESS(120,A43+4)):INDIRECT(\"'Success Criteria'!\" & ADDRESS(174,A43+4)),\"PASS\"),COUNTIF(INDIRECT(\"'Success Criteria'!\" & ADDRESS(120,A43+4)):INDIRECT(\"'Success Criteria'!\" & ADDRESS(174,A43+4)),\"PASS with comments\"))","v":0},{"$f":"COUNTIF(INDIRECT(\"'Success Criteria'!\" & ADDRESS(120,A43+4)):INDIRECT(\"'Success Criteria'!\" & ADDRESS(174,A43+4)),\"NON conformant\")","v":0},{"$f":"COUNTIF(INDIRECT(\"'Success Criteria'!\" & ADDRESS(120,A43+4)):INDIRECT(\"'Success Criteria'!\" & ADDRESS(174,A43+4)),\"N/A\")","v":0},{"$f":"COUNTIF(INDIRECT(\"'Success Criteria'!\" & ADDRESS(120,A43+4)):INDIRECT(\"'Success Criteria'!\" & ADDRESS(174,A43+4)),\"not tested\")","v":28},2,0,0,28,null,0,"",2,"",28,1]
[30,"Page 30","URL 30","Please select",{"$f":"SUM(COUNTIF(INDIRECT(\"'Success Criteria'!\" & ADDRESS(8,A44+4)):INDIRECT(\"'Success Criteria'!\" & ADDRESS(70,A44+4)),\"PASS\"),COUNTIF(INDIRECT(\"'Success Criteria'!\" & ADDRESS(8,A44+4)):INDIRECT(\"'Success Criteria'!\" & ADDRESS(70,A44+4)),\"PASS with comments\"))","v":0},{"$f":"COUNTIF(INDIRECT(\"'Success Criteria'!\" & ADDRESS(8,A44+4)):INDIRECT(\"'Success Criteria'!\" & ADDRESS(70,A44+4)),\"NON conformant\")","v":0},{"$f":"COUNTIF(INDIRECT(\"'Success Criteria'!\" & ADDRESS(8,A44+4)):INDIRECT(\"'Success Criteria'!\" & ADDRESS(70,A44+4)),\"N/A\")","v":0},{"$f":"COUNTIF(INDIRECT(\"'Success Criteria'!\" & ADDRESS(8,A44+4)):INDIRECT(\"'Success Criteria'!\" & ADDRESS(70,A44+4)),\"not tested\")","v":0},{"$f":"SUM(COUNTIF(INDIRECT(\"'Success Criteria'!\" & ADDRESS(74,A44+4)):INDIRECT(\"'Success Criteria'!\" & ADDRESS(115,A44+4)),\"PASS\"),COUNTIF(INDIRECT(\"'Success Criteria'!\" & ADDRESS(74,A44+4)):INDIRECT(\"'Success Criteria'!\" & ADDRESS(115,A44+4)),\"PASS with comments\"))","v":2},{"$f":"COUNTIF(INDIRECT(\"'Success Criteria'!\" & ADDRESS(74,A44+4)):INDIRECT(\"'Success Criteria'!\" & ADDRESS(115,A44+4)),\"NON conformant\")","v":0},{"$f":"COUNTIF(INDIRECT(\"'Success Criteria'!\" & ADDRESS(74,A44+4)):INDIRECT(\"'Success Criteria'!\" & ADDRESS(115,A44+4)),\"N/A\")","v":0},{"$f":"COUNTIF(INDIRECT(\"'Success Criteria'!\" & ADDRESS(74,A44+4)):INDIRECT(\"'Success Criteria'!\" & ADDRESS(115,A44+4)),\"not tested\")","v":0},{"$f":"SUM(COUNTIF(INDIRECT(\"'Success Criteria'!\" & ADDRESS(120,A44+4)):INDIRECT(\"'Success Criteria'!\" & ADDRESS(174,A44+4)),\"PASS\"),COUNTIF(INDIRECT(\"'Success Criteria'!\" & ADDRESS(120,A44+4)):INDIRECT(\"'Success Criteria'!\" & ADDRESS(174,A44+4)),\"PASS with comments\"))","v":0},{"$f":"COUNTIF(INDIRECT(\"'Success Criteria'!\" & ADDRESS(120,A44+4)):INDIRECT(\"'Success Criteria'!\" & ADDRESS(174,A44+4)),\"NON conformant\")","v":0},{"$f":"COUNTIF(INDIRECT(\"'Success Criteria'!\" & ADDRESS(120,A44+4)):INDIRECT(\"'Success Criteria'!\" & ADDRESS(174,A44+4)),\"N/A\")","v":0},{"$f":"COUNTIF(INDIRECT(\"'Success Criteria'!\" & ADDRESS(120,A44+4)):INDIRECT(\"'Success Criteria'!\" & ADDRESS(174,A44+4)),\"not tested\")","v":28},2,0,0,28,null,0,"",2,"",28,1]
[31,"Page 31","URL 31","Please select",{"$f":"SUM(COUNTIF(INDIRECT(\"'Success Criteria'!\" & ADDRESS(8,A45+4)):INDIRECT(\"'Success Criteria'!\" & ADDRESS(70,A45+4)),\"PASS\"),COUNTIF(INDIRECT(\"'Success Criteria'!\" & ADDRESS(8,A45+4)):INDIRECT(\"'Success Criteria'!\" & ADDRESS(70,A45+4)),\"PASS with comments\"))","v":0},{"$f":"COUNTIF(INDIRECT(\"'Success Criteria'!\" & ADDRESS(8,A45+4)):INDIRECT(\"'Success Criteria'!\" & ADDRESS(70,A45+4)),\"NON conformant\")","v":0},{"$f":"COUNTIF(INDIRECT(\"'Success Criteria'!\" & ADDRESS(8,A45+4)):INDIRECT(\"'Success Criteria'!\" & ADDRESS(70,A45+4)),\"N/A\")","v":0},{"$f":"COUNTIF(INDIRECT(\"'Success Criteria'!\" & ADDRESS(8,A45+4)):INDIRECT(\"'Success Criteria'!\" & ADDRESS(70,A45+4)),\"not tested\")","v":0},{"$f":"SUM(COUNTIF(INDIRECT(\"'Success Criteria'!\" & ADDRESS(74,A45+4)):INDIRECT(\"'Success Criteria'!\" & ADDRESS(115,A45+4)),\"PASS\"),COUNTIF(INDIRECT(\"'Success Criteria'!\" & ADDRESS(74,A45+4)):INDIRECT(\"'Success Criteria'!\" & ADDRESS(115,A45+4)),\"PASS with comments\"))","v":2},{"$f":"COUNTIF(INDIRECT(\"'Success Criteria'!\" & ADDRESS(74,A45+4)):INDIRECT(\"'Success Criteria'!\" & ADDRESS(115,A45+4)),\"NON conformant\")","v":0},{"$f":"COUNTIF(INDIRECT(\"'Success Criteria'!\" & ADDRESS(74,A45+4)):INDIRECT(\"'Success Criteria'!\" & ADDRESS(115,A45+4)),\"N/A\")","v":0},{"$f":"COUNTIF(INDIRECT(\"'Success Criteria'!\" & ADDRESS(74,A45+4)):INDIRECT(\"'Success Criteria'!\" & ADDRESS(115,A45+4)),\"not tested\")","v":0},{"$f":"SUM(COUNTIF(INDIRECT(\"'Success Criteria'!\" & ADDRESS(120,A45+4)):INDIRECT(\"'Success Criteria'!\" & ADDRESS(174,A45+4)),\"PASS\"),COUNTIF(INDIRECT(\"'Success Criteria'!\" & ADDRESS(120,A45+4)):INDIRECT(\"'Success Criteria'!\" & ADDRESS(174,A45+4)),\"PASS with comments\"))","v":0},{"$f":"COUNTIF(INDIRECT(\"'Success Criteria'!\" & ADDRESS(120,A45+4)):INDIRECT(\"'Success Criteria'!\" & ADDRESS(174,A45+4)),\"NON conformant\")","v":0},{"$f":"COUNTIF(INDIRECT(\"'Success Criteria'!\" & ADDRESS(120,A45+4)):INDIRECT(\"'Success Criteria'!\" & ADDRESS(174,A45+4)),\"N/A\")","v":0},{"$f":"COUNTIF(INDIRECT(\"'Success Criteria'!\" & ADDRESS(120,A45+4)):INDIRECT(\"'Success Criteria'!\" & ADDRESS(174,A45+4)),\"not tested\")","v":28},2,0,0,28,null,0,"",2,"",28,1]
[32,"Page 32","URL 32","Please select",{"$f":"SUM(COUNTIF(INDIRECT(\"'Success Criteria'!\" & ADDRESS(8,A46+4)):INDIRECT(\"'Success Criteria'!\" & ADDRESS(70,A46+4)),\"PASS\"),COUNTIF(INDIRECT(\"'Success Criteria'!\" & ADDRESS(8,A46+4)):INDIRECT(\"'Success Criteria'!\" & ADDRESS(70,A46+4)),\"PASS with comments\"))","v":0},{"$f":"COUNTIF(INDIRECT(\"'Success Criteria'!\" & ADDRESS(8,A46+4)):INDIRECT(\"'Success Criteria'!\" & ADDRESS(70,A46+4)),\"NON conformant\")","v":0},{"$f":"COUNTIF(INDIRECT(\"'Success Criteria'!\" & ADDRESS(8,A46+4)):INDIRECT(\"'Success Criteria'!\" & ADDRESS(70,A46+4)),\"N/A\")","v":0},{"$f":"COUNTIF(INDIRECT(\"'Success Criteria'!\" & ADDRESS(8,A46+4)):INDIRECT(\"'Success Criteria'!\" & ADDRESS(70,A46+4)),\"not tested\")","v":0},{"$f":"SUM(COUNTIF(INDIRECT(\"'Success Criteria'!\" & ADDRESS(74,A46+4)):INDIRECT(\"'Success Criteria'!\" & ADDRESS(115,A46+4)),\"PASS\"),COUNTIF(INDIRECT(\"'Success Criteria'!\" & ADDRESS(74,A46+4)):INDIRECT(\"'Success Criteria'!\" & ADDRESS(115,A46+4)),\"PASS with comments\"))","v":2},{"$f":"COUNTIF(INDIRECT(\"'Success Criteria'!\" & ADDRESS(74,A46+4)):INDIRECT(\"'Success Criteria'!\" & ADDRESS(115,A46+4)),\"NON conformant\")","v":0},{"$f":"COUNTIF(INDIRECT(\"'Success Criteria'!\" & ADDRESS(74,A46+4)):INDIRECT(\"'Success Criteria'!\" & ADDRESS(115,A46+4)),\"N/A\")","v":0},{"$f":"COUNTIF(INDIRECT(\"'Success Criteria'!\" & ADDRESS(74,A46+4)):INDIRECT(\"'Success Criteria'!\" & ADDRESS(115,A46+4)),\"not tested\")","v":0},{"$f":"SUM(COUNTIF(INDIRECT(\"'Success Criteria'!\" & ADDRESS(120,A46+4)):INDIRECT(\"'Success Criteria'!\" & ADDRESS(174,A46+4)),\"PASS\"),COUNTIF(INDIRECT(\"'Success Criteria'!\" & ADDRESS(120,A46+4)):INDIRECT(\"'Success Criteria'!\" & ADDRESS(174,A46+4)),\"PASS with comments\"))","v":0},{"$f":"COUNTIF(INDIRECT(\"'Success Criteria'!\" & ADDRESS(120,A46+4)):INDIRECT(\"'Success Criteria'!\" & ADDRESS(174,A46+4)),\"NON conformant\")","v":0},{"$f":"COUNTIF(INDIRECT(\"'Success Criteria'!\" & ADDRESS(120,A46+4)):INDIRECT(\"'Success Criteria'!\" & ADDRESS(174,A46+4)),\"N/A\")","v":0},{"$f":"COUNTIF(INDIRECT(\"'Success Criteria'!\" & ADDRESS(120,A46+4)):INDIRECT(\"'Success Criteria'!\" & ADDRESS(174,A46+4)),\"not tested\")","v":28},2,0,0,28,null,0,"",2,"",28,1]
[33,"Page 33","URL 33","Please select",{"$f":"SUM(COUNTIF(INDIRECT(\"'Success Criteria'!\" & ADDRESS(8,A47+4)):INDIRECT(\"'Success Criteria'!\" & ADDRESS(70,A47+4)),\"PASS\"),COUNTIF(INDIRECT(\"'Success Criteria'!\" & ADDRESS(8,A47+4)):INDIRECT(\"'Success Criteria'!\" & ADDRESS(70,A47+4)),\"PASS with comments\"))","v":0},{"$f":"COUNTIF(INDIRECT(\"'Success Criteria'!\" & ADDRESS(8,A47+4)):INDIRECT(\"'Success Criteria'!\" & ADDRESS(70,A47+4)),\"NON conformant\")","v":0},{"$f":"COUNTIF(INDIRECT(\"'Success Criteria'!\" & ADDRESS(8,A47+4)):INDIRECT(\"'Success Criteria'!\" & ADDRESS(70,A47+4)),\"N/A\")","v":0},{"$f":"COUNTIF(INDIRECT(\"'Success Criteria'!\" & ADDRESS(8,A47+4)):INDIRECT(\"'Success Criteria'!\" & ADDRESS(70,A47+4)),\"not tested\")","v":0},{"$f":"SUM(COUNTIF(INDIRECT(\"'Success Criteria'!\" & ADDRESS(74,A47+4)):INDIRECT(\"'Success Criteria'!\" & ADDRESS(115,A47+4)),\"PASS\"),COUNTIF(INDIRECT(\"'Success Criteria'!\" & ADDRESS(74,A47+4)):INDIRECT(\"'Success Criteria'!\" & ADDRESS(115,A47+4)),\"PASS with comments\"))","v":2},{"$f":"COUNTIF(INDIRECT(\"'Success Criteria'!\" & ADDRESS(74,A47+4)):INDIRECT(\"'Success Criteria'!\" & ADDRESS(115,A47+4)),\"NON conformant\")","v":0},{"$f":"COUNTIF(INDIRECT(\"'Success Criteria'!\" & ADDRESS(74,A47+4)):INDIRECT(\"'Success Criteria'!\" & ADDRESS(115,A47+4)),\"N/A\")","v":0},{"$f":"COUNTIF(INDIRECT(\"'Success Criteria'!\" & ADDRESS(74,A47+4)):INDIRECT(\"'Success Criteria'!\" & ADDRESS(115,A47+4)),\"not tested\")","v":0},{"$f":"SUM(COUNTIF(INDIRECT(\"'Success Criteria'!\" & ADDRESS(120,A47+4)):INDIRECT(\"'Success Criteria'!\" & ADDRESS(174,A47+4)),\"PASS\"),COUNTIF(INDIRECT(\"'Success Criteria'!\" & ADDRESS(120,A47+4)):INDIRECT(\"'Success Criteria'!\" & ADDRESS(174,A47+4)),\"PASS with comments\"))","v":0},{"$f":"COUNTIF(INDIRECT(\"'Success Criteria'!\" & ADDRESS(120,A47+4)):INDIRECT(\"'Success Criteria'!\" & ADDRESS(174,A47+4)),\"NON conformant\")","v":0},{"$f":"COUNTIF(INDIRECT(\"'Success Criteria'!\" & ADDRESS(120,A47+4)):INDIRECT(\"'Success Criteria'!\" & ADDRESS(174,A47+4)),\"N/A\")","v":0},{"$f":"COUNTIF(INDIRECT(\"'Success Criteria'!\" & ADDRESS(120,A47+4)):INDIRECT(\"'Success Criteria'!\" & ADDRESS(174,A47+4)),\"not tested\")","v":28},2,0,0,28,null,{"$f":"SUM(E47:H47)","v":0},{"$f":"IF(V47=30,1,\"\")","v":""},2,"",28,1]
[34,"Page 34","URL 34","Please select",{"$f":"SUM(COUNTIF(INDIRECT(\"'Success Criteria'!\" & ADDRESS(8,A48+4)):INDIRECT(\"'Success Criteria'!\" & ADDRESS(70,A48+4)),\"PASS\"),COUNTIF(INDIRECT(\"'Success Criteria'!\" & ADDRESS(8,A48+4)):INDIRECT(\"'Success Criteria'!\" & ADDRESS(70,A48+4)),\"PASS with comments\"))","v":0},{"$f":"COUNTIF(INDIRECT(\"'Success Criteria'!\" & ADDRESS(8,A48+4)):INDIRECT(\"'Success Criteria'!\" & ADDRESS(70,A48+4)),\"NON conformant\")","v":0},{"$f":"COUNTIF(INDIRECT(\"'Success Criteria'!\" & ADDRESS(8,A48+4)):INDIRECT(\"'Success Criteria'!\" & ADDRESS(70,A48+4)),\"N/A\")","v":0},{"$f":"COUNTIF(INDIRECT(\"'Success Criteria'!\" & ADDRESS(8,A48+4)):INDIRECT(\"'Success Criteria'!\" & ADDRESS(70,A48+4)),\"not tested\")","v":0},{"$f":"SUM(COUNTIF(INDIRECT(\"'Success Criteria'!\" & ADDRESS(74,A48+4)):INDIRECT(\"'Success Criteria'!\" & ADDRESS(115,A48+4)),\"PASS\"),COUNTIF(INDIRECT(\"'Success Criteria'!\" & ADDRESS(74,A48+4)):INDIRECT(\"'Success Criteria'!\" & ADDRESS(115,A48+4)),\"PASS with comments\"))","v":2},{"$f":"COUNTIF(INDIRECT(\"'Success Criteria'!\" & ADDRESS(74,A48+4)):INDIRECT(\"'Success Criteria'!\" & ADDRESS(115,A48+4)),\"NON conformant\")","v":0},{"$f":"COUNTIF(INDIRECT(\"'Success Criteria'!\" & ADDRESS(74,A48+4)):INDIRECT(\"'Success Criteria'!\" & ADDRESS(115,A48+4)),\"N/A\")","v":0},{"$f":"COUNTIF(INDIRECT(\"'Success Criteria'!\" & ADDRESS(74,A48+4)):INDIRECT(\"'Success Criteria'!\" & ADDRESS(115,A48+4)),\"not tested\")","v":0},{"$f":"SUM(COUNTIF(INDIRECT(\"'Success Criteria'!\" & ADDRESS(120,A48+4)):INDIRECT(\"'Success Criteria'!\" & ADDRESS(174,A48+4)),\"PASS\"),COUNTIF(INDIRECT(\"'Success Criteria'!\" & ADDRESS(120,A48+4)):INDIRECT(\"'Success Criteria'!\" & ADDRESS(174,A48+4)),\"PASS with comments\"))","v":0},{"$f":"COUNTIF(INDIRECT(\"'Success Criteria'!\" & ADDRESS(120,A48+4)):INDIRECT(\"'Success Criteria'!\" & ADDRESS(174,A48+4)),\"NON conformant\")","v":0},{"$f":"COUNTIF(INDIRECT(\"'Success Criteria'!\" & ADDRESS(120,A48+4)):INDIRECT(\"'Success Criteria'!\" & ADDRESS(174,A48+4)),\"N/A\")","v":0},{"$f":"COUNTIF(INDIRECT(\"'Success Criteria'!\" & ADDRESS(120,A48+4)):INDIRECT(\"'Success Criteria'!\" & ADDRESS(174,A48+4)),\"not tested\")","v":28},2,0,0,28,null,0,"",2,"",28,1]
[35,"Page 35","URL 35","Please select",{"$f":"SUM(COUNTIF(INDIRECT(\"'Success Criteria'!\" & ADDRESS(8,A49+4)):INDIRECT(\"'Success Criteria'!\" & ADDRESS(70,A49+4)),\"PASS\"),COUNTIF(INDIRECT(\"'Success Criteria'!\" & ADDRESS(8,A49+4)):INDIRECT(\"'Success Criteria'!\" & ADDRESS(70,A49+4)),\"PASS with comments\"))","v":0},{"$f":"COUNTIF(INDIRECT(\"'Success Criteria'!\" & ADDRESS(8,A49+4)):INDIRECT(\"'Success Criteria'!\" & ADDRESS(70,A49+4)),\"NON conformant\")","v":0},{"$f":"COUNTIF(INDIRECT(\"'Success Criteria'!\" & ADDRESS(8,A49+4)):INDIRECT(\"'Success Criteria'!\" & ADDRESS(70,A49+4)),\"N/A\")","v":0},{"$f":"COUNTIF(INDIRECT(\"'Success Criteria'!\" & ADDRESS(8,A49+4)):INDIRECT(\"'Success Criteria'!\" & ADDRESS(70,A49+4)),\"not tested\")","v":0},{"$f":"SUM(COUNTIF(INDIRECT(\"'Success Criteria'!\" & ADDRESS(74,A49+4)):INDIRECT(\"'Success Criteria'!\" & ADDRESS(115,A49+4)),\"PASS\"),COUNTIF(INDIRECT(\"'Success Criteria'!\" & ADDRESS(74,A49+4)):INDIRECT(\"'Success Criteria'!\" & ADDRESS(115,A49+4)),\"PASS with comments\"))","v":2},{"$f":"COUNTIF(INDIRECT(\"'Success Criteria'!\" & ADDRESS(74,A49+4)):INDIRECT(\"'Success Criteria'!\" & ADDRESS(115,A49+4)),\"NON conformant\")","v":0},{"$f":"COUNTIF(INDIRECT(\"'Success Criteria'!\" & ADDRESS(74,A49+4)):INDIRECT(\"'Success Criteria'!\" & ADDRESS(115,A49+4)),\"N/A\")","v":0},{"$f":"COUNTIF(INDIRECT(\"'Success Criteria'!\" & ADDRESS(74,A49+4)):INDIRECT(\"'Success Criteria'!\" & ADDRESS(115,A49+4)),\"not tested\")","v":0},{"$f":"SUM(COUNTIF(INDIRECT(\"'Success Criteria'!\" & ADDRESS(120,A49+4)):INDIRECT(\"'Success Criteria'!\" & ADDRESS(174,A49+4)),\"PASS\"),COUNTIF(INDIRECT(\"'Success Criteria'!\" & ADDRESS(120,A49+4)):INDIRECT(\"'Success Criteria'!\" & ADDRESS(174,A49+4)),\"PASS with comments\"))","v":0},{"$f":"COUNTIF(INDIRECT(\"'Success Criteria'!\" & ADDRESS(120,A49+4)):INDIRECT(\"'Success Criteria'!\" & ADDRESS(174,A49+4)),\"NON conformant\")","v":0},{"$f":"COUNTIF(INDIRECT(\"'Success Criteria'!\" & ADDRESS(120,A49+4)):INDIRECT(\"'Success Criteria'!\" & ADDRESS(174,A49+4)),\"N/A\")","v":0},{"$f":"COUNTIF(INDIRECT(\"'Success Criteria'!\" & ADDRESS(120,A49+4)):INDIRECT(\"'Success Criteria'!\" & ADDRESS(174,A49+4)),\"not tested\")","v":28},2,0,0,28,null,0,"",2,"",28,1]
[36,"Page 36","URL 36","Please select",{"$f":"SUM(COUNTIF(INDIRECT(\"'Success Criteria'!\" & ADDRESS(8,A50+4)):INDIRECT(\"'Success Criteria'!\" & ADDRESS(70,A50+4)),\"PASS\"),COUNTIF(INDIRECT(\"'Success Criteria'!\" & ADDRESS(8,A50+4)):INDIRECT(\"'Success Criteria'!\" & ADDRESS(70,A50+4)),\"PASS with comments\"))","v":0},{"$f":"COUNTIF(INDIRECT(\"'Success Criteria'!\" & ADDRESS(8,A50+4)):INDIRECT(\"'Success Criteria'!\" & ADDRESS(70,A50+4)),\"NON conformant\")","v":0},{"$f":"COUNTIF(INDIRECT(\"'Success Criteria'!\" & ADDRESS(8,A50+4)):INDIRECT(\"'Success Criteria'!\" & ADDRESS(70,A50+4)),\"N/A\")","v":0},{"$f":"COUNTIF(INDIRECT(\"'Success Criteria'!\" & ADDRESS(8,A50+4)):INDIRECT(\"'Success Criteria'!\" & ADDRESS(70,A50+4)),\"not tested\")","v":0},{"$f":"SUM(COUNTIF(INDIRECT(\"'Success Criteria'!\" & ADDRESS(74,A50+4)):INDIRECT(\"'Success Criteria'!\" & ADDRESS(115,A50+4)),\"PASS\"),COUNTIF(INDIRECT(\"'Success Criteria'!\" & ADDRESS(74,A50+4)):INDIRECT(\"'Success Criteria'!\" & ADDRESS(115,A50+4)),\"PASS with comments\"))","v":2},{"$f":"COUNTIF(INDIRECT(\"'Success Criteria'!\" & ADDRESS(74,A50+4)):INDIRECT(\"'Success Criteria'!\" & ADDRESS(115,A50+4)),\"NON conformant\")","v":0},{"$f":"COUNTIF(INDIRECT(\"'Success Criteria'!\" & ADDRESS(74,A50+4)):INDIRECT(\"'Success Criteria'!\" & ADDRESS(115,A50+4)),\"N/A\")","v":0},{"$f":"COUNTIF(INDIRECT(\"'Success Criteria'!\" & ADDRESS(74,A50+4)):INDIRECT(\"'Success Criteria'!\" & ADDRESS(115,A50+4)),\"not tested\")","v":0},{"$f":"SUM(COUNTIF(INDIRECT(\"'Success Criteria'!\" & ADDRESS(120,A50+4)):INDIRECT(\"'Success Criteria'!\" & ADDRESS(174,A50+4)),\"PASS\"),COUNTIF(INDIRECT(\"'Success Criteria'!\" & ADDRESS(120,A50+4)):INDIRECT(\"'Success Criteria'!\" & ADDRESS(174,A50+4)),\"PASS with comments\"))","v":0},{"$f":"COUNTIF(INDIRECT(\"'Success Criteria'!\" & ADDRESS(120,A50+4)):INDIRECT(\"'Success Criteria'!\" & ADDRESS(174,A50+4)),\"NON conformant\")","v":0},{"$f":"COUNTIF(INDIRECT(\"'Success Criteria'!\" & ADDRESS(120,A50+4)):INDIRECT(\"'Success Criteria'!\" & ADDRESS(174,A50+4)),\"N/A\")","v":0},{"$f":"COUNTIF(INDIRECT(\"'Success Criteria'!\" & ADDRESS(120,A50+4)):INDIRECT(\"'Success Criteria'!\" & ADDRESS(174,A50+4)),\"not tested\")","v":28},2,0,0,28,null,0,"",2,"",28,1]
[37,"Page 37","URL 37","Please select",{"$f":"SUM(COUNTIF(INDIRECT(\"'Success Criteria'!\" & ADDRESS(8,A51+4)):INDIRECT(\"'Success Criteria'!\" & ADDRESS(70,A51+4)),\"PASS\"),COUNTIF(INDIRECT(\"'Success Criteria'!\" & ADDRESS(8,A51+4)):INDIRECT(\"'Success Criteria'!\" & ADDRESS(70,A51+4)),\"PASS with comments\"))","v":0},{"$f":"COUNTIF(INDIRECT(\"'Success Criteria'!\" & ADDRESS(8,A51+4)):INDIRECT(\"'Success Criteria'!\" & ADDRESS(70,A51+4)),\"NON conformant\")","v":0},{"$f":"COUNTIF(INDIRECT(\"'Success Criteria'!\" & ADDRESS(8,A51+4)):INDIRECT(\"'Success Criteria'!\" & ADDRESS(70,A51+4)),\"N/A\")","v":0},{"$f":"COUNTIF(INDIRECT(\"'Success Criteria'!\" & ADDRESS(8,A51+4)):INDIRECT(\"'Success Criteria'!\" & ADDRESS(70,A51+4)),\"not tested\")","v":0},{"$f":"SUM(COUNTIF(INDIRECT(\"'Success Criteria'!\" & ADDRESS(74,A51+4)):INDIRECT(\"'Success Criteria'!\" & ADDRESS(115,A51+4)),\"PASS\"),COUNTIF(INDIRECT(\"'Success Criteria'!\" & ADDRESS(74,A51+4)):INDIRECT(\"'Success Criteria'!\" & ADDRESS(115,A51+4)),\"PASS with comments\"))","v":2},{"$f":"COUNTIF(INDIRECT(\"'Success Criteria'!\" & ADDRESS(74,A51+4)):INDIRECT(\"'Success Criteria'!\" & ADDRESS(115,A51+4)),\"NON conformant\")","v":0},{"$f":"COUNTIF(INDIRECT(\"'Success Criteria'!\" & ADDRESS(74,A51+4)):INDIRECT(\"'Success Criteria'!\" & ADDRESS(115,A51+4)),\"N/A\")","v":0},{"$f":"COUNTIF(INDIRECT(\"'Success Criteria'!\" & ADDRESS(74,A51+4)):INDIRECT(\"'Success Criteria'!\" & ADDRESS(115,A51+4)),\"not tested\")","v":0},{"$f":"SUM(COUNTIF(INDIRECT(\"'Success Criteria'!\" & ADDRESS(120,A51+4)):INDIRECT(\"'Success Criteria'!\" & ADDRESS(174,A51+4)),\"PASS\"),COUNTIF(INDIRECT(\"'Success Criteria'!\" & ADDRESS(120,A51+4)):INDIRECT(\"'Success Criteria'!\" & ADDRESS(174,A51+4)),\"PASS with comments\"))","v":0},{"$f":"COUNTIF(INDIRECT(\"'Success Criteria'!\" & ADDRESS(120,A51+4)):INDIRECT(\"'Success Criteria'!\" & ADDRESS(174,A51+4)),\"NON conformant\")","v":0},{"$f":"COUNTIF(INDIRECT(\"'Success Criteria'!\" & ADDRESS(120,A51+4)):INDIRECT(\"'Success Criteria'!\" & ADDRESS(174,A51+4)),\"N/A\")","v":0},{"$f":"COUNTIF(INDIRECT(\"'Success Criteria'!\" & ADDRESS(120,A51+4)):INDIRECT(\"'Success Criteria'!\" & ADDRESS(174,A51+4)),\"not tested\")","v":28},2,0,0,28,null,0,"",2,"",28,1]
[38,"Page 38","URL 38","Please select",{"$f":"SUM(COUNTIF(INDIRECT(\"'Success Criteria'!\" & ADDRESS(8,A52+4)):INDIRECT(\"'Success Criteria'!\" & ADDRESS(70,A52+4)),\"PASS\"),COUNTIF(INDIRECT(\"'Success Criteria'!\" & ADDRESS(8,A52+4)):INDIRECT(\"'Success Criteria'!\" & ADDRESS(70,A52+4)),\"PASS with comments\"))","v":0},{"$f":"COUNTIF(INDIRECT(\"'Success Criteria'!\" & ADDRESS(8,A52+4)):INDIRECT(\"'Success Criteria'!\" & ADDRESS(70,A52+4)),\"NON conformant\")","v":0},{"$f":"COUNTIF(INDIRECT(\"'Success Criteria'!\" & ADDRESS(8,A52+4)):INDIRECT(\"'Success Criteria'!\" & ADDRESS(70,A52+4)),\"N/A\")","v":0},{"$f":"COUNTIF(INDIRECT(\"'Success Criteria'!\" & ADDRESS(8,A52+4)):INDIRECT(\"'Success Criteria'!\" & ADDRESS(70,A52+4)),\"not tested\")","v":0},{"$f":"SUM(COUNTIF(INDIRECT(\"'Success Criteria'!\" & ADDRESS(74,A52+4)):INDIRECT(\"'Success Criteria'!\" & ADDRESS(115,A52+4)),\"PASS\"),COUNTIF(INDIRECT(\"'Success Criteria'!\" & ADDRESS(74,A52+4)):INDIRECT(\"'Success Criteria'!\" & ADDRESS(115,A52+4)),\"PASS with comments\"))","v":2},{"$f":"COUNTIF(INDIRECT(\"'Success Criteria'!\" & ADDRESS(74,A52+4)):INDIRECT(\"'Success Criteria'!\" & ADDRESS(115,A52+4)),\"NON conformant\")","v":0},{"$f":"COUNTIF(INDIRECT(\"'Success Criteria'!\" & ADDRESS(74,A52+4)):INDIRECT(\"'Success Criteria'!\" & ADDRESS(115,A52+4)),\"N/A\")","v":0},{"$f":"COUNTIF(INDIRECT(\"'Success Criteria'!\" & ADDRESS(74,A52+4)):INDIRECT(\"'Success Criteria'!\" & ADDRESS(115,A52+4)),\"not tested\")","v":0},{"$f":"SUM(COUNTIF(INDIRECT(\"'Success Criteria'!\" & ADDRESS(120,A52+4)):INDIRECT(\"'Success Criteria'!\" & ADDRESS(174,A52+4)),\"PASS\"),COUNTIF(INDIRECT(\"'Success Criteria'!\" & ADDRESS(120,A52+4)):INDIRECT(\"'Success Criteria'!\" & ADDRESS(174,A52+4)),\"PASS with comments\"))","v":0},{"$f":"COUNTIF(INDIRECT(\"'Success Criteria'!\" & ADDRESS(120,A52+4)):INDIRECT(\"'Success Criteria'!\" & ADDRESS(174,A52+4)),\"NON conformant\")","v":0},{"$f":"COUNTIF(INDIRECT(\"'Success Criteria'!\" & ADDRESS(120,A52+4)):INDIRECT(\"'Success Criteria'!\" & ADDRESS(174,A52+4)),\"N/A\")","v":0},{"$f":"COUNTIF(INDIRECT(\"'Success Criteria'!\" & ADDRESS(120,A52+4)):INDIRECT(\"'Success Criteria'!\" & ADDRESS(174,A52+4)),\"not tested\")","v":28},2,0,0,28,null,0,"",2,"",28,1]
[39,"Page 39","URL 39","Please select",{"$f":"SUM(COUNTIF(INDIRECT(\"'Success Criteria'!\" & ADDRESS(8,A53+4)):INDIRECT(\"'Success Criteria'!\" & ADDRESS(70,A53+4)),\"PASS\"),COUNTIF(INDIRECT(\"'Success Criteria'!\" & ADDRESS(8,A53+4)):INDIRECT(\"'Success Criteria'!\" & ADDRESS(70,A53+4)),\"PASS with comments\"))","v":0},{"$f":"COUNTIF(INDIRECT(\"'Success Criteria'!\" & ADDRESS(8,A53+4)):INDIRECT(\"'Success Criteria'!\" & ADDRESS(70,A53+4)),\"NON conformant\")","v":0},{"$f":"COUNTIF(INDIRECT(\"'Success Criteria'!\" & ADDRESS(8,A53+4)):INDIRECT(\"'Success Criteria'!\" & ADDRESS(70,A53+4)),\"N/A\")","v":0},{"$f":"COUNTIF(INDIRECT(\"'Success Criteria'!\" & ADDRESS(8,A53+4)):INDIRECT(\"'Success Criteria'!\" & ADDRESS(70,A53+4)),\"not tested\")","v":0},{"$f":"SUM(COUNTIF(INDIRECT(\"'Success Criteria'!\" & ADDRESS(74,A53+4)):INDIRECT(\"'Success Criteria'!\" & ADDRESS(115,A53+4)),\"PASS\"),COUNTIF(INDIRECT(\"'Success Criteria'!\" & ADDRESS(74,A53+4)):INDIRECT(\"'Success Criteria'!\" & ADDRESS(115,A53+4)),\"PASS with comments\"))","v":2},{"$f":"COUNTIF(INDIRECT(\"'Success Criteria'!\" & ADDRESS(74,A53+4)):INDIRECT(\"'Success Criteria'!\" & ADDRESS(115,A53+4)),\"NON conformant\")","v":0},{"$f":"COUNTIF(INDIRECT(\"'Success Criteria'!\" & ADDRESS(74,A53+4)):INDIRECT(\"'Success Criteria'!\" & ADDRESS(115,A53+4)),\"N/A\")","v":0},{"$f":"COUNTIF(INDIRECT(\"'Success Criteria'!\" & ADDRESS(74,A53+4)):INDIRECT(\"'Success Criteria'!\" & ADDRESS(115,A53+4)),\"not tested\")","v":0},{"$f":"SUM(COUNTIF(INDIRECT(\"'Success Criteria'!\" & ADDRESS(120,A53+4)):INDIRECT(\"'Success Criteria'!\" & ADDRESS(174,A53+4)),\"PASS\"),COUNTIF(INDIRECT(\"'Success Criteria'!\" & ADDRESS(120,A53+4)):INDIRECT(\"'Success Criteria'!\" & ADDRESS(174,A53+4)),\"PASS with comments\"))","v":0},{"$f":"COUNTIF(INDIRECT(\"'Success Criteria'!\" & ADDRESS(120,A53+4)):INDIRECT(\"'Success Criteria'!\" & ADDRESS(174,A53+4)),\"NON conformant\")","v":0},{"$f":"COUNTIF(INDIRECT(\"'Success Criteria'!\" & ADDRESS(120,A53+4)):INDIRECT(\"'Success Criteria'!\" & ADDRESS(174,A53+4)),\"N/A\")","v":0},{"$f":"COUNTIF(INDIRECT(\"'Success Criteria'!\" & ADDRESS(120,A53+4)):INDIRECT(\"'Success Criteria'!\" & ADDRESS(174,A53+4)),\"not tested\")","v":28},2,0,0,28,null,0,"",2,"",28,1]
[40,"Page 40","URL 40","Please select",{"$f":"SUM(COUNTIF(INDIRECT(\"'Success Criteria'!\" & ADDRESS(8,A54+4)):INDIRECT(\"'Success Criteria'!\" & ADDRESS(70,A54+4)),\"PASS\"),COUNTIF(INDIRECT(\"'Success Criteria'!\" & ADDRESS(8,A54+4)):INDIRECT(\"'Success Criteria'!\" & ADDRESS(70,A54+4)),\"PASS with comments\"))","v":0},{"$f":"COUNTIF(INDIRECT(\"'Success Criteria'!\" & ADDRESS(8,A54+4)):INDIRECT(\"'Success Criteria'!\" & ADDRESS(70,A54+4)),\"NON conformant\")","v":0},{"$f":"COUNTIF(INDIRECT(\"'Success Criteria'!\" & ADDRESS(8,A54+4)):INDIRECT(\"'Success Criteria'!\" & ADDRESS(70,A54+4)),\"N/A\")","v":0},{"$f":"COUNTIF(INDIRECT(\"'Success Criteria'!\" & ADDRESS(8,A54+4)):INDIRECT(\"'Success Criteria'!\" & ADDRESS(70,A54+4)),\"not tested\")","v":0},{"$f":"SUM(COUNTIF(INDIRECT(\"'Success Criteria'!\" & ADDRESS(74,A54+4)):INDIRECT(\"'Success Criteria'!\" & ADDRESS(115,A54+4)),\"PASS\"),COUNTIF(INDIRECT(\"'Success Criteria'!\" & ADDRESS(74,A54+4)):INDIRECT(\"'Success Criteria'!\" & ADDRESS(115,A54+4)),\"PASS with comments\"))","v":2},{"$f":"COUNTIF(INDIRECT(\"'Success Criteria'!\" & ADDRESS(74,A54+4)):INDIRECT(\"'Success Criteria'!\" & ADDRESS(115,A54+4)),\"NON conformant\")","v":0},{"$f":"COUNTIF(INDIRECT(\"'Success Criteria'!\" & ADDRESS(74,A54+4)):INDIRECT(\"'Success Criteria'!\" & ADDRESS(115,A54+4)),\"N/A\")","v":0},{"$f":"COUNTIF(INDIRECT(\"'Success Criteria'!\" & ADDRESS(74,A54+4)):INDIRECT(\"'Success Criteria'!\" & ADDRESS(115,A54+4)),\"not tested\")","v":0},{"$f":"SUM(COUNTIF(INDIRECT(\"'Success Criteria'!\" & ADDRESS(120,A54+4)):INDIRECT(\"'Success Criteria'!\" & ADDRESS(174,A54+4)),\"PASS\"),COUNTIF(INDIRECT(\"'Success Criteria'!\" & ADDRESS(120,A54+4)):INDIRECT(\"'Success Criteria'!\" & ADDRESS(174,A54+4)),\"PASS with comments\"))","v":0},{"$f":"COUNTIF(INDIRECT(\"'Success Criteria'!\" & ADDRESS(120,A54+4)):INDIRECT(\"'Success Criteria'!\" & ADDRESS(174,A54+4)),\"NON conformant\")","v":0},{"$f":"COUNTIF(INDIRECT(\"'Success Criteria'!\" & ADDRESS(120,A54+4)):INDIRECT(\"'Success Criteria'!\" & ADDRESS(174,A54+4)),\"N/A\")","v":0},{"$f":"COUNTIF(INDIRECT(\"'Success Criteria'!\" & ADDRESS(120,A54+4)):INDIRECT(\"'Success Criteria'!\" & ADDRESS(174,A54+4)),\"not tested\")","v":28},2,0,0,28,null,0,"",2,"",28,1]
[41,"Page 41","URL 41","Please select",{"$f":"SUM(COUNTIF(INDIRECT(\"'Success Criteria'!\" & ADDRESS(8,A55+4)):INDIRECT(\"'Success Criteria'!\" & ADDRESS(70,A55+4)),\"PASS\"),COUNTIF(INDIRECT(\"'Success Criteria'!\" & ADDRESS(8,A55+4)):INDIRECT(\"'Success Criteria'!\" & ADDRESS(70,A55+4)),\"PASS with comments\"))","v":0},{"$f":"COUNTIF(INDIRECT(\"'Success Criteria'!\" & ADDRESS(8,A55+4)):INDIRECT(\"'Success Criteria'!\" & ADDRESS(70,A55+4)),\"NON conformant\")","v":0},{"$f":"COUNTIF(INDIRECT(\"'Success Criteria'!\" & ADDRESS(8,A55+4)):INDIRECT(\"'Success Criteria'!\" & ADDRESS(70,A55+4)),\"N/A\")","v":0},{"$f":"COUNTIF(INDIRECT(\"'Success Criteria'!\" & ADDRESS(8,A55+4)):INDIRECT(\"'Success Criteria'!\" & ADDRESS(70,A55+4)),\"not tested\")","v":0},{"$f":"SUM(COUNTIF(INDIRECT(\"'Success Criteria'!\" & ADDRESS(74,A55+4)):INDIRECT(\"'Success Criteria'!\" & ADDRESS(115,A55+4)),\"PASS\"),COUNTIF(INDIRECT(\"'Success Criteria'!\" & ADDRESS(74,A55+4)):INDIRECT(\"'Success Criteria'!\" & ADDRESS(115,A55+4)),\"PASS with comments\"))","v":2},{"$f":"COUNTIF(INDIRECT(\"'Success Criteria'!\" & ADDRESS(74,A55+4)):INDIRECT(\"'Success Criteria'!\" & ADDRESS(115,A55+4)),\"NON conformant\")","v":0},{"$f":"COUNTIF(INDIRECT(\"'Success Criteria'!\" & ADDRESS(74,A55+4)):INDIRECT(\"'Success Criteria'!\" & ADDRESS(115,A55+4)),\"N/A\")","v":0},{"$f":"COUNTIF(INDIRECT(\"'Success Criteria'!\" & ADDRESS(74,A55+4)):INDIRECT(\"'Success Criteria'!\" & ADDRESS(115,A55+4)),\"not tested\")","v":0},{"$f":"SUM(COUNTIF(INDIRECT(\"'Success Criteria'!\" & ADDRESS(120,A55+4)):INDIRECT(\"'Success Criteria'!\" & ADDRESS(174,A55+4)),\"PASS\"),COUNTIF(INDIRECT(\"'Success Criteria'!\" & ADDRESS(120,A55+4)):INDIRECT(\"'Success Criteria'!\" & ADDRESS(174,A55+4)),\"PASS with comments\"))","v":0},{"$f":"COUNTIF(INDIRECT(\"'Success Criteria'!\" & ADDRESS(120,A55+4)):INDIRECT(\"'Success Criteria'!\" & ADDRESS(174,A55+4)),\"NON conformant\")","v":0},{"$f":"COUNTIF(INDIRECT(\"'Success Criteria'!\" & ADDRESS(120,A55+4)):INDIRECT(\"'Success Criteria'!\" & ADDRESS(174,A55+4)),\"N/A\")","v":0},{"$f":"COUNTIF(INDIRECT(\"'Success Criteria'!\" & ADDRESS(120,A55+4)):INDIRECT(\"'Success Criteria'!\" & ADDRESS(174,A55+4)),\"not tested\")","v":28},2,0,0,28,null,0,"",2,"",28,1]
[42,"Page 42","URL 42","Please select",{"$f":"SUM(COUNTIF(INDIRECT(\"'Success Criteria'!\" & ADDRESS(8,A56+4)):INDIRECT(\"'Success Criteria'!\" & ADDRESS(70,A56+4)),\"PASS\"),COUNTIF(INDIRECT(\"'Success Criteria'!\" & ADDRESS(8,A56+4)):INDIRECT(\"'Success Criteria'!\" & ADDRESS(70,A56+4)),\"PASS with comments\"))","v":0},{"$f":"COUNTIF(INDIRECT(\"'Success Criteria'!\" & ADDRESS(8,A56+4)):INDIRECT(\"'Success Criteria'!\" & ADDRESS(70,A56+4)),\"NON conformant\")","v":0},{"$f":"COUNTIF(INDIRECT(\"'Success Criteria'!\" & ADDRESS(8,A56+4)):INDIRECT(\"'Success Criteria'!\" & ADDRESS(70,A56+4)),\"N/A\")","v":0},{"$f":"COUNTIF(INDIRECT(\"'Success Criteria'!\" & ADDRESS(8,A56+4)):INDIRECT(\"'Success Criteria'!\" & ADDRESS(70,A56+4)),\"not tested\")","v":0},{"$f":"SUM(COUNTIF(INDIRECT(\"'Success Criteria'!\" & ADDRESS(74,A56+4)):INDIRECT(\"'Success Criteria'!\" & ADDRESS(115,A56+4)),\"PASS\"),COUNTIF(INDIRECT(\"'Success Criteria'!\" & ADDRESS(74,A56+4)):INDIRECT(\"'Success Criteria'!\" & ADDRESS(115,A56+4)),\"PASS with comments\"))","v":2},{"$f":"COUNTIF(INDIRECT(\"'Success Criteria'!\" & ADDRESS(74,A56+4)):INDIRECT(\"'Success Criteria'!\" & ADDRESS(115,A56+4)),\"NON conformant\")","v":0},{"$f":"COUNTIF(INDIRECT(\"'Success Criteria'!\" & ADDRESS(74,A56+4)):INDIRECT(\"'Success Criteria'!\" & ADDRESS(115,A56+4)),\"N/A\")","v":0},{"$f":"COUNTIF(INDIRECT(\"'Success Criteria'!\" & ADDRESS(74,A56+4)):INDIRECT(\"'Success Criteria'!\" & ADDRESS(115,A56+4)),\"not tested\")","v":0},{"$f":"SUM(COUNTIF(INDIRECT(\"'Success Criteria'!\" & ADDRESS(120,A56+4)):INDIRECT(\"'Success Criteria'!\" & ADDRESS(174,A56+4)),\"PASS\"),COUNTIF(INDIRECT(\"'Success Criteria'!\" & ADDRESS(120,A56+4)):INDIRECT(\"'Success Criteria'!\" & ADDRESS(174,A56+4)),\"PASS with comments\"))","v":0},{"$f":"COUNTIF(INDIRECT(\"'Success Criteria'!\" & ADDRESS(120,A56+4)):INDIRECT(\"'Success Criteria'!\" & ADDRESS(174,A56+4)),\"NON conformant\")","v":0},{"$f":"COUNTIF(INDIRECT(\"'Success Criteria'!\" & ADDRESS(120,A56+4)):INDIRECT(\"'Success Criteria'!\" & ADDRESS(174,A56+4)),\"N/A\")","v":0},{"$f":"COUNTIF(INDIRECT(\"'Success Criteria'!\" & ADDRESS(120,A56+4)):INDIRECT(\"'Success Criteria'!\" & ADDRESS(174,A56+4)),\"not tested\")","v":28},2,0,0,28,null,0,"",2,"",28,1]
[43,"Page 43","URL 43","Please select",{"$f":"SUM(COUNTIF(INDIRECT(\"'Success Criteria'!\" & ADDRESS(8,A57+4)):INDIRECT(\"'Success Criteria'!\" & ADDRESS(70,A57+4)),\"PASS\"),COUNTIF(INDIRECT(\"'Success Criteria'!\" & ADDRESS(8,A57+4)):INDIRECT(\"'Success Criteria'!\" & ADDRESS(70,A57+4)),\"PASS with comments\"))","v":0},{"$f":"COUNTIF(INDIRECT(\"'Success Criteria'!\" & ADDRESS(8,A57+4)):INDIRECT(\"'Success Criteria'!\" & ADDRESS(70,A57+4)),\"NON conformant\")","v":0},{"$f":"COUNTIF(INDIRECT(\"'Success Criteria'!\" & ADDRESS(8,A57+4)):INDIRECT(\"'Success Criteria'!\" & ADDRESS(70,A57+4)),\"N/A\")","v":0},{"$f":"COUNTIF(INDIRECT(\"'Success Criteria'!\" & ADDRESS(8,A57+4)):INDIRECT(\"'Success Criteria'!\" & ADDRESS(70,A57+4)),\"not tested\")","v":0},{"$f":"SUM(COUNTIF(INDIRECT(\"'Success Criteria'!\" & ADDRESS(74,A57+4)):INDIRECT(\"'Success Criteria'!\" & ADDRESS(115,A57+4)),\"PASS\"),COUNTIF(INDIRECT(\"'Success Criteria'!\" & ADDRESS(74,A57+4)):INDIRECT(\"'Success Criteria'!\" & ADDRESS(115,A57+4)),\"PASS with comments\"))","v":2},{"$f":"COUNTIF(INDIRECT(\"'Success Criteria'!\" & ADDRESS(74,A57+4)):INDIRECT(\"'Success Criteria'!\" & ADDRESS(115,A57+4)),\"NON conformant\")","v":0},{"$f":"COUNTIF(INDIRECT(\"'Success Criteria'!\" & ADDRESS(74,A57+4)):INDIRECT(\"'Success Criteria'!\" & ADDRESS(115,A57+4)),\"N/A\")","v":0},{"$f":"COUNTIF(INDIRECT(\"'Success Criteria'!\" & ADDRESS(74,A57+4)):INDIRECT(\"'Success Criteria'!\" & ADDRESS(115,A57+4)),\"not tested\")","v":0},{"$f":"SUM(COUNTIF(INDIRECT(\"'Success Criteria'!\" & ADDRESS(120,A57+4)):INDIRECT(\"'Success Criteria'!\" & ADDRESS(174,A57+4)),\"PASS\"),COUNTIF(INDIRECT(\"'Success Criteria'!\" & ADDRESS(120,A57+4)):INDIRECT(\"'Success Criteria'!\" & ADDRESS(174,A57+4)),\"PASS with comments\"))","v":0},{"$f":"COUNTIF(INDIRECT(\"'Success Criteria'!\" & ADDRESS(120,A57+4)):INDIRECT(\"'Success Criteria'!\" & ADDRESS(174,A57+4)),\"NON conformant\")","v":0},{"$f":"COUNTIF(INDIRECT(\"'Success Criteria'!\" & ADDRESS(120,A57+4)):INDIRECT(\"'Success Criteria'!\" & ADDRESS(174,A57+4)),\"N/A\")","v":0},{"$f":"COUNTIF(INDIRECT(\"'Success Criteria'!\" & ADDRESS(120,A57+4)):INDIRECT(\"'Success Criteria'!\" & ADDRESS(174,A57+4)),\"not tested\")","v":28},2,0,0,28,null,0,"",2,"",28,1]
[44,"Page 44","URL 44","Please select",{"$f":"SUM(COUNTIF(INDIRECT(\"'Success Criteria'!\" & ADDRESS(8,A58+4)):INDIRECT(\"'Success Criteria'!\" & ADDRESS(70,A58+4)),\"PASS\"),COUNTIF(INDIRECT(\"'Success Criteria'!\" & ADDRESS(8,A58+4)):INDIRECT(\"'Success Criteria'!\" & ADDRESS(70,A58+4)),\"PASS with comments\"))","v":0},{"$f":"COUNTIF(INDIRECT(\"'Success Criteria'!\" & ADDRESS(8,A58+4)):INDIRECT(\"'Success Criteria'!\" & ADDRESS(70,A58+4)),\"NON conformant\")","v":0},{"$f":"COUNTIF(INDIRECT(\"'Success Criteria'!\" & ADDRESS(8,A58+4)):INDIRECT(\"'Success Criteria'!\" & ADDRESS(70,A58+4)),\"N/A\")","v":0},{"$f":"COUNTIF(INDIRECT(\"'Success Criteria'!\" & ADDRESS(8,A58+4)):INDIRECT(\"'Success Criteria'!\" & ADDRESS(70,A58+4)),\"not tested\")","v":0},{"$f":"SUM(COUNTIF(INDIRECT(\"'Success Criteria'!\" & ADDRESS(74,A58+4)):INDIRECT(\"'Success Criteria'!\" & ADDRESS(115,A58+4)),\"PASS\"),COUNTIF(INDIRECT(\"'Success Criteria'!\" & ADDRESS(74,A58+4)):INDIRECT(\"'Success Criteria'!\" & ADDRESS(115,A58+4)),\"PASS with comments\"))","v":2},{"$f":"COUNTIF(INDIRECT(\"'Success Criteria'!\" & ADDRESS(74,A58+4)):INDIRECT(\"'Success Criteria'!\" & ADDRESS(115,A58+4)),\"NON conformant\")","v":0},{"$f":"COUNTIF(INDIRECT(\"'Success Criteria'!\" & ADDRESS(74,A58+4)):INDIRECT(\"'Success Criteria'!\" & ADDRESS(115,A58+4)),\"N/A\")","v":0},{"$f":"COUNTIF(INDIRECT(\"'Success Criteria'!\" & ADDRESS(74,A58+4)):INDIRECT(\"'Success Criteria'!\" & ADDRESS(115,A58+4)),\"not tested\")","v":0},{"$f":"SUM(COUNTIF(INDIRECT(\"'Success Criteria'!\" & ADDRESS(120,A58+4)):INDIRECT(\"'Success Criteria'!\" & ADDRESS(174,A58+4)),\"PASS\"),COUNTIF(INDIRECT(\"'Success Criteria'!\" & ADDRESS(120,A58+4)):INDIRECT(\"'Success Criteria'!\" & ADDRESS(174,A58+4)),\"PASS with comments\"))","v":0},{"$f":"COUNTIF(INDIRECT(\"'Success Criteria'!\" & ADDRESS(120,A58+4)):INDIRECT(\"'Success Criteria'!\" & ADDRESS(174,A58+4)),\"NON conformant\")","v":0},{"$f":"COUNTIF(INDIRECT(\"'Success Criteria'!\" & ADDRESS(120,A58+4)):INDIRECT(\"'Success Criteria'!\" & ADDRESS(174,A58+4)),\"N/A\")","v":0},{"$f":"COUNTIF(INDIRECT(\"'Success Criteria'!\" & ADDRESS(120,A58+4)):INDIRECT(\"'Success Criteria'!\" & ADDRESS(174,A58+4)),\"not tested\")","v":28},2,0,0,28,null,0,"",2,"",28,1]
[45,"Page 45","URL 45","Please select",{"$f":"SUM(COUNTIF(INDIRECT(\"'Success Criteria'!\" & ADDRESS(8,A59+4)):INDIRECT(\"'Success Criteria'!\" & ADDRESS(70,A59+4)),\"PASS\"),COUNTIF(INDIRECT(\"'Success Criteria'!\" & ADDRESS(8,A59+4)):INDIRECT(\"'Success Criteria'!\" & ADDRESS(70,A59+4)),\"PASS with comments\"))","v":0},{"$f":"COUNTIF(INDIRECT(\"'Success Criteria'!\" & ADDRESS(8,A59+4)):INDIRECT(\"'Success Criteria'!\" & ADDRESS(70,A59+4)),\"NON conformant\")","v":0},{"$f":"COUNTIF(INDIRECT(\"'Success Criteria'!\" & ADDRESS(8,A59+4)):INDIRECT(\"'Success Criteria'!\" & ADDRESS(70,A59+4)),\"N/A\")","v":0},{"$f":"COUNTIF(INDIRECT(\"'Success Criteria'!\" & ADDRESS(8,A59+4)):INDIRECT(\"'Success Criteria'!\" & ADDRESS(70,A59+4)),\"not tested\")","v":0},{"$f":"SUM(COUNTIF(INDIRECT(\"'Success Criteria'!\" & ADDRESS(74,A59+4)):INDIRECT(\"'Success Criteria'!\" & ADDRESS(115,A59+4)),\"PASS\"),COUNTIF(INDIRECT(\"'Success Criteria'!\" & ADDRESS(74,A59+4)):INDIRECT(\"'Success Criteria'!\" & ADDRESS(115,A59+4)),\"PASS with comments\"))","v":2},{"$f":"COUNTIF(INDIRECT(\"'Success Criteria'!\" & ADDRESS(74,A59+4)):INDIRECT(\"'Success Criteria'!\" & ADDRESS(115,A59+4)),\"NON conformant\")","v":0},{"$f":"COUNTIF(INDIRECT(\"'Success Criteria'!\" & ADDRESS(74,A59+4)):INDIRECT(\"'Success Criteria'!\" & ADDRESS(115,A59+4)),\"N/A\")","v":0},{"$f":"COUNTIF(INDIRECT(\"'Success Criteria'!\" & ADDRESS(74,A59+4)):INDIRECT(\"'Success Criteria'!\" & ADDRESS(115,A59+4)),\"not tested\")","v":0},{"$f":"SUM(COUNTIF(INDIRECT(\"'Success Criteria'!\" & ADDRESS(120,A59+4)):INDIRECT(\"'Success Criteria'!\" & ADDRESS(174,A59+4)),\"PASS\"),COUNTIF(INDIRECT(\"'Success Criteria'!\" & ADDRESS(120,A59+4)):INDIRECT(\"'Success Criteria'!\" & ADDRESS(174,A59+4)),\"PASS with comments\"))","v":0},{"$f":"COUNTIF(INDIRECT(\"'Success Criteria'!\" & ADDRESS(120,A59+4)):INDIRECT(\"'Success Criteria'!\" & ADDRESS(174,A59+4)),\"NON conformant\")","v":0},{"$f":"COUNTIF(INDIRECT(\"'Success Criteria'!\" & ADDRESS(120,A59+4)):INDIRECT(\"'Success Criteria'!\" & ADDRESS(174,A59+4)),\"N/A\")","v":0},{"$f":"COUNTIF(INDIRECT(\"'Success Criteria'!\" & ADDRESS(120,A59+4)):INDIRECT(\"'Success Criteria'!\" & ADDRESS(174,A59+4)),\"not tested\")","v":28},2,0,0,28,null,0,"",2,"",28,1]
[46,"Page 46","URL 46","Please select",{"$f":"SUM(COUNTIF(INDIRECT(\"'Success Criteria'!\" & ADDRESS(8,A60+4)):INDIRECT(\"'Success Criteria'!\" & ADDRESS(70,A60+4)),\"PASS\"),COUNTIF(INDIRECT(\"'Success Criteria'!\" & ADDRESS(8,A60+4)):INDIRECT(\"'Success Criteria'!\" & ADDRESS(70,A60+4)),\"PASS with comments\"))","v":0},{"$f":"COUNTIF(INDIRECT(\"'Success Criteria'!\" & ADDRESS(8,A60+4)):INDIRECT(\"'Success Criteria'!\" & ADDRESS(70,A60+4)),\"NON conformant\")","v":0},{"$f":"COUNTIF(INDIRECT(\"'Success Criteria'!\" & ADDRESS(8,A60+4)):INDIRECT(\"'Success Criteria'!\" & ADDRESS(70,A60+4)),\"N/A\")","v":0},{"$f":"COUNTIF(INDIRECT(\"'Success Criteria'!\" & ADDRESS(8,A60+4)):INDIRECT(\"'Success Criteria'!\" & ADDRESS(70,A60+4)),\"not tested\")","v":0},{"$f":"SUM(COUNTIF(INDIRECT(\"'Success Criteria'!\" & ADDRESS(74,A60+4)):INDIRECT(\"'Success Criteria'!\" & ADDRESS(115,A60+4)),\"PASS\"),COUNTIF(INDIRECT(\"'Success Criteria'!\" & ADDRESS(74,A60+4)):INDIRECT(\"'Success Criteria'!\" & ADDRESS(115,A60+4)),\"PASS with comments\"))","v":2},{"$f":"COUNTIF(INDIRECT(\"'Success Criteria'!\" & ADDRESS(74,A60+4)):INDIRECT(\"'Success Criteria'!\" & ADDRESS(115,A60+4)),\"NON conformant\")","v":0},{"$f":"COUNTIF(INDIRECT(\"'Success Criteria'!\" & ADDRESS(74,A60+4)):INDIRECT(\"'Success Criteria'!\" & ADDRESS(115,A60+4)),\"N/A\")","v":0},{"$f":"COUNTIF(INDIRECT(\"'Success Criteria'!\" & ADDRESS(74,A60+4)):INDIRECT(\"'Success Criteria'!\" & ADDRESS(115,A60+4)),\"not tested\")","v":0},{"$f":"SUM(COUNTIF(INDIRECT(\"'Success Criteria'!\" & ADDRESS(120,A60+4)):INDIRECT(\"'Success Criteria'!\" & ADDRESS(174,A60+4)),\"PASS\"),COUNTIF(INDIRECT(\"'Success Criteria'!\" & ADDRESS(120,A60+4)):INDIRECT(\"'Success Criteria'!\" & ADDRESS(174,A60+4)),\"PASS with comments\"))","v":0},{"$f":"COUNTIF(INDIRECT(\"'Success Criteria'!\" & ADDRESS(120,A60+4)):INDIRECT(\"'Success Criteria'!\" & ADDRESS(174,A60+4)),\"NON conformant\")","v":0},{"$f":"COUNTIF(INDIRECT(\"'Success Criteria'!\" & ADDRESS(120,A60+4)):INDIRECT(\"'Success Criteria'!\" & ADDRESS(174,A60+4)),\"N/A\")","v":0},{"$f":"COUNTIF(INDIRECT(\"'Success Criteria'!\" & ADDRESS(120,A60+4)):INDIRECT(\"'Success Criteria'!\" & ADDRESS(174,A60+4)),\"not tested\")","v":28},2,0,0,28,null,0,"",2,"",28,1]
[47,"Page 47","URL 47","Please select",{"$f":"SUM(COUNTIF(INDIRECT(\"'Success Criteria'!\" & ADDRESS(8,A61+4)):INDIRECT(\"'Success Criteria'!\" & ADDRESS(70,A61+4)),\"PASS\"),COUNTIF(INDIRECT(\"'Success Criteria'!\" & ADDRESS(8,A61+4)):INDIRECT(\"'Success Criteria'!\" & ADDRESS(70,A61+4)),\"PASS with comments\"))","v":0},{"$f":"COUNTIF(INDIRECT(\"'Success Criteria'!\" & ADDRESS(8,A61+4)):INDIRECT(\"'Success Criteria'!\" & ADDRESS(70,A61+4)),\"NON conformant\")","v":0},{"$f":"COUNTIF(INDIRECT(\"'Success Criteria'!\" & ADDRESS(8,A61+4)):INDIRECT(\"'Success Criteria'!\" & ADDRESS(70,A61+4)),\"N/A\")","v":0},{"$f":"COUNTIF(INDIRECT(\"'Success Criteria'!\" & ADDRESS(8,A61+4)):INDIRECT(\"'Success Criteria'!\" & ADDRESS(70,A61+4)),\"not tested\")","v":0},{"$f":"SUM(COUNTIF(INDIRECT(\"'Success Criteria'!\" & ADDRESS(74,A61+4)):INDIRECT(\"'Success Criteria'!\" & ADDRESS(115,A61+4)),\"PASS\"),COUNTIF(INDIRECT(\"'Success Criteria'!\" & ADDRESS(74,A61+4)):INDIRECT(\"'Success Criteria'!\" & ADDRESS(115,A61+4)),\"PASS with comments\"))","v":2},{"$f":"COUNTIF(INDIRECT(\"'Success Criteria'!\" & ADDRESS(74,A61+4)):INDIRECT(\"'Success Criteria'!\" & ADDRESS(115,A61+4)),\"NON conformant\")","v":0},{"$f":"COUNTIF(INDIRECT(\"'Success Criteria'!\" & ADDRESS(74,A61+4)):INDIRECT(\"'Success Criteria'!\" & ADDRESS(115,A61+4)),\"N/A\")","v":0},{"$f":"COUNTIF(INDIRECT(\"'Success Criteria'!\" & ADDRESS(74,A61+4)):INDIRECT(\"'Success Criteria'!\" & ADDRESS(115,A61+4)),\"not tested\")","v":0},{"$f":"SUM(COUNTIF(INDIRECT(\"'Success Criteria'!\" & ADDRESS(120,A61+4)):INDIRECT(\"'Success Criteria'!\" & ADDRESS(174,A61+4)),\"PASS\"),COUNTIF(INDIRECT(\"'Success Criteria'!\" & ADDRESS(120,A61+4)):INDIRECT(\"'Success Criteria'!\" & ADDRESS(174,A61+4)),\"PASS with comments\"))","v":0},{"$f":"COUNTIF(INDIRECT(\"'Success Criteria'!\" & ADDRESS(120,A61+4)):INDIRECT(\"'Success Criteria'!\" & ADDRESS(174,A61+4)),\"NON conformant\")","v":0},{"$f":"COUNTIF(INDIRECT(\"'Success Criteria'!\" & ADDRESS(120,A61+4)):INDIRECT(\"'Success Criteria'!\" & ADDRESS(174,A61+4)),\"N/A\")","v":0},{"$f":"COUNTIF(INDIRECT(\"'Success Criteria'!\" & ADDRESS(120,A61+4)):INDIRECT(\"'Success Criteria'!\" & ADDRESS(174,A61+4)),\"not tested\")","v":28},2,0,0,28,null,0,"",2,"",28,1]
[48,"Page 48","URL 48","Please select",{"$f":"SUM(COUNTIF(INDIRECT(\"'Success Criteria'!\" & ADDRESS(8,A62+4)):INDIRECT(\"'Success Criteria'!\" & ADDRESS(70,A62+4)),\"PASS\"),COUNTIF(INDIRECT(\"'Success Criteria'!\" & ADDRESS(8,A62+4)):INDIRECT(\"'Success Criteria'!\" & ADDRESS(70,A62+4)),\"PASS with comments\"))","v":0},{"$f":"COUNTIF(INDIRECT(\"'Success Criteria'!\" & ADDRESS(8,A62+4)):INDIRECT(\"'Success Criteria'!\" & ADDRESS(70,A62+4)),\"NON conformant\")","v":0},{"$f":"COUNTIF(INDIRECT(\"'Success Criteria'!\" & ADDRESS(8,A62+4)):INDIRECT(\"'Success Criteria'!\" & ADDRESS(70,A62+4)),\"N/A\")","v":0},{"$f":"COUNTIF(INDIRECT(\"'Success Criteria'!\" & ADDRESS(8,A62+4)):INDIRECT(\"'Success Criteria'!\" & ADDRESS(70,A62+4)),\"not tested\")","v":0},{"$f":"SUM(COUNTIF(INDIRECT(\"'Success Criteria'!\" & ADDRESS(74,A62+4)):INDIRECT(\"'Success Criteria'!\" & ADDRESS(115,A62+4)),\"PASS\"),COUNTIF(INDIRECT(\"'Success Criteria'!\" & ADDRESS(74,A62+4)):INDIRECT(\"'Success Criteria'!\" & ADDRESS(115,A62+4)),\"PASS with comments\"))","v":2},{"$f":"COUNTIF(INDIRECT(\"'Success Criteria'!\" & ADDRESS(74,A62+4)):INDIRECT(\"'Success Criteria'!\" & ADDRESS(115,A62+4)),\"NON conformant\")","v":0},{"$f":"COUNTIF(INDIRECT(\"'Success Criteria'!\" & ADDRESS(74,A62+4)):INDIRECT(\"'Success Criteria'!\" & ADDRESS(115,A62+4)),\"N/A\")","v":0},{"$f":"COUNTIF(INDIRECT(\"'Success Criteria'!\" & ADDRESS(74,A62+4)):INDIRECT(\"'Success Criteria'!\" & ADDRESS(115,A62+4)),\"not tested\")","v":0},{"$f":"SUM(COUNTIF(INDIRECT(\"'Success Criteria'!\" & ADDRESS(120,A62+4)):INDIRECT(\"'Success Criteria'!\" & ADDRESS(174,A62+4)),\"PASS\"),COUNTIF(INDIRECT(\"'Success Criteria'!\" & ADDRESS(120,A62+4)):INDIRECT(\"'Success Criteria'!\" & ADDRESS(174,A62+4)),\"PASS with comments\"))","v":0},{"$f":"COUNTIF(INDIRECT(\"'Success Criteria'!\" & ADDRESS(120,A62+4)):INDIRECT(\"'Success Criteria'!\" & ADDRESS(174,A62+4)),\"NON conformant\")","v":0},{"$f":"COUNTIF(INDIRECT(\"'Success Criteria'!\" & ADDRESS(120,A62+4)):INDIRECT(\"'Success Criteria'!\" & ADDRESS(174,A62+4)),\"N/A\")","v":0},{"$f":"COUNTIF(INDIRECT(\"'Success Criteria'!\" & ADDRESS(120,A62+4)):INDIRECT(\"'Success Criteria'!\" & ADDRESS(174,A62+4)),\"not tested\")","v":28},2,0,0,28,null,0,"",2,"",28,1]
[49,"Page 49","URL 49","Please select",{"$f":"SUM(COUNTIF(INDIRECT(\"'Success Criteria'!\" & ADDRESS(8,A63+4)):INDIRECT(\"'Success Criteria'!\" & ADDRESS(70,A63+4)),\"PASS\"),COUNTIF(INDIRECT(\"'Success Criteria'!\" & ADDRESS(8,A63+4)):INDIRECT(\"'Success Criteria'!\" & ADDRESS(70,A63+4)),\"PASS with comments\"))","v":0},{"$f":"COUNTIF(INDIRECT(\"'Success Criteria'!\" & ADDRESS(8,A63+4)):INDIRECT(\"'Success Criteria'!\" & ADDRESS(70,A63+4)),\"NON conformant\")","v":0},{"$f":"COUNTIF(INDIRECT(\"'Success Criteria'!\" & ADDRESS(8,A63+4)):INDIRECT(\"'Success Criteria'!\" & ADDRESS(70,A63+4)),\"N/A\")","v":0},{"$f":"COUNTIF(INDIRECT(\"'Success Criteria'!\" & ADDRESS(8,A63+4)):INDIRECT(\"'Success Criteria'!\" & ADDRESS(70,A63+4)),\"not tested\")","v":0},{"$f":"SUM(COUNTIF(INDIRECT(\"'Success Criteria'!\" & ADDRESS(74,A63+4)):INDIRECT(\"'Success Criteria'!\" & ADDRESS(115,A63+4)),\"PASS\"),COUNTIF(INDIRECT(\"'Success Criteria'!\" & ADDRESS(74,A63+4)):INDIRECT(\"'Success Criteria'!\" & ADDRESS(115,A63+4)),\"PASS with comments\"))","v":2},{"$f":"COUNTIF(INDIRECT(\"'Success Criteria'!\" & ADDRESS(74,A63+4)):INDIRECT(\"'Success Criteria'!\" & ADDRESS(115,A63+4)),\"NON conformant\")","v":0},{"$f":"COUNTIF(INDIRECT(\"'Success Criteria'!\" & ADDRESS(74,A63+4)):INDIRECT(\"'Success Criteria'!\" & ADDRESS(115,A63+4)),\"N/A\")","v":0},{"$f":"COUNTIF(INDIRECT(\"'Success Criteria'!\" & ADDRESS(74,A63+4)):INDIRECT(\"'Success Criteria'!\" & ADDRESS(115,A63+4)),\"not tested\")","v":0},{"$f":"SUM(COUNTIF(INDIRECT(\"'Success Criteria'!\" & ADDRESS(120,A63+4)):INDIRECT(\"'Success Criteria'!\" & ADDRESS(174,A63+4)),\"PASS\"),COUNTIF(INDIRECT(\"'Success Criteria'!\" & ADDRESS(120,A63+4)):INDIRECT(\"'Success Criteria'!\" & ADDRESS(174,A63+4)),\"PASS with comments\"))","v":0},{"$f":"COUNTIF(INDIRECT(\"'Success Criteria'!\" & ADDRESS(120,A63+4)):INDIRECT(\"'Success Criteria'!\" & ADDRESS(174,A63+4)),\"NON conformant\")","v":0},{"$f":"COUNTIF(INDIRECT(\"'Success Criteria'!\" & ADDRESS(120,A63+4)):INDIRECT(\"'Success Criteria'!\" & ADDRESS(174,A63+4)),\"N/A\")","v":0},{"$f":"COUNTIF(INDIRECT(\"'Success Criteria'!\" & ADDRESS(120,A63+4)):INDIRECT(\"'Success Criteria'!\" & ADDRESS(174,A63+4)),\"not tested\")","v":28},2,0,0,28,null,0,"",2,"",28,1]
[50,"Page 50","URL 50","Please select",{"$f":"SUM(COUNTIF(INDIRECT(\"'Success Criteria'!\" & ADDRESS(8,A64+4)):INDIRECT(\"'Success Criteria'!\" & ADDRESS(70,A64+4)),\"PASS\"),COUNTIF(INDIRECT(\"'Success Criteria'!\" & ADDRESS(8,A64+4)):INDIRECT(\"'Success Criteria'!\" & ADDRESS(70,A64+4)),\"PASS with comments\"))","v":0},{"$f":"COUNTIF(INDIRECT(\"'Success Criteria'!\" & ADDRESS(8,A64+4)):INDIRECT(\"'Success Criteria'!\" & ADDRESS(70,A64+4)),\"NON conformant\")","v":0},{"$f":"COUNTIF(INDIRECT(\"'Success Criteria'!\" & ADDRESS(8,A64+4)):INDIRECT(\"'Success Criteria'!\" & ADDRESS(70,A64+4)),\"N/A\")","v":0},{"$f":"COUNTIF(INDIRECT(\"'Success Criteria'!\" & ADDRESS(8,A64+4)):INDIRECT(\"'Success Criteria'!\" & ADDRESS(70,A64+4)),\"not tested\")","v":0},{"$f":"SUM(COUNTIF(INDIRECT(\"'Success Criteria'!\" & ADDRESS(74,A64+4)):INDIRECT(\"'Success Criteria'!\" & ADDRESS(115,A64+4)),\"PASS\"),COUNTIF(INDIRECT(\"'Success Criteria'!\" & ADDRESS(74,A64+4)):INDIRECT(\"'Success Criteria'!\" & ADDRESS(115,A64+4)),\"PASS with comments\"))","v":2},{"$f":"COUNTIF(INDIRECT(\"'Success Criteria'!\" & ADDRESS(74,A64+4)):INDIRECT(\"'Success Criteria'!\" & ADDRESS(115,A64+4)),\"NON conformant\")","v":0},{"$f":"COUNTIF(INDIRECT(\"'Success Criteria'!\" & ADDRESS(74,A64+4)):INDIRECT(\"'Success Criteria'!\" & ADDRESS(115,A64+4)),\"N/A\")","v":0},{"$f":"COUNTIF(INDIRECT(\"'Success Criteria'!\" & ADDRESS(74,A64+4)):INDIRECT(\"'Success Criteria'!\" & ADDRESS(115,A64+4)),\"not tested\")","v":0},{"$f":"SUM(COUNTIF(INDIRECT(\"'Success Criteria'!\" & ADDRESS(120,A64+4)):INDIRECT(\"'Success Criteria'!\" & ADDRESS(174,A64+4)),\"PASS\"),COUNTIF(INDIRECT(\"'Success Criteria'!\" & ADDRESS(120,A64+4)):INDIRECT(\"'Success Criteria'!\" & ADDRESS(174,A64+4)),\"PASS with comments\"))","v":0},{"$f":"COUNTIF(INDIRECT(\"'Success Criteria'!\" & ADDRESS(120,A64+4)):INDIRECT(\"'Success Criteria'!\" & ADDRESS(174,A64+4)),\"NON conformant\")","v":0},{"$f":"COUNTIF(INDIRECT(\"'Success Criteria'!\" & ADDRESS(120,A64+4)):INDIRECT(\"'Success Criteria'!\" & ADDRESS(174,A64+4)),\"N/A\")","v":0},{"$f":"COUNTIF(INDIRECT(\"'Success Criteria'!\" & ADDRESS(120,A64+4)):INDIRECT(\"'Success Criteria'!\" & ADDRESS(174,A64+4)),\"not tested\")","v":28},2,0,0,28,null,0,"",2,"",28,1]
[51,"Page 51","URL 51","Please select",{"$f":"SUM(COUNTIF(INDIRECT(\"'Success Criteria'!\" & ADDRESS(8,A65+4)):INDIRECT(\"'Success Criteria'!\" & ADDRESS(70,A65+4)),\"PASS\"),COUNTIF(INDIRECT(\"'Success Criteria'!\" & ADDRESS(8,A65+4)):INDIRECT(\"'Success Criteria'!\" & ADDRESS(70,A65+4)),\"PASS with comments\"))","v":0},{"$f":"COUNTIF(INDIRECT(\"'Success Criteria'!\" & ADDRESS(8,A65+4)):INDIRECT(\"'Success Criteria'!\" & ADDRESS(70,A65+4)),\"NON conformant\")","v":0},{"$f":"COUNTIF(INDIRECT(\"'Success Criteria'!\" & ADDRESS(8,A65+4)):INDIRECT(\"'Success Criteria'!\" & ADDRESS(70,A65+4)),\"N/A\")","v":0},{"$f":"COUNTIF(INDIRECT(\"'Success Criteria'!\" & ADDRESS(8,A65+4)):INDIRECT(\"'Success Criteria'!\" & ADDRESS(70,A65+4)),\"not tested\")","v":0},{"$f":"SUM(COUNTIF(INDIRECT(\"'Success Criteria'!\" & ADDRESS(74,A65+4)):INDIRECT(\"'Success Criteria'!\" & ADDRESS(115,A65+4)),\"PASS\"),COUNTIF(INDIRECT(\"'Success Criteria'!\" & ADDRESS(74,A65+4)):INDIRECT(\"'Success Criteria'!\" & ADDRESS(115,A65+4)),\"PASS with comments\"))","v":2},{"$f":"COUNTIF(INDIRECT(\"'Success Criteria'!\" & ADDRESS(74,A65+4)):INDIRECT(\"'Success Criteria'!\" & ADDRESS(115,A65+4)),\"NON conformant\")","v":0},{"$f":"COUNTIF(INDIRECT(\"'Success Criteria'!\" & ADDRESS(74,A65+4)):INDIRECT(\"'Success Criteria'!\" & ADDRESS(115,A65+4)),\"N/A\")","v":0},{"$f":"COUNTIF(INDIRECT(\"'Success Criteria'!\" & ADDRESS(74,A65+4)):INDIRECT(\"'Success Criteria'!\" & ADDRESS(115,A65+4)),\"not tested\")","v":0},{"$f":"SUM(COUNTIF(INDIRECT(\"'Success Criteria'!\" & ADDRESS(120,A65+4)):INDIRECT(\"'Success Criteria'!\" & ADDRESS(174,A65+4)),\"PASS\"),COUNTIF(INDIRECT(\"'Success Criteria'!\" & ADDRESS(120,A65+4)):INDIRECT(\"'Success Criteria'!\" & ADDRESS(174,A65+4)),\"PASS with comments\"))","v":0},{"$f":"COUNTIF(INDIRECT(\"'Success Criteria'!\" & ADDRESS(120,A65+4)):INDIRECT(\"'Success Criteria'!\" & ADDRESS(174,A65+4)),\"NON conformant\")","v":0},{"$f":"COUNTIF(INDIRECT(\"'Success Criteria'!\" & ADDRESS(120,A65+4)):INDIRECT(\"'Success Criteria'!\" & ADDRESS(174,A65+4)),\"N/A\")","v":0},{"$f":"COUNTIF(INDIRECT(\"'Success Criteria'!\" & ADDRESS(120,A65+4)):INDIRECT(\"'Success Criteria'!\" & ADDRESS(174,A65+4)),\"not tested\")","v":28},2,{"$f":"SUM(F65+J65+N65)","v":0},0,28,null,{"$f":"SUM(E65:H65)","v":0},{"$f":"IF(V65=30,1,\"\")","v":""},2,{"$f":"IF(X65=20,1,\"\")","v":""},28,{"$f":"IF(Z65=28,1,\"\")","v":1}]
[52,"Page 52","URL 52","Please select",{"$f":"SUM(COUNTIF(INDIRECT(\"'Success Criteria'!\" & ADDRESS(8,A66+4)):INDIRECT(\"'Success Criteria'!\" & ADDRESS(70,A66+4)),\"PASS\"),COUNTIF(INDIRECT(\"'Success Criteria'!\" & ADDRESS(8,A66+4)):INDIRECT(\"'Success Criteria'!\" & ADDRESS(70,A66+4)),\"PASS with comments\"))","v":0},{"$f":"COUNTIF(INDIRECT(\"'Success Criteria'!\" & ADDRESS(8,A66+4)):INDIRECT(\"'Success Criteria'!\" & ADDRESS(70,A66+4)),\"NON conformant\")","v":0},{"$f":"COUNTIF(INDIRECT(\"'Success Criteria'!\" & ADDRESS(8,A66+4)):INDIRECT(\"'Success Criteria'!\" & ADDRESS(70,A66+4)),\"N/A\")","v":0},{"$f":"COUNTIF(INDIRECT(\"'Success Criteria'!\" & ADDRESS(8,A66+4)):INDIRECT(\"'Success Criteria'!\" & ADDRESS(70,A66+4)),\"not tested\")","v":0},{"$f":"SUM(COUNTIF(INDIRECT(\"'Success Criteria'!\" & ADDRESS(74,A66+4)):INDIRECT(\"'Success Criteria'!\" & ADDRESS(115,A66+4)),\"PASS\"),COUNTIF(INDIRECT(\"'Success Criteria'!\" & ADDRESS(74,A66+4)):INDIRECT(\"'Success Criteria'!\" & ADDRESS(115,A66+4)),\"PASS with comments\"))","v":2},{"$f":"COUNTIF(INDIRECT(\"'Success Criteria'!\" & ADDRESS(74,A66+4)):INDIRECT(\"'Success Criteria'!\" & ADDRESS(115,A66+4)),\"NON conformant\")","v":0},{"$f":"COUNTIF(INDIRECT(\"'Success Criteria'!\" & ADDRESS(74,A66+4)):INDIRECT(\"'Success Criteria'!\" & ADDRESS(115,A66+4)),\"N/A\")","v":0},{"$f":"COUNTIF(INDIRECT(\"'Success Criteria'!\" & ADDRESS(74,A66+4)):INDIRECT(\"'Success Criteria'!\" & ADDRESS(115,A66+4)),\"not tested\")","v":0},{"$f":"SUM(COUNTIF(INDIRECT(\"'Success Criteria'!\" & ADDRESS(120,A66+4)):INDIRECT(\"'Success Criteria'!\" & ADDRESS(174,A66+4)),\"PASS\"),COUNTIF(INDIRECT(\"'Success Criteria'!\" & ADDRESS(120,A66+4)):INDIRECT(\"'Success Criteria'!\" & ADDRESS(174,A66+4)),\"PASS with comments\"))","v":0},{"$f":"COUNTIF(INDIRECT(\"'Success Criteria'!\" & ADDRESS(120,A66+4)):INDIRECT(\"'Success Criteria'!\" & ADDRESS(174,A66+4)),\"NON conformant\")","v":0},{"$f":"COUNTIF(INDIRECT(\"'Success Criteria'!\" & ADDRESS(120,A66+4)):INDIRECT(\"'Success Criteria'!\" & ADDRESS(174,A66+4)),\"N/A\")","v":0},{"$f":"COUNTIF(INDIRECT(\"'Success Criteria'!\" & ADDRESS(120,A66+4)):INDIRECT(\"'Success Criteria'!\" & ADDRESS(174,A66+4)),\"not tested\")","v":28},2,0,0,28,null,0,"",2,"",28,1]
[53,"Page 53","URL 53","Please select",{"$f":"SUM(COUNTIF(INDIRECT(\"'Success Criteria'!\" & ADDRESS(8,A67+4)):INDIRECT(\"'Success Criteria'!\" & ADDRESS(70,A67+4)),\"PASS\"),COUNTIF(INDIRECT(\"'Success Criteria'!\" & ADDRESS(8,A67+4)):INDIRECT(\"'Success Criteria'!\" & ADDRESS(70,A67+4)),\"PASS with comments\"))","v":0},{"$f":"COUNTIF(INDIRECT(\"'Success Criteria'!\" & ADDRESS(8,A67+4)):INDIRECT(\"'Success Criteria'!\" & ADDRESS(70,A67+4)),\"NON conformant\")","v":0},{"$f":"COUNTIF(INDIRECT(\"'Success Criteria'!\" & ADDRESS(8,A67+4)):INDIRECT(\"'Success Criteria'!\" & ADDRESS(70,A67+4)),\"N/A\")","v":0},{"$f":"COUNTIF(INDIRECT(\"'Success Criteria'!\" & ADDRESS(8,A67+4)):INDIRECT(\"'Success Criteria'!\" & ADDRESS(70,A67+4)),\"not tested\")","v":0},{"$f":"SUM(COUNTIF(INDIRECT(\"'Success Criteria'!\" & ADDRESS(74,A67+4)):INDIRECT(\"'Success Criteria'!\" & ADDRESS(115,A67+4)),\"PASS\"),COUNTIF(INDIRECT(\"'Success Criteria'!\" & ADDRESS(74,A67+4)):INDIRECT(\"'Success Criteria'!\" & ADDRESS(115,A67+4)),\"PASS with comments\"))","v":2},{"$f":"COUNTIF(INDIRECT(\"'Success Criteria'!\" & ADDRESS(74,A67+4)):INDIRECT(\"'Success Criteria'!\" & ADDRESS(115,A67+4)),\"NON conformant\")","v":0},{"$f":"COUNTIF(INDIRECT(\"'Success Criteria'!\" & ADDRESS(74,A67+4)):INDIRECT(\"'Success Criteria'!\" & ADDRESS(115,A67+4)),\"N/A\")","v":0},{"$f":"COUNTIF(INDIRECT(\"'Success Criteria'!\" & ADDRESS(74,A67+4)):INDIRECT(\"'Success Criteria'!\" & ADDRESS(115,A67+4)),\"not tested\")","v":0},{"$f":"SUM(COUNTIF(INDIRECT(\"'Success Criteria'!\" & ADDRESS(120,A67+4)):INDIRECT(\"'Success Criteria'!\" & ADDRESS(174,A67+4)),\"PASS\"),COUNTIF(INDIRECT(\"'Success Criteria'!\" & ADDRESS(120,A67+4)):INDIRECT(\"'Success Criteria'!\" & ADDRESS(174,A67+4)),\"PASS with comments\"))","v":0},{"$f":"COUNTIF(INDIRECT(\"'Success Criteria'!\" & ADDRESS(120,A67+4)):INDIRECT(\"'Success Criteria'!\" & ADDRESS(174,A67+4)),\"NON conformant\")","v":0},{"$f":"COUNTIF(INDIRECT(\"'Success Criteria'!\" & ADDRESS(120,A67+4)):INDIRECT(\"'Success Criteria'!\" & ADDRESS(174,A67+4)),\"N/A\")","v":0},{"$f":"COUNTIF(INDIRECT(\"'Success Criteria'!\" & ADDRESS(120,A67+4)):INDIRECT(\"'Success Criteria'!\" & ADDRESS(174,A67+4)),\"not tested\")","v":28},2,0,0,28,null,0,"",2,"",28,1]
[54,"Page 54","URL 54","Please select",{"$f":"SUM(COUNTIF(INDIRECT(\"'Success Criteria'!\" & ADDRESS(8,A68+4)):INDIRECT(\"'Success Criteria'!\" & ADDRESS(70,A68+4)),\"PASS\"),COUNTIF(INDIRECT(\"'Success Criteria'!\" & ADDRESS(8,A68+4)):INDIRECT(\"'Success Criteria'!\" & ADDRESS(70,A68+4)),\"PASS with comments\"))","v":0},{"$f":"COUNTIF(INDIRECT(\"'Success Criteria'!\" & ADDRESS(8,A68+4)):INDIRECT(\"'Success Criteria'!\" & ADDRESS(70,A68+4)),\"NON conformant\")","v":0},{"$f":"COUNTIF(INDIRECT(\"'Success Criteria'!\" & ADDRESS(8,A68+4)):INDIRECT(\"'Success Criteria'!\" & ADDRESS(70,A68+4)),\"N/A\")","v":0},{"$f":"COUNTIF(INDIRECT(\"'Success Criteria'!\" & ADDRESS(8,A68+4)):INDIRECT(\"'Success Criteria'!\" & ADDRESS(70,A68+4)),\"not tested\")","v":0},{"$f":"SUM(COUNTIF(INDIRECT(\"'Success Criteria'!\" & ADDRESS(74,A68+4)):INDIRECT(\"'Success Criteria'!\" & ADDRESS(115,A68+4)),\"PASS\"),COUNTIF(INDIRECT(\"'Success Criteria'!\" & ADDRESS(74,A68+4)):INDIRECT(\"'Success Criteria'!\" & ADDRESS(115,A68+4)),\"PASS with comments\"))","v":2},{"$f":"COUNTIF(INDIRECT(\"'Success Criteria'!\" & ADDRESS(74,A68+4)):INDIRECT(\"'Success Criteria'!\" & ADDRESS(115,A68+4)),\"NON conformant\")","v":0},{"$f":"COUNTIF(INDIRECT(\"'Success Criteria'!\" & ADDRESS(74,A68+4)):INDIRECT(\"'Success Criteria'!\" & ADDRESS(115,A68+4)),\"N/A\")","v":0},{"$f":"COUNTIF(INDIRECT(\"'Success Criteria'!\" & ADDRESS(74,A68+4)):INDIRECT(\"'Success Criteria'!\" & ADDRESS(115,A68+4)),\"not tested\")","v":0},{"$f":"SUM(COUNTIF(INDIRECT(\"'Success Criteria'!\" & ADDRESS(120,A68+4)):INDIRECT(\"'Success Criteria'!\" & ADDRESS(174,A68+4)),\"PASS\"),COUNTIF(INDIRECT(\"'Success Criteria'!\" & ADDRESS(120,A68+4)):INDIRECT(\"'Success Criteria'!\" & ADDRESS(174,A68+4)),\"PASS with comments\"))","v":0},{"$f":"COUNTIF(INDIRECT(\"'Success Criteria'!\" & ADDRESS(120,A68+4)):INDIRECT(\"'Success Criteria'!\" & ADDRESS(174,A68+4)),\"NON conformant\")","v":0},{"$f":"COUNTIF(INDIRECT(\"'Success Criteria'!\" & ADDRESS(120,A68+4)):INDIRECT(\"'Success Criteria'!\" & ADDRESS(174,A68+4)),\"N/A\")","v":0},{"$f":"COUNTIF(INDIRECT(\"'Success Criteria'!\" & ADDRESS(120,A68+4)):INDIRECT(\"'Success Criteria'!\" & ADDRESS(174,A68+4)),\"not tested\")","v":28},2,0,0,28,null,0,"",2,"",28,1]
[55,"Page 55","URL 55","Please select",{"$f":"SUM(COUNTIF(INDIRECT(\"'Success Criteria'!\" & ADDRESS(8,A69+4)):INDIRECT(\"'Success Criteria'!\" & ADDRESS(70,A69+4)),\"PASS\"),COUNTIF(INDIRECT(\"'Success Criteria'!\" & ADDRESS(8,A69+4)):INDIRECT(\"'Success Criteria'!\" & ADDRESS(70,A69+4)),\"PASS with comments\"))","v":0},{"$f":"COUNTIF(INDIRECT(\"'Success Criteria'!\" & ADDRESS(8,A69+4)):INDIRECT(\"'Success Criteria'!\" & ADDRESS(70,A69+4)),\"NON conformant\")","v":0},{"$f":"COUNTIF(INDIRECT(\"'Success Criteria'!\" & ADDRESS(8,A69+4)):INDIRECT(\"'Success Criteria'!\" & ADDRESS(70,A69+4)),\"N/A\")","v":0},{"$f":"COUNTIF(INDIRECT(\"'Success Criteria'!\" & ADDRESS(8,A69+4)):INDIRECT(\"'Success Criteria'!\" & ADDRESS(70,A69+4)),\"not tested\")","v":0},{"$f":"SUM(COUNTIF(INDIRECT(\"'Success Criteria'!\" & ADDRESS(74,A69+4)):INDIRECT(\"'Success Criteria'!\" & ADDRESS(115,A69+4)),\"PASS\"),COUNTIF(INDIRECT(\"'Success Criteria'!\" & ADDRESS(74,A69+4)):INDIRECT(\"'Success Criteria'!\" & ADDRESS(115,A69+4)),\"PASS with comments\"))","v":2},{"$f":"COUNTIF(INDIRECT(\"'Success Criteria'!\" & ADDRESS(74,A69+4)):INDIRECT(\"'Success Criteria'!\" & ADDRESS(115,A69+4)),\"NON conformant\")","v":0},{"$f":"COUNTIF(INDIRECT(\"'Success Criteria'!\" & ADDRESS(74,A69+4)):INDIRECT(\"'Success Criteria'!\" & ADDRESS(115,A69+4)),\"N/A\")","v":0},{"$f":"COUNTIF(INDIRECT(\"'Success Criteria'!\" & ADDRESS(74,A69+4)):INDIRECT(\"'Success Criteria'!\" & ADDRESS(115,A69+4)),\"not tested\")","v":0},{"$f":"SUM(COUNTIF(INDIRECT(\"'Success Criteria'!\" & ADDRESS(120,A69+4)):INDIRECT(\"'Success Criteria'!\" & ADDRESS(174,A69+4)),\"PASS\"),COUNTIF(INDIRECT(\"'Success Criteria'!\" & ADDRESS(120,A69+4)):INDIRECT(\"'Success Criteria'!\" & ADDRESS(174,A69+4)),\"PASS with comments\"))","v":0},{"$f":"COUNTIF(INDIRECT(\"'Success Criteria'!\" & ADDRESS(120,A69+4)):INDIRECT(\"'Success Criteria'!\" & ADDRESS(174,A69+4)),\"NON conformant\")","v":0},{"$f":"COUNTIF(INDIRECT(\"'Success Criteria'!\" & ADDRESS(120,A69+4)):INDIRECT(\"'Success Criteria'!\" & ADDRESS(174,A69+4)),\"N/A\")","v":0},{"$f":"COUNTIF(INDIRECT(\"'Success Criteria'!\" & ADDRESS(120,A69+4)):INDIRECT(\"'Success Criteria'!\" & ADDRESS(174,A69+4)),\"not tested\")","v":28},2,0,0,28,null,0,"",2,"",28,1]
[56,"Page 56","URL 56","Please select",{"$f":"SUM(COUNTIF(INDIRECT(\"'Success Criteria'!\" & ADDRESS(8,A70+4)):INDIRECT(\"'Success Criteria'!\" & ADDRESS(70,A70+4)),\"PASS\"),COUNTIF(INDIRECT(\"'Success Criteria'!\" & ADDRESS(8,A70+4)):INDIRECT(\"'Success Criteria'!\" & ADDRESS(70,A70+4)),\"PASS with comments\"))","v":0},{"$f":"COUNTIF(INDIRECT(\"'Success Criteria'!\" & ADDRESS(8,A70+4)):INDIRECT(\"'Success Criteria'!\" & ADDRESS(70,A70+4)),\"NON conformant\")","v":0},{"$f":"COUNTIF(INDIRECT(\"'Success Criteria'!\" & ADDRESS(8,A70+4)):INDIRECT(\"'Success Criteria'!\" & ADDRESS(70,A70+4)),\"N/A\")","v":0},{"$f":"COUNTIF(INDIRECT(\"'Success Criteria'!\" & ADDRESS(8,A70+4)):INDIRECT(\"'Success Criteria'!\" & ADDRESS(70,A70+4)),\"not tested\")","v":0},{"$f":"SUM(COUNTIF(INDIRECT(\"'Success Criteria'!\" & ADDRESS(74,A70+4)):INDIRECT(\"'Success Criteria'!\" & ADDRESS(115,A70+4)),\"PASS\"),COUNTIF(INDIRECT(\"'Success Criteria'!\" & ADDRESS(74,A70+4)):INDIRECT(\"'Success Criteria'!\" & ADDRESS(115,A70+4)),\"PASS with comments\"))","v":2},{"$f":"COUNTIF(INDIRECT(\"'Success Criteria'!\" & ADDRESS(74,A70+4)):INDIRECT(\"'Success Criteria'!\" & ADDRESS(115,A70+4)),\"NON conformant\")","v":0},{"$f":"COUNTIF(INDIRECT(\"'Success Criteria'!\" & ADDRESS(74,A70+4)):INDIRECT(\"'Success Criteria'!\" & ADDRESS(115,A70+4)),\"N/A\")","v":0},{"$f":"COUNTIF(INDIRECT(\"'Success Criteria'!\" & ADDRESS(74,A70+4)):INDIRECT(\"'Success Criteria'!\" & ADDRESS(115,A70+4)),\"not tested\")","v":0},{"$f":"SUM(COUNTIF(INDIRECT(\"'Success Criteria'!\" & ADDRESS(120,A70+4)):INDIRECT(\"'Success Criteria'!\" & ADDRESS(174,A70+4)),\"PASS\"),COUNTIF(INDIRECT(\"'Success Criteria'!\" & ADDRESS(120,A70+4)):INDIRECT(\"'Success Criteria'!\" & ADDRESS(174,A70+4)),\"PASS with comments\"))","v":0},{"$f":"COUNTIF(INDIRECT(\"'Success Criteria'!\" & ADDRESS(120,A70+4)):INDIRECT(\"'Success Criteria'!\" & ADDRESS(174,A70+4)),\"NON conformant\")","v":0},{"$f":"COUNTIF(INDIRECT(\"'Success Criteria'!\" & ADDRESS(120,A70+4)):INDIRECT(\"'Success Criteria'!\" & ADDRESS(174,A70+4)),\"N/A\")","v":0},{"$f":"COUNTIF(INDIRECT(\"'Success Criteria'!\" & ADDRESS(120,A70+4)):INDIRECT(\"'Success Criteria'!\" & ADDRESS(174,A70+4)),\"not tested\")","v":28},2,0,0,28,null,0,"",2,"",28,1]
[57,"Page 57","URL 57","Please select",{"$f":"SUM(COUNTIF(INDIRECT(\"'Success Criteria'!\" & ADDRESS(8,A71+4)):INDIRECT(\"'Success Criteria'!\" & ADDRESS(70,A71+4)),\"PASS\"),COUNTIF(INDIRECT(\"'Success Criteria'!\" & ADDRESS(8,A71+4)):INDIRECT(\"'Success Criteria'!\" & ADDRESS(70,A71+4)),\"PASS with comments\"))","v":0},{"$f":"COUNTIF(INDIRECT(\"'Success Criteria'!\" & ADDRESS(8,A71+4)):INDIRECT(\"'Success Criteria'!\" & ADDRESS(70,A71+4)),\"NON conformant\")","v":0},{"$f":"COUNTIF(INDIRECT(\"'Success Criteria'!\" & ADDRESS(8,A71+4)):INDIRECT(\"'Success Criteria'!\" & ADDRESS(70,A71+4)),\"N/A\")","v":0},{"$f":"COUNTIF(INDIRECT(\"'Success Criteria'!\" & ADDRESS(8,A71+4)):INDIRECT(\"'Success Criteria'!\" & ADDRESS(70,A71+4)),\"not tested\")","v":0},{"$f":"SUM(COUNTIF(INDIRECT(\"'Success Criteria'!\" & ADDRESS(74,A71+4)):INDIRECT(\"'Success Criteria'!\" & ADDRESS(115,A71+4)),\"PASS\"),COUNTIF(INDIRECT(\"'Success Criteria'!\" & ADDRESS(74,A71+4)):INDIRECT(\"'Success Criteria'!\" & ADDRESS(115,A71+4)),\"PASS with comments\"))","v":2},{"$f":"COUNTIF(INDIRECT(\"'Success Criteria'!\" & ADDRESS(74,A71+4)):INDIRECT(\"'Success Criteria'!\" & ADDRESS(115,A71+4)),\"NON conformant\")","v":0},{"$f":"COUNTIF(INDIRECT(\"'Success Criteria'!\" & ADDRESS(74,A71+4)):INDIRECT(\"'Success Criteria'!\" & ADDRESS(115,A71+4)),\"N/A\")","v":0},{"$f":"COUNTIF(INDIRECT(\"'Success Criteria'!\" & ADDRESS(74,A71+4)):INDIRECT(\"'Success Criteria'!\" & ADDRESS(115,A71+4)),\"not tested\")","v":0},{"$f":"SUM(COUNTIF(INDIRECT(\"'Success Criteria'!\" & ADDRESS(120,A71+4)):INDIRECT(\"'Success Criteria'!\" & ADDRESS(174,A71+4)),\"PASS\"),COUNTIF(INDIRECT(\"'Success Criteria'!\" & ADDRESS(120,A71+4)):INDIRECT(\"'Success Criteria'!\" & ADDRESS(174,A71+4)),\"PASS with comments\"))","v":0},{"$f":"COUNTIF(INDIRECT(\"'Success Criteria'!\" & ADDRESS(120,A71+4)):INDIRECT(\"'Success Criteria'!\" & ADDRESS(174,A71+4)),\"NON conformant\")","v":0},{"$f":"COUNTIF(INDIRECT(\"'Success Criteria'!\" & ADDRESS(120,A71+4)):INDIRECT(\"'Success Criteria'!\" & ADDRESS(174,A71+4)),\"N/A\")","v":0},{"$f":"COUNTIF(INDIRECT(\"'Success Criteria'!\" & ADDRESS(120,A71+4)):INDIRECT(\"'Success Criteria'!\" & ADDRESS(174,A71+4)),\"not tested\")","v":28},2,0,0,28,null,0,"",2,"",28,1]
[58,"Page 58","URL 58","Please select",{"$f":"SUM(COUNTIF(INDIRECT(\"'Success Criteria'!\" & ADDRESS(8,A72+4)):INDIRECT(\"'Success Criteria'!\" & ADDRESS(70,A72+4)),\"PASS\"),COUNTIF(INDIRECT(\"'Success Criteria'!\" & ADDRESS(8,A72+4)):INDIRECT(\"'Success Criteria'!\" & ADDRESS(70,A72+4)),\"PASS with comments\"))","v":0},{"$f":"COUNTIF(INDIRECT(\"'Success Criteria'!\" & ADDRESS(8,A72+4)):INDIRECT(\"'Success Criteria'!\" & ADDRESS(70,A72+4)),\"NON conformant\")","v":0},{"$f":"COUNTIF(INDIRECT(\"'Success Criteria'!\" & ADDRESS(8,A72+4)):INDIRECT(\"'Success Criteria'!\" & ADDRESS(70,A72+4)),\"N/A\")","v":0},{"$f":"COUNTIF(INDIRECT(\"'Success Criteria'!\" & ADDRESS(8,A72+4)):INDIRECT(\"'Success Criteria'!\" & ADDRESS(70,A72+4)),\"not tested\")","v":0},{"$f":"SUM(COUNTIF(INDIRECT(\"'Success Criteria'!\" & ADDRESS(74,A72+4)):INDIRECT(\"'Success Criteria'!\" & ADDRESS(115,A72+4)),\"PASS\"),COUNTIF(INDIRECT(\"'Success Criteria'!\" & ADDRESS(74,A72+4)):INDIRECT(\"'Success Criteria'!\" & ADDRESS(115,A72+4)),\"PASS with comments\"))","v":2},{"$f":"COUNTIF(INDIRECT(\"'Success Criteria'!\" & ADDRESS(74,A72+4)):INDIRECT(\"'Success Criteria'!\" & ADDRESS(115,A72+4)),\"NON conformant\")","v":0},{"$f":"COUNTIF(INDIRECT(\"'Success Criteria'!\" & ADDRESS(74,A72+4)):INDIRECT(\"'Success Criteria'!\" & ADDRESS(115,A72+4)),\"N/A\")","v":0},{"$f":"COUNTIF(INDIRECT(\"'Success Criteria'!\" & ADDRESS(74,A72+4)):INDIRECT(\"'Success Criteria'!\" & ADDRESS(115,A72+4)),\"not tested\")","v":0},{"$f":"SUM(COUNTIF(INDIRECT(\"'Success Criteria'!\" & ADDRESS(120,A72+4)):INDIRECT(\"'Success Criteria'!\" & ADDRESS(174,A72+4)),\"PASS\"),COUNTIF(INDIRECT(\"'Success Criteria'!\" & ADDRESS(120,A72+4)):INDIRECT(\"'Success Criteria'!\" & ADDRESS(174,A72+4)),\"PASS with comments\"))","v":0},{"$f":"COUNTIF(INDIRECT(\"'Success Criteria'!\" & ADDRESS(120,A72+4)):INDIRECT(\"'Success Criteria'!\" & ADDRESS(174,A72+4)),\"NON conformant\")","v":0},{"$f":"COUNTIF(INDIRECT(\"'Success Criteria'!\" & ADDRESS(120,A72+4)):INDIRECT(\"'Success Criteria'!\" & ADDRESS(174,A72+4)),\"N/A\")","v":0},{"$f":"COUNTIF(INDIRECT(\"'Success Criteria'!\" & ADDRESS(120,A72+4)):INDIRECT(\"'Success Criteria'!\" & ADDRESS(174,A72+4)),\"not tested\")","v":28},2,0,0,28,null,0,"",2,"",28,1]
[59,"Page 59","URL 59","Please select",{"$f":"SUM(COUNTIF(INDIRECT(\"'Success Criteria'!\" & ADDRESS(8,A73+4)):INDIRECT(\"'Success Criteria'!\" & ADDRESS(70,A73+4)),\"PASS\"),COUNTIF(INDIRECT(\"'Success Criteria'!\" & ADDRESS(8,A73+4)):INDIRECT(\"'Success Criteria'!\" & ADDRESS(70,A73+4)),\"PASS with comments\"))","v":0},{"$f":"COUNTIF(INDIRECT(\"'Success Criteria'!\" & ADDRESS(8,A73+4)):INDIRECT(\"'Success Criteria'!\" & ADDRESS(70,A73+4)),\"NON conformant\")","v":0},{"$f":"COUNTIF(INDIRECT(\"'Success Criteria'!\" & ADDRESS(8,A73+4)):INDIRECT(\"'Success Criteria'!\" & ADDRESS(70,A73+4)),\"N/A\")","v":0},{"$f":"COUNTIF(INDIRECT(\"'Success Criteria'!\" & ADDRESS(8,A73+4)):INDIRECT(\"'Success Criteria'!\" & ADDRESS(70,A73+4)),\"not tested\")","v":0},{"$f":"SUM(COUNTIF(INDIRECT(\"'Success Criteria'!\" & ADDRESS(74,A73+4)):INDIRECT(\"'Success Criteria'!\" & ADDRESS(115,A73+4)),\"PASS\"),COUNTIF(INDIRECT(\"'Success Criteria'!\" & ADDRESS(74,A73+4)):INDIRECT(\"'Success Criteria'!\" & ADDRESS(115,A73+4)),\"PASS with comments\"))","v":2},{"$f":"COUNTIF(INDIRECT(\"'Success Criteria'!\" & ADDRESS(74,A73+4)):INDIRECT(\"'Success Criteria'!\" & ADDRESS(115,A73+4)),\"NON conformant\")","v":0},{"$f":"COUNTIF(INDIRECT(\"'Success Criteria'!\" & ADDRESS(74,A73+4)):INDIRECT(\"'Success Criteria'!\" & ADDRESS(115,A73+4)),\"N/A\")","v":0},{"$f":"COUNTIF(INDIRECT(\"'Success Criteria'!\" & ADDRESS(74,A73+4)):INDIRECT(\"'Success Criteria'!\" & ADDRESS(115,A73+4)),\"not tested\")","v":0},{"$f":"SUM(COUNTIF(INDIRECT(\"'Success Criteria'!\" & ADDRESS(120,A73+4)):INDIRECT(\"'Success Criteria'!\" & ADDRESS(174,A73+4)),\"PASS\"),COUNTIF(INDIRECT(\"'Success Criteria'!\" & ADDRESS(120,A73+4)):INDIRECT(\"'Success Criteria'!\" & ADDRESS(174,A73+4)),\"PASS with comments\"))","v":0},{"$f":"COUNTIF(INDIRECT(\"'Success Criteria'!\" & ADDRESS(120,A73+4)):INDIRECT(\"'Success Criteria'!\" & ADDRESS(174,A73+4)),\"NON conformant\")","v":0},{"$f":"COUNTIF(INDIRECT(\"'Success Criteria'!\" & ADDRESS(120,A73+4)):INDIRECT(\"'Success Criteria'!\" & ADDRESS(174,A73+4)),\"N/A\")","v":0},{"$f":"COUNTIF(INDIRECT(\"'Success Criteria'!\" & ADDRESS(120,A73+4)):INDIRECT(\"'Success Criteria'!\" & ADDRESS(174,A73+4)),\"not tested\")","v":28},2,0,0,28,null,0,"",2,"",28,1]
[60,"Page 60","URL 60","Please select",{"$f":"SUM(COUNTIF(INDIRECT(\"'Success Criteria'!\" & ADDRESS(8,A74+4)):INDIRECT(\"'Success Criteria'!\" & ADDRESS(70,A74+4)),\"PASS\"),COUNTIF(INDIRECT(\"'Success Criteria'!\" & ADDRESS(8,A74+4)):INDIRECT(\"'Success Criteria'!\" & ADDRESS(70,A74+4)),\"PASS with comments\"))","v":0},{"$f":"COUNTIF(INDIRECT(\"'Success Criteria'!\" & ADDRESS(8,A74+4)):INDIRECT(\"'Success Criteria'!\" & ADDRESS(70,A74+4)),\"NON conformant\")","v":0},{"$f":"COUNTIF(INDIRECT(\"'Success Criteria'!\" & ADDRESS(8,A74+4)):INDIRECT(\"'Success Criteria'!\" & ADDRESS(70,A74+4)),\"N/A\")","v":0},{"$f":"COUNTIF(INDIRECT(\"'Success Criteria'!\" & ADDRESS(8,A74+4)):INDIRECT(\"'Success Criteria'!\" & ADDRESS(70,A74+4)),\"not tested\")","v":0},{"$f":"SUM(COUNTIF(INDIRECT(\"'Success Criteria'!\" & ADDRESS(74,A74+4)):INDIRECT(\"'Success Criteria'!\" & ADDRESS(115,A74+4)),\"PASS\"),COUNTIF(INDIRECT(\"'Success Criteria'!\" & ADDRESS(74,A74+4)):INDIRECT(\"'Success Criteria'!\" & ADDRESS(115,A74+4)),\"PASS with comments\"))","v":2},{"$f":"COUNTIF(INDIRECT(\"'Success Criteria'!\" & ADDRESS(74,A74+4)):INDIRECT(\"'Success Criteria'!\" & ADDRESS(115,A74+4)),\"NON conformant\")","v":0},{"$f":"COUNTIF(INDIRECT(\"'Success Criteria'!\" & ADDRESS(74,A74+4)):INDIRECT(\"'Success Criteria'!\" & ADDRESS(115,A74+4)),\"N/A\")","v":0},{"$f":"COUNTIF(INDIRECT(\"'Success Criteria'!\" & ADDRESS(74,A74+4)):INDIRECT(\"'Success Criteria'!\" & ADDRESS(115,A74+4)),\"not tested\")","v":0},{"$f":"SUM(COUNTIF(INDIRECT(\"'Success Criteria'!\" & ADDRESS(120,A74+4)):INDIRECT(\"'Success Criteria'!\" & ADDRESS(174,A74+4)),\"PASS\"),COUNTIF(INDIRECT(\"'Success Criteria'!\" & ADDRESS(120,A74+4)):INDIRECT(\"'Success Criteria'!\" & ADDRESS(174,A74+4)),\"PASS with comments\"))","v":0},{"$f":"COUNTIF(INDIRECT(\"'Success Criteria'!\" & ADDRESS(120,A74+4)):INDIRECT(\"'Success Criteria'!\" & ADDRESS(174,A74+4)),\"NON conformant\")","v":0},{"$f":"COUNTIF(INDIRECT(\"'Success Criteria'!\" & ADDRESS(120,A74+4)):INDIRECT(\"'Success Criteria'!\" & ADDRESS(174,A74+4)),\"N/A\")","v":0},{"$f":"COUNTIF(INDIRECT(\"'Success Criteria'!\" & ADDRESS(120,A74+4)):INDIRECT(\"'Success Criteria'!\" & ADDRESS(174,A74+4)),\"not tested\")","v":28},2,0,0,28,null,0,"",2,"",28,1]
[61,"Page 61","URL 61","Please select",{"$f":"SUM(COUNTIF(INDIRECT(\"'Success Criteria'!\" & ADDRESS(8,A75+4)):INDIRECT(\"'Success Criteria'!\" & ADDRESS(70,A75+4)),\"PASS\"),COUNTIF(INDIRECT(\"'Success Criteria'!\" & ADDRESS(8,A75+4)):INDIRECT(\"'Success Criteria'!\" & ADDRESS(70,A75+4)),\"PASS with comments\"))","v":0},{"$f":"COUNTIF(INDIRECT(\"'Success Criteria'!\" & ADDRESS(8,A75+4)):INDIRECT(\"'Success Criteria'!\" & ADDRESS(70,A75+4)),\"NON conformant\")","v":0},{"$f":"COUNTIF(INDIRECT(\"'Success Criteria'!\" & ADDRESS(8,A75+4)):INDIRECT(\"'Success Criteria'!\" & ADDRESS(70,A75+4)),\"N/A\")","v":0},{"$f":"COUNTIF(INDIRECT(\"'Success Criteria'!\" & ADDRESS(8,A75+4)):INDIRECT(\"'Success Criteria'!\" & ADDRESS(70,A75+4)),\"not tested\")","v":0},{"$f":"SUM(COUNTIF(INDIRECT(\"'Success Criteria'!\" & ADDRESS(74,A75+4)):INDIRECT(\"'Success Criteria'!\" & ADDRESS(115,A75+4)),\"PASS\"),COUNTIF(INDIRECT(\"'Success Criteria'!\" & ADDRESS(74,A75+4)):INDIRECT(\"'Success Criteria'!\" & ADDRESS(115,A75+4)),\"PASS with comments\"))","v":2},{"$f":"COUNTIF(INDIRECT(\"'Success Criteria'!\" & ADDRESS(74,A75+4)):INDIRECT(\"'Success Criteria'!\" & ADDRESS(115,A75+4)),\"NON conformant\")","v":0},{"$f":"COUNTIF(INDIRECT(\"'Success Criteria'!\" & ADDRESS(74,A75+4)):INDIRECT(\"'Success Criteria'!\" & ADDRESS(115,A75+4)),\"N/A\")","v":0},{"$f":"COUNTIF(INDIRECT(\"'Success Criteria'!\" & ADDRESS(74,A75+4)):INDIRECT(\"'Success Criteria'!\" & ADDRESS(115,A75+4)),\"not tested\")","v":0},{"$f":"SUM(COUNTIF(INDIRECT(\"'Success Criteria'!\" & ADDRESS(120,A75+4)):INDIRECT(\"'Success Criteria'!\" & ADDRESS(174,A75+4)),\"PASS\"),COUNTIF(INDIRECT(\"'Success Criteria'!\" & ADDRESS(120,A75+4)):INDIRECT(\"'Success Criteria'!\" & ADDRESS(174,A75+4)),\"PASS with comments\"))","v":0},{"$f":"COUNTIF(INDIRECT(\"'Success Criteria'!\" & ADDRESS(120,A75+4)):INDIRECT(\"'Success Criteria'!\" & ADDRESS(174,A75+4)),\"NON conformant\")","v":0},{"$f":"COUNTIF(INDIRECT(\"'Success Criteria'!\" & ADDRESS(120,A75+4)):INDIRECT(\"'Success Criteria'!\" & ADDRESS(174,A75+4)),\"N/A\")","v":0},{"$f":"COUNTIF(INDIRECT(\"'Success Criteria'!\" & ADDRESS(120,A75+4)):INDIRECT(\"'Success Criteria'!\" & ADDRESS(174,A75+4)),\"not tested\")","v":28},2,0,0,28,null,0,"",2,"",28,1]
[62,"Page 62","URL 62","Please select",{"$f":"SUM(COUNTIF(INDIRECT(\"'Success Criteria'!\" & ADDRESS(8,A76+4)):INDIRECT(\"'Success Criteria'!\" & ADDRESS(70,A76+4)),\"PASS\"),COUNTIF(INDIRECT(\"'Success Criteria'!\" & ADDRESS(8,A76+4)):INDIRECT(\"'Success Criteria'!\" & ADDRESS(70,A76+4)),\"PASS with comments\"))","v":0},{"$f":"COUNTIF(INDIRECT(\"'Success Criteria'!\" & ADDRESS(8,A76+4)):INDIRECT(\"'Success Criteria'!\" & ADDRESS(70,A76+4)),\"NON conformant\")","v":0},{"$f":"COUNTIF(INDIRECT(\"'Success Criteria'!\" & ADDRESS(8,A76+4)):INDIRECT(\"'Success Criteria'!\" & ADDRESS(70,A76+4)),\"N/A\")","v":0},{"$f":"COUNTIF(INDIRECT(\"'Success Criteria'!\" & ADDRESS(8,A76+4)):INDIRECT(\"'Success Criteria'!\" & ADDRESS(70,A76+4)),\"not tested\")","v":0},{"$f":"SUM(COUNTIF(INDIRECT(\"'Success Criteria'!\" & ADDRESS(74,A76+4)):INDIRECT(\"'Success Criteria'!\" & ADDRESS(115,A76+4)),\"PASS\"),COUNTIF(INDIRECT(\"'Success Criteria'!\" & ADDRESS(74,A76+4)):INDIRECT(\"'Success Criteria'!\" & ADDRESS(115,A76+4)),\"PASS with comments\"))","v":2},{"$f":"COUNTIF(INDIRECT(\"'Success Criteria'!\" & ADDRESS(74,A76+4)):INDIRECT(\"'Success Criteria'!\" & ADDRESS(115,A76+4)),\"NON conformant\")","v":0},{"$f":"COUNTIF(INDIRECT(\"'Success Criteria'!\" & ADDRESS(74,A76+4)):INDIRECT(\"'Success Criteria'!\" & ADDRESS(115,A76+4)),\"N/A\")","v":0},{"$f":"COUNTIF(INDIRECT(\"'Success Criteria'!\" & ADDRESS(74,A76+4)):INDIRECT(\"'Success Criteria'!\" & ADDRESS(115,A76+4)),\"not tested\")","v":0},{"$f":"SUM(COUNTIF(INDIRECT(\"'Success Criteria'!\" & ADDRESS(120,A76+4)):INDIRECT(\"'Success Criteria'!\" & ADDRESS(174,A76+4)),\"PASS\"),COUNTIF(INDIRECT(\"'Success Criteria'!\" & ADDRESS(120,A76+4)):INDIRECT(\"'Success Criteria'!\" & ADDRESS(174,A76+4)),\"PASS with comments\"))","v":0},{"$f":"COUNTIF(INDIRECT(\"'Success Criteria'!\" & ADDRESS(120,A76+4)):INDIRECT(\"'Success Criteria'!\" & ADDRESS(174,A76+4)),\"NON conformant\")","v":0},{"$f":"COUNTIF(INDIRECT(\"'Success Criteria'!\" & ADDRESS(120,A76+4)):INDIRECT(\"'Success Criteria'!\" & ADDRESS(174,A76+4)),\"N/A\")","v":0},{"$f":"COUNTIF(INDIRECT(\"'Success Criteria'!\" & ADDRESS(120,A76+4)):INDIRECT(\"'Success Criteria'!\" & ADDRESS(174,A76+4)),\"not tested\")","v":28},2,0,0,28,null,0,"",2,"",28,1]
[63,"Page 63","URL 63","Please select",{"$f":"SUM(COUNTIF(INDIRECT(\"'Success Criteria'!\" & ADDRESS(8,A77+4)):INDIRECT(\"'Success Criteria'!\" & ADDRESS(70,A77+4)),\"PASS\"),COUNTIF(INDIRECT(\"'Success Criteria'!\" & ADDRESS(8,A77+4)):INDIRECT(\"'Success Criteria'!\" & ADDRESS(70,A77+4)),\"PASS with comments\"))","v":0},{"$f":"COUNTIF(INDIRECT(\"'Success Criteria'!\" & ADDRESS(8,A77+4)):INDIRECT(\"'Success Criteria'!\" & ADDRESS(70,A77+4)),\"NON conformant\")","v":0},{"$f":"COUNTIF(INDIRECT(\"'Success Criteria'!\" & ADDRESS(8,A77+4)):INDIRECT(\"'Success Criteria'!\" & ADDRESS(70,A77+4)),\"N/A\")","v":0},{"$f":"COUNTIF(INDIRECT(\"'Success Criteria'!\" & ADDRESS(8,A77+4)):INDIRECT(\"'Success Criteria'!\" & ADDRESS(70,A77+4)),\"not tested\")","v":0},{"$f":"SUM(COUNTIF(INDIRECT(\"'Success Criteria'!\" & ADDRESS(74,A77+4)):INDIRECT(\"'Success Criteria'!\" & ADDRESS(115,A77+4)),\"PASS\"),COUNTIF(INDIRECT(\"'Success Criteria'!\" & ADDRESS(74,A77+4)):INDIRECT(\"'Success Criteria'!\" & ADDRESS(115,A77+4)),\"PASS with comments\"))","v":2},{"$f":"COUNTIF(INDIRECT(\"'Success Criteria'!\" & ADDRESS(74,A77+4)):INDIRECT(\"'Success Criteria'!\" & ADDRESS(115,A77+4)),\"NON conformant\")","v":0},{"$f":"COUNTIF(INDIRECT(\"'Success Criteria'!\" & ADDRESS(74,A77+4)):INDIRECT(\"'Success Criteria'!\" & ADDRESS(115,A77+4)),\"N/A\")","v":0},{"$f":"COUNTIF(INDIRECT(\"'Success Criteria'!\" & ADDRESS(74,A77+4)):INDIRECT(\"'Success Criteria'!\" & ADDRESS(115,A77+4)),\"not tested\")","v":0},{"$f":"SUM(COUNTIF(INDIRECT(\"'Success Criteria'!\" & ADDRESS(120,A77+4)):INDIRECT(\"'Success Criteria'!\" & ADDRESS(174,A77+4)),\"PASS\"),COUNTIF(INDIRECT(\"'Success Criteria'!\" & ADDRESS(120,A77+4)):INDIRECT(\"'Success Criteria'!\" & ADDRESS(174,A77+4)),\"PASS with comments\"))","v":0},{"$f":"COUNTIF(INDIRECT(\"'Success Criteria'!\" & ADDRESS(120,A77+4)):INDIRECT(\"'Success Criteria'!\" & ADDRESS(174,A77+4)),\"NON conformant\")","v":0},{"$f":"COUNTIF(INDIRECT(\"'Success Criteria'!\" & ADDRESS(120,A77+4)):INDIRECT(\"'Success Criteria'!\" & ADDRESS(174,A77+4)),\"N/A\")","v":0},{"$f":"COUNTIF(INDIRECT(\"'Success Criteria'!\" & ADDRESS(120,A77+4)):INDIRECT(\"'Success Criteria'!\" & ADDRESS(174,A77+4)),\"not tested\")","v":28},2,0,0,28,null,0,"",2,"",28,1]
[64,"Page 64","URL 64","Please select",{"$f":"SUM(COUNTIF(INDIRECT(\"'Success Criteria'!\" & ADDRESS(8,A78+4)):INDIRECT(\"'Success Criteria'!\" & ADDRESS(70,A78+4)),\"PASS\"),COUNTIF(INDIRECT(\"'Success Criteria'!\" & ADDRESS(8,A78+4)):INDIRECT(\"'Success Criteria'!\" & ADDRESS(70,A78+4)),\"PASS with comments\"))","v":0},{"$f":"COUNTIF(INDIRECT(\"'Success Criteria'!\" & ADDRESS(8,A78+4)):INDIRECT(\"'Success Criteria'!\" & ADDRESS(70,A78+4)),\"NON conformant\")","v":0},{"$f":"COUNTIF(INDIRECT(\"'Success Criteria'!\" & ADDRESS(8,A78+4)):INDIRECT(\"'Success Criteria'!\" & ADDRESS(70,A78+4)),\"N/A\")","v":0},{"$f":"COUNTIF(INDIRECT(\"'Success Criteria'!\" & ADDRESS(8,A78+4)):INDIRECT(\"'Success Criteria'!\" & ADDRESS(70,A78+4)),\"not tested\")","v":0},{"$f":"SUM(COUNTIF(INDIRECT(\"'Success Criteria'!\" & ADDRESS(74,A78+4)):INDIRECT(\"'Success Criteria'!\" & ADDRESS(115,A78+4)),\"PASS\"),COUNTIF(INDIRECT(\"'Success Criteria'!\" & ADDRESS(74,A78+4)):INDIRECT(\"'Success Criteria'!\" & ADDRESS(115,A78+4)),\"PASS with comments\"))","v":2},{"$f":"COUNTIF(INDIRECT(\"'Success Criteria'!\" & ADDRESS(74,A78+4)):INDIRECT(\"'Success Criteria'!\" & ADDRESS(115,A78+4)),\"NON conformant\")","v":0},{"$f":"COUNTIF(INDIRECT(\"'Success Criteria'!\" & ADDRESS(74,A78+4)):INDIRECT(\"'Success Criteria'!\" & ADDRESS(115,A78+4)),\"N/A\")","v":0},{"$f":"COUNTIF(INDIRECT(\"'Success Criteria'!\" & ADDRESS(74,A78+4)):INDIRECT(\"'Success Criteria'!\" & ADDRESS(115,A78+4)),\"not tested\")","v":0},{"$f":"SUM(COUNTIF(INDIRECT(\"'Success Criteria'!\" & ADDRESS(120,A78+4)):INDIRECT(\"'Success Criteria'!\" & ADDRESS(174,A78+4)),\"PASS\"),COUNTIF(INDIRECT(\"'Success Criteria'!\" & ADDRESS(120,A78+4)):INDIRECT(\"'Success Criteria'!\" & ADDRESS(174,A78+4)),\"PASS with comments\"))","v":0},{"$f":"COUNTIF(INDIRECT(\"'Success Criteria'!\" & ADDRESS(120,A78+4)):INDIRECT(\"'Success Criteria'!\" & ADDRESS(174,A78+4)),\"NON conformant\")","v":0},{"$f":"COUNTIF(INDIRECT(\"'Success Criteria'!\" & ADDRESS(120,A78+4)):INDIRECT(\"'Success Criteria'!\" & ADDRESS(174,A78+4)),\"N/A\")","v":0},{"$f":"COUNTIF(INDIRECT(\"'Success Criteria'!\" & ADDRESS(120,A78+4)):INDIRECT(\"'Success Criteria'!\" & ADDRESS(174,A78+4)),\"not tested\")","v":28},2,0,0,28,null,0,"",2,"",28,1]
[65,"Page 65","URL 65","Please select",{"$f":"SUM(COUNTIF(INDIRECT(\"'Success Criteria'!\" & ADDRESS(8,A79+4)):INDIRECT(\"'Success Criteria'!\" & ADDRESS(70,A79+4)),\"PASS\"),COUNTIF(INDIRECT(\"'Success Criteria'!\" & ADDRESS(8,A79+4)):INDIRECT(\"'Success Criteria'!\" & ADDRESS(70,A79+4)),\"PASS with comments\"))","v":0},{"$f":"COUNTIF(INDIRECT(\"'Success Criteria'!\" & ADDRESS(8,A79+4)):INDIRECT(\"'Success Criteria'!\" & ADDRESS(70,A79+4)),\"NON conformant\")","v":0},{"$f":"COUNTIF(INDIRECT(\"'Success Criteria'!\" & ADDRESS(8,A79+4)):INDIRECT(\"'Success Criteria'!\" & ADDRESS(70,A79+4)),\"N/A\")","v":0},{"$f":"COUNTIF(INDIRECT(\"'Success Criteria'!\" & ADDRESS(8,A79+4)):INDIRECT(\"'Success Criteria'!\" & ADDRESS(70,A79+4)),\"not tested\")","v":0},{"$f":"SUM(COUNTIF(INDIRECT(\"'Success Criteria'!\" & ADDRESS(74,A79+4)):INDIRECT(\"'Success Criteria'!\" & ADDRESS(115,A79+4)),\"PASS\"),COUNTIF(INDIRECT(\"'Success Criteria'!\" & ADDRESS(74,A79+4)):INDIRECT(\"'Success Criteria'!\" & ADDRESS(115,A79+4)),\"PASS with comments\"))","v":2},{"$f":"COUNTIF(INDIRECT(\"'Success Criteria'!\" & ADDRESS(74,A79+4)):INDIRECT(\"'Success Criteria'!\" & ADDRESS(115,A79+4)),\"NON conformant\")","v":0},{"$f":"COUNTIF(INDIRECT(\"'Success Criteria'!\" & ADDRESS(74,A79+4)):INDIRECT(\"'Success Criteria'!\" & ADDRESS(115,A79+4)),\"N/A\")","v":0},{"$f":"COUNTIF(INDIRECT(\"'Success Criteria'!\" & ADDRESS(74,A79+4)):INDIRECT(\"'Success Criteria'!\" & ADDRESS(115,A79+4)),\"not tested\")","v":0},{"$f":"SUM(COUNTIF(INDIRECT(\"'Success Criteria'!\" & ADDRESS(120,A79+4)):INDIRECT(\"'Success Criteria'!\" & ADDRESS(174,A79+4)),\"PASS\"),COUNTIF(INDIRECT(\"'Success Criteria'!\" & ADDRESS(120,A79+4)):INDIRECT(\"'Success Criteria'!\" & ADDRESS(174,A79+4)),\"PASS with comments\"))","v":0},{"$f":"COUNTIF(INDIRECT(\"'Success Criteria'!\" & ADDRESS(120,A79+4)):INDIRECT(\"'Success Criteria'!\" & ADDRESS(174,A79+4)),\"NON conformant\")","v":0},{"$f":"COUNTIF(INDIRECT(\"'Success Criteria'!\" & ADDRESS(120,A79+4)):INDIRECT(\"'Success Criteria'!\" & ADDRESS(174,A79+4)),\"N/A\")","v":0},{"$f":"COUNTIF(INDIRECT(\"'Success Criteria'!\" & ADDRESS(120,A79+4)):INDIRECT(\"'Success Criteria'!\" & ADDRESS(174,A79+4)),\"not tested\")","v":28},2,0,0,28,null,0,"",2,"",28,1]
[66,"Page 66","URL 66","Please select",{"$f":"SUM(COUNTIF(INDIRECT(\"'Success Criteria'!\" & ADDRESS(8,A80+4)):INDIRECT(\"'Success Criteria'!\" & ADDRESS(70,A80+4)),\"PASS\"),COUNTIF(INDIRECT(\"'Success Criteria'!\" & ADDRESS(8,A80+4)):INDIRECT(\"'Success Criteria'!\" & ADDRESS(70,A80+4)),\"PASS with comments\"))","v":0},{"$f":"COUNTIF(INDIRECT(\"'Success Criteria'!\" & ADDRESS(8,A80+4)):INDIRECT(\"'Success Criteria'!\" & ADDRESS(70,A80+4)),\"NON conformant\")","v":0},{"$f":"COUNTIF(INDIRECT(\"'Success Criteria'!\" & ADDRESS(8,A80+4)):INDIRECT(\"'Success Criteria'!\" & ADDRESS(70,A80+4)),\"N/A\")","v":0},{"$f":"COUNTIF(INDIRECT(\"'Success Criteria'!\" & ADDRESS(8,A80+4)):INDIRECT(\"'Success Criteria'!\" & ADDRESS(70,A80+4)),\"not tested\")","v":0},{"$f":"SUM(COUNTIF(INDIRECT(\"'Success Criteria'!\" & ADDRESS(74,A80+4)):INDIRECT(\"'Success Criteria'!\" & ADDRESS(115,A80+4)),\"PASS\"),COUNTIF(INDIRECT(\"'Success Criteria'!\" & ADDRESS(74,A80+4)):INDIRECT(\"'Success Criteria'!\" & ADDRESS(115,A80+4)),\"PASS with comments\"))","v":2},{"$f":"COUNTIF(INDIRECT(\"'Success Criteria'!\" & ADDRESS(74,A80+4)):INDIRECT(\"'Success Criteria'!\" & ADDRESS(115,A80+4)),\"NON conformant\")","v":0},{"$f":"COUNTIF(INDIRECT(\"'Success Criteria'!\" & ADDRESS(74,A80+4)):INDIRECT(\"'Success Criteria'!\" & ADDRESS(115,A80+4)),\"N/A\")","v":0},{"$f":"COUNTIF(INDIRECT(\"'Success Criteria'!\" & ADDRESS(74,A80+4)):INDIRECT(\"'Success Criteria'!\" & ADDRESS(115,A80+4)),\"not tested\")","v":0},{"$f":"SUM(COUNTIF(INDIRECT(\"'Success Criteria'!\" & ADDRESS(120,A80+4)):INDIRECT(\"'Success Criteria'!\" & ADDRESS(174,A80+4)),\"PASS\"),COUNTIF(INDIRECT(\"'Success Criteria'!\" & ADDRESS(120,A80+4)):INDIRECT(\"'Success Criteria'!\" & ADDRESS(174,A80+4)),\"PASS with comments\"))","v":0},{"$f":"COUNTIF(INDIRECT(\"'Success Criteria'!\" & ADDRESS(120,A80+4)):INDIRECT(\"'Success Criteria'!\" & ADDRESS(174,A80+4)),\"NON conformant\")","v":0},{"$f":"COUNTIF(INDIRECT(\"'Success Criteria'!\" & ADDRESS(120,A80+4)):INDIRECT(\"'Success Criteria'!\" & ADDRESS(174,A80+4)),\"N/A\")","v":0},{"$f":"COUNTIF(INDIRECT(\"'Success Criteria'!\" & ADDRESS(120,A80+4)):INDIRECT(\"'Success Criteria'!\" & ADDRESS(174,A80+4)),\"not tested\")","v":28},{"$f":"SUM(E80+I80+M80)","v":2},0,0,28,null,0,"",{"$f":"SUM($I80:$L80)","v":2},"",{"$f":"SUM($M80:$P80)","v":28},1]
[67,"Page 67","URL 67","Please select",{"$f":"SUM(COUNTIF(INDIRECT(\"'Success Criteria'!\" & ADDRESS(8,A81+4)):INDIRECT(\"'Success Criteria'!\" & ADDRESS(70,A81+4)),\"PASS\"),COUNTIF(INDIRECT(\"'Success Criteria'!\" & ADDRESS(8,A81+4)):INDIRECT(\"'Success Criteria'!\" & ADDRESS(70,A81+4)),\"PASS with comments\"))","v":0},{"$f":"COUNTIF(INDIRECT(\"'Success Criteria'!\" & ADDRESS(8,A81+4)):INDIRECT(\"'Success Criteria'!\" & ADDRESS(70,A81+4)),\"NON conformant\")","v":0},{"$f":"COUNTIF(INDIRECT(\"'Success Criteria'!\" & ADDRESS(8,A81+4)):INDIRECT(\"'Success Criteria'!\" & ADDRESS(70,A81+4)),\"N/A\")","v":0},{"$f":"COUNTIF(INDIRECT(\"'Success Criteria'!\" & ADDRESS(8,A81+4)):INDIRECT(\"'Success Criteria'!\" & ADDRESS(70,A81+4)),\"not tested\")","v":0},{"$f":"SUM(COUNTIF(INDIRECT(\"'Success Criteria'!\" & ADDRESS(74,A81+4)):INDIRECT(\"'Success Criteria'!\" & ADDRESS(115,A81+4)),\"PASS\"),COUNTIF(INDIRECT(\"'Success Criteria'!\" & ADDRESS(74,A81+4)):INDIRECT(\"'Success Criteria'!\" & ADDRESS(115,A81+4)),\"PASS with comments\"))","v":2},{"$f":"COUNTIF(INDIRECT(\"'Success Criteria'!\" & ADDRESS(74,A81+4)):INDIRECT(\"'Success Criteria'!\" & ADDRESS(115,A81+4)),\"NON conformant\")","v":0},{"$f":"COUNTIF(INDIRECT(\"'Success Criteria'!\" & ADDRESS(74,A81+4)):INDIRECT(\"'Success Criteria'!\" & ADDRESS(115,A81+4)),\"N/A\")","v":0},{"$f":"COUNTIF(INDIRECT(\"'Success Criteria'!\" & ADDRESS(74,A81+4)):INDIRECT(\"'Success Criteria'!\" & ADDRESS(115,A81+4)),\"not tested\")","v":0},{"$f":"SUM(COUNTIF(INDIRECT(\"'Success Criteria'!\" & ADDRESS(120,A81+4)):INDIRECT(\"'Success Criteria'!\" & ADDRESS(174,A81+4)),\"PASS\"),COUNTIF(INDIRECT(\"'Success Criteria'!\" & ADDRESS(120,A81+4)):INDIRECT(\"'Success Criteria'!\" & ADDRESS(174,A81+4)),\"PASS with comments\"))","v":0},{"$f":"COUNTIF(INDIRECT(\"'Success Criteria'!\" & ADDRESS(120,A81+4)):INDIRECT(\"'Success Criteria'!\" & ADDRESS(174,A81+4)),\"NON conformant\")","v":0},{"$f":"COUNTIF(INDIRECT(\"'Success Criteria'!\" & ADDRESS(120,A81+4)):INDIRECT(\"'Success Criteria'!\" & ADDRESS(174,A81+4)),\"N/A\")","v":0},{"$f":"COUNTIF(INDIRECT(\"'Success Criteria'!\" & ADDRESS(120,A81+4)):INDIRECT(\"'Success Criteria'!\" & ADDRESS(174,A81+4)),\"not tested\")","v":28},2,{"$f":"SUM(F81+J81+N81)","v":0},0,28,null,0,"",2,"",28,1]
[68,"Page 68","URL 68","Please select",{"$f":"SUM(COUNTIF(INDIRECT(\"'Success Criteria'!\" & ADDRESS(8,A82+4)):INDIRECT(\"'Success Criteria'!\" & ADDRESS(70,A82+4)),\"PASS\"),COUNTIF(INDIRECT(\"'Success Criteria'!\" & ADDRESS(8,A82+4)):INDIRECT(\"'Success Criteria'!\" & ADDRESS(70,A82+4)),\"PASS with comments\"))","v":0},{"$f":"COUNTIF(INDIRECT(\"'Success Criteria'!\" & ADDRESS(8,A82+4)):INDIRECT(\"'Success Criteria'!\" & ADDRESS(70,A82+4)),\"NON conformant\")","v":0},{"$f":"COUNTIF(INDIRECT(\"'Success Criteria'!\" & ADDRESS(8,A82+4)):INDIRECT(\"'Success Criteria'!\" & ADDRESS(70,A82+4)),\"N/A\")","v":0},{"$f":"COUNTIF(INDIRECT(\"'Success Criteria'!\" & ADDRESS(8,A82+4)):INDIRECT(\"'Success Criteria'!\" & ADDRESS(70,A82+4)),\"not tested\")","v":0},{"$f":"SUM(COUNTIF(INDIRECT(\"'Success Criteria'!\" & ADDRESS(74,A82+4)):INDIRECT(\"'Success Criteria'!\" & ADDRESS(115,A82+4)),\"PASS\"),COUNTIF(INDIRECT(\"'Success Criteria'!\" & ADDRESS(74,A82+4)):INDIRECT(\"'Success Criteria'!\" & ADDRESS(115,A82+4)),\"PASS with comments\"))","v":2},{"$f":"COUNTIF(INDIRECT(\"'Success Criteria'!\" & ADDRESS(74,A82+4)):INDIRECT(\"'Success Criteria'!\" & ADDRESS(115,A82+4)),\"NON conformant\")","v":0},{"$f":"COUNTIF(INDIRECT(\"'Success Criteria'!\" & ADDRESS(74,A82+4)):INDIRECT(\"'Success Criteria'!\" & ADDRESS(115,A82+4)),\"N/A\")","v":0},{"$f":"COUNTIF(INDIRECT(\"'Success Criteria'!\" & ADDRESS(74,A82+4)):INDIRECT(\"'Success Criteria'!\" & ADDRESS(115,A82+4)),\"not tested\")","v":0},{"$f":"SUM(COUNTIF(INDIRECT(\"'Success Criteria'!\" & ADDRESS(120,A82+4)):INDIRECT(\"'Success Criteria'!\" & ADDRESS(174,A82+4)),\"PASS\"),COUNTIF(INDIRECT(\"'Success Criteria'!\" & ADDRESS(120,A82+4)):INDIRECT(\"'Success Criteria'!\" & ADDRESS(174,A82+4)),\"PASS with comments\"))","v":0},{"$f":"COUNTIF(INDIRECT(\"'Success Criteria'!\" & ADDRESS(120,A82+4)):INDIRECT(\"'Success Criteria'!\" & ADDRESS(174,A82+4)),\"NON conformant\")","v":0},{"$f":"COUNTIF(INDIRECT(\"'Success Criteria'!\" & ADDRESS(120,A82+4)):INDIRECT(\"'Success Criteria'!\" & ADDRESS(174,A82+4)),\"N/A\")","v":0},{"$f":"COUNTIF(INDIRECT(\"'Success Criteria'!\" & ADDRESS(120,A82+4)):INDIRECT(\"'Success Criteria'!\" & ADDRESS(174,A82+4)),\"not tested\")","v":28},2,0,0,28,null,0,"",2,"",28,1]
[69,"Page 69","URL 69","Please select",{"$f":"SUM(COUNTIF(INDIRECT(\"'Success Criteria'!\" & ADDRESS(8,A83+4)):INDIRECT(\"'Success Criteria'!\" & ADDRESS(70,A83+4)),\"PASS\"),COUNTIF(INDIRECT(\"'Success Criteria'!\" & ADDRESS(8,A83+4)):INDIRECT(\"'Success Criteria'!\" & ADDRESS(70,A83+4)),\"PASS with comments\"))","v":0},{"$f":"COUNTIF(INDIRECT(\"'Success Criteria'!\" & ADDRESS(8,A83+4)):INDIRECT(\"'Success Criteria'!\" & ADDRESS(70,A83+4)),\"NON conformant\")","v":0},{"$f":"COUNTIF(INDIRECT(\"'Success Criteria'!\" & ADDRESS(8,A83+4)):INDIRECT(\"'Success Criteria'!\" & ADDRESS(70,A83+4)),\"N/A\")","v":0},{"$f":"COUNTIF(INDIRECT(\"'Success Criteria'!\" & ADDRESS(8,A83+4)):INDIRECT(\"'Success Criteria'!\" & ADDRESS(70,A83+4)),\"not tested\")","v":0},{"$f":"SUM(COUNTIF(INDIRECT(\"'Success Criteria'!\" & ADDRESS(74,A83+4)):INDIRECT(\"'Success Criteria'!\" & ADDRESS(115,A83+4)),\"PASS\"),COUNTIF(INDIRECT(\"'Success Criteria'!\" & ADDRESS(74,A83+4)):INDIRECT(\"'Success Criteria'!\" & ADDRESS(115,A83+4)),\"PASS with comments\"))","v":2},{"$f":"COUNTIF(INDIRECT(\"'Success Criteria'!\" & ADDRESS(74,A83+4)):INDIRECT(\"'Success Criteria'!\" & ADDRESS(115,A83+4)),\"NON conformant\")","v":0},{"$f":"COUNTIF(INDIRECT(\"'Success Criteria'!\" & ADDRESS(74,A83+4)):INDIRECT(\"'Success Criteria'!\" & ADDRESS(115,A83+4)),\"N/A\")","v":0},{"$f":"COUNTIF(INDIRECT(\"'Success Criteria'!\" & ADDRESS(74,A83+4)):INDIRECT(\"'Success Criteria'!\" & ADDRESS(115,A83+4)),\"not tested\")","v":0},{"$f":"SUM(COUNTIF(INDIRECT(\"'Success Criteria'!\" & ADDRESS(120,A83+4)):INDIRECT(\"'Success Criteria'!\" & ADDRESS(174,A83+4)),\"PASS\"),COUNTIF(INDIRECT(\"'Success Criteria'!\" & ADDRESS(120,A83+4)):INDIRECT(\"'Success Criteria'!\" & ADDRESS(174,A83+4)),\"PASS with comments\"))","v":0},{"$f":"COUNTIF(INDIRECT(\"'Success Criteria'!\" & ADDRESS(120,A83+4)):INDIRECT(\"'Success Criteria'!\" & ADDRESS(174,A83+4)),\"NON conformant\")","v":0},{"$f":"COUNTIF(INDIRECT(\"'Success Criteria'!\" & ADDRESS(120,A83+4)):INDIRECT(\"'Success Criteria'!\" & ADDRESS(174,A83+4)),\"N/A\")","v":0},{"$f":"COUNTIF(INDIRECT(\"'Success Criteria'!\" & ADDRESS(120,A83+4)):INDIRECT(\"'Success Criteria'!\" & ADDRESS(174,A83+4)),\"not tested\")","v":28},2,0,0,28,null,0,"",2,"",28,1]
[70,"Page 70","URL 70","Please select",{"$f":"SUM(COUNTIF(INDIRECT(\"'Success Criteria'!\" & ADDRESS(8,A84+4)):INDIRECT(\"'Success Criteria'!\" & ADDRESS(70,A84+4)),\"PASS\"),COUNTIF(INDIRECT(\"'Success Criteria'!\" & ADDRESS(8,A84+4)):INDIRECT(\"'Success Criteria'!\" & ADDRESS(70,A84+4)),\"PASS with comments\"))","v":0},{"$f":"COUNTIF(INDIRECT(\"'Success Criteria'!\" & ADDRESS(8,A84+4)):INDIRECT(\"'Success Criteria'!\" & ADDRESS(70,A84+4)),\"NON conformant\")","v":0},{"$f":"COUNTIF(INDIRECT(\"'Success Criteria'!\" & ADDRESS(8,A84+4)):INDIRECT(\"'Success Criteria'!\" & ADDRESS(70,A84+4)),\"N/A\")","v":0},{"$f":"COUNTIF(INDIRECT(\"'Success Criteria'!\" & ADDRESS(8,A84+4)):INDIRECT(\"'Success Criteria'!\" & ADDRESS(70,A84+4)),\"not tested\")","v":0},{"$f":"SUM(COUNTIF(INDIRECT(\"'Success Criteria'!\" & ADDRESS(74,A84+4)):INDIRECT(\"'Success Criteria'!\" & ADDRESS(115,A84+4)),\"PASS\"),COUNTIF(INDIRECT(\"'Success Criteria'!\" & ADDRESS(74,A84+4)):INDIRECT(\"'Success Criteria'!\" & ADDRESS(115,A84+4)),\"PASS with comments\"))","v":2},{"$f":"COUNTIF(INDIRECT(\"'Success Criteria'!\" & ADDRESS(74,A84+4)):INDIRECT(\"'Success Criteria'!\" & ADDRESS(115,A84+4)),\"NON conformant\")","v":0},{"$f":"COUNTIF(INDIRECT(\"'Success Criteria'!\" & ADDRESS(74,A84+4)):INDIRECT(\"'Success Criteria'!\" & ADDRESS(115,A84+4)),\"N/A\")","v":0},{"$f":"COUNTIF(INDIRECT(\"'Success Criteria'!\" & ADDRESS(74,A84+4)):INDIRECT(\"'Success Criteria'!\" & ADDRESS(115,A84+4)),\"not tested\")","v":0},{"$f":"SUM(COUNTIF(INDIRECT(\"'Success Criteria'!\" & ADDRESS(120,A84+4)):INDIRECT(\"'Success Criteria'!\" & ADDRESS(174,A84+4)),\"PASS\"),COUNTIF(INDIRECT(\"'Success Criteria'!\" & ADDRESS(120,A84+4)):INDIRECT(\"'Success Criteria'!\" & ADDRESS(174,A84+4)),\"PASS with comments\"))","v":0},{"$f":"COUNTIF(INDIRECT(\"'Success Criteria'!\" & ADDRESS(120,A84+4)):INDIRECT(\"'Success Criteria'!\" & ADDRESS(174,A84+4)),\"NON conformant\")","v":0},{"$f":"COUNTIF(INDIRECT(\"'Success Criteria'!\" & ADDRESS(120,A84+4)):INDIRECT(\"'Success Criteria'!\" & ADDRESS(174,A84+4)),\"N/A\")","v":0},{"$f":"COUNTIF(INDIRECT(\"'Success Criteria'!\" & ADDRESS(120,A84+4)):INDIRECT(\"'Success Criteria'!\" & ADDRESS(174,A84+4)),\"not tested\")","v":28},2,0,0,28,null,0,"",2,"",28,1]
[71,"Page 71","URL 71","Please select",{"$f":"SUM(COUNTIF(INDIRECT(\"'Success Criteria'!\" & ADDRESS(8,A85+4)):INDIRECT(\"'Success Criteria'!\" & ADDRESS(70,A85+4)),\"PASS\"),COUNTIF(INDIRECT(\"'Success Criteria'!\" & ADDRESS(8,A85+4)):INDIRECT(\"'Success Criteria'!\" & ADDRESS(70,A85+4)),\"PASS with comments\"))","v":0},{"$f":"COUNTIF(INDIRECT(\"'Success Criteria'!\" & ADDRESS(8,A85+4)):INDIRECT(\"'Success Criteria'!\" & ADDRESS(70,A85+4)),\"NON conformant\")","v":0},{"$f":"COUNTIF(INDIRECT(\"'Success Criteria'!\" & ADDRESS(8,A85+4)):INDIRECT(\"'Success Criteria'!\" & ADDRESS(70,A85+4)),\"N/A\")","v":0},{"$f":"COUNTIF(INDIRECT(\"'Success Criteria'!\" & ADDRESS(8,A85+4)):INDIRECT(\"'Success Criteria'!\" & ADDRESS(70,A85+4)),\"not tested\")","v":0},{"$f":"SUM(COUNTIF(INDIRECT(\"'Success Criteria'!\" & ADDRESS(74,A85+4)):INDIRECT(\"'Success Criteria'!\" & ADDRESS(115,A85+4)),\"PASS\"),COUNTIF(INDIRECT(\"'Success Criteria'!\" & ADDRESS(74,A85+4)):INDIRECT(\"'Success Criteria'!\" & ADDRESS(115,A85+4)),\"PASS with comments\"))","v":2},{"$f":"COUNTIF(INDIRECT(\"'Success Criteria'!\" & ADDRESS(74,A85+4)):INDIRECT(\"'Success Criteria'!\" & ADDRESS(115,A85+4)),\"NON conformant\")","v":0},{"$f":"COUNTIF(INDIRECT(\"'Success Criteria'!\" & ADDRESS(74,A85+4)):INDIRECT(\"'Success Criteria'!\" & ADDRESS(115,A85+4)),\"N/A\")","v":0},{"$f":"COUNTIF(INDIRECT(\"'Success Criteria'!\" & ADDRESS(74,A85+4)):INDIRECT(\"'Success Criteria'!\" & ADDRESS(115,A85+4)),\"not tested\")","v":0},{"$f":"SUM(COUNTIF(INDIRECT(\"'Success Criteria'!\" & ADDRESS(120,A85+4)):INDIRECT(\"'Success Criteria'!\" & ADDRESS(174,A85+4)),\"PASS\"),COUNTIF(INDIRECT(\"'Success Criteria'!\" & ADDRESS(120,A85+4)):INDIRECT(\"'Success Criteria'!\" & ADDRESS(174,A85+4)),\"PASS with comments\"))","v":0},{"$f":"COUNTIF(INDIRECT(\"'Success Criteria'!\" & ADDRESS(120,A85+4)):INDIRECT(\"'Success Criteria'!\" & ADDRESS(174,A85+4)),\"NON conformant\")","v":0},{"$f":"COUNTIF(INDIRECT(\"'Success Criteria'!\" & ADDRESS(120,A85+4)):INDIRECT(\"'Success Criteria'!\" & ADDRESS(174,A85+4)),\"N/A\")","v":0},{"$f":"COUNTIF(INDIRECT(\"'Success Criteria'!\" & ADDRESS(120,A85+4)):INDIRECT(\"'Success Criteria'!\" & ADDRESS(174,A85+4)),\"not tested\")","v":28},2,0,0,28,null,0,"",2,"",28,1]
[72,"Page 72","URL 72","Please select",{"$f":"SUM(COUNTIF(INDIRECT(\"'Success Criteria'!\" & ADDRESS(8,A86+4)):INDIRECT(\"'Success Criteria'!\" & ADDRESS(70,A86+4)),\"PASS\"),COUNTIF(INDIRECT(\"'Success Criteria'!\" & ADDRESS(8,A86+4)):INDIRECT(\"'Success Criteria'!\" & ADDRESS(70,A86+4)),\"PASS with comments\"))","v":0},{"$f":"COUNTIF(INDIRECT(\"'Success Criteria'!\" & ADDRESS(8,A86+4)):INDIRECT(\"'Success Criteria'!\" & ADDRESS(70,A86+4)),\"NON conformant\")","v":0},{"$f":"COUNTIF(INDIRECT(\"'Success Criteria'!\" & ADDRESS(8,A86+4)):INDIRECT(\"'Success Criteria'!\" & ADDRESS(70,A86+4)),\"N/A\")","v":0},{"$f":"COUNTIF(INDIRECT(\"'Success Criteria'!\" & ADDRESS(8,A86+4)):INDIRECT(\"'Success Criteria'!\" & ADDRESS(70,A86+4)),\"not tested\")","v":0},{"$f":"SUM(COUNTIF(INDIRECT(\"'Success Criteria'!\" & ADDRESS(74,A86+4)):INDIRECT(\"'Success Criteria'!\" & ADDRESS(115,A86+4)),\"PASS\"),COUNTIF(INDIRECT(\"'Success Criteria'!\" & ADDRESS(74,A86+4)):INDIRECT(\"'Success Criteria'!\" & ADDRESS(115,A86+4)),\"PASS with comments\"))","v":2},{"$f":"COUNTIF(INDIRECT(\"'Success Criteria'!\" & ADDRESS(74,A86+4)):INDIRECT(\"'Success Criteria'!\" & ADDRESS(115,A86+4)),\"NON conformant\")","v":0},{"$f":"COUNTIF(INDIRECT(\"'Success Criteria'!\" & ADDRESS(74,A86+4)):INDIRECT(\"'Success Criteria'!\" & ADDRESS(115,A86+4)),\"N/A\")","v":0},{"$f":"COUNTIF(INDIRECT(\"'Success Criteria'!\" & ADDRESS(74,A86+4)):INDIRECT(\"'Success Criteria'!\" & ADDRESS(115,A86+4)),\"not tested\")","v":0},{"$f":"SUM(COUNTIF(INDIRECT(\"'Success Criteria'!\" & ADDRESS(120,A86+4)):INDIRECT(\"'Success Criteria'!\" & ADDRESS(174,A86+4)),\"PASS\"),COUNTIF(INDIRECT(\"'Success Criteria'!\" & ADDRESS(120,A86+4)):INDIRECT(\"'Success Criteria'!\" & ADDRESS(174,A86+4)),\"PASS with comments\"))","v":0},{"$f":"COUNTIF(INDIRECT(\"'Success Criteria'!\" & ADDRESS(120,A86+4)):INDIRECT(\"'Success Criteria'!\" & ADDRESS(174,A86+4)),\"NON conformant\")","v":0},{"$f":"COUNTIF(INDIRECT(\"'Success Criteria'!\" & ADDRESS(120,A86+4)):INDIRECT(\"'Success Criteria'!\" & ADDRESS(174,A86+4)),\"N/A\")","v":0},{"$f":"COUNTIF(INDIRECT(\"'Success Criteria'!\" & ADDRESS(120,A86+4)):INDIRECT(\"'Success Criteria'!\" & ADDRESS(174,A86+4)),\"not tested\")","v":28},2,0,0,28,null,0,"",2,"",28,1]
[73,"Page 73","URL 73","Please select",{"$f":"SUM(COUNTIF(INDIRECT(\"'Success Criteria'!\" & ADDRESS(8,A87+4)):INDIRECT(\"'Success Criteria'!\" & ADDRESS(70,A87+4)),\"PASS\"),COUNTIF(INDIRECT(\"'Success Criteria'!\" & ADDRESS(8,A87+4)):INDIRECT(\"'Success Criteria'!\" & ADDRESS(70,A87+4)),\"PASS with comments\"))","v":0},{"$f":"COUNTIF(INDIRECT(\"'Success Criteria'!\" & ADDRESS(8,A87+4)):INDIRECT(\"'Success Criteria'!\" & ADDRESS(70,A87+4)),\"NON conformant\")","v":0},{"$f":"COUNTIF(INDIRECT(\"'Success Criteria'!\" & ADDRESS(8,A87+4)):INDIRECT(\"'Success Criteria'!\" & ADDRESS(70,A87+4)),\"N/A\")","v":0},{"$f":"COUNTIF(INDIRECT(\"'Success Criteria'!\" & ADDRESS(8,A87+4)):INDIRECT(\"'Success Criteria'!\" & ADDRESS(70,A87+4)),\"not tested\")","v":0},{"$f":"SUM(COUNTIF(INDIRECT(\"'Success Criteria'!\" & ADDRESS(74,A87+4)):INDIRECT(\"'Success Criteria'!\" & ADDRESS(115,A87+4)),\"PASS\"),COUNTIF(INDIRECT(\"'Success Criteria'!\" & ADDRESS(74,A87+4)):INDIRECT(\"'Success Criteria'!\" & ADDRESS(115,A87+4)),\"PASS with comments\"))","v":2},{"$f":"COUNTIF(INDIRECT(\"'Success Criteria'!\" & ADDRESS(74,A87+4)):INDIRECT(\"'Success Criteria'!\" & ADDRESS(115,A87+4)),\"NON conformant\")","v":0},{"$f":"COUNTIF(INDIRECT(\"'Success Criteria'!\" & ADDRESS(74,A87+4)):INDIRECT(\"'Success Criteria'!\" & ADDRESS(115,A87+4)),\"N/A\")","v":0},{"$f":"COUNTIF(INDIRECT(\"'Success Criteria'!\" & ADDRESS(74,A87+4)):INDIRECT(\"'Success Criteria'!\" & ADDRESS(115,A87+4)),\"not tested\")","v":0},{"$f":"SUM(COUNTIF(INDIRECT(\"'Success Criteria'!\" & ADDRESS(120,A87+4)):INDIRECT(\"'Success Criteria'!\" & ADDRESS(174,A87+4)),\"PASS\"),COUNTIF(INDIRECT(\"'Success Criteria'!\" & ADDRESS(120,A87+4)):INDIRECT(\"'Success Criteria'!\" & ADDRESS(174,A87+4)),\"PASS with comments\"))","v":0},{"$f":"COUNTIF(INDIRECT(\"'Success Criteria'!\" & ADDRESS(120,A87+4)):INDIRECT(\"'Success Criteria'!\" & ADDRESS(174,A87+4)),\"NON conformant\")","v":0},{"$f":"COUNTIF(INDIRECT(\"'Success Criteria'!\" & ADDRESS(120,A87+4)):INDIRECT(\"'Success Criteria'!\" & ADDRESS(174,A87+4)),\"N/A\")","v":0},{"$f":"COUNTIF(INDIRECT(\"'Success Criteria'!\" & ADDRESS(120,A87+4)):INDIRECT(\"'Success Criteria'!\" & ADDRESS(174,A87+4)),\"not tested\")","v":28},2,0,0,28,null,0,"",2,"",28,1]
[74,"Page 74","URL 74","Please select",{"$f":"SUM(COUNTIF(INDIRECT(\"'Success Criteria'!\" & ADDRESS(8,A88+4)):INDIRECT(\"'Success Criteria'!\" & ADDRESS(70,A88+4)),\"PASS\"),COUNTIF(INDIRECT(\"'Success Criteria'!\" & ADDRESS(8,A88+4)):INDIRECT(\"'Success Criteria'!\" & ADDRESS(70,A88+4)),\"PASS with comments\"))","v":0},{"$f":"COUNTIF(INDIRECT(\"'Success Criteria'!\" & ADDRESS(8,A88+4)):INDIRECT(\"'Success Criteria'!\" & ADDRESS(70,A88+4)),\"NON conformant\")","v":0},{"$f":"COUNTIF(INDIRECT(\"'Success Criteria'!\" & ADDRESS(8,A88+4)):INDIRECT(\"'Success Criteria'!\" & ADDRESS(70,A88+4)),\"N/A\")","v":0},{"$f":"COUNTIF(INDIRECT(\"'Success Criteria'!\" & ADDRESS(8,A88+4)):INDIRECT(\"'Success Criteria'!\" & ADDRESS(70,A88+4)),\"not tested\")","v":0},{"$f":"SUM(COUNTIF(INDIRECT(\"'Success Criteria'!\" & ADDRESS(74,A88+4)):INDIRECT(\"'Success Criteria'!\" & ADDRESS(115,A88+4)),\"PASS\"),COUNTIF(INDIRECT(\"'Success Criteria'!\" & ADDRESS(74,A88+4)):INDIRECT(\"'Success Criteria'!\" & ADDRESS(115,A88+4)),\"PASS with comments\"))","v":2},{"$f":"COUNTIF(INDIRECT(\"'Success Criteria'!\" & ADDRESS(74,A88+4)):INDIRECT(\"'Success Criteria'!\" & ADDRESS(115,A88+4)),\"NON conformant\")","v":0},{"$f":"COUNTIF(INDIRECT(\"'Success Criteria'!\" & ADDRESS(74,A88+4)):INDIRECT(\"'Success Criteria'!\" & ADDRESS(115,A88+4)),\"N/A\")","v":0},{"$f":"COUNTIF(INDIRECT(\"'Success Criteria'!\" & ADDRESS(74,A88+4)):INDIRECT(\"'Success Criteria'!\" & ADDRESS(115,A88+4)),\"not tested\")","v":0},{"$f":"SUM(COUNTIF(INDIRECT(\"'Success Criteria'!\" & ADDRESS(120,A88+4)):INDIRECT(\"'Success Criteria'!\" & ADDRESS(174,A88+4)),\"PASS\"),COUNTIF(INDIRECT(\"'Success Criteria'!\" & ADDRESS(120,A88+4)):INDIRECT(\"'Success Criteria'!\" & ADDRESS(174,A88+4)),\"PASS with comments\"))","v":0},{"$f":"COUNTIF(INDIRECT(\"'Success Criteria'!\" & ADDRESS(120,A88+4)):INDIRECT(\"'Success Criteria'!\" & ADDRESS(174,A88+4)),\"NON conformant\")","v":0},{"$f":"COUNTIF(INDIRECT(\"'Success Criteria'!\" & ADDRESS(120,A88+4)):INDIRECT(\"'Success Criteria'!\" & ADDRESS(174,A88+4)),\"N/A\")","v":0},{"$f":"COUNTIF(INDIRECT(\"'Success Criteria'!\" & ADDRESS(120,A88+4)):INDIRECT(\"'Success Criteria'!\" & ADDRESS(174,A88+4)),\"not tested\")","v":28},2,0,0,28,null,0,"",2,"",28,1]
[75,"Page 75","URL 75","Please select",{"$f":"SUM(COUNTIF(INDIRECT(\"'Success Criteria'!\" & ADDRESS(8,A89+4)):INDIRECT(\"'Success Criteria'!\" & ADDRESS(70,A89+4)),\"PASS\"),COUNTIF(INDIRECT(\"'Success Criteria'!\" & ADDRESS(8,A89+4)):INDIRECT(\"'Success Criteria'!\" & ADDRESS(70,A89+4)),\"PASS with comments\"))","v":0},{"$f":"COUNTIF(INDIRECT(\"'Success Criteria'!\" & ADDRESS(8,A89+4)):INDIRECT(\"'Success Criteria'!\" & ADDRESS(70,A89+4)),\"NON conformant\")","v":0},{"$f":"COUNTIF(INDIRECT(\"'Success Criteria'!\" & ADDRESS(8,A89+4)):INDIRECT(\"'Success Criteria'!\" & ADDRESS(70,A89+4)),\"N/A\")","v":0},{"$f":"COUNTIF(INDIRECT(\"'Success Criteria'!\" & ADDRESS(8,A89+4)):INDIRECT(\"'Success Criteria'!\" & ADDRESS(70,A89+4)),\"not tested\")","v":0},{"$f":"SUM(COUNTIF(INDIRECT(\"'Success Criteria'!\" & ADDRESS(74,A89+4)):INDIRECT(\"'Success Criteria'!\" & ADDRESS(115,A89+4)),\"PASS\"),COUNTIF(INDIRECT(\"'Success Criteria'!\" & ADDRESS(74,A89+4)):INDIRECT(\"'Success Criteria'!\" & ADDRESS(115,A89+4)),\"PASS with comments\"))","v":2},{"$f":"COUNTIF(INDIRECT(\"'Success Criteria'!\" & ADDRESS(74,A89+4)):INDIRECT(\"'Success Criteria'!\" & ADDRESS(115,A89+4)),\"NON conformant\")","v":0},{"$f":"COUNTIF(INDIRECT(\"'Success Criteria'!\" & ADDRESS(74,A89+4)):INDIRECT(\"'Success Criteria'!\" & ADDRESS(115,A89+4)),\"N/A\")","v":0},{"$f":"COUNTIF(INDIRECT(\"'Success Criteria'!\" & ADDRESS(74,A89+4)):INDIRECT(\"'Success Criteria'!\" & ADDRESS(115,A89+4)),\"not tested\")","v":0},{"$f":"SUM(COUNTIF(INDIRECT(\"'Success Criteria'!\" & ADDRESS(120,A89+4)):INDIRECT(\"'Success Criteria'!\" & ADDRESS(174,A89+4)),\"PASS\"),COUNTIF(INDIRECT(\"'Success Criteria'!\" & ADDRESS(120,A89+4)):INDIRECT(\"'Success Criteria'!\" & ADDRESS(174,A89+4)),\"PASS with comments\"))","v":0},{"$f":"COUNTIF(INDIRECT(\"'Success Criteria'!\" & ADDRESS(120,A89+4)):INDIRECT(\"'Success Criteria'!\" & ADDRESS(174,A89+4)),\"NON conformant\")","v":0},{"$f":"COUNTIF(INDIRECT(\"'Success Criteria'!\" & ADDRESS(120,A89+4)):INDIRECT(\"'Success Criteria'!\" & ADDRESS(174,A89+4)),\"N/A\")","v":0},{"$f":"COUNTIF(INDIRECT(\"'Success Criteria'!\" & ADDRESS(120,A89+4)):INDIRECT(\"'Success Criteria'!\" & ADDRESS(174,A89+4)),\"not tested\")","v":28},2,0,0,28,null,0,"",2,"",28,1]
[76,"Page 76","URL 76","Please select",{"$f":"SUM(COUNTIF(INDIRECT(\"'Success Criteria'!\" & ADDRESS(8,A90+4)):INDIRECT(\"'Success Criteria'!\" & ADDRESS(70,A90+4)),\"PASS\"),COUNTIF(INDIRECT(\"'Success Criteria'!\" & ADDRESS(8,A90+4)):INDIRECT(\"'Success Criteria'!\" & ADDRESS(70,A90+4)),\"PASS with comments\"))","v":0},{"$f":"COUNTIF(INDIRECT(\"'Success Criteria'!\" & ADDRESS(8,A90+4)):INDIRECT(\"'Success Criteria'!\" & ADDRESS(70,A90+4)),\"NON conformant\")","v":0},{"$f":"COUNTIF(INDIRECT(\"'Success Criteria'!\" & ADDRESS(8,A90+4)):INDIRECT(\"'Success Criteria'!\" & ADDRESS(70,A90+4)),\"N/A\")","v":0},{"$f":"COUNTIF(INDIRECT(\"'Success Criteria'!\" & ADDRESS(8,A90+4)):INDIRECT(\"'Success Criteria'!\" & ADDRESS(70,A90+4)),\"not tested\")","v":0},{"$f":"SUM(COUNTIF(INDIRECT(\"'Success Criteria'!\" & ADDRESS(74,A90+4)):INDIRECT(\"'Success Criteria'!\" & ADDRESS(115,A90+4)),\"PASS\"),COUNTIF(INDIRECT(\"'Success Criteria'!\" & ADDRESS(74,A90+4)):INDIRECT(\"'Success Criteria'!\" & ADDRESS(115,A90+4)),\"PASS with comments\"))","v":2},{"$f":"COUNTIF(INDIRECT(\"'Success Criteria'!\" & ADDRESS(74,A90+4)):INDIRECT(\"'Success Criteria'!\" & ADDRESS(115,A90+4)),\"NON conformant\")","v":0},{"$f":"COUNTIF(INDIRECT(\"'Success Criteria'!\" & ADDRESS(74,A90+4)):INDIRECT(\"'Success Criteria'!\" & ADDRESS(115,A90+4)),\"N/A\")","v":0},{"$f":"COUNTIF(INDIRECT(\"'Success Criteria'!\" & ADDRESS(74,A90+4)):INDIRECT(\"'Success Criteria'!\" & ADDRESS(115,A90+4)),\"not tested\")","v":0},{"$f":"SUM(COUNTIF(INDIRECT(\"'Success Criteria'!\" & ADDRESS(120,A90+4)):INDIRECT(\"'Success Criteria'!\" & ADDRESS(174,A90+4)),\"PASS\"),COUNTIF(INDIRECT(\"'Success Criteria'!\" & ADDRESS(120,A90+4)):INDIRECT(\"'Success Criteria'!\" & ADDRESS(174,A90+4)),\"PASS with comments\"))","v":0},{"$f":"COUNTIF(INDIRECT(\"'Success Criteria'!\" & ADDRESS(120,A90+4)):INDIRECT(\"'Success Criteria'!\" & ADDRESS(174,A90+4)),\"NON conformant\")","v":0},{"$f":"COUNTIF(INDIRECT(\"'Success Criteria'!\" & ADDRESS(120,A90+4)):INDIRECT(\"'Success Criteria'!\" & ADDRESS(174,A90+4)),\"N/A\")","v":0},{"$f":"COUNTIF(INDIRECT(\"'Success Criteria'!\" & ADDRESS(120,A90+4)):INDIRECT(\"'Success Criteria'!\" & ADDRESS(174,A90+4)),\"not tested\")","v":28},2,0,0,28,null,0,"",2,"",28,1]
[77,"Page 77","URL 77","Please select",{"$f":"SUM(COUNTIF(INDIRECT(\"'Success Criteria'!\" & ADDRESS(8,A91+4)):INDIRECT(\"'Success Criteria'!\" & ADDRESS(70,A91+4)),\"PASS\"),COUNTIF(INDIRECT(\"'Success Criteria'!\" & ADDRESS(8,A91+4)):INDIRECT(\"'Success Criteria'!\" & ADDRESS(70,A91+4)),\"PASS with comments\"))","v":0},{"$f":"COUNTIF(INDIRECT(\"'Success Criteria'!\" & ADDRESS(8,A91+4)):INDIRECT(\"'Success Criteria'!\" & ADDRESS(70,A91+4)),\"NON conformant\")","v":0},{"$f":"COUNTIF(INDIRECT(\"'Success Criteria'!\" & ADDRESS(8,A91+4)):INDIRECT(\"'Success Criteria'!\" & ADDRESS(70,A91+4)),\"N/A\")","v":0},{"$f":"COUNTIF(INDIRECT(\"'Success Criteria'!\" & ADDRESS(8,A91+4)):INDIRECT(\"'Success Criteria'!\" & ADDRESS(70,A91+4)),\"not tested\")","v":0},{"$f":"SUM(COUNTIF(INDIRECT(\"'Success Criteria'!\" & ADDRESS(74,A91+4)):INDIRECT(\"'Success Criteria'!\" & ADDRESS(115,A91+4)),\"PASS\"),COUNTIF(INDIRECT(\"'Success Criteria'!\" & ADDRESS(74,A91+4)):INDIRECT(\"'Success Criteria'!\" & ADDRESS(115,A91+4)),\"PASS with comments\"))","v":2},{"$f":"COUNTIF(INDIRECT(\"'Success Criteria'!\" & ADDRESS(74,A91+4)):INDIRECT(\"'Success Criteria'!\" & ADDRESS(115,A91+4)),\"NON conformant\")","v":0},{"$f":"COUNTIF(INDIRECT(\"'Success Criteria'!\" & ADDRESS(74,A91+4)):INDIRECT(\"'Success Criteria'!\" & ADDRESS(115,A91+4)),\"N/A\")","v":0},{"$f":"COUNTIF(INDIRECT(\"'Success Criteria'!\" & ADDRESS(74,A91+4)):INDIRECT(\"'Success Criteria'!\" & ADDRESS(115,A91+4)),\"not tested\")","v":0},{"$f":"SUM(COUNTIF(INDIRECT(\"'Success Criteria'!\" & ADDRESS(120,A91+4)):INDIRECT(\"'Success Criteria'!\" & ADDRESS(174,A91+4)),\"PASS\"),COUNTIF(INDIRECT(\"'Success Criteria'!\" & ADDRESS(120,A91+4)):INDIRECT(\"'Success Criteria'!\" & ADDRESS(174,A91+4)),\"PASS with comments\"))","v":0},{"$f":"COUNTIF(INDIRECT(\"'Success Criteria'!\" & ADDRESS(120,A91+4)):INDIRECT(\"'Success Criteria'!\" & ADDRESS(174,A91+4)),\"NON conformant\")","v":0},{"$f":"COUNTIF(INDIRECT(\"'Success Criteria'!\" & ADDRESS(120,A91+4)):INDIRECT(\"'Success Criteria'!\" & ADDRESS(174,A91+4)),\"N/A\")","v":0},{"$f":"COUNTIF(INDIRECT(\"'Success Criteria'!\" & ADDRESS(120,A91+4)):INDIRECT(\"'Success Criteria'!\" & ADDRESS(174,A91+4)),\"not tested\")","v":28},2,0,0,28,null,0,"",2,"",28,1]
[78,"Page 78","URL 78","Please select",{"$f":"SUM(COUNTIF(INDIRECT(\"'Success Criteria'!\" & ADDRESS(8,A92+4)):INDIRECT(\"'Success Criteria'!\" & ADDRESS(70,A92+4)),\"PASS\"),COUNTIF(INDIRECT(\"'Success Criteria'!\" & ADDRESS(8,A92+4)):INDIRECT(\"'Success Criteria'!\" & ADDRESS(70,A92+4)),\"PASS with comments\"))","v":0},{"$f":"COUNTIF(INDIRECT(\"'Success Criteria'!\" & ADDRESS(8,A92+4)):INDIRECT(\"'Success Criteria'!\" & ADDRESS(70,A92+4)),\"NON conformant\")","v":0},{"$f":"COUNTIF(INDIRECT(\"'Success Criteria'!\" & ADDRESS(8,A92+4)):INDIRECT(\"'Success Criteria'!\" & ADDRESS(70,A92+4)),\"N/A\")","v":0},{"$f":"COUNTIF(INDIRECT(\"'Success Criteria'!\" & ADDRESS(8,A92+4)):INDIRECT(\"'Success Criteria'!\" & ADDRESS(70,A92+4)),\"not tested\")","v":0},{"$f":"SUM(COUNTIF(INDIRECT(\"'Success Criteria'!\" & ADDRESS(74,A92+4)):INDIRECT(\"'Success Criteria'!\" & ADDRESS(115,A92+4)),\"PASS\"),COUNTIF(INDIRECT(\"'Success Criteria'!\" & ADDRESS(74,A92+4)):INDIRECT(\"'Success Criteria'!\" & ADDRESS(115,A92+4)),\"PASS with comments\"))","v":2},{"$f":"COUNTIF(INDIRECT(\"'Success Criteria'!\" & ADDRESS(74,A92+4)):INDIRECT(\"'Success Criteria'!\" & ADDRESS(115,A92+4)),\"NON conformant\")","v":0},{"$f":"COUNTIF(INDIRECT(\"'Success Criteria'!\" & ADDRESS(74,A92+4)):INDIRECT(\"'Success Criteria'!\" & ADDRESS(115,A92+4)),\"N/A\")","v":0},{"$f":"COUNTIF(INDIRECT(\"'Success Criteria'!\" & ADDRESS(74,A92+4)):INDIRECT(\"'Success Criteria'!\" & ADDRESS(115,A92+4)),\"not tested\")","v":0},{"$f":"SUM(COUNTIF(INDIRECT(\"'Success Criteria'!\" & ADDRESS(120,A92+4)):INDIRECT(\"'Success Criteria'!\" & ADDRESS(174,A92+4)),\"PASS\"),COUNTIF(INDIRECT(\"'Success Criteria'!\" & ADDRESS(120,A92+4)):INDIRECT(\"'Success Criteria'!\" & ADDRESS(174,A92+4)),\"PASS with comments\"))","v":0},{"$f":"COUNTIF(INDIRECT(\"'Success Criteria'!\" & ADDRESS(120,A92+4)):INDIRECT(\"'Success Criteria'!\" & ADDRESS(174,A92+4)),\"NON conformant\")","v":0},{"$f":"COUNTIF(INDIRECT(\"'Success Criteria'!\" & ADDRESS(120,A92+4)):INDIRECT(\"'Success Criteria'!\" & ADDRESS(174,A92+4)),\"N/A\")","v":0},{"$f":"COUNTIF(INDIRECT(\"'Success Criteria'!\" & ADDRESS(120,A92+4)):INDIRECT(\"'Success Criteria'!\" & ADDRESS(174,A92+4)),\"not tested\")","v":28},2,0,0,28,null,0,"",2,"",28,1]
[79,"Page 79","URL 79","Please select",{"$f":"SUM(COUNTIF(INDIRECT(\"'Success Criteria'!\" & ADDRESS(8,A93+4)):INDIRECT(\"'Success Criteria'!\" & ADDRESS(70,A93+4)),\"PASS\"),COUNTIF(INDIRECT(\"'Success Criteria'!\" & ADDRESS(8,A93+4)):INDIRECT(\"'Success Criteria'!\" & ADDRESS(70,A93+4)),\"PASS with comments\"))","v":0},{"$f":"COUNTIF(INDIRECT(\"'Success Criteria'!\" & ADDRESS(8,A93+4)):INDIRECT(\"'Success Criteria'!\" & ADDRESS(70,A93+4)),\"NON conformant\")","v":0},{"$f":"COUNTIF(INDIRECT(\"'Success Criteria'!\" & ADDRESS(8,A93+4)):INDIRECT(\"'Success Criteria'!\" & ADDRESS(70,A93+4)),\"N/A\")","v":0},{"$f":"COUNTIF(INDIRECT(\"'Success Criteria'!\" & ADDRESS(8,A93+4)):INDIRECT(\"'Success Criteria'!\" & ADDRESS(70,A93+4)),\"not tested\")","v":0},{"$f":"SUM(COUNTIF(INDIRECT(\"'Success Criteria'!\" & ADDRESS(74,A93+4)):INDIRECT(\"'Success Criteria'!\" & ADDRESS(115,A93+4)),\"PASS\"),COUNTIF(INDIRECT(\"'Success Criteria'!\" & ADDRESS(74,A93+4)):INDIRECT(\"'Success Criteria'!\" & ADDRESS(115,A93+4)),\"PASS with comments\"))","v":2},{"$f":"COUNTIF(INDIRECT(\"'Success Criteria'!\" & ADDRESS(74,A93+4)):INDIRECT(\"'Success Criteria'!\" & ADDRESS(115,A93+4)),\"NON conformant\")","v":0},{"$f":"COUNTIF(INDIRECT(\"'Success Criteria'!\" & ADDRESS(74,A93+4)):INDIRECT(\"'Success Criteria'!\" & ADDRESS(115,A93+4)),\"N/A\")","v":0},{"$f":"COUNTIF(INDIRECT(\"'Success Criteria'!\" & ADDRESS(74,A93+4)):INDIRECT(\"'Success Criteria'!\" & ADDRESS(115,A93+4)),\"not tested\")","v":0},{"$f":"SUM(COUNTIF(INDIRECT(\"'Success Criteria'!\" & ADDRESS(120,A93+4)):INDIRECT(\"'Success Criteria'!\" & ADDRESS(174,A93+4)),\"PASS\"),COUNTIF(INDIRECT(\"'Success Criteria'!\" & ADDRESS(120,A93+4)):INDIRECT(\"'Success Criteria'!\" & ADDRESS(174,A93+4)),\"PASS with comments\"))","v":0},{"$f":"COUNTIF(INDIRECT(\"'Success Criteria'!\" & ADDRESS(120,A93+4)):INDIRECT(\"'Success Criteria'!\" & ADDRESS(174,A93+4)),\"NON conformant\")","v":0},{"$f":"COUNTIF(INDIRECT(\"'Success Criteria'!\" & ADDRESS(120,A93+4)):INDIRECT(\"'Success Criteria'!\" & ADDRESS(174,A93+4)),\"N/A\")","v":0},{"$f":"COUNTIF(INDIRECT(\"'Success Criteria'!\" & ADDRESS(120,A93+4)):INDIRECT(\"'Success Criteria'!\" & ADDRESS(174,A93+4)),\"not tested\")","v":28},2,0,0,28,null,0,"",2,"",28,1]
[80,"Page 80","URL 80","Please select",{"$f":"SUM(COUNTIF(INDIRECT(\"'Success Criteria'!\" & ADDRESS(8,A94+4)):INDIRECT(\"'Success Criteria'!\" & ADDRESS(70,A94+4)),\"PASS\"),COUNTIF(INDIRECT(\"'Success Criteria'!\" & ADDRESS(8,A94+4)):INDIRECT(\"'Success Criteria'!\" & ADDRESS(70,A94+4)),\"PASS with comments\"))","v":0},{"$f":"COUNTIF(INDIRECT(\"'Success Criteria'!\" & ADDRESS(8,A94+4)):INDIRECT(\"'Success Criteria'!\" & ADDRESS(70,A94+4)),\"NON conformant\")","v":0},{"$f":"COUNTIF(INDIRECT(\"'Success Criteria'!\" & ADDRESS(8,A94+4)):INDIRECT(\"'Success Criteria'!\" & ADDRESS(70,A94+4)),\"N/A\")","v":0},{"$f":"COUNTIF(INDIRECT(\"'Success Criteria'!\" & ADDRESS(8,A94+4)):INDIRECT(\"'Success Criteria'!\" & ADDRESS(70,A94+4)),\"not tested\")","v":0},{"$f":"SUM(COUNTIF(INDIRECT(\"'Success Criteria'!\" & ADDRESS(74,A94+4)):INDIRECT(\"'Success Criteria'!\" & ADDRESS(115,A94+4)),\"PASS\"),COUNTIF(INDIRECT(\"'Success Criteria'!\" & ADDRESS(74,A94+4)):INDIRECT(\"'Success Criteria'!\" & ADDRESS(115,A94+4)),\"PASS with comments\"))","v":2},{"$f":"COUNTIF(INDIRECT(\"'Success Criteria'!\" & ADDRESS(74,A94+4)):INDIRECT(\"'Success Criteria'!\" & ADDRESS(115,A94+4)),\"NON conformant\")","v":0},{"$f":"COUNTIF(INDIRECT(\"'Success Criteria'!\" & ADDRESS(74,A94+4)):INDIRECT(\"'Success Criteria'!\" & ADDRESS(115,A94+4)),\"N/A\")","v":0},{"$f":"COUNTIF(INDIRECT(\"'Success Criteria'!\" & ADDRESS(74,A94+4)):INDIRECT(\"'Success Criteria'!\" & ADDRESS(115,A94+4)),\"not tested\")","v":0},{"$f":"SUM(COUNTIF(INDIRECT(\"'Success Criteria'!\" & ADDRESS(120,A94+4)):INDIRECT(\"'Success Criteria'!\" & ADDRESS(174,A94+4)),\"PASS\"),COUNTIF(INDIRECT(\"'Success Criteria'!\" & ADDRESS(120,A94+4)):INDIRECT(\"'Success Criteria'!\" & ADDRESS(174,A94+4)),\"PASS with comments\"))","v":0},{"$f":"COUNTIF(INDIRECT(\"'Success Criteria'!\" & ADDRESS(120,A94+4)):INDIRECT(\"'Success Criteria'!\" & ADDRESS(174,A94+4)),\"NON conformant\")","v":0},{"$f":"COUNTIF(INDIRECT(\"'Success Criteria'!\" & ADDRESS(120,A94+4)):INDIRECT(\"'Success Criteria'!\" & ADDRESS(174,A94+4)),\"N/A\")","v":0},{"$f":"COUNTIF(INDIRECT(\"'Success Criteria'!\" & ADDRESS(120,A94+4)):INDIRECT(\"'Success Criteria'!\" & ADDRESS(174,A94+4)),\"not tested\")","v":28},2,0,0,28,null,0,"",2,"",28,1]
[81,"Page 81","URL 81","Please select",{"$f":"SUM(COUNTIF(INDIRECT(\"'Success Criteria'!\" & ADDRESS(8,A95+4)):INDIRECT(\"'Success Criteria'!\" & ADDRESS(70,A95+4)),\"PASS\"),COUNTIF(INDIRECT(\"'Success Criteria'!\" & ADDRESS(8,A95+4)):INDIRECT(\"'Success Criteria'!\" & ADDRESS(70,A95+4)),\"PASS with comments\"))","v":0},{"$f":"COUNTIF(INDIRECT(\"'Success Criteria'!\" & ADDRESS(8,A95+4)):INDIRECT(\"'Success Criteria'!\" & ADDRESS(70,A95+4)),\"NON conformant\")","v":0},{"$f":"COUNTIF(INDIRECT(\"'Success Criteria'!\" & ADDRESS(8,A95+4)):INDIRECT(\"'Success Criteria'!\" & ADDRESS(70,A95+4)),\"N/A\")","v":0},{"$f":"COUNTIF(INDIRECT(\"'Success Criteria'!\" & ADDRESS(8,A95+4)):INDIRECT(\"'Success Criteria'!\" & ADDRESS(70,A95+4)),\"not tested\")","v":0},{"$f":"SUM(COUNTIF(INDIRECT(\"'Success Criteria'!\" & ADDRESS(74,A95+4)):INDIRECT(\"'Success Criteria'!\" & ADDRESS(115,A95+4)),\"PASS\"),COUNTIF(INDIRECT(\"'Success Criteria'!\" & ADDRESS(74,A95+4)):INDIRECT(\"'Success Criteria'!\" & ADDRESS(115,A95+4)),\"PASS with comments\"))","v":2},{"$f":"COUNTIF(INDIRECT(\"'Success Criteria'!\" & ADDRESS(74,A95+4)):INDIRECT(\"'Success Criteria'!\" & ADDRESS(115,A95+4)),\"NON conformant\")","v":0},{"$f":"COUNTIF(INDIRECT(\"'Success Criteria'!\" & ADDRESS(74,A95+4)):INDIRECT(\"'Success Criteria'!\" & ADDRESS(115,A95+4)),\"N/A\")","v":0},{"$f":"COUNTIF(INDIRECT(\"'Success Criteria'!\" & ADDRESS(74,A95+4)):INDIRECT(\"'Success Criteria'!\" & ADDRESS(115,A95+4)),\"not tested\")","v":0},{"$f":"SUM(COUNTIF(INDIRECT(\"'Success Criteria'!\" & ADDRESS(120,A95+4)):INDIRECT(\"'Success Criteria'!\" & ADDRESS(174,A95+4)),\"PASS\"),COUNTIF(INDIRECT(\"'Success Criteria'!\" & ADDRESS(120,A95+4)):INDIRECT(\"'Success Criteria'!\" & ADDRESS(174,A95+4)),\"PASS with comments\"))","v":0},{"$f":"COUNTIF(INDIRECT(\"'Success Criteria'!\" & ADDRESS(120,A95+4)):INDIRECT(\"'Success Criteria'!\" & ADDRESS(174,A95+4)),\"NON conformant\")","v":0},{"$f":"COUNTIF(INDIRECT(\"'Success Criteria'!\" & ADDRESS(120,A95+4)):INDIRECT(\"'Success Criteria'!\" & ADDRESS(174,A95+4)),\"N/A\")","v":0},{"$f":"COUNTIF(INDIRECT(\"'Success Criteria'!\" & ADDRESS(120,A95+4)):INDIRECT(\"'Success Criteria'!\" & ADDRESS(174,A95+4)),\"not tested\")","v":28},2,0,0,28,null,0,"",2,"",28,1]
[82,"Page 82","URL 82","Please select",{"$f":"SUM(COUNTIF(INDIRECT(\"'Success Criteria'!\" & ADDRESS(8,A96+4)):INDIRECT(\"'Success Criteria'!\" & ADDRESS(70,A96+4)),\"PASS\"),COUNTIF(INDIRECT(\"'Success Criteria'!\" & ADDRESS(8,A96+4)):INDIRECT(\"'Success Criteria'!\" & ADDRESS(70,A96+4)),\"PASS with comments\"))","v":0},{"$f":"COUNTIF(INDIRECT(\"'Success Criteria'!\" & ADDRESS(8,A96+4)):INDIRECT(\"'Success Criteria'!\" & ADDRESS(70,A96+4)),\"NON conformant\")","v":0},{"$f":"COUNTIF(INDIRECT(\"'Success Criteria'!\" & ADDRESS(8,A96+4)):INDIRECT(\"'Success Criteria'!\" & ADDRESS(70,A96+4)),\"N/A\")","v":0},{"$f":"COUNTIF(INDIRECT(\"'Success Criteria'!\" & ADDRESS(8,A96+4)):INDIRECT(\"'Success Criteria'!\" & ADDRESS(70,A96+4)),\"not tested\")","v":0},{"$f":"SUM(COUNTIF(INDIRECT(\"'Success Criteria'!\" & ADDRESS(74,A96+4)):INDIRECT(\"'Success Criteria'!\" & ADDRESS(115,A96+4)),\"PASS\"),COUNTIF(INDIRECT(\"'Success Criteria'!\" & ADDRESS(74,A96+4)):INDIRECT(\"'Success Criteria'!\" & ADDRESS(115,A96+4)),\"PASS with comments\"))","v":2},{"$f":"COUNTIF(INDIRECT(\"'Success Criteria'!\" & ADDRESS(74,A96+4)):INDIRECT(\"'Success Criteria'!\" & ADDRESS(115,A96+4)),\"NON conformant\")","v":0},{"$f":"COUNTIF(INDIRECT(\"'Success Criteria'!\" & ADDRESS(74,A96+4)):INDIRECT(\"'Success Criteria'!\" & ADDRESS(115,A96+4)),\"N/A\")","v":0},{"$f":"COUNTIF(INDIRECT(\"'Success Criteria'!\" & ADDRESS(74,A96+4)):INDIRECT(\"'Success Criteria'!\" & ADDRESS(115,A96+4)),\"not tested\")","v":0},{"$f":"SUM(COUNTIF(INDIRECT(\"'Success Criteria'!\" & ADDRESS(120,A96+4)):INDIRECT(\"'Success Criteria'!\" & ADDRESS(174,A96+4)),\"PASS\"),COUNTIF(INDIRECT(\"'Success Criteria'!\" & ADDRESS(120,A96+4)):INDIRECT(\"'Success Criteria'!\" & ADDRESS(174,A96+4)),\"PASS with comments\"))","v":0},{"$f":"COUNTIF(INDIRECT(\"'Success Criteria'!\" & ADDRESS(120,A96+4)):INDIRECT(\"'Success Criteria'!\" & ADDRESS(174,A96+4)),\"NON conformant\")","v":0},{"$f":"COUNTIF(INDIRECT(\"'Success Criteria'!\" & ADDRESS(120,A96+4)):INDIRECT(\"'Success Criteria'!\" & ADDRESS(174,A96+4)),\"N/A\")","v":0},{"$f":"COUNTIF(INDIRECT(\"'Success Criteria'!\" & ADDRESS(120,A96+4)):INDIRECT(\"'Success Criteria'!\" & ADDRESS(174,A96+4)),\"not tested\")","v":28},2,0,0,28,null,0,"",2,"",28,1]
[83,"Page 83","URL 83","Please select",{"$f":"SUM(COUNTIF(INDIRECT(\"'Success Criteria'!\" & ADDRESS(8,A97+4)):INDIRECT(\"'Success Criteria'!\" & ADDRESS(70,A97+4)),\"PASS\"),COUNTIF(INDIRECT(\"'Success Criteria'!\" & ADDRESS(8,A97+4)):INDIRECT(\"'Success Criteria'!\" & ADDRESS(70,A97+4)),\"PASS with comments\"))","v":0},{"$f":"COUNTIF(INDIRECT(\"'Success Criteria'!\" & ADDRESS(8,A97+4)):INDIRECT(\"'Success Criteria'!\" & ADDRESS(70,A97+4)),\"NON conformant\")","v":0},{"$f":"COUNTIF(INDIRECT(\"'Success Criteria'!\" & ADDRESS(8,A97+4)):INDIRECT(\"'Success Criteria'!\" & ADDRESS(70,A97+4)),\"N/A\")","v":0},{"$f":"COUNTIF(INDIRECT(\"'Success Criteria'!\" & ADDRESS(8,A97+4)):INDIRECT(\"'Success Criteria'!\" & ADDRESS(70,A97+4)),\"not tested\")","v":0},{"$f":"SUM(COUNTIF(INDIRECT(\"'Success Criteria'!\" & ADDRESS(74,A97+4)):INDIRECT(\"'Success Criteria'!\" & ADDRESS(115,A97+4)),\"PASS\"),COUNTIF(INDIRECT(\"'Success Criteria'!\" & ADDRESS(74,A97+4)):INDIRECT(\"'Success Criteria'!\" & ADDRESS(115,A97+4)),\"PASS with comments\"))","v":2},{"$f":"COUNTIF(INDIRECT(\"'Success Criteria'!\" & ADDRESS(74,A97+4)):INDIRECT(\"'Success Criteria'!\" & ADDRESS(115,A97+4)),\"NON conformant\")","v":0},{"$f":"COUNTIF(INDIRECT(\"'Success Criteria'!\" & ADDRESS(74,A97+4)):INDIRECT(\"'Success Criteria'!\" & ADDRESS(115,A97+4)),\"N/A\")","v":0},{"$f":"COUNTIF(INDIRECT(\"'Success Criteria'!\" & ADDRESS(74,A97+4)):INDIRECT(\"'Success Criteria'!\" & ADDRESS(115,A97+4)),\"not tested\")","v":0},{"$f":"SUM(COUNTIF(INDIRECT(\"'Success Criteria'!\" & ADDRESS(120,A97+4)):INDIRECT(\"'Success Criteria'!\" & ADDRESS(174,A97+4)),\"PASS\"),COUNTIF(INDIRECT(\"'Success Criteria'!\" & ADDRESS(120,A97+4)):INDIRECT(\"'Success Criteria'!\" & ADDRESS(174,A97+4)),\"PASS with comments\"))","v":0},{"$f":"COUNTIF(INDIRECT(\"'Success Criteria'!\" & ADDRESS(120,A97+4)):INDIRECT(\"'Success Criteria'!\" & ADDRESS(174,A97+4)),\"NON conformant\")","v":0},{"$f":"COUNTIF(INDIRECT(\"'Success Criteria'!\" & ADDRESS(120,A97+4)):INDIRECT(\"'Success Criteria'!\" & ADDRESS(174,A97+4)),\"N/A\")","v":0},{"$f":"COUNTIF(INDIRECT(\"'Success Criteria'!\" & ADDRESS(120,A97+4)):INDIRECT(\"'Success Criteria'!\" & ADDRESS(174,A97+4)),\"not tested\")","v":28},2,0,0,28,null,0,"",2,"",28,1]
[84,"Page 84","URL 84","Please select",{"$f":"SUM(COUNTIF(INDIRECT(\"'Success Criteria'!\" & ADDRESS(8,A98+4)):INDIRECT(\"'Success Criteria'!\" & ADDRESS(70,A98+4)),\"PASS\"),COUNTIF(INDIRECT(\"'Success Criteria'!\" & ADDRESS(8,A98+4)):INDIRECT(\"'Success Criteria'!\" & ADDRESS(70,A98+4)),\"PASS with comments\"))","v":0},{"$f":"COUNTIF(INDIRECT(\"'Success Criteria'!\" & ADDRESS(8,A98+4)):INDIRECT(\"'Success Criteria'!\" & ADDRESS(70,A98+4)),\"NON conformant\")","v":0},{"$f":"COUNTIF(INDIRECT(\"'Success Criteria'!\" & ADDRESS(8,A98+4)):INDIRECT(\"'Success Criteria'!\" & ADDRESS(70,A98+4)),\"N/A\")","v":0},{"$f":"COUNTIF(INDIRECT(\"'Success Criteria'!\" & ADDRESS(8,A98+4)):INDIRECT(\"'Success Criteria'!\" & ADDRESS(70,A98+4)),\"not tested\")","v":0},{"$f":"SUM(COUNTIF(INDIRECT(\"'Success Criteria'!\" & ADDRESS(74,A98+4)):INDIRECT(\"'Success Criteria'!\" & ADDRESS(115,A98+4)),\"PASS\"),COUNTIF(INDIRECT(\"'Success Criteria'!\" & ADDRESS(74,A98+4)):INDIRECT(\"'Success Criteria'!\" & ADDRESS(115,A98+4)),\"PASS with comments\"))","v":2},{"$f":"COUNTIF(INDIRECT(\"'Success Criteria'!\" & ADDRESS(74,A98+4)):INDIRECT(\"'Success Criteria'!\" & ADDRESS(115,A98+4)),\"NON conformant\")","v":0},{"$f":"COUNTIF(INDIRECT(\"'Success Criteria'!\" & ADDRESS(74,A98+4)):INDIRECT(\"'Success Criteria'!\" & ADDRESS(115,A98+4)),\"N/A\")","v":0},{"$f":"COUNTIF(INDIRECT(\"'Success Criteria'!\" & ADDRESS(74,A98+4)):INDIRECT(\"'Success Criteria'!\" & ADDRESS(115,A98+4)),\"not tested\")","v":0},{"$f":"SUM(COUNTIF(INDIRECT(\"'Success Criteria'!\" & ADDRESS(120,A98+4)):INDIRECT(\"'Success Criteria'!\" & ADDRESS(174,A98+4)),\"PASS\"),COUNTIF(INDIRECT(\"'Success Criteria'!\" & ADDRESS(120,A98+4)):INDIRECT(\"'Success Criteria'!\" & ADDRESS(174,A98+4)),\"PASS with comments\"))","v":0},{"$f":"COUNTIF(INDIRECT(\"'Success Criteria'!\" & ADDRESS(120,A98+4)):INDIRECT(\"'Success Criteria'!\" & ADDRESS(174,A98+4)),\"NON conformant\")","v":0},{"$f":"COUNTIF(INDIRECT(\"'Success Criteria'!\" & ADDRESS(120,A98+4)):INDIRECT(\"'Success Criteria'!\" & ADDRESS(174,A98+4)),\"N/A\")","v":0},{"$f":"COUNTIF(INDIRECT(\"'Success Criteria'!\" & ADDRESS(120,A98+4)):INDIRECT(\"'Success Criteria'!\" & ADDRESS(174,A98+4)),\"not tested\")","v":28},2,0,0,28,null,0,"",2,"",28,1]
[85,"Page 85","URL 85","Please select",{"$f":"SUM(COUNTIF(INDIRECT(\"'Success Criteria'!\" & ADDRESS(8,A99+4)):INDIRECT(\"'Success Criteria'!\" & ADDRESS(70,A99+4)),\"PASS\"),COUNTIF(INDIRECT(\"'Success Criteria'!\" & ADDRESS(8,A99+4)):INDIRECT(\"'Success Criteria'!\" & ADDRESS(70,A99+4)),\"PASS with comments\"))","v":0},{"$f":"COUNTIF(INDIRECT(\"'Success Criteria'!\" & ADDRESS(8,A99+4)):INDIRECT(\"'Success Criteria'!\" & ADDRESS(70,A99+4)),\"NON conformant\")","v":0},{"$f":"COUNTIF(INDIRECT(\"'Success Criteria'!\" & ADDRESS(8,A99+4)):INDIRECT(\"'Success Criteria'!\" & ADDRESS(70,A99+4)),\"N/A\")","v":0},{"$f":"COUNTIF(INDIRECT(\"'Success Criteria'!\" & ADDRESS(8,A99+4)):INDIRECT(\"'Success Criteria'!\" & ADDRESS(70,A99+4)),\"not tested\")","v":0},{"$f":"SUM(COUNTIF(INDIRECT(\"'Success Criteria'!\" & ADDRESS(74,A99+4)):INDIRECT(\"'Success Criteria'!\" & ADDRESS(115,A99+4)),\"PASS\"),COUNTIF(INDIRECT(\"'Success Criteria'!\" & ADDRESS(74,A99+4)):INDIRECT(\"'Success Criteria'!\" & ADDRESS(115,A99+4)),\"PASS with comments\"))","v":2},{"$f":"COUNTIF(INDIRECT(\"'Success Criteria'!\" & ADDRESS(74,A99+4)):INDIRECT(\"'Success Criteria'!\" & ADDRESS(115,A99+4)),\"NON conformant\")","v":0},{"$f":"COUNTIF(INDIRECT(\"'Success Criteria'!\" & ADDRESS(74,A99+4)):INDIRECT(\"'Success Criteria'!\" & ADDRESS(115,A99+4)),\"N/A\")","v":0},{"$f":"COUNTIF(INDIRECT(\"'Success Criteria'!\" & ADDRESS(74,A99+4)):INDIRECT(\"'Success Criteria'!\" & ADDRESS(115,A99+4)),\"not tested\")","v":0},{"$f":"SUM(COUNTIF(INDIRECT(\"'Success Criteria'!\" & ADDRESS(120,A99+4)):INDIRECT(\"'Success Criteria'!\" & ADDRESS(174,A99+4)),\"PASS\"),COUNTIF(INDIRECT(\"'Success Criteria'!\" & ADDRESS(120,A99+4)):INDIRECT(\"'Success Criteria'!\" & ADDRESS(174,A99+4)),\"PASS with comments\"))","v":0},{"$f":"COUNTIF(INDIRECT(\"'Success Criteria'!\" & ADDRESS(120,A99+4)):INDIRECT(\"'Success Criteria'!\" & ADDRESS(174,A99+4)),\"NON conformant\")","v":0},{"$f":"COUNTIF(INDIRECT(\"'Success Criteria'!\" & ADDRESS(120,A99+4)):INDIRECT(\"'Success Criteria'!\" & ADDRESS(174,A99+4)),\"N/A\")","v":0},{"$f":"COUNTIF(INDIRECT(\"'Success Criteria'!\" & ADDRESS(120,A99+4)):INDIRECT(\"'Success Criteria'!\" & ADDRESS(174,A99+4)),\"not tested\")","v":28},2,0,0,28,null,0,"",2,"",28,1]
[86,"Page 86","URL 86","Please select",{"$f":"SUM(COUNTIF(INDIRECT(\"'Success Criteria'!\" & ADDRESS(8,A100+4)):INDIRECT(\"'Success Criteria'!\" & ADDRESS(70,A100+4)),\"PASS\"),COUNTIF(INDIRECT(\"'Success Criteria'!\" & ADDRESS(8,A100+4)):INDIRECT(\"'Success Criteria'!\" & ADDRESS(70,A100+4)),\"PASS with comments\"))","v":0},{"$f":"COUNTIF(INDIRECT(\"'Success Criteria'!\" & ADDRESS(8,A100+4)):INDIRECT(\"'Success Criteria'!\" & ADDRESS(70,A100+4)),\"NON conformant\")","v":0},{"$f":"COUNTIF(INDIRECT(\"'Success Criteria'!\" & ADDRESS(8,A100+4)):INDIRECT(\"'Success Criteria'!\" & ADDRESS(70,A100+4)),\"N/A\")","v":0},{"$f":"COUNTIF(INDIRECT(\"'Success Criteria'!\" & ADDRESS(8,A100+4)):INDIRECT(\"'Success Criteria'!\" & ADDRESS(70,A100+4)),\"not tested\")","v":0},{"$f":"SUM(COUNTIF(INDIRECT(\"'Success Criteria'!\" & ADDRESS(74,A100+4)):INDIRECT(\"'Success Criteria'!\" & ADDRESS(115,A100+4)),\"PASS\"),COUNTIF(INDIRECT(\"'Success Criteria'!\" & ADDRESS(74,A100+4)):INDIRECT(\"'Success Criteria'!\" & ADDRESS(115,A100+4)),\"PASS with comments\"))","v":2},{"$f":"COUNTIF(INDIRECT(\"'Success Criteria'!\" & ADDRESS(74,A100+4)):INDIRECT(\"'Success Criteria'!\" & ADDRESS(115,A100+4)),\"NON conformant\")","v":0},{"$f":"COUNTIF(INDIRECT(\"'Success Criteria'!\" & ADDRESS(74,A100+4)):INDIRECT(\"'Success Criteria'!\" & ADDRESS(115,A100+4)),\"N/A\")","v":0},{"$f":"COUNTIF(INDIRECT(\"'Success Criteria'!\" & ADDRESS(74,A100+4)):INDIRECT(\"'Success Criteria'!\" & ADDRESS(115,A100+4)),\"not tested\")","v":0},{"$f":"SUM(COUNTIF(INDIRECT(\"'Success Criteria'!\" & ADDRESS(120,A100+4)):INDIRECT(\"'Success Criteria'!\" & ADDRESS(174,A100+4)),\"PASS\"),COUNTIF(INDIRECT(\"'Success Criteria'!\" & ADDRESS(120,A100+4)):INDIRECT(\"'Success Criteria'!\" & ADDRESS(174,A100+4)),\"PASS with comments\"))","v":0},{"$f":"COUNTIF(INDIRECT(\"'Success Criteria'!\" & ADDRESS(120,A100+4)):INDIRECT(\"'Success Criteria'!\" & ADDRESS(174,A100+4)),\"NON conformant\")","v":0},{"$f":"COUNTIF(INDIRECT(\"'Success Criteria'!\" & ADDRESS(120,A100+4)):INDIRECT(\"'Success Criteria'!\" & ADDRESS(174,A100+4)),\"N/A\")","v":0},{"$f":"COUNTIF(INDIRECT(\"'Success Criteria'!\" & ADDRESS(120,A100+4)):INDIRECT(\"'Success Criteria'!\" & ADDRESS(174,A100+4)),\"not tested\")","v":28},2,0,0,28,null,0,"",2,"",28,1]
[87,"Page 87","URL 87","Please select",{"$f":"SUM(COUNTIF(INDIRECT(\"'Success Criteria'!\" & ADDRESS(8,A101+4)):INDIRECT(\"'Success Criteria'!\" & ADDRESS(70,A101+4)),\"PASS\"),COUNTIF(INDIRECT(\"'Success Criteria'!\" & ADDRESS(8,A101+4)):INDIRECT(\"'Success Criteria'!\" & ADDRESS(70,A101+4)),\"PASS with comments\"))","v":0},{"$f":"COUNTIF(INDIRECT(\"'Success Criteria'!\" & ADDRESS(8,A101+4)):INDIRECT(\"'Success Criteria'!\" & ADDRESS(70,A101+4)),\"NON conformant\")","v":0},{"$f":"COUNTIF(INDIRECT(\"'Success Criteria'!\" & ADDRESS(8,A101+4)):INDIRECT(\"'Success Criteria'!\" & ADDRESS(70,A101+4)),\"N/A\")","v":0},{"$f":"COUNTIF(INDIRECT(\"'Success Criteria'!\" & ADDRESS(8,A101+4)):INDIRECT(\"'Success Criteria'!\" & ADDRESS(70,A101+4)),\"not tested\")","v":0},{"$f":"SUM(COUNTIF(INDIRECT(\"'Success Criteria'!\" & ADDRESS(74,A101+4)):INDIRECT(\"'Success Criteria'!\" & ADDRESS(115,A101+4)),\"PASS\"),COUNTIF(INDIRECT(\"'Success Criteria'!\" & ADDRESS(74,A101+4)):INDIRECT(\"'Success Criteria'!\" & ADDRESS(115,A101+4)),\"PASS with comments\"))","v":2},{"$f":"COUNTIF(INDIRECT(\"'Success Criteria'!\" & ADDRESS(74,A101+4)):INDIRECT(\"'Success Criteria'!\" & ADDRESS(115,A101+4)),\"NON conformant\")","v":0},{"$f":"COUNTIF(INDIRECT(\"'Success Criteria'!\" & ADDRESS(74,A101+4)):INDIRECT(\"'Success Criteria'!\" & ADDRESS(115,A101+4)),\"N/A\")","v":0},{"$f":"COUNTIF(INDIRECT(\"'Success Criteria'!\" & ADDRESS(74,A101+4)):INDIRECT(\"'Success Criteria'!\" & ADDRESS(115,A101+4)),\"not tested\")","v":0},{"$f":"SUM(COUNTIF(INDIRECT(\"'Success Criteria'!\" & ADDRESS(120,A101+4)):INDIRECT(\"'Success Criteria'!\" & ADDRESS(174,A101+4)),\"PASS\"),COUNTIF(INDIRECT(\"'Success Criteria'!\" & ADDRESS(120,A101+4)):INDIRECT(\"'Success Criteria'!\" & ADDRESS(174,A101+4)),\"PASS with comments\"))","v":0},{"$f":"COUNTIF(INDIRECT(\"'Success Criteria'!\" & ADDRESS(120,A101+4)):INDIRECT(\"'Success Criteria'!\" & ADDRESS(174,A101+4)),\"NON conformant\")","v":0},{"$f":"COUNTIF(INDIRECT(\"'Success Criteria'!\" & ADDRESS(120,A101+4)):INDIRECT(\"'Success Criteria'!\" & ADDRESS(174,A101+4)),\"N/A\")","v":0},{"$f":"COUNTIF(INDIRECT(\"'Success Criteria'!\" & ADDRESS(120,A101+4)):INDIRECT(\"'Success Criteria'!\" & ADDRESS(174,A101+4)),\"not tested\")","v":28},2,0,0,28,null,0,"",2,"",28,1]
[88,"Page 88","URL 88","Please select",{"$f":"SUM(COUNTIF(INDIRECT(\"'Success Criteria'!\" & ADDRESS(8,A102+4)):INDIRECT(\"'Success Criteria'!\" & ADDRESS(70,A102+4)),\"PASS\"),COUNTIF(INDIRECT(\"'Success Criteria'!\" & ADDRESS(8,A102+4)):INDIRECT(\"'Success Criteria'!\" & ADDRESS(70,A102+4)),\"PASS with comments\"))","v":0},{"$f":"COUNTIF(INDIRECT(\"'Success Criteria'!\" & ADDRESS(8,A102+4)):INDIRECT(\"'Success Criteria'!\" & ADDRESS(70,A102+4)),\"NON conformant\")","v":0},{"$f":"COUNTIF(INDIRECT(\"'Success Criteria'!\" & ADDRESS(8,A102+4)):INDIRECT(\"'Success Criteria'!\" & ADDRESS(70,A102+4)),\"N/A\")","v":0},{"$f":"COUNTIF(INDIRECT(\"'Success Criteria'!\" & ADDRESS(8,A102+4)):INDIRECT(\"'Success Criteria'!\" & ADDRESS(70,A102+4)),\"not tested\")","v":0},{"$f":"SUM(COUNTIF(INDIRECT(\"'Success Criteria'!\" & ADDRESS(74,A102+4)):INDIRECT(\"'Success Criteria'!\" & ADDRESS(115,A102+4)),\"PASS\"),COUNTIF(INDIRECT(\"'Success Criteria'!\" & ADDRESS(74,A102+4)):INDIRECT(\"'Success Criteria'!\" & ADDRESS(115,A102+4)),\"PASS with comments\"))","v":2},{"$f":"COUNTIF(INDIRECT(\"'Success Criteria'!\" & ADDRESS(74,A102+4)):INDIRECT(\"'Success Criteria'!\" & ADDRESS(115,A102+4)),\"NON conformant\")","v":0},{"$f":"COUNTIF(INDIRECT(\"'Success Criteria'!\" & ADDRESS(74,A102+4)):INDIRECT(\"'Success Criteria'!\" & ADDRESS(115,A102+4)),\"N/A\")","v":0},{"$f":"COUNTIF(INDIRECT(\"'Success Criteria'!\" & ADDRESS(74,A102+4)):INDIRECT(\"'Success Criteria'!\" & ADDRESS(115,A102+4)),\"not tested\")","v":0},{"$f":"SUM(COUNTIF(INDIRECT(\"'Success Criteria'!\" & ADDRESS(120,A102+4)):INDIRECT(\"'Success Criteria'!\" & ADDRESS(174,A102+4)),\"PASS\"),COUNTIF(INDIRECT(\"'Success Criteria'!\" & ADDRESS(120,A102+4)):INDIRECT(\"'Success Criteria'!\" & ADDRESS(174,A102+4)),\"PASS with comments\"))","v":0},{"$f":"COUNTIF(INDIRECT(\"'Success Criteria'!\" & ADDRESS(120,A102+4)):INDIRECT(\"'Success Criteria'!\" & ADDRESS(174,A102+4)),\"NON conformant\")","v":0},{"$f":"COUNTIF(INDIRECT(\"'Success Criteria'!\" & ADDRESS(120,A102+4)):INDIRECT(\"'Success Criteria'!\" & ADDRESS(174,A102+4)),\"N/A\")","v":0},{"$f":"COUNTIF(INDIRECT(\"'Success Criteria'!\" & ADDRESS(120,A102+4)):INDIRECT(\"'Success Criteria'!\" & ADDRESS(174,A102+4)),\"not tested\")","v":28},2,0,0,28,null,0,"",2,"",28,1]
[89,"Page 89","URL 89","Please select",{"$f":"SUM(COUNTIF(INDIRECT(\"'Success Criteria'!\" & ADDRESS(8,A103+4)):INDIRECT(\"'Success Criteria'!\" & ADDRESS(70,A103+4)),\"PASS\"),COUNTIF(INDIRECT(\"'Success Criteria'!\" & ADDRESS(8,A103+4)):INDIRECT(\"'Success Criteria'!\" & ADDRESS(70,A103+4)),\"PASS with comments\"))","v":0},{"$f":"COUNTIF(INDIRECT(\"'Success Criteria'!\" & ADDRESS(8,A103+4)):INDIRECT(\"'Success Criteria'!\" & ADDRESS(70,A103+4)),\"NON conformant\")","v":0},{"$f":"COUNTIF(INDIRECT(\"'Success Criteria'!\" & ADDRESS(8,A103+4)):INDIRECT(\"'Success Criteria'!\" & ADDRESS(70,A103+4)),\"N/A\")","v":0},{"$f":"COUNTIF(INDIRECT(\"'Success Criteria'!\" & ADDRESS(8,A103+4)):INDIRECT(\"'Success Criteria'!\" & ADDRESS(70,A103+4)),\"not tested\")","v":0},{"$f":"SUM(COUNTIF(INDIRECT(\"'Success Criteria'!\" & ADDRESS(74,A103+4)):INDIRECT(\"'Success Criteria'!\" & ADDRESS(115,A103+4)),\"PASS\"),COUNTIF(INDIRECT(\"'Success Criteria'!\" & ADDRESS(74,A103+4)):INDIRECT(\"'Success Criteria'!\" & ADDRESS(115,A103+4)),\"PASS with comments\"))","v":2},{"$f":"COUNTIF(INDIRECT(\"'Success Criteria'!\" & ADDRESS(74,A103+4)):INDIRECT(\"'Success Criteria'!\" & ADDRESS(115,A103+4)),\"NON conformant\")","v":0},{"$f":"COUNTIF(INDIRECT(\"'Success Criteria'!\" & ADDRESS(74,A103+4)):INDIRECT(\"'Success Criteria'!\" & ADDRESS(115,A103+4)),\"N/A\")","v":0},{"$f":"COUNTIF(INDIRECT(\"'Success Criteria'!\" & ADDRESS(74,A103+4)):INDIRECT(\"'Success Criteria'!\" & ADDRESS(115,A103+4)),\"not tested\")","v":0},{"$f":"SUM(COUNTIF(INDIRECT(\"'Success Criteria'!\" & ADDRESS(120,A103+4)):INDIRECT(\"'Success Criteria'!\" & ADDRESS(174,A103+4)),\"PASS\"),COUNTIF(INDIRECT(\"'Success Criteria'!\" & ADDRESS(120,A103+4)):INDIRECT(\"'Success Criteria'!\" & ADDRESS(174,A103+4)),\"PASS with comments\"))","v":0},{"$f":"COUNTIF(INDIRECT(\"'Success Criteria'!\" & ADDRESS(120,A103+4)):INDIRECT(\"'Success Criteria'!\" & ADDRESS(174,A103+4)),\"NON conformant\")","v":0},{"$f":"COUNTIF(INDIRECT(\"'Success Criteria'!\" & ADDRESS(120,A103+4)):INDIRECT(\"'Success Criteria'!\" & ADDRESS(174,A103+4)),\"N/A\")","v":0},{"$f":"COUNTIF(INDIRECT(\"'Success Criteria'!\" & ADDRESS(120,A103+4)):INDIRECT(\"'Success Criteria'!\" & ADDRESS(174,A103+4)),\"not tested\")","v":28},2,0,0,28,null,0,"",2,"",28,1]
[90,"Page 90","URL 90","Please select",{"$f":"SUM(COUNTIF(INDIRECT(\"'Success Criteria'!\" & ADDRESS(8,A104+4)):INDIRECT(\"'Success Criteria'!\" & ADDRESS(70,A104+4)),\"PASS\"),COUNTIF(INDIRECT(\"'Success Criteria'!\" & ADDRESS(8,A104+4)):INDIRECT(\"'Success Criteria'!\" & ADDRESS(70,A104+4)),\"PASS with comments\"))","v":0},{"$f":"COUNTIF(INDIRECT(\"'Success Criteria'!\" & ADDRESS(8,A104+4)):INDIRECT(\"'Success Criteria'!\" & ADDRESS(70,A104+4)),\"NON conformant\")","v":0},{"$f":"COUNTIF(INDIRECT(\"'Success Criteria'!\" & ADDRESS(8,A104+4)):INDIRECT(\"'Success Criteria'!\" & ADDRESS(70,A104+4)),\"N/A\")","v":0},{"$f":"COUNTIF(INDIRECT(\"'Success Criteria'!\" & ADDRESS(8,A104+4)):INDIRECT(\"'Success Criteria'!\" & ADDRESS(70,A104+4)),\"not tested\")","v":0},{"$f":"SUM(COUNTIF(INDIRECT(\"'Success Criteria'!\" & ADDRESS(74,A104+4)):INDIRECT(\"'Success Criteria'!\" & ADDRESS(115,A104+4)),\"PASS\"),COUNTIF(INDIRECT(\"'Success Criteria'!\" & ADDRESS(74,A104+4)):INDIRECT(\"'Success Criteria'!\" & ADDRESS(115,A104+4)),\"PASS with comments\"))","v":2},{"$f":"COUNTIF(INDIRECT(\"'Success Criteria'!\" & ADDRESS(74,A104+4)):INDIRECT(\"'Success Criteria'!\" & ADDRESS(115,A104+4)),\"NON conformant\")","v":0},{"$f":"COUNTIF(INDIRECT(\"'Success Criteria'!\" & ADDRESS(74,A104+4)):INDIRECT(\"'Success Criteria'!\" & ADDRESS(115,A104+4)),\"N/A\")","v":0},{"$f":"COUNTIF(INDIRECT(\"'Success Criteria'!\" & ADDRESS(74,A104+4)):INDIRECT(\"'Success Criteria'!\" & ADDRESS(115,A104+4)),\"not tested\")","v":0},{"$f":"SUM(COUNTIF(INDIRECT(\"'Success Criteria'!\" & ADDRESS(120,A104+4)):INDIRECT(\"'Success Criteria'!\" & ADDRESS(174,A104+4)),\"PASS\"),COUNTIF(INDIRECT(\"'Success Criteria'!\" & ADDRESS(120,A104+4)):INDIRECT(\"'Success Criteria'!\" & ADDRESS(174,A104+4)),\"PASS with comments\"))","v":0},{"$f":"COUNTIF(INDIRECT(\"'Success Criteria'!\" & ADDRESS(120,A104+4)):INDIRECT(\"'Success Criteria'!\" & ADDRESS(174,A104+4)),\"NON conformant\")","v":0},{"$f":"COUNTIF(INDIRECT(\"'Success Criteria'!\" & ADDRESS(120,A104+4)):INDIRECT(\"'Success Criteria'!\" & ADDRESS(174,A104+4)),\"N/A\")","v":0},{"$f":"COUNTIF(INDIRECT(\"'Success Criteria'!\" & ADDRESS(120,A104+4)):INDIRECT(\"'Success Criteria'!\" & ADDRESS(174,A104+4)),\"not tested\")","v":28},2,0,0,28,null,0,"",2,"",28,1]
[91,"Page 91","URL 91","Please select",{"$f":"SUM(COUNTIF(INDIRECT(\"'Success Criteria'!\" & ADDRESS(8,A105+4)):INDIRECT(\"'Success Criteria'!\" & ADDRESS(70,A105+4)),\"PASS\"),COUNTIF(INDIRECT(\"'Success Criteria'!\" & ADDRESS(8,A105+4)):INDIRECT(\"'Success Criteria'!\" & ADDRESS(70,A105+4)),\"PASS with comments\"))","v":0},{"$f":"COUNTIF(INDIRECT(\"'Success Criteria'!\" & ADDRESS(8,A105+4)):INDIRECT(\"'Success Criteria'!\" & ADDRESS(70,A105+4)),\"NON conformant\")","v":0},{"$f":"COUNTIF(INDIRECT(\"'Success Criteria'!\" & ADDRESS(8,A105+4)):INDIRECT(\"'Success Criteria'!\" & ADDRESS(70,A105+4)),\"N/A\")","v":0},{"$f":"COUNTIF(INDIRECT(\"'Success Criteria'!\" & ADDRESS(8,A105+4)):INDIRECT(\"'Success Criteria'!\" & ADDRESS(70,A105+4)),\"not tested\")","v":0},{"$f":"SUM(COUNTIF(INDIRECT(\"'Success Criteria'!\" & ADDRESS(74,A105+4)):INDIRECT(\"'Success Criteria'!\" & ADDRESS(115,A105+4)),\"PASS\"),COUNTIF(INDIRECT(\"'Success Criteria'!\" & ADDRESS(74,A105+4)):INDIRECT(\"'Success Criteria'!\" & ADDRESS(115,A105+4)),\"PASS with comments\"))","v":2},{"$f":"COUNTIF(INDIRECT(\"'Success Criteria'!\" & ADDRESS(74,A105+4)):INDIRECT(\"'Success Criteria'!\" & ADDRESS(115,A105+4)),\"NON conformant\")","v":0},{"$f":"COUNTIF(INDIRECT(\"'Success Criteria'!\" & ADDRESS(74,A105+4)):INDIRECT(\"'Success Criteria'!\" & ADDRESS(115,A105+4)),\"N/A\")","v":0},{"$f":"COUNTIF(INDIRECT(\"'Success Criteria'!\" & ADDRESS(74,A105+4)):INDIRECT(\"'Success Criteria'!\" & ADDRESS(115,A105+4)),\"not tested\")","v":0},{"$f":"SUM(COUNTIF(INDIRECT(\"'Success Criteria'!\" & ADDRESS(120,A105+4)):INDIRECT(\"'Success Criteria'!\" & ADDRESS(174,A105+4)),\"PASS\"),COUNTIF(INDIRECT(\"'Success Criteria'!\" & ADDRESS(120,A105+4)):INDIRECT(\"'Success Criteria'!\" & ADDRESS(174,A105+4)),\"PASS with comments\"))","v":0},{"$f":"COUNTIF(INDIRECT(\"'Success Criteria'!\" & ADDRESS(120,A105+4)):INDIRECT(\"'Success Criteria'!\" & ADDRESS(174,A105+4)),\"NON conformant\")","v":0},{"$f":"COUNTIF(INDIRECT(\"'Success Criteria'!\" & ADDRESS(120,A105+4)):INDIRECT(\"'Success Criteria'!\" & ADDRESS(174,A105+4)),\"N/A\")","v":0},{"$f":"COUNTIF(INDIRECT(\"'Success Criteria'!\" & ADDRESS(120,A105+4)):INDIRECT(\"'Success Criteria'!\" & ADDRESS(174,A105+4)),\"not tested\")","v":28},2,0,0,28,null,0,"",2,"",28,1]
[92,"Page 92","URL 92","Please select",{"$f":"SUM(COUNTIF(INDIRECT(\"'Success Criteria'!\" & ADDRESS(8,A106+4)):INDIRECT(\"'Success Criteria'!\" & ADDRESS(70,A106+4)),\"PASS\"),COUNTIF(INDIRECT(\"'Success Criteria'!\" & ADDRESS(8,A106+4)):INDIRECT(\"'Success Criteria'!\" & ADDRESS(70,A106+4)),\"PASS with comments\"))","v":0},{"$f":"COUNTIF(INDIRECT(\"'Success Criteria'!\" & ADDRESS(8,A106+4)):INDIRECT(\"'Success Criteria'!\" & ADDRESS(70,A106+4)),\"NON conformant\")","v":0},{"$f":"COUNTIF(INDIRECT(\"'Success Criteria'!\" & ADDRESS(8,A106+4)):INDIRECT(\"'Success Criteria'!\" & ADDRESS(70,A106+4)),\"N/A\")","v":0},{"$f":"COUNTIF(INDIRECT(\"'Success Criteria'!\" & ADDRESS(8,A106+4)):INDIRECT(\"'Success Criteria'!\" & ADDRESS(70,A106+4)),\"not tested\")","v":0},{"$f":"SUM(COUNTIF(INDIRECT(\"'Success Criteria'!\" & ADDRESS(74,A106+4)):INDIRECT(\"'Success Criteria'!\" & ADDRESS(115,A106+4)),\"PASS\"),COUNTIF(INDIRECT(\"'Success Criteria'!\" & ADDRESS(74,A106+4)):INDIRECT(\"'Success Criteria'!\" & ADDRESS(115,A106+4)),\"PASS with comments\"))","v":2},{"$f":"COUNTIF(INDIRECT(\"'Success Criteria'!\" & ADDRESS(74,A106+4)):INDIRECT(\"'Success Criteria'!\" & ADDRESS(115,A106+4)),\"NON conformant\")","v":0},{"$f":"COUNTIF(INDIRECT(\"'Success Criteria'!\" & ADDRESS(74,A106+4)):INDIRECT(\"'Success Criteria'!\" & ADDRESS(115,A106+4)),\"N/A\")","v":0},{"$f":"COUNTIF(INDIRECT(\"'Success Criteria'!\" & ADDRESS(74,A106+4)):INDIRECT(\"'Success Criteria'!\" & ADDRESS(115,A106+4)),\"not tested\")","v":0},{"$f":"SUM(COUNTIF(INDIRECT(\"'Success Criteria'!\" & ADDRESS(120,A106+4)):INDIRECT(\"'Success Criteria'!\" & ADDRESS(174,A106+4)),\"PASS\"),COUNTIF(INDIRECT(\"'Success Criteria'!\" & ADDRESS(120,A106+4)):INDIRECT(\"'Success Criteria'!\" & ADDRESS(174,A106+4)),\"PASS with comments\"))","v":0},{"$f":"COUNTIF(INDIRECT(\"'Success Criteria'!\" & ADDRESS(120,A106+4)):INDIRECT(\"'Success Criteria'!\" & ADDRESS(174,A106+4)),\"NON conformant\")","v":0},{"$f":"COUNTIF(INDIRECT(\"'Success Criteria'!\" & ADDRESS(120,A106+4)):INDIRECT(\"'Success Criteria'!\" & ADDRESS(174,A106+4)),\"N/A\")","v":0},{"$f":"COUNTIF(INDIRECT(\"'Success Criteria'!\" & ADDRESS(120,A106+4)):INDIRECT(\"'Success Criteria'!\" & ADDRESS(174,A106+4)),\"not tested\")","v":28},2,0,0,28,null,0,"",2,"",28,1]
[93,"Page 93","URL 93","Please select",{"$f":"SUM(COUNTIF(INDIRECT(\"'Success Criteria'!\" & ADDRESS(8,A107+4)):INDIRECT(\"'Success Criteria'!\" & ADDRESS(70,A107+4)),\"PASS\"),COUNTIF(INDIRECT(\"'Success Criteria'!\" & ADDRESS(8,A107+4)):INDIRECT(\"'Success Criteria'!\" & ADDRESS(70,A107+4)),\"PASS with comments\"))","v":0},{"$f":"COUNTIF(INDIRECT(\"'Success Criteria'!\" & ADDRESS(8,A107+4)):INDIRECT(\"'Success Criteria'!\" & ADDRESS(70,A107+4)),\"NON conformant\")","v":0},{"$f":"COUNTIF(INDIRECT(\"'Success Criteria'!\" & ADDRESS(8,A107+4)):INDIRECT(\"'Success Criteria'!\" & ADDRESS(70,A107+4)),\"N/A\")","v":0},{"$f":"COUNTIF(INDIRECT(\"'Success Criteria'!\" & ADDRESS(8,A107+4)):INDIRECT(\"'Success Criteria'!\" & ADDRESS(70,A107+4)),\"not tested\")","v":0},{"$f":"SUM(COUNTIF(INDIRECT(\"'Success Criteria'!\" & ADDRESS(74,A107+4)):INDIRECT(\"'Success Criteria'!\" & ADDRESS(115,A107+4)),\"PASS\"),COUNTIF(INDIRECT(\"'Success Criteria'!\" & ADDRESS(74,A107+4)):INDIRECT(\"'Success Criteria'!\" & ADDRESS(115,A107+4)),\"PASS with comments\"))","v":2},{"$f":"COUNTIF(INDIRECT(\"'Success Criteria'!\" & ADDRESS(74,A107+4)):INDIRECT(\"'Success Criteria'!\" & ADDRESS(115,A107+4)),\"NON conformant\")","v":0},{"$f":"COUNTIF(INDIRECT(\"'Success Criteria'!\" & ADDRESS(74,A107+4)):INDIRECT(\"'Success Criteria'!\" & ADDRESS(115,A107+4)),\"N/A\")","v":0},{"$f":"COUNTIF(INDIRECT(\"'Success Criteria'!\" & ADDRESS(74,A107+4)):INDIRECT(\"'Success Criteria'!\" & ADDRESS(115,A107+4)),\"not tested\")","v":0},{"$f":"SUM(COUNTIF(INDIRECT(\"'Success Criteria'!\" & ADDRESS(120,A107+4)):INDIRECT(\"'Success Criteria'!\" & ADDRESS(174,A107+4)),\"PASS\"),COUNTIF(INDIRECT(\"'Success Criteria'!\" & ADDRESS(120,A107+4)):INDIRECT(\"'Success Criteria'!\" & ADDRESS(174,A107+4)),\"PASS with comments\"))","v":0},{"$f":"COUNTIF(INDIRECT(\"'Success Criteria'!\" & ADDRESS(120,A107+4)):INDIRECT(\"'Success Criteria'!\" & ADDRESS(174,A107+4)),\"NON conformant\")","v":0},{"$f":"COUNTIF(INDIRECT(\"'Success Criteria'!\" & ADDRESS(120,A107+4)):INDIRECT(\"'Success Criteria'!\" & ADDRESS(174,A107+4)),\"N/A\")","v":0},{"$f":"COUNTIF(INDIRECT(\"'Success Criteria'!\" & ADDRESS(120,A107+4)):INDIRECT(\"'Success Criteria'!\" & ADDRESS(174,A107+4)),\"not tested\")","v":28},2,0,0,28,null,0,"",2,"",28,1]
[94,"Page 94","URL 94","Please select",{"$f":"SUM(COUNTIF(INDIRECT(\"'Success Criteria'!\" & ADDRESS(8,A108+4)):INDIRECT(\"'Success Criteria'!\" & ADDRESS(70,A108+4)),\"PASS\"),COUNTIF(INDIRECT(\"'Success Criteria'!\" & ADDRESS(8,A108+4)):INDIRECT(\"'Success Criteria'!\" & ADDRESS(70,A108+4)),\"PASS with comments\"))","v":0},{"$f":"COUNTIF(INDIRECT(\"'Success Criteria'!\" & ADDRESS(8,A108+4)):INDIRECT(\"'Success Criteria'!\" & ADDRESS(70,A108+4)),\"NON conformant\")","v":0},{"$f":"COUNTIF(INDIRECT(\"'Success Criteria'!\" & ADDRESS(8,A108+4)):INDIRECT(\"'Success Criteria'!\" & ADDRESS(70,A108+4)),\"N/A\")","v":0},{"$f":"COUNTIF(INDIRECT(\"'Success Criteria'!\" & ADDRESS(8,A108+4)):INDIRECT(\"'Success Criteria'!\" & ADDRESS(70,A108+4)),\"not tested\")","v":0},{"$f":"SUM(COUNTIF(INDIRECT(\"'Success Criteria'!\" & ADDRESS(74,A108+4)):INDIRECT(\"'Success Criteria'!\" & ADDRESS(115,A108+4)),\"PASS\"),COUNTIF(INDIRECT(\"'Success Criteria'!\" & ADDRESS(74,A108+4)):INDIRECT(\"'Success Criteria'!\" & ADDRESS(115,A108+4)),\"PASS with comments\"))","v":2},{"$f":"COUNTIF(INDIRECT(\"'Success Criteria'!\" & ADDRESS(74,A108+4)):INDIRECT(\"'Success Criteria'!\" & ADDRESS(115,A108+4)),\"NON conformant\")","v":0},{"$f":"COUNTIF(INDIRECT(\"'Success Criteria'!\" & ADDRESS(74,A108+4)):INDIRECT(\"'Success Criteria'!\" & ADDRESS(115,A108+4)),\"N/A\")","v":0},{"$f":"COUNTIF(INDIRECT(\"'Success Criteria'!\" & ADDRESS(74,A108+4)):INDIRECT(\"'Success Criteria'!\" & ADDRESS(115,A108+4)),\"not tested\")","v":0},{"$f":"SUM(COUNTIF(INDIRECT(\"'Success Criteria'!\" & ADDRESS(120,A108+4)):INDIRECT(\"'Success Criteria'!\" & ADDRESS(174,A108+4)),\"PASS\"),COUNTIF(INDIRECT(\"'Success Criteria'!\" & ADDRESS(120,A108+4)):INDIRECT(\"'Success Criteria'!\" & ADDRESS(174,A108+4)),\"PASS with comments\"))","v":0},{"$f":"COUNTIF(INDIRECT(\"'Success Criteria'!\" & ADDRESS(120,A108+4)):INDIRECT(\"'Success Criteria'!\" & ADDRESS(174,A108+4)),\"NON conformant\")","v":0},{"$f":"COUNTIF(INDIRECT(\"'Success Criteria'!\" & ADDRESS(120,A108+4)):INDIRECT(\"'Success Criteria'!\" & ADDRESS(174,A108+4)),\"N/A\")","v":0},{"$f":"COUNTIF(INDIRECT(\"'Success Criteria'!\" & ADDRESS(120,A108+4)):INDIRECT(\"'Success Criteria'!\" & ADDRESS(174,A108+4)),\"not tested\")","v":28},2,0,0,28,null,0,"",2,"",28,1]
[95,"Page 95","URL 95","Please select",{"$f":"SUM(COUNTIF(INDIRECT(\"'Success Criteria'!\" & ADDRESS(8,A109+4)):INDIRECT(\"'Success Criteria'!\" & ADDRESS(70,A109+4)),\"PASS\"),COUNTIF(INDIRECT(\"'Success Criteria'!\" & ADDRESS(8,A109+4)):INDIRECT(\"'Success Criteria'!\" & ADDRESS(70,A109+4)),\"PASS with comments\"))","v":0},{"$f":"COUNTIF(INDIRECT(\"'Success Criteria'!\" & ADDRESS(8,A109+4)):INDIRECT(\"'Success Criteria'!\" & ADDRESS(70,A109+4)),\"NON conformant\")","v":0},{"$f":"COUNTIF(INDIRECT(\"'Success Criteria'!\" & ADDRESS(8,A109+4)):INDIRECT(\"'Success Criteria'!\" & ADDRESS(70,A109+4)),\"N/A\")","v":0},{"$f":"COUNTIF(INDIRECT(\"'Success Criteria'!\" & ADDRESS(8,A109+4)):INDIRECT(\"'Success Criteria'!\" & ADDRESS(70,A109+4)),\"not tested\")","v":0},{"$f":"SUM(COUNTIF(INDIRECT(\"'Success Criteria'!\" & ADDRESS(74,A109+4)):INDIRECT(\"'Success Criteria'!\" & ADDRESS(115,A109+4)),\"PASS\"),COUNTIF(INDIRECT(\"'Success Criteria'!\" & ADDRESS(74,A109+4)):INDIRECT(\"'Success Criteria'!\" & ADDRESS(115,A109+4)),\"PASS with comments\"))","v":2},{"$f":"COUNTIF(INDIRECT(\"'Success Criteria'!\" & ADDRESS(74,A109+4)):INDIRECT(\"'Success Criteria'!\" & ADDRESS(115,A109+4)),\"NON conformant\")","v":0},{"$f":"COUNTIF(INDIRECT(\"'Success Criteria'!\" & ADDRESS(74,A109+4)):INDIRECT(\"'Success Criteria'!\" & ADDRESS(115,A109+4)),\"N/A\")","v":0},{"$f":"COUNTIF(INDIRECT(\"'Success Criteria'!\" & ADDRESS(74,A109+4)):INDIRECT(\"'Success Criteria'!\" & ADDRESS(115,A109+4)),\"not tested\")","v":0},{"$f":"SUM(COUNTIF(INDIRECT(\"'Success Criteria'!\" & ADDRESS(120,A109+4)):INDIRECT(\"'Success Criteria'!\" & ADDRESS(174,A109+4)),\"PASS\"),COUNTIF(INDIRECT(\"'Success Criteria'!\" & ADDRESS(120,A109+4)):INDIRECT(\"'Success Criteria'!\" & ADDRESS(174,A109+4)),\"PASS with comments\"))","v":0},{"$f":"COUNTIF(INDIRECT(\"'Success Criteria'!\" & ADDRESS(120,A109+4)):INDIRECT(\"'Success Criteria'!\" & ADDRESS(174,A109+4)),\"NON conformant\")","v":0},{"$f":"COUNTIF(INDIRECT(\"'Success Criteria'!\" & ADDRESS(120,A109+4)):INDIRECT(\"'Success Criteria'!\" & ADDRESS(174,A109+4)),\"N/A\")","v":0},{"$f":"COUNTIF(INDIRECT(\"'Success Criteria'!\" & ADDRESS(120,A109+4)):INDIRECT(\"'Success Criteria'!\" & ADDRESS(174,A109+4)),\"not tested\")","v":28},2,0,0,28,null,0,"",2,"",28,1]
[96,"Page 96","URL 96","Please select",{"$f":"SUM(COUNTIF(INDIRECT(\"'Success Criteria'!\" & ADDRESS(8,A110+4)):INDIRECT(\"'Success Criteria'!\" & ADDRESS(70,A110+4)),\"PASS\"),COUNTIF(INDIRECT(\"'Success Criteria'!\" & ADDRESS(8,A110+4)):INDIRECT(\"'Success Criteria'!\" & ADDRESS(70,A110+4)),\"PASS with comments\"))","v":0},{"$f":"COUNTIF(INDIRECT(\"'Success Criteria'!\" & ADDRESS(8,A110+4)):INDIRECT(\"'Success Criteria'!\" & ADDRESS(70,A110+4)),\"NON conformant\")","v":0},{"$f":"COUNTIF(INDIRECT(\"'Success Criteria'!\" & ADDRESS(8,A110+4)):INDIRECT(\"'Success Criteria'!\" & ADDRESS(70,A110+4)),\"N/A\")","v":0},{"$f":"COUNTIF(INDIRECT(\"'Success Criteria'!\" & ADDRESS(8,A110+4)):INDIRECT(\"'Success Criteria'!\" & ADDRESS(70,A110+4)),\"not tested\")","v":0},{"$f":"SUM(COUNTIF(INDIRECT(\"'Success Criteria'!\" & ADDRESS(74,A110+4)):INDIRECT(\"'Success Criteria'!\" & ADDRESS(115,A110+4)),\"PASS\"),COUNTIF(INDIRECT(\"'Success Criteria'!\" & ADDRESS(74,A110+4)):INDIRECT(\"'Success Criteria'!\" & ADDRESS(115,A110+4)),\"PASS with comments\"))","v":2},{"$f":"COUNTIF(INDIRECT(\"'Success Criteria'!\" & ADDRESS(74,A110+4)):INDIRECT(\"'Success Criteria'!\" & ADDRESS(115,A110+4)),\"NON conformant\")","v":0},{"$f":"COUNTIF(INDIRECT(\"'Success Criteria'!\" & ADDRESS(74,A110+4)):INDIRECT(\"'Success Criteria'!\" & ADDRESS(115,A110+4)),\"N/A\")","v":0},{"$f":"COUNTIF(INDIRECT(\"'Success Criteria'!\" & ADDRESS(74,A110+4)):INDIRECT(\"'Success Criteria'!\" & ADDRESS(115,A110+4)),\"not tested\")","v":0},{"$f":"SUM(COUNTIF(INDIRECT(\"'Success Criteria'!\" & ADDRESS(120,A110+4)):INDIRECT(\"'Success Criteria'!\" & ADDRESS(174,A110+4)),\"PASS\"),COUNTIF(INDIRECT(\"'Success Criteria'!\" & ADDRESS(120,A110+4)):INDIRECT(\"'Success Criteria'!\" & ADDRESS(174,A110+4)),\"PASS with comments\"))","v":0},{"$f":"COUNTIF(INDIRECT(\"'Success Criteria'!\" & ADDRESS(120,A110+4)):INDIRECT(\"'Success Criteria'!\" & ADDRESS(174,A110+4)),\"NON conformant\")","v":0},{"$f":"COUNTIF(INDIRECT(\"'Success Criteria'!\" & ADDRESS(120,A110+4)):INDIRECT(\"'Success Criteria'!\" & ADDRESS(174,A110+4)),\"N/A\")","v":0},{"$f":"COUNTIF(INDIRECT(\"'Success Criteria'!\" & ADDRESS(120,A110+4)):INDIRECT(\"'Success Criteria'!\" & ADDRESS(174,A110+4)),\"not tested\")","v":28},2,0,0,28,null,0,"",2,"",28,1]
[97,"Page 97","URL 97","Please select",{"$f":"SUM(COUNTIF(INDIRECT(\"'Success Criteria'!\" & ADDRESS(8,A111+4)):INDIRECT(\"'Success Criteria'!\" & ADDRESS(70,A111+4)),\"PASS\"),COUNTIF(INDIRECT(\"'Success Criteria'!\" & ADDRESS(8,A111+4)):INDIRECT(\"'Success Criteria'!\" & ADDRESS(70,A111+4)),\"PASS with comments\"))","v":0},{"$f":"COUNTIF(INDIRECT(\"'Success Criteria'!\" & ADDRESS(8,A111+4)):INDIRECT(\"'Success Criteria'!\" & ADDRESS(70,A111+4)),\"NON conformant\")","v":0},{"$f":"COUNTIF(INDIRECT(\"'Success Criteria'!\" & ADDRESS(8,A111+4)):INDIRECT(\"'Success Criteria'!\" & ADDRESS(70,A111+4)),\"N/A\")","v":0},{"$f":"COUNTIF(INDIRECT(\"'Success Criteria'!\" & ADDRESS(8,A111+4)):INDIRECT(\"'Success Criteria'!\" & ADDRESS(70,A111+4)),\"not tested\")","v":0},{"$f":"SUM(COUNTIF(INDIRECT(\"'Success Criteria'!\" & ADDRESS(74,A111+4)):INDIRECT(\"'Success Criteria'!\" & ADDRESS(115,A111+4)),\"PASS\"),COUNTIF(INDIRECT(\"'Success Criteria'!\" & ADDRESS(74,A111+4)):INDIRECT(\"'Success Criteria'!\" & ADDRESS(115,A111+4)),\"PASS with comments\"))","v":2},{"$f":"COUNTIF(INDIRECT(\"'Success Criteria'!\" & ADDRESS(74,A111+4)):INDIRECT(\"'Success Criteria'!\" & ADDRESS(115,A111+4)),\"NON conformant\")","v":0},{"$f":"COUNTIF(INDIRECT(\"'Success Criteria'!\" & ADDRESS(74,A111+4)):INDIRECT(\"'Success Criteria'!\" & ADDRESS(115,A111+4)),\"N/A\")","v":0},{"$f":"COUNTIF(INDIRECT(\"'Success Criteria'!\" & ADDRESS(74,A111+4)):INDIRECT(\"'Success Criteria'!\" & ADDRESS(115,A111+4)),\"not tested\")","v":0},{"$f":"SUM(COUNTIF(INDIRECT(\"'Success Criteria'!\" & ADDRESS(120,A111+4)):INDIRECT(\"'Success Criteria'!\" & ADDRESS(174,A111+4)),\"PASS\"),COUNTIF(INDIRECT(\"'Success Criteria'!\" & ADDRESS(120,A111+4)):INDIRECT(\"'Success Criteria'!\" & ADDRESS(174,A111+4)),\"PASS with comments\"))","v":0},{"$f":"COUNTIF(INDIRECT(\"'Success Criteria'!\" & ADDRESS(120,A111+4)):INDIRECT(\"'Success Criteria'!\" & ADDRESS(174,A111+4)),\"NON conformant\")","v":0},{"$f":"COUNTIF(INDIRECT(\"'Success Criteria'!\" & ADDRESS(120,A111+4)):INDIRECT(\"'Success Criteria'!\" & ADDRESS(174,A111+4)),\"N/A\")","v":0},{"$f":"COUNTIF(INDIRECT(\"'Success Criteria'!\" & ADDRESS(120,A111+4)):INDIRECT(\"'Success Criteria'!\" & ADDRESS(174,A111+4)),\"not tested\")","v":28},2,0,0,28,null,0,"",2,"",28,1]
[98,"Page 98","URL 98","Please select",{"$f":"SUM(COUNTIF(INDIRECT(\"'Success Criteria'!\" & ADDRESS(8,A112+4)):INDIRECT(\"'Success Criteria'!\" & ADDRESS(70,A112+4)),\"PASS\"),COUNTIF(INDIRECT(\"'Success Criteria'!\" & ADDRESS(8,A112+4)):INDIRECT(\"'Success Criteria'!\" & ADDRESS(70,A112+4)),\"PASS with comments\"))","v":0},{"$f":"COUNTIF(INDIRECT(\"'Success Criteria'!\" & ADDRESS(8,A112+4)):INDIRECT(\"'Success Criteria'!\" & ADDRESS(70,A112+4)),\"NON conformant\")","v":0},{"$f":"COUNTIF(INDIRECT(\"'Success Criteria'!\" & ADDRESS(8,A112+4)):INDIRECT(\"'Success Criteria'!\" & ADDRESS(70,A112+4)),\"N/A\")","v":0},{"$f":"COUNTIF(INDIRECT(\"'Success Criteria'!\" & ADDRESS(8,A112+4)):INDIRECT(\"'Success Criteria'!\" & ADDRESS(70,A112+4)),\"not tested\")","v":0},{"$f":"SUM(COUNTIF(INDIRECT(\"'Success Criteria'!\" & ADDRESS(74,A112+4)):INDIRECT(\"'Success Criteria'!\" & ADDRESS(115,A112+4)),\"PASS\"),COUNTIF(INDIRECT(\"'Success Criteria'!\" & ADDRESS(74,A112+4)):INDIRECT(\"'Success Criteria'!\" & ADDRESS(115,A112+4)),\"PASS with comments\"))","v":2},{"$f":"COUNTIF(INDIRECT(\"'Success Criteria'!\" & ADDRESS(74,A112+4)):INDIRECT(\"'Success Criteria'!\" & ADDRESS(115,A112+4)),\"NON conformant\")","v":0},{"$f":"COUNTIF(INDIRECT(\"'Success Criteria'!\" & ADDRESS(74,A112+4)):INDIRECT(\"'Success Criteria'!\" & ADDRESS(115,A112+4)),\"N/A\")","v":0},{"$f":"COUNTIF(INDIRECT(\"'Success Criteria'!\" & ADDRESS(74,A112+4)):INDIRECT(\"'Success Criteria'!\" & ADDRESS(115,A112+4)),\"not tested\")","v":0},{"$f":"SUM(COUNTIF(INDIRECT(\"'Success Criteria'!\" & ADDRESS(120,A112+4)):INDIRECT(\"'Success Criteria'!\" & ADDRESS(174,A112+4)),\"PASS\"),COUNTIF(INDIRECT(\"'Success Criteria'!\" & ADDRESS(120,A112+4)):INDIRECT(\"'Success Criteria'!\" & ADDRESS(174,A112+4)),\"PASS with comments\"))","v":0},{"$f":"COUNTIF(INDIRECT(\"'Success Criteria'!\" & ADDRESS(120,A112+4)):INDIRECT(\"'Success Criteria'!\" & ADDRESS(174,A112+4)),\"NON conformant\")","v":0},{"$f":"COUNTIF(INDIRECT(\"'Success Criteria'!\" & ADDRESS(120,A112+4)):INDIRECT(\"'Success Criteria'!\" & ADDRESS(174,A112+4)),\"N/A\")","v":0},{"$f":"COUNTIF(INDIRECT(\"'Success Criteria'!\" & ADDRESS(120,A112+4)):INDIRECT(\"'Success Criteria'!\" & ADDRESS(174,A112+4)),\"not tested\")","v":28},2,0,0,28,null,0,"",2,"",28,1]
[99,"Page 99","URL 99","Please select",{"$f":"SUM(COUNTIF(INDIRECT(\"'Success Criteria'!\" & ADDRESS(8,A113+4)):INDIRECT(\"'Success Criteria'!\" & ADDRESS(70,A113+4)),\"PASS\"),COUNTIF(INDIRECT(\"'Success Criteria'!\" & ADDRESS(8,A113+4)):INDIRECT(\"'Success Criteria'!\" & ADDRESS(70,A113+4)),\"PASS with comments\"))","v":0},{"$f":"COUNTIF(INDIRECT(\"'Success Criteria'!\" & ADDRESS(8,A113+4)):INDIRECT(\"'Success Criteria'!\" & ADDRESS(70,A113+4)),\"NON conformant\")","v":0},{"$f":"COUNTIF(INDIRECT(\"'Success Criteria'!\" & ADDRESS(8,A113+4)):INDIRECT(\"'Success Criteria'!\" & ADDRESS(70,A113+4)),\"N/A\")","v":0},{"$f":"COUNTIF(INDIRECT(\"'Success Criteria'!\" & ADDRESS(8,A113+4)):INDIRECT(\"'Success Criteria'!\" & ADDRESS(70,A113+4)),\"not tested\")","v":0},{"$f":"SUM(COUNTIF(INDIRECT(\"'Success Criteria'!\" & ADDRESS(74,A113+4)):INDIRECT(\"'Success Criteria'!\" & ADDRESS(115,A113+4)),\"PASS\"),COUNTIF(INDIRECT(\"'Success Criteria'!\" & ADDRESS(74,A113+4)):INDIRECT(\"'Success Criteria'!\" & ADDRESS(115,A113+4)),\"PASS with comments\"))","v":2},{"$f":"COUNTIF(INDIRECT(\"'Success Criteria'!\" & ADDRESS(74,A113+4)):INDIRECT(\"'Success Criteria'!\" & ADDRESS(115,A113+4)),\"NON conformant\")","v":0},{"$f":"COUNTIF(INDIRECT(\"'Success Criteria'!\" & ADDRESS(74,A113+4)):INDIRECT(\"'Success Criteria'!\" & ADDRESS(115,A113+4)),\"N/A\")","v":0},{"$f":"COUNTIF(INDIRECT(\"'Success Criteria'!\" & ADDRESS(74,A113+4)):INDIRECT(\"'Success Criteria'!\" & ADDRESS(115,A113+4)),\"not tested\")","v":0},{"$f":"SUM(COUNTIF(INDIRECT(\"'Success Criteria'!\" & ADDRESS(120,A113+4)):INDIRECT(\"'Success Criteria'!\" & ADDRESS(174,A113+4)),\"PASS\"),COUNTIF(INDIRECT(\"'Success Criteria'!\" & ADDRESS(120,A113+4)):INDIRECT(\"'Success Criteria'!\" & ADDRESS(174,A113+4)),\"PASS with comments\"))","v":0},{"$f":"COUNTIF(INDIRECT(\"'Success Criteria'!\" & ADDRESS(120,A113+4)):INDIRECT(\"'Success Criteria'!\" & ADDRESS(174,A113+4)),\"NON conformant\")","v":0},{"$f":"COUNTIF(INDIRECT(\"'Success Criteria'!\" & ADDRESS(120,A113+4)):INDIRECT(\"'Success Criteria'!\" & ADDRESS(174,A113+4)),\"N/A\")","v":0},{"$f":"COUNTIF(INDIRECT(\"'Success Criteria'!\" & ADDRESS(120,A113+4)):INDIRECT(\"'Success Criteria'!\" & ADDRESS(174,A113+4)),\"not tested\")","v":28},2,0,0,28,null,0,"",2,"",28,1]
[100,"Page 100","URL 100","Please select",{"$f":"SUM(COUNTIF(INDIRECT(\"'Success Criteria'!\" & ADDRESS(8,A114+4)):INDIRECT(\"'Success Criteria'!\" & ADDRESS(70,A114+4)),\"PASS\"),COUNTIF(INDIRECT(\"'Success Criteria'!\" & ADDRESS(8,A114+4)):INDIRECT(\"'Success Criteria'!\" & ADDRESS(70,A114+4)),\"PASS with comments\"))","v":0},{"$f":"COUNTIF(INDIRECT(\"'Success Criteria'!\" & ADDRESS(8,A114+4)):INDIRECT(\"'Success Criteria'!\" & ADDRESS(70,A114+4)),\"NON conformant\")","v":0},{"$f":"COUNTIF(INDIRECT(\"'Success Criteria'!\" & ADDRESS(8,A114+4)):INDIRECT(\"'Success Criteria'!\" & ADDRESS(70,A114+4)),\"N/A\")","v":0},{"$f":"COUNTIF(INDIRECT(\"'Success Criteria'!\" & ADDRESS(8,A114+4)):INDIRECT(\"'Success Criteria'!\" & ADDRESS(70,A114+4)),\"not tested\")","v":0},{"$f":"SUM(COUNTIF(INDIRECT(\"'Success Criteria'!\" & ADDRESS(74,A114+4)):INDIRECT(\"'Success Criteria'!\" & ADDRESS(115,A114+4)),\"PASS\"),COUNTIF(INDIRECT(\"'Success Criteria'!\" & ADDRESS(74,A114+4)):INDIRECT(\"'Success Criteria'!\" & ADDRESS(115,A114+4)),\"PASS with comments\"))","v":2},{"$f":"COUNTIF(INDIRECT(\"'Success Criteria'!\" & ADDRESS(74,A114+4)):INDIRECT(\"'Success Criteria'!\" & ADDRESS(115,A114+4)),\"NON conformant\")","v":0},{"$f":"COUNTIF(INDIRECT(\"'Success Criteria'!\" & ADDRESS(74,A114+4)):INDIRECT(\"'Success Criteria'!\" & ADDRESS(115,A114+4)),\"N/A\")","v":0},{"$f":"COUNTIF(INDIRECT(\"'Success Criteria'!\" & ADDRESS(74,A114+4)):INDIRECT(\"'Success Criteria'!\" & ADDRESS(115,A114+4)),\"not tested\")","v":0},{"$f":"SUM(COUNTIF(INDIRECT(\"'Success Criteria'!\" & ADDRESS(120,A114+4)):INDIRECT(\"'Success Criteria'!\" & ADDRESS(174,A114+4)),\"PASS\"),COUNTIF(INDIRECT(\"'Success Criteria'!\" & ADDRESS(120,A114+4)):INDIRECT(\"'Success Criteria'!\" & ADDRESS(174,A114+4)),\"PASS with comments\"))","v":0},{"$f":"COUNTIF(INDIRECT(\"'Success Criteria'!\" & ADDRESS(120,A114+4)):INDIRECT(\"'Success Criteria'!\" & ADDRESS(174,A114+4)),\"NON conformant\")","v":0},{"$f":"COUNTIF(INDIRECT(\"'Success Criteria'!\" & ADDRESS(120,A114+4)):INDIRECT(\"'Success Criteria'!\" & ADDRESS(174,A114+4)),\"N/A\")","v":0},{"$f":"COUNTIF(INDIRECT(\"'Success Criteria'!\" & ADDRESS(120,A114+4)):INDIRECT(\"'Success Criteria'!\" & ADDRESS(174,A114+4)),\"not tested\")","v":28},2,0,0,28,null,0,"",2,"",28,1]
[101,"Page 101","URL 101","Please select",{"$f":"SUM(COUNTIF(INDIRECT(\"'Success Criteria'!\" & ADDRESS(8,A115+4)):INDIRECT(\"'Success Criteria'!\" & ADDRESS(70,A115+4)),\"PASS\"),COUNTIF(INDIRECT(\"'Success Criteria'!\" & ADDRESS(8,A115+4)):INDIRECT(\"'Success Criteria'!\" & ADDRESS(70,A115+4)),\"PASS with comments\"))","v":0},{"$f":"COUNTIF(INDIRECT(\"'Success Criteria'!\" & ADDRESS(8,A115+4)):INDIRECT(\"'Success Criteria'!\" & ADDRESS(70,A115+4)),\"NON conformant\")","v":0},{"$f":"COUNTIF(INDIRECT(\"'Success Criteria'!\" & ADDRESS(8,A115+4)):INDIRECT(\"'Success Criteria'!\" & ADDRESS(70,A115+4)),\"N/A\")","v":0},{"$f":"COUNTIF(INDIRECT(\"'Success Criteria'!\" & ADDRESS(8,A115+4)):INDIRECT(\"'Success Criteria'!\" & ADDRESS(70,A115+4)),\"not tested\")","v":0},{"$f":"SUM(COUNTIF(INDIRECT(\"'Success Criteria'!\" & ADDRESS(74,A115+4)):INDIRECT(\"'Success Criteria'!\" & ADDRESS(115,A115+4)),\"PASS\"),COUNTIF(INDIRECT(\"'Success Criteria'!\" & ADDRESS(74,A115+4)):INDIRECT(\"'Success Criteria'!\" & ADDRESS(115,A115+4)),\"PASS with comments\"))","v":2},{"$f":"COUNTIF(INDIRECT(\"'Success Criteria'!\" & ADDRESS(74,A115+4)):INDIRECT(\"'Success Criteria'!\" & ADDRESS(115,A115+4)),\"NON conformant\")","v":0},{"$f":"COUNTIF(INDIRECT(\"'Success Criteria'!\" & ADDRESS(74,A115+4)):INDIRECT(\"'Success Criteria'!\" & ADDRESS(115,A115+4)),\"N/A\")","v":0},{"$f":"COUNTIF(INDIRECT(\"'Success Criteria'!\" & ADDRESS(74,A115+4)):INDIRECT(\"'Success Criteria'!\" & ADDRESS(115,A115+4)),\"not tested\")","v":0},{"$f":"SUM(COUNTIF(INDIRECT(\"'Success Criteria'!\" & ADDRESS(120,A115+4)):INDIRECT(\"'Success Criteria'!\" & ADDRESS(174,A115+4)),\"PASS\"),COUNTIF(INDIRECT(\"'Success Criteria'!\" & ADDRESS(120,A115+4)):INDIRECT(\"'Success Criteria'!\" & ADDRESS(174,A115+4)),\"PASS with comments\"))","v":0},{"$f":"COUNTIF(INDIRECT(\"'Success Criteria'!\" & ADDRESS(120,A115+4)):INDIRECT(\"'Success Criteria'!\" & ADDRESS(174,A115+4)),\"NON conformant\")","v":0},{"$f":"COUNTIF(INDIRECT(\"'Success Criteria'!\" & ADDRESS(120,A115+4)):INDIRECT(\"'Success Criteria'!\" & ADDRESS(174,A115+4)),\"N/A\")","v":0},{"$f":"COUNTIF(INDIRECT(\"'Success Criteria'!\" & ADDRESS(120,A115+4)):INDIRECT(\"'Success Criteria'!\" & ADDRESS(174,A115+4)),\"not tested\")","v":28},2,0,0,28,null,0,"",2,"",28,1]
[102,"Page 102","URL 102","Please select",{"$f":"SUM(COUNTIF(INDIRECT(\"'Success Criteria'!\" & ADDRESS(8,A116+4)):INDIRECT(\"'Success Criteria'!\" & ADDRESS(70,A116+4)),\"PASS\"),COUNTIF(INDIRECT(\"'Success Criteria'!\" & ADDRESS(8,A116+4)):INDIRECT(\"'Success Criteria'!\" & ADDRESS(70,A116+4)),\"PASS with comments\"))","v":0},{"$f":"COUNTIF(INDIRECT(\"'Success Criteria'!\" & ADDRESS(8,A116+4)):INDIRECT(\"'Success Criteria'!\" & ADDRESS(70,A116+4)),\"NON conformant\")","v":0},{"$f":"COUNTIF(INDIRECT(\"'Success Criteria'!\" & ADDRESS(8,A116+4)):INDIRECT(\"'Success Criteria'!\" & ADDRESS(70,A116+4)),\"N/A\")","v":0},{"$f":"COUNTIF(INDIRECT(\"'Success Criteria'!\" & ADDRESS(8,A116+4)):INDIRECT(\"'Success Criteria'!\" & ADDRESS(70,A116+4)),\"not tested\")","v":0},{"$f":"SUM(COUNTIF(INDIRECT(\"'Success Criteria'!\" & ADDRESS(74,A116+4)):INDIRECT(\"'Success Criteria'!\" & ADDRESS(115,A116+4)),\"PASS\"),COUNTIF(INDIRECT(\"'Success Criteria'!\" & ADDRESS(74,A116+4)):INDIRECT(\"'Success Criteria'!\" & ADDRESS(115,A116+4)),\"PASS with comments\"))","v":2},{"$f":"COUNTIF(INDIRECT(\"'Success Criteria'!\" & ADDRESS(74,A116+4)):INDIRECT(\"'Success Criteria'!\" & ADDRESS(115,A116+4)),\"NON conformant\")","v":0},{"$f":"COUNTIF(INDIRECT(\"'Success Criteria'!\" & ADDRESS(74,A116+4)):INDIRECT(\"'Success Criteria'!\" & ADDRESS(115,A116+4)),\"N/A\")","v":0},{"$f":"COUNTIF(INDIRECT(\"'Success Criteria'!\" & ADDRESS(74,A116+4)):INDIRECT(\"'Success Criteria'!\" & ADDRESS(115,A116+4)),\"not tested\")","v":0},{"$f":"SUM(COUNTIF(INDIRECT(\"'Success Criteria'!\" & ADDRESS(120,A116+4)):INDIRECT(\"'Success Criteria'!\" & ADDRESS(174,A116+4)),\"PASS\"),COUNTIF(INDIRECT(\"'Success Criteria'!\" & ADDRESS(120,A116+4)):INDIRECT(\"'Success Criteria'!\" & ADDRESS(174,A116+4)),\"PASS with comments\"))","v":0},{"$f":"COUNTIF(INDIRECT(\"'Success Criteria'!\" & ADDRESS(120,A116+4)):INDIRECT(\"'Success Criteria'!\" & ADDRESS(174,A116+4)),\"NON conformant\")","v":0},{"$f":"COUNTIF(INDIRECT(\"'Success Criteria'!\" & ADDRESS(120,A116+4)):INDIRECT(\"'Success Criteria'!\" & ADDRESS(174,A116+4)),\"N/A\")","v":0},{"$f":"COUNTIF(INDIRECT(\"'Success Criteria'!\" & ADDRESS(120,A116+4)):INDIRECT(\"'Success Criteria'!\" & ADDRESS(174,A116+4)),\"not tested\")","v":28},2,0,0,28,null,0,"",2,"",28,1]
[103,"Page 103","URL 103","Please select",{"$f":"SUM(COUNTIF(INDIRECT(\"'Success Criteria'!\" & ADDRESS(8,A117+4)):INDIRECT(\"'Success Criteria'!\" & ADDRESS(70,A117+4)),\"PASS\"),COUNTIF(INDIRECT(\"'Success Criteria'!\" & ADDRESS(8,A117+4)):INDIRECT(\"'Success Criteria'!\" & ADDRESS(70,A117+4)),\"PASS with comments\"))","v":0},{"$f":"COUNTIF(INDIRECT(\"'Success Criteria'!\" & ADDRESS(8,A117+4)):INDIRECT(\"'Success Criteria'!\" & ADDRESS(70,A117+4)),\"NON conformant\")","v":0},{"$f":"COUNTIF(INDIRECT(\"'Success Criteria'!\" & ADDRESS(8,A117+4)):INDIRECT(\"'Success Criteria'!\" & ADDRESS(70,A117+4)),\"N/A\")","v":0},{"$f":"COUNTIF(INDIRECT(\"'Success Criteria'!\" & ADDRESS(8,A117+4)):INDIRECT(\"'Success Criteria'!\" & ADDRESS(70,A117+4)),\"not tested\")","v":0},{"$f":"SUM(COUNTIF(INDIRECT(\"'Success Criteria'!\" & ADDRESS(74,A117+4)):INDIRECT(\"'Success Criteria'!\" & ADDRESS(115,A117+4)),\"PASS\"),COUNTIF(INDIRECT(\"'Success Criteria'!\" & ADDRESS(74,A117+4)):INDIRECT(\"'Success Criteria'!\" & ADDRESS(115,A117+4)),\"PASS with comments\"))","v":2},{"$f":"COUNTIF(INDIRECT(\"'Success Criteria'!\" & ADDRESS(74,A117+4)):INDIRECT(\"'Success Criteria'!\" & ADDRESS(115,A117+4)),\"NON conformant\")","v":0},{"$f":"COUNTIF(INDIRECT(\"'Success Criteria'!\" & ADDRESS(74,A117+4)):INDIRECT(\"'Success Criteria'!\" & ADDRESS(115,A117+4)),\"N/A\")","v":0},{"$f":"COUNTIF(INDIRECT(\"'Success Criteria'!\" & ADDRESS(74,A117+4)):INDIRECT(\"'Success Criteria'!\" & ADDRESS(115,A117+4)),\"not tested\")","v":0},{"$f":"SUM(COUNTIF(INDIRECT(\"'Success Criteria'!\" & ADDRESS(120,A117+4)):INDIRECT(\"'Success Criteria'!\" & ADDRESS(174,A117+4)),\"PASS\"),COUNTIF(INDIRECT(\"'Success Criteria'!\" & ADDRESS(120,A117+4)):INDIRECT(\"'Success Criteria'!\" & ADDRESS(174,A117+4)),\"PASS with comments\"))","v":0},{"$f":"COUNTIF(INDIRECT(\"'Success Criteria'!\" & ADDRESS(120,A117+4)):INDIRECT(\"'Success Criteria'!\" & ADDRESS(174,A117+4)),\"NON conformant\")","v":0},{"$f":"COUNTIF(INDIRECT(\"'Success Criteria'!\" & ADDRESS(120,A117+4)):INDIRECT(\"'Success Criteria'!\" & ADDRESS(174,A117+4)),\"N/A\")","v":0},{"$f":"COUNTIF(INDIRECT(\"'Success Criteria'!\" & ADDRESS(120,A117+4)):INDIRECT(\"'Success Criteria'!\" & ADDRESS(174,A117+4)),\"not tested\")","v":28},2,0,0,28,null,0,"",2,"",28,1]
[104,"Page 104","URL 104","Please select",{"$f":"SUM(COUNTIF(INDIRECT(\"'Success Criteria'!\" & ADDRESS(8,A118+4)):INDIRECT(\"'Success Criteria'!\" & ADDRESS(70,A118+4)),\"PASS\"),COUNTIF(INDIRECT(\"'Success Criteria'!\" & ADDRESS(8,A118+4)):INDIRECT(\"'Success Criteria'!\" & ADDRESS(70,A118+4)),\"PASS with comments\"))","v":0},{"$f":"COUNTIF(INDIRECT(\"'Success Criteria'!\" & ADDRESS(8,A118+4)):INDIRECT(\"'Success Criteria'!\" & ADDRESS(70,A118+4)),\"NON conformant\")","v":0},{"$f":"COUNTIF(INDIRECT(\"'Success Criteria'!\" & ADDRESS(8,A118+4)):INDIRECT(\"'Success Criteria'!\" & ADDRESS(70,A118+4)),\"N/A\")","v":0},{"$f":"COUNTIF(INDIRECT(\"'Success Criteria'!\" & ADDRESS(8,A118+4)):INDIRECT(\"'Success Criteria'!\" & ADDRESS(70,A118+4)),\"not tested\")","v":0},{"$f":"SUM(COUNTIF(INDIRECT(\"'Success Criteria'!\" & ADDRESS(74,A118+4)):INDIRECT(\"'Success Criteria'!\" & ADDRESS(115,A118+4)),\"PASS\"),COUNTIF(INDIRECT(\"'Success Criteria'!\" & ADDRESS(74,A118+4)):INDIRECT(\"'Success Criteria'!\" & ADDRESS(115,A118+4)),\"PASS with comments\"))","v":2},{"$f":"COUNTIF(INDIRECT(\"'Success Criteria'!\" & ADDRESS(74,A118+4)):INDIRECT(\"'Success Criteria'!\" & ADDRESS(115,A118+4)),\"NON conformant\")","v":0},{"$f":"COUNTIF(INDIRECT(\"'Success Criteria'!\" & ADDRESS(74,A118+4)):INDIRECT(\"'Success Criteria'!\" & ADDRESS(115,A118+4)),\"N/A\")","v":0},{"$f":"COUNTIF(INDIRECT(\"'Success Criteria'!\" & ADDRESS(74,A118+4)):INDIRECT(\"'Success Criteria'!\" & ADDRESS(115,A118+4)),\"not tested\")","v":0},{"$f":"SUM(COUNTIF(INDIRECT(\"'Success Criteria'!\" & ADDRESS(120,A118+4)):INDIRECT(\"'Success Criteria'!\" & ADDRESS(174,A118+4)),\"PASS\"),COUNTIF(INDIRECT(\"'Success Criteria'!\" & ADDRESS(120,A118+4)):INDIRECT(\"'Success Criteria'!\" & ADDRESS(174,A118+4)),\"PASS with comments\"))","v":0},{"$f":"COUNTIF(INDIRECT(\"'Success Criteria'!\" & ADDRESS(120,A118+4)):INDIRECT(\"'Success Criteria'!\" & ADDRESS(174,A118+4)),\"NON conformant\")","v":0},{"$f":"COUNTIF(INDIRECT(\"'Success Criteria'!\" & ADDRESS(120,A118+4)):INDIRECT(\"'Success Criteria'!\" & ADDRESS(174,A118+4)),\"N/A\")","v":0},{"$f":"COUNTIF(INDIRECT(\"'Success Criteria'!\" & ADDRESS(120,A118+4)):INDIRECT(\"'Success Criteria'!\" & ADDRESS(174,A118+4)),\"not tested\")","v":28},2,0,0,28,null,0,"",2,"",28,1]
[105,"Page 105","URL 105","Please select",{"$f":"SUM(COUNTIF(INDIRECT(\"'Success Criteria'!\" & ADDRESS(8,A119+4)):INDIRECT(\"'Success Criteria'!\" & ADDRESS(70,A119+4)),\"PASS\"),COUNTIF(INDIRECT(\"'Success Criteria'!\" & ADDRESS(8,A119+4)):INDIRECT(\"'Success Criteria'!\" & ADDRESS(70,A119+4)),\"PASS with comments\"))","v":0},{"$f":"COUNTIF(INDIRECT(\"'Success Criteria'!\" & ADDRESS(8,A119+4)):INDIRECT(\"'Success Criteria'!\" & ADDRESS(70,A119+4)),\"NON conformant\")","v":0},{"$f":"COUNTIF(INDIRECT(\"'Success Criteria'!\" & ADDRESS(8,A119+4)):INDIRECT(\"'Success Criteria'!\" & ADDRESS(70,A119+4)),\"N/A\")","v":0},{"$f":"COUNTIF(INDIRECT(\"'Success Criteria'!\" & ADDRESS(8,A119+4)):INDIRECT(\"'Success Criteria'!\" & ADDRESS(70,A119+4)),\"not tested\")","v":0},{"$f":"SUM(COUNTIF(INDIRECT(\"'Success Criteria'!\" & ADDRESS(74,A119+4)):INDIRECT(\"'Success Criteria'!\" & ADDRESS(115,A119+4)),\"PASS\"),COUNTIF(INDIRECT(\"'Success Criteria'!\" & ADDRESS(74,A119+4)):INDIRECT(\"'Success Criteria'!\" & ADDRESS(115,A119+4)),\"PASS with comments\"))","v":2},{"$f":"COUNTIF(INDIRECT(\"'Success Criteria'!\" & ADDRESS(74,A119+4)):INDIRECT(\"'Success Criteria'!\" & ADDRESS(115,A119+4)),\"NON conformant\")","v":0},{"$f":"COUNTIF(INDIRECT(\"'Success Criteria'!\" & ADDRESS(74,A119+4)):INDIRECT(\"'Success Criteria'!\" & ADDRESS(115,A119+4)),\"N/A\")","v":0},{"$f":"COUNTIF(INDIRECT(\"'Success Criteria'!\" & ADDRESS(74,A119+4)):INDIRECT(\"'Success Criteria'!\" & ADDRESS(115,A119+4)),\"not tested\")","v":0},{"$f":"SUM(COUNTIF(INDIRECT(\"'Success Criteria'!\" & ADDRESS(120,A119+4)):INDIRECT(\"'Success Criteria'!\" & ADDRESS(174,A119+4)),\"PASS\"),COUNTIF(INDIRECT(\"'Success Criteria'!\" & ADDRESS(120,A119+4)):INDIRECT(\"'Success Criteria'!\" & ADDRESS(174,A119+4)),\"PASS with comments\"))","v":0},{"$f":"COUNTIF(INDIRECT(\"'Success Criteria'!\" & ADDRESS(120,A119+4)):INDIRECT(\"'Success Criteria'!\" & ADDRESS(174,A119+4)),\"NON conformant\")","v":0},{"$f":"COUNTIF(INDIRECT(\"'Success Criteria'!\" & ADDRESS(120,A119+4)):INDIRECT(\"'Success Criteria'!\" & ADDRESS(174,A119+4)),\"N/A\")","v":0},{"$f":"COUNTIF(INDIRECT(\"'Success Criteria'!\" & ADDRESS(120,A119+4)):INDIRECT(\"'Success Criteria'!\" & ADDRESS(174,A119+4)),\"not tested\")","v":28},2,0,0,28,null,0,"",2,"",28,1]
[106,"Page 106","URL 106","Please select",{"$f":"SUM(COUNTIF(INDIRECT(\"'Success Criteria'!\" & ADDRESS(8,A120+4)):INDIRECT(\"'Success Criteria'!\" & ADDRESS(70,A120+4)),\"PASS\"),COUNTIF(INDIRECT(\"'Success Criteria'!\" & ADDRESS(8,A120+4)):INDIRECT(\"'Success Criteria'!\" & ADDRESS(70,A120+4)),\"PASS with comments\"))","v":0},{"$f":"COUNTIF(INDIRECT(\"'Success Criteria'!\" & ADDRESS(8,A120+4)):INDIRECT(\"'Success Criteria'!\" & ADDRESS(70,A120+4)),\"NON conformant\")","v":0},{"$f":"COUNTIF(INDIRECT(\"'Success Criteria'!\" & ADDRESS(8,A120+4)):INDIRECT(\"'Success Criteria'!\" & ADDRESS(70,A120+4)),\"N/A\")","v":0},{"$f":"COUNTIF(INDIRECT(\"'Success Criteria'!\" & ADDRESS(8,A120+4)):INDIRECT(\"'Success Criteria'!\" & ADDRESS(70,A120+4)),\"not tested\")","v":0},{"$f":"SUM(COUNTIF(INDIRECT(\"'Success Criteria'!\" & ADDRESS(74,A120+4)):INDIRECT(\"'Success Criteria'!\" & ADDRESS(115,A120+4)),\"PASS\"),COUNTIF(INDIRECT(\"'Success Criteria'!\" & ADDRESS(74,A120+4)):INDIRECT(\"'Success Criteria'!\" & ADDRESS(115,A120+4)),\"PASS with comments\"))","v":2},{"$f":"COUNTIF(INDIRECT(\"'Success Criteria'!\" & ADDRESS(74,A120+4)):INDIRECT(\"'Success Criteria'!\" & ADDRESS(115,A120+4)),\"NON conformant\")","v":0},{"$f":"COUNTIF(INDIRECT(\"'Success Criteria'!\" & ADDRESS(74,A120+4)):INDIRECT(\"'Success Criteria'!\" & ADDRESS(115,A120+4)),\"N/A\")","v":0},{"$f":"COUNTIF(INDIRECT(\"'Success Criteria'!\" & ADDRESS(74,A120+4)):INDIRECT(\"'Success Criteria'!\" & ADDRESS(115,A120+4)),\"not tested\")","v":0},{"$f":"SUM(COUNTIF(INDIRECT(\"'Success Criteria'!\" & ADDRESS(120,A120+4)):INDIRECT(\"'Success Criteria'!\" & ADDRESS(174,A120+4)),\"PASS\"),COUNTIF(INDIRECT(\"'Success Criteria'!\" & ADDRESS(120,A120+4)):INDIRECT(\"'Success Criteria'!\" & ADDRESS(174,A120+4)),\"PASS with comments\"))","v":0},{"$f":"COUNTIF(INDIRECT(\"'Success Criteria'!\" & ADDRESS(120,A120+4)):INDIRECT(\"'Success Criteria'!\" & ADDRESS(174,A120+4)),\"NON conformant\")","v":0},{"$f":"COUNTIF(INDIRECT(\"'Success Criteria'!\" & ADDRESS(120,A120+4)):INDIRECT(\"'Success Criteria'!\" & ADDRESS(174,A120+4)),\"N/A\")","v":0},{"$f":"COUNTIF(INDIRECT(\"'Success Criteria'!\" & ADDRESS(120,A120+4)):INDIRECT(\"'Success Criteria'!\" & ADDRESS(174,A120+4)),\"not tested\")","v":28},2,0,0,28,null,0,"",2,"",28,1]
[107,"Page 107","URL 107","Please select",{"$f":"SUM(COUNTIF(INDIRECT(\"'Success Criteria'!\" & ADDRESS(8,A121+4)):INDIRECT(\"'Success Criteria'!\" & ADDRESS(70,A121+4)),\"PASS\"),COUNTIF(INDIRECT(\"'Success Criteria'!\" & ADDRESS(8,A121+4)):INDIRECT(\"'Success Criteria'!\" & ADDRESS(70,A121+4)),\"PASS with comments\"))","v":0},{"$f":"COUNTIF(INDIRECT(\"'Success Criteria'!\" & ADDRESS(8,A121+4)):INDIRECT(\"'Success Criteria'!\" & ADDRESS(70,A121+4)),\"NON conformant\")","v":0},{"$f":"COUNTIF(INDIRECT(\"'Success Criteria'!\" & ADDRESS(8,A121+4)):INDIRECT(\"'Success Criteria'!\" & ADDRESS(70,A121+4)),\"N/A\")","v":0},{"$f":"COUNTIF(INDIRECT(\"'Success Criteria'!\" & ADDRESS(8,A121+4)):INDIRECT(\"'Success Criteria'!\" & ADDRESS(70,A121+4)),\"not tested\")","v":0},{"$f":"SUM(COUNTIF(INDIRECT(\"'Success Criteria'!\" & ADDRESS(74,A121+4)):INDIRECT(\"'Success Criteria'!\" & ADDRESS(115,A121+4)),\"PASS\"),COUNTIF(INDIRECT(\"'Success Criteria'!\" & ADDRESS(74,A121+4)):INDIRECT(\"'Success Criteria'!\" & ADDRESS(115,A121+4)),\"PASS with comments\"))","v":2},{"$f":"COUNTIF(INDIRECT(\"'Success Criteria'!\" & ADDRESS(74,A121+4)):INDIRECT(\"'Success Criteria'!\" & ADDRESS(115,A121+4)),\"NON conformant\")","v":0},{"$f":"COUNTIF(INDIRECT(\"'Success Criteria'!\" & ADDRESS(74,A121+4)):INDIRECT(\"'Success Criteria'!\" & ADDRESS(115,A121+4)),\"N/A\")","v":0},{"$f":"COUNTIF(INDIRECT(\"'Success Criteria'!\" & ADDRESS(74,A121+4)):INDIRECT(\"'Success Criteria'!\" & ADDRESS(115,A121+4)),\"not tested\")","v":0},{"$f":"SUM(COUNTIF(INDIRECT(\"'Success Criteria'!\" & ADDRESS(120,A121+4)):INDIRECT(\"'Success Criteria'!\" & ADDRESS(174,A121+4)),\"PASS\"),COUNTIF(INDIRECT(\"'Success Criteria'!\" & ADDRESS(120,A121+4)):INDIRECT(\"'Success Criteria'!\" & ADDRESS(174,A121+4)),\"PASS with comments\"))","v":0},{"$f":"COUNTIF(INDIRECT(\"'Success Criteria'!\" & ADDRESS(120,A121+4)):INDIRECT(\"'Success Criteria'!\" & ADDRESS(174,A121+4)),\"NON conformant\")","v":0},{"$f":"COUNTIF(INDIRECT(\"'Success Criteria'!\" & ADDRESS(120,A121+4)):INDIRECT(\"'Success Criteria'!\" & ADDRESS(174,A121+4)),\"N/A\")","v":0},{"$f":"COUNTIF(INDIRECT(\"'Success Criteria'!\" & ADDRESS(120,A121+4)):INDIRECT(\"'Success Criteria'!\" & ADDRESS(174,A121+4)),\"not tested\")","v":28},2,0,0,28,null,0,"",2,"",28,1]
[108,"Page 108","URL 108","Please select",{"$f":"SUM(COUNTIF(INDIRECT(\"'Success Criteria'!\" & ADDRESS(8,A122+4)):INDIRECT(\"'Success Criteria'!\" & ADDRESS(70,A122+4)),\"PASS\"),COUNTIF(INDIRECT(\"'Success Criteria'!\" & ADDRESS(8,A122+4)):INDIRECT(\"'Success Criteria'!\" & ADDRESS(70,A122+4)),\"PASS with comments\"))","v":0},{"$f":"COUNTIF(INDIRECT(\"'Success Criteria'!\" & ADDRESS(8,A122+4)):INDIRECT(\"'Success Criteria'!\" & ADDRESS(70,A122+4)),\"NON conformant\")","v":0},{"$f":"COUNTIF(INDIRECT(\"'Success Criteria'!\" & ADDRESS(8,A122+4)):INDIRECT(\"'Success Criteria'!\" & ADDRESS(70,A122+4)),\"N/A\")","v":0},{"$f":"COUNTIF(INDIRECT(\"'Success Criteria'!\" & ADDRESS(8,A122+4)):INDIRECT(\"'Success Criteria'!\" & ADDRESS(70,A122+4)),\"not tested\")","v":0},{"$f":"SUM(COUNTIF(INDIRECT(\"'Success Criteria'!\" & ADDRESS(74,A122+4)):INDIRECT(\"'Success Criteria'!\" & ADDRESS(115,A122+4)),\"PASS\"),COUNTIF(INDIRECT(\"'Success Criteria'!\" & ADDRESS(74,A122+4)):INDIRECT(\"'Success Criteria'!\" & ADDRESS(115,A122+4)),\"PASS with comments\"))","v":2},{"$f":"COUNTIF(INDIRECT(\"'Success Criteria'!\" & ADDRESS(74,A122+4)):INDIRECT(\"'Success Criteria'!\" & ADDRESS(115,A122+4)),\"NON conformant\")","v":0},{"$f":"COUNTIF(INDIRECT(\"'Success Criteria'!\" & ADDRESS(74,A122+4)):INDIRECT(\"'Success Criteria'!\" & ADDRESS(115,A122+4)),\"N/A\")","v":0},{"$f":"COUNTIF(INDIRECT(\"'Success Criteria'!\" & ADDRESS(74,A122+4)):INDIRECT(\"'Success Criteria'!\" & ADDRESS(115,A122+4)),\"not tested\")","v":0},{"$f":"SUM(COUNTIF(INDIRECT(\"'Success Criteria'!\" & ADDRESS(120,A122+4)):INDIRECT(\"'Success Criteria'!\" & ADDRESS(174,A122+4)),\"PASS\"),COUNTIF(INDIRECT(\"'Success Criteria'!\" & ADDRESS(120,A122+4)):INDIRECT(\"'Success Criteria'!\" & ADDRESS(174,A122+4)),\"PASS with comments\"))","v":0},{"$f":"COUNTIF(INDIRECT(\"'Success Criteria'!\" & ADDRESS(120,A122+4)):INDIRECT(\"'Success Criteria'!\" & ADDRESS(174,A122+4)),\"NON conformant\")","v":0},{"$f":"COUNTIF(INDIRECT(\"'Success Criteria'!\" & ADDRESS(120,A122+4)):INDIRECT(\"'Success Criteria'!\" & ADDRESS(174,A122+4)),\"N/A\")","v":0},{"$f":"COUNTIF(INDIRECT(\"'Success Criteria'!\" & ADDRESS(120,A122+4)):INDIRECT(\"'Success Criteria'!\" & ADDRESS(174,A122+4)),\"not tested\")","v":28},2,0,0,28,null,0,"",2,"",28,1]
[109,"Page 109","URL 109","Please select",{"$f":"SUM(COUNTIF(INDIRECT(\"'Success Criteria'!\" & ADDRESS(8,A123+4)):INDIRECT(\"'Success Criteria'!\" & ADDRESS(70,A123+4)),\"PASS\"),COUNTIF(INDIRECT(\"'Success Criteria'!\" & ADDRESS(8,A123+4)):INDIRECT(\"'Success Criteria'!\" & ADDRESS(70,A123+4)),\"PASS with comments\"))","v":0},{"$f":"COUNTIF(INDIRECT(\"'Success Criteria'!\" & ADDRESS(8,A123+4)):INDIRECT(\"'Success Criteria'!\" & ADDRESS(70,A123+4)),\"NON conformant\")","v":0},{"$f":"COUNTIF(INDIRECT(\"'Success Criteria'!\" & ADDRESS(8,A123+4)):INDIRECT(\"'Success Criteria'!\" & ADDRESS(70,A123+4)),\"N/A\")","v":0},{"$f":"COUNTIF(INDIRECT(\"'Success Criteria'!\" & ADDRESS(8,A123+4)):INDIRECT(\"'Success Criteria'!\" & ADDRESS(70,A123+4)),\"not tested\")","v":0},{"$f":"SUM(COUNTIF(INDIRECT(\"'Success Criteria'!\" & ADDRESS(74,A123+4)):INDIRECT(\"'Success Criteria'!\" & ADDRESS(115,A123+4)),\"PASS\"),COUNTIF(INDIRECT(\"'Success Criteria'!\" & ADDRESS(74,A123+4)):INDIRECT(\"'Success Criteria'!\" & ADDRESS(115,A123+4)),\"PASS with comments\"))","v":2},{"$f":"COUNTIF(INDIRECT(\"'Success Criteria'!\" & ADDRESS(74,A123+4)):INDIRECT(\"'Success Criteria'!\" & ADDRESS(115,A123+4)),\"NON conformant\")","v":0},{"$f":"COUNTIF(INDIRECT(\"'Success Criteria'!\" & ADDRESS(74,A123+4)):INDIRECT(\"'Success Criteria'!\" & ADDRESS(115,A123+4)),\"N/A\")","v":0},{"$f":"COUNTIF(INDIRECT(\"'Success Criteria'!\" & ADDRESS(74,A123+4)):INDIRECT(\"'Success Criteria'!\" & ADDRESS(115,A123+4)),\"not tested\")","v":0},{"$f":"SUM(COUNTIF(INDIRECT(\"'Success Criteria'!\" & ADDRESS(120,A123+4)):INDIRECT(\"'Success Criteria'!\" & ADDRESS(174,A123+4)),\"PASS\"),COUNTIF(INDIRECT(\"'Success Criteria'!\" & ADDRESS(120,A123+4)):INDIRECT(\"'Success Criteria'!\" & ADDRESS(174,A123+4)),\"PASS with comments\"))","v":0},{"$f":"COUNTIF(INDIRECT(\"'Success Criteria'!\" & ADDRESS(120,A123+4)):INDIRECT(\"'Success Criteria'!\" & ADDRESS(174,A123+4)),\"NON conformant\")","v":0},{"$f":"COUNTIF(INDIRECT(\"'Success Criteria'!\" & ADDRESS(120,A123+4)):INDIRECT(\"'Success Criteria'!\" & ADDRESS(174,A123+4)),\"N/A\")","v":0},{"$f":"COUNTIF(INDIRECT(\"'Success Criteria'!\" & ADDRESS(120,A123+4)):INDIRECT(\"'Success Criteria'!\" & ADDRESS(174,A123+4)),\"not tested\")","v":28},2,0,0,28,null,0,"",2,"",28,1]
[110,"Page 110","URL 110","Please select",{"$f":"SUM(COUNTIF(INDIRECT(\"'Success Criteria'!\" & ADDRESS(8,A124+4)):INDIRECT(\"'Success Criteria'!\" & ADDRESS(70,A124+4)),\"PASS\"),COUNTIF(INDIRECT(\"'Success Criteria'!\" & ADDRESS(8,A124+4)):INDIRECT(\"'Success Criteria'!\" & ADDRESS(70,A124+4)),\"PASS with comments\"))","v":0},{"$f":"COUNTIF(INDIRECT(\"'Success Criteria'!\" & ADDRESS(8,A124+4)):INDIRECT(\"'Success Criteria'!\" & ADDRESS(70,A124+4)),\"NON conformant\")","v":0},{"$f":"COUNTIF(INDIRECT(\"'Success Criteria'!\" & ADDRESS(8,A124+4)):INDIRECT(\"'Success Criteria'!\" & ADDRESS(70,A124+4)),\"N/A\")","v":0},{"$f":"COUNTIF(INDIRECT(\"'Success Criteria'!\" & ADDRESS(8,A124+4)):INDIRECT(\"'Success Criteria'!\" & ADDRESS(70,A124+4)),\"not tested\")","v":0},{"$f":"SUM(COUNTIF(INDIRECT(\"'Success Criteria'!\" & ADDRESS(74,A124+4)):INDIRECT(\"'Success Criteria'!\" & ADDRESS(115,A124+4)),\"PASS\"),COUNTIF(INDIRECT(\"'Success Criteria'!\" & ADDRESS(74,A124+4)):INDIRECT(\"'Success Criteria'!\" & ADDRESS(115,A124+4)),\"PASS with comments\"))","v":2},{"$f":"COUNTIF(INDIRECT(\"'Success Criteria'!\" & ADDRESS(74,A124+4)):INDIRECT(\"'Success Criteria'!\" & ADDRESS(115,A124+4)),\"NON conformant\")","v":0},{"$f":"COUNTIF(INDIRECT(\"'Success Criteria'!\" & ADDRESS(74,A124+4)):INDIRECT(\"'Success Criteria'!\" & ADDRESS(115,A124+4)),\"N/A\")","v":0},{"$f":"COUNTIF(INDIRECT(\"'Success Criteria'!\" & ADDRESS(74,A124+4)):INDIRECT(\"'Success Criteria'!\" & ADDRESS(115,A124+4)),\"not tested\")","v":0},{"$f":"SUM(COUNTIF(INDIRECT(\"'Success Criteria'!\" & ADDRESS(120,A124+4)):INDIRECT(\"'Success Criteria'!\" & ADDRESS(174,A124+4)),\"PASS\"),COUNTIF(INDIRECT(\"'Success Criteria'!\" & ADDRESS(120,A124+4)):INDIRECT(\"'Success Criteria'!\" & ADDRESS(174,A124+4)),\"PASS with comments\"))","v":0},{"$f":"COUNTIF(INDIRECT(\"'Success Criteria'!\" & ADDRESS(120,A124+4)):INDIRECT(\"'Success Criteria'!\" & ADDRESS(174,A124+4)),\"NON conformant\")","v":0},{"$f":"COUNTIF(INDIRECT(\"'Success Criteria'!\" & ADDRESS(120,A124+4)):INDIRECT(\"'Success Criteria'!\" & ADDRESS(174,A124+4)),\"N/A\")","v":0},{"$f":"COUNTIF(INDIRECT(\"'Success Criteria'!\" & ADDRESS(120,A124+4)):INDIRECT(\"'Success Criteria'!\" & ADDRESS(174,A124+4)),\"not tested\")","v":28},2,0,0,28,null,0,"",2,"",28,1]
[111,"Page 111","URL 111","Please select",{"$f":"SUM(COUNTIF(INDIRECT(\"'Success Criteria'!\" & ADDRESS(8,A125+4)):INDIRECT(\"'Success Criteria'!\" & ADDRESS(70,A125+4)),\"PASS\"),COUNTIF(INDIRECT(\"'Success Criteria'!\" & ADDRESS(8,A125+4)):INDIRECT(\"'Success Criteria'!\" & ADDRESS(70,A125+4)),\"PASS with comments\"))","v":0},{"$f":"COUNTIF(INDIRECT(\"'Success Criteria'!\" & ADDRESS(8,A125+4)):INDIRECT(\"'Success Criteria'!\" & ADDRESS(70,A125+4)),\"NON conformant\")","v":0},{"$f":"COUNTIF(INDIRECT(\"'Success Criteria'!\" & ADDRESS(8,A125+4)):INDIRECT(\"'Success Criteria'!\" & ADDRESS(70,A125+4)),\"N/A\")","v":0},{"$f":"COUNTIF(INDIRECT(\"'Success Criteria'!\" & ADDRESS(8,A125+4)):INDIRECT(\"'Success Criteria'!\" & ADDRESS(70,A125+4)),\"not tested\")","v":0},{"$f":"SUM(COUNTIF(INDIRECT(\"'Success Criteria'!\" & ADDRESS(74,A125+4)):INDIRECT(\"'Success Criteria'!\" & ADDRESS(115,A125+4)),\"PASS\"),COUNTIF(INDIRECT(\"'Success Criteria'!\" & ADDRESS(74,A125+4)):INDIRECT(\"'Success Criteria'!\" & ADDRESS(115,A125+4)),\"PASS with comments\"))","v":2},{"$f":"COUNTIF(INDIRECT(\"'Success Criteria'!\" & ADDRESS(74,A125+4)):INDIRECT(\"'Success Criteria'!\" & ADDRESS(115,A125+4)),\"NON conformant\")","v":0},{"$f":"COUNTIF(INDIRECT(\"'Success Criteria'!\" & ADDRESS(74,A125+4)):INDIRECT(\"'Success Criteria'!\" & ADDRESS(115,A125+4)),\"N/A\")","v":0},{"$f":"COUNTIF(INDIRECT(\"'Success Criteria'!\" & ADDRESS(74,A125+4)):INDIRECT(\"'Success Criteria'!\" & ADDRESS(115,A125+4)),\"not tested\")","v":0},{"$f":"SUM(COUNTIF(INDIRECT(\"'Success Criteria'!\" & ADDRESS(120,A125+4)):INDIRECT(\"'Success Criteria'!\" & ADDRESS(174,A125+4)),\"PASS\"),COUNTIF(INDIRECT(\"'Success Criteria'!\" & ADDRESS(120,A125+4)):INDIRECT(\"'Success Criteria'!\" & ADDRESS(174,A125+4)),\"PASS with comments\"))","v":0},{"$f":"COUNTIF(INDIRECT(\"'Success Criteria'!\" & ADDRESS(120,A125+4)):INDIRECT(\"'Success Criteria'!\" & ADDRESS(174,A125+4)),\"NON conformant\")","v":0},{"$f":"COUNTIF(INDIRECT(\"'Success Criteria'!\" & ADDRESS(120,A125+4)):INDIRECT(\"'Success Criteria'!\" & ADDRESS(174,A125+4)),\"N/A\")","v":0},{"$f":"COUNTIF(INDIRECT(\"'Success Criteria'!\" & ADDRESS(120,A125+4)):INDIRECT(\"'Success Criteria'!\" & ADDRESS(174,A125+4)),\"not tested\")","v":28},2,0,0,28,null,0,"",2,"",28,1]
[112,"Page 112","URL 112","Please select",{"$f":"SUM(COUNTIF(INDIRECT(\"'Success Criteria'!\" & ADDRESS(8,A126+4)):INDIRECT(\"'Success Criteria'!\" & ADDRESS(70,A126+4)),\"PASS\"),COUNTIF(INDIRECT(\"'Success Criteria'!\" & ADDRESS(8,A126+4)):INDIRECT(\"'Success Criteria'!\" & ADDRESS(70,A126+4)),\"PASS with comments\"))","v":0},{"$f":"COUNTIF(INDIRECT(\"'Success Criteria'!\" & ADDRESS(8,A126+4)):INDIRECT(\"'Success Criteria'!\" & ADDRESS(70,A126+4)),\"NON conformant\")","v":0},{"$f":"COUNTIF(INDIRECT(\"'Success Criteria'!\" & ADDRESS(8,A126+4)):INDIRECT(\"'Success Criteria'!\" & ADDRESS(70,A126+4)),\"N/A\")","v":0},{"$f":"COUNTIF(INDIRECT(\"'Success Criteria'!\" & ADDRESS(8,A126+4)):INDIRECT(\"'Success Criteria'!\" & ADDRESS(70,A126+4)),\"not tested\")","v":0},{"$f":"SUM(COUNTIF(INDIRECT(\"'Success Criteria'!\" & ADDRESS(74,A126+4)):INDIRECT(\"'Success Criteria'!\" & ADDRESS(115,A126+4)),\"PASS\"),COUNTIF(INDIRECT(\"'Success Criteria'!\" & ADDRESS(74,A126+4)):INDIRECT(\"'Success Criteria'!\" & ADDRESS(115,A126+4)),\"PASS with comments\"))","v":2},{"$f":"COUNTIF(INDIRECT(\"'Success Criteria'!\" & ADDRESS(74,A126+4)):INDIRECT(\"'Success Criteria'!\" & ADDRESS(115,A126+4)),\"NON conformant\")","v":0},{"$f":"COUNTIF(INDIRECT(\"'Success Criteria'!\" & ADDRESS(74,A126+4)):INDIRECT(\"'Success Criteria'!\" & ADDRESS(115,A126+4)),\"N/A\")","v":0},{"$f":"COUNTIF(INDIRECT(\"'Success Criteria'!\" & ADDRESS(74,A126+4)):INDIRECT(\"'Success Criteria'!\" & ADDRESS(115,A126+4)),\"not tested\")","v":0},{"$f":"SUM(COUNTIF(INDIRECT(\"'Success Criteria'!\" & ADDRESS(120,A126+4)):INDIRECT(\"'Success Criteria'!\" & ADDRESS(174,A126+4)),\"PASS\"),COUNTIF(INDIRECT(\"'Success Criteria'!\" & ADDRESS(120,A126+4)):INDIRECT(\"'Success Criteria'!\" & ADDRESS(174,A126+4)),\"PASS with comments\"))","v":0},{"$f":"COUNTIF(INDIRECT(\"'Success Criteria'!\" & ADDRESS(120,A126+4)):INDIRECT(\"'Success Criteria'!\" & ADDRESS(174,A126+4)),\"NON conformant\")","v":0},{"$f":"COUNTIF(INDIRECT(\"'Success Criteria'!\" & ADDRESS(120,A126+4)):INDIRECT(\"'Success Criteria'!\" & ADDRESS(174,A126+4)),\"N/A\")","v":0},{"$f":"COUNTIF(INDIRECT(\"'Success Criteria'!\" & ADDRESS(120,A126+4)):INDIRECT(\"'Success Criteria'!\" & ADDRESS(174,A126+4)),\"not tested\")","v":28},2,0,0,28,null,0,"",2,"",28,1]
[113,"Page 113","URL 113","Please select",{"$f":"SUM(COUNTIF(INDIRECT(\"'Success Criteria'!\" & ADDRESS(8,A127+4)):INDIRECT(\"'Success Criteria'!\" & ADDRESS(70,A127+4)),\"PASS\"),COUNTIF(INDIRECT(\"'Success Criteria'!\" & ADDRESS(8,A127+4)):INDIRECT(\"'Success Criteria'!\" & ADDRESS(70,A127+4)),\"PASS with comments\"))","v":0},{"$f":"COUNTIF(INDIRECT(\"'Success Criteria'!\" & ADDRESS(8,A127+4)):INDIRECT(\"'Success Criteria'!\" & ADDRESS(70,A127+4)),\"NON conformant\")","v":0},{"$f":"COUNTIF(INDIRECT(\"'Success Criteria'!\" & ADDRESS(8,A127+4)):INDIRECT(\"'Success Criteria'!\" & ADDRESS(70,A127+4)),\"N/A\")","v":0},{"$f":"COUNTIF(INDIRECT(\"'Success Criteria'!\" & ADDRESS(8,A127+4)):INDIRECT(\"'Success Criteria'!\" & ADDRESS(70,A127+4)),\"not tested\")","v":0},{"$f":"SUM(COUNTIF(INDIRECT(\"'Success Criteria'!\" & ADDRESS(74,A127+4)):INDIRECT(\"'Success Criteria'!\" & ADDRESS(115,A127+4)),\"PASS\"),COUNTIF(INDIRECT(\"'Success Criteria'!\" & ADDRESS(74,A127+4)):INDIRECT(\"'Success Criteria'!\" & ADDRESS(115,A127+4)),\"PASS with comments\"))","v":2},{"$f":"COUNTIF(INDIRECT(\"'Success Criteria'!\" & ADDRESS(74,A127+4)):INDIRECT(\"'Success Criteria'!\" & ADDRESS(115,A127+4)),\"NON conformant\")","v":0},{"$f":"COUNTIF(INDIRECT(\"'Success Criteria'!\" & ADDRESS(74,A127+4)):INDIRECT(\"'Success Criteria'!\" & ADDRESS(115,A127+4)),\"N/A\")","v":0},{"$f":"COUNTIF(INDIRECT(\"'Success Criteria'!\" & ADDRESS(74,A127+4)):INDIRECT(\"'Success Criteria'!\" & ADDRESS(115,A127+4)),\"not tested\")","v":0},{"$f":"SUM(COUNTIF(INDIRECT(\"'Success Criteria'!\" & ADDRESS(120,A127+4)):INDIRECT(\"'Success Criteria'!\" & ADDRESS(174,A127+4)),\"PASS\"),COUNTIF(INDIRECT(\"'Success Criteria'!\" & ADDRESS(120,A127+4)):INDIRECT(\"'Success Criteria'!\" & ADDRESS(174,A127+4)),\"PASS with comments\"))","v":0},{"$f":"COUNTIF(INDIRECT(\"'Success Criteria'!\" & ADDRESS(120,A127+4)):INDIRECT(\"'Success Criteria'!\" & ADDRESS(174,A127+4)),\"NON conformant\")","v":0},{"$f":"COUNTIF(INDIRECT(\"'Success Criteria'!\" & ADDRESS(120,A127+4)):INDIRECT(\"'Success Criteria'!\" & ADDRESS(174,A127+4)),\"N/A\")","v":0},{"$f":"COUNTIF(INDIRECT(\"'Success Criteria'!\" & ADDRESS(120,A127+4)):INDIRECT(\"'Success Criteria'!\" & ADDRESS(174,A127+4)),\"not tested\")","v":28},2,0,0,28,null,0,"",2,"",28,1]
[114,"Page 114","URL 114","Please select",{"$f":"SUM(COUNTIF(INDIRECT(\"'Success Criteria'!\" & ADDRESS(8,A128+4)):INDIRECT(\"'Success Criteria'!\" & ADDRESS(70,A128+4)),\"PASS\"),COUNTIF(INDIRECT(\"'Success Criteria'!\" & ADDRESS(8,A128+4)):INDIRECT(\"'Success Criteria'!\" & ADDRESS(70,A128+4)),\"PASS with comments\"))","v":0},{"$f":"COUNTIF(INDIRECT(\"'Success Criteria'!\" & ADDRESS(8,A128+4)):INDIRECT(\"'Success Criteria'!\" & ADDRESS(70,A128+4)),\"NON conformant\")","v":0},{"$f":"COUNTIF(INDIRECT(\"'Success Criteria'!\" & ADDRESS(8,A128+4)):INDIRECT(\"'Success Criteria'!\" & ADDRESS(70,A128+4)),\"N/A\")","v":0},{"$f":"COUNTIF(INDIRECT(\"'Success Criteria'!\" & ADDRESS(8,A128+4)):INDIRECT(\"'Success Criteria'!\" & ADDRESS(70,A128+4)),\"not tested\")","v":0},{"$f":"SUM(COUNTIF(INDIRECT(\"'Success Criteria'!\" & ADDRESS(74,A128+4)):INDIRECT(\"'Success Criteria'!\" & ADDRESS(115,A128+4)),\"PASS\"),COUNTIF(INDIRECT(\"'Success Criteria'!\" & ADDRESS(74,A128+4)):INDIRECT(\"'Success Criteria'!\" & ADDRESS(115,A128+4)),\"PASS with comments\"))","v":2},{"$f":"COUNTIF(INDIRECT(\"'Success Criteria'!\" & ADDRESS(74,A128+4)):INDIRECT(\"'Success Criteria'!\" & ADDRESS(115,A128+4)),\"NON conformant\")","v":0},{"$f":"COUNTIF(INDIRECT(\"'Success Criteria'!\" & ADDRESS(74,A128+4)):INDIRECT(\"'Success Criteria'!\" & ADDRESS(115,A128+4)),\"N/A\")","v":0},{"$f":"COUNTIF(INDIRECT(\"'Success Criteria'!\" & ADDRESS(74,A128+4)):INDIRECT(\"'Success Criteria'!\" & ADDRESS(115,A128+4)),\"not tested\")","v":0},{"$f":"SUM(COUNTIF(INDIRECT(\"'Success Criteria'!\" & ADDRESS(120,A128+4)):INDIRECT(\"'Success Criteria'!\" & ADDRESS(174,A128+4)),\"PASS\"),COUNTIF(INDIRECT(\"'Success Criteria'!\" & ADDRESS(120,A128+4)):INDIRECT(\"'Success Criteria'!\" & ADDRESS(174,A128+4)),\"PASS with comments\"))","v":0},{"$f":"COUNTIF(INDIRECT(\"'Success Criteria'!\" & ADDRESS(120,A128+4)):INDIRECT(\"'Success Criteria'!\" & ADDRESS(174,A128+4)),\"NON conformant\")","v":0},{"$f":"COUNTIF(INDIRECT(\"'Success Criteria'!\" & ADDRESS(120,A128+4)):INDIRECT(\"'Success Criteria'!\" & ADDRESS(174,A128+4)),\"N/A\")","v":0},{"$f":"COUNTIF(INDIRECT(\"'Success Criteria'!\" & ADDRESS(120,A128+4)):INDIRECT(\"'Success Criteria'!\" & ADDRESS(174,A128+4)),\"not tested\")","v":28},2,0,0,28,null,0,"",2,"",28,1]
[115,"Page 115","URL 115","Please select",{"$f":"SUM(COUNTIF(INDIRECT(\"'Success Criteria'!\" & ADDRESS(8,A129+4)):INDIRECT(\"'Success Criteria'!\" & ADDRESS(70,A129+4)),\"PASS\"),COUNTIF(INDIRECT(\"'Success Criteria'!\" & ADDRESS(8,A129+4)):INDIRECT(\"'Success Criteria'!\" & ADDRESS(70,A129+4)),\"PASS with comments\"))","v":0},{"$f":"COUNTIF(INDIRECT(\"'Success Criteria'!\" & ADDRESS(8,A129+4)):INDIRECT(\"'Success Criteria'!\" & ADDRESS(70,A129+4)),\"NON conformant\")","v":0},{"$f":"COUNTIF(INDIRECT(\"'Success Criteria'!\" & ADDRESS(8,A129+4)):INDIRECT(\"'Success Criteria'!\" & ADDRESS(70,A129+4)),\"N/A\")","v":0},{"$f":"COUNTIF(INDIRECT(\"'Success Criteria'!\" & ADDRESS(8,A129+4)):INDIRECT(\"'Success Criteria'!\" & ADDRESS(70,A129+4)),\"not tested\")","v":0},{"$f":"SUM(COUNTIF(INDIRECT(\"'Success Criteria'!\" & ADDRESS(74,A129+4)):INDIRECT(\"'Success Criteria'!\" & ADDRESS(115,A129+4)),\"PASS\"),COUNTIF(INDIRECT(\"'Success Criteria'!\" & ADDRESS(74,A129+4)):INDIRECT(\"'Success Criteria'!\" & ADDRESS(115,A129+4)),\"PASS with comments\"))","v":2},{"$f":"COUNTIF(INDIRECT(\"'Success Criteria'!\" & ADDRESS(74,A129+4)):INDIRECT(\"'Success Criteria'!\" & ADDRESS(115,A129+4)),\"NON conformant\")","v":0},{"$f":"COUNTIF(INDIRECT(\"'Success Criteria'!\" & ADDRESS(74,A129+4)):INDIRECT(\"'Success Criteria'!\" & ADDRESS(115,A129+4)),\"N/A\")","v":0},{"$f":"COUNTIF(INDIRECT(\"'Success Criteria'!\" & ADDRESS(74,A129+4)):INDIRECT(\"'Success Criteria'!\" & ADDRESS(115,A129+4)),\"not tested\")","v":0},{"$f":"SUM(COUNTIF(INDIRECT(\"'Success Criteria'!\" & ADDRESS(120,A129+4)):INDIRECT(\"'Success Criteria'!\" & ADDRESS(174,A129+4)),\"PASS\"),COUNTIF(INDIRECT(\"'Success Criteria'!\" & ADDRESS(120,A129+4)):INDIRECT(\"'Success Criteria'!\" & ADDRESS(174,A129+4)),\"PASS with comments\"))","v":0},{"$f":"COUNTIF(INDIRECT(\"'Success Criteria'!\" & ADDRESS(120,A129+4)):INDIRECT(\"'Success Criteria'!\" & ADDRESS(174,A129+4)),\"NON conformant\")","v":0},{"$f":"COUNTIF(INDIRECT(\"'Success Criteria'!\" & ADDRESS(120,A129+4)):INDIRECT(\"'Success Criteria'!\" & ADDRESS(174,A129+4)),\"N/A\")","v":0},{"$f":"COUNTIF(INDIRECT(\"'Success Criteria'!\" & ADDRESS(120,A129+4)):INDIRECT(\"'Success Criteria'!\" & ADDRESS(174,A129+4)),\"not tested\")","v":28},2,0,0,28,null,{"$f":"SUM(E129:H129)","v":0},{"$f":"IF(V129=30,1,\"\")","v":""},2,{"$f":"IF(X129=20,1,\"\")","v":""},28,{"$f":"IF(Z129=28,1,\"\")","v":1}]
[116,"Page 116","URL 116","Please select",{"$f":"SUM(COUNTIF(INDIRECT(\"'Success Criteria'!\" & ADDRESS(8,A130+4)):INDIRECT(\"'Success Criteria'!\" & ADDRESS(70,A130+4)),\"PASS\"),COUNTIF(INDIRECT(\"'Success Criteria'!\" & ADDRESS(8,A130+4)):INDIRECT(\"'Success Criteria'!\" & ADDRESS(70,A130+4)),\"PASS with comments\"))","v":0},{"$f":"COUNTIF(INDIRECT(\"'Success Criteria'!\" & ADDRESS(8,A130+4)):INDIRECT(\"'Success Criteria'!\" & ADDRESS(70,A130+4)),\"NON conformant\")","v":0},{"$f":"COUNTIF(INDIRECT(\"'Success Criteria'!\" & ADDRESS(8,A130+4)):INDIRECT(\"'Success Criteria'!\" & ADDRESS(70,A130+4)),\"N/A\")","v":0},{"$f":"COUNTIF(INDIRECT(\"'Success Criteria'!\" & ADDRESS(8,A130+4)):INDIRECT(\"'Success Criteria'!\" & ADDRESS(70,A130+4)),\"not tested\")","v":0},{"$f":"SUM(COUNTIF(INDIRECT(\"'Success Criteria'!\" & ADDRESS(74,A130+4)):INDIRECT(\"'Success Criteria'!\" & ADDRESS(115,A130+4)),\"PASS\"),COUNTIF(INDIRECT(\"'Success Criteria'!\" & ADDRESS(74,A130+4)):INDIRECT(\"'Success Criteria'!\" & ADDRESS(115,A130+4)),\"PASS with comments\"))","v":2},{"$f":"COUNTIF(INDIRECT(\"'Success Criteria'!\" & ADDRESS(74,A130+4)):INDIRECT(\"'Success Criteria'!\" & ADDRESS(115,A130+4)),\"NON conformant\")","v":0},{"$f":"COUNTIF(INDIRECT(\"'Success Criteria'!\" & ADDRESS(74,A130+4)):INDIRECT(\"'Success Criteria'!\" & ADDRESS(115,A130+4)),\"N/A\")","v":0},{"$f":"COUNTIF(INDIRECT(\"'Success Criteria'!\" & ADDRESS(74,A130+4)):INDIRECT(\"'Success Criteria'!\" & ADDRESS(115,A130+4)),\"not tested\")","v":0},{"$f":"SUM(COUNTIF(INDIRECT(\"'Success Criteria'!\" & ADDRESS(120,A130+4)):INDIRECT(\"'Success Criteria'!\" & ADDRESS(174,A130+4)),\"PASS\"),COUNTIF(INDIRECT(\"'Success Criteria'!\" & ADDRESS(120,A130+4)):INDIRECT(\"'Success Criteria'!\" & ADDRESS(174,A130+4)),\"PASS with comments\"))","v":0},{"$f":"COUNTIF(INDIRECT(\"'Success Criteria'!\" & ADDRESS(120,A130+4)):INDIRECT(\"'Success Criteria'!\" & ADDRESS(174,A130+4)),\"NON conformant\")","v":0},{"$f":"COUNTIF(INDIRECT(\"'Success Criteria'!\" & ADDRESS(120,A130+4)):INDIRECT(\"'Success Criteria'!\" & ADDRESS(174,A130+4)),\"N/A\")","v":0},{"$f":"COUNTIF(INDIRECT(\"'Success Criteria'!\" & ADDRESS(120,A130+4)):INDIRECT(\"'Success Criteria'!\" & ADDRESS(174,A130+4)),\"not tested\")","v":28},2,{"$f":"SUM(F130+J130+N130)","v":0},0,28,null,0,"",2,"",28,1]
[117,"Page 117","URL 117","Please select",{"$f":"SUM(COUNTIF(INDIRECT(\"'Success Criteria'!\" & ADDRESS(8,A131+4)):INDIRECT(\"'Success Criteria'!\" & ADDRESS(70,A131+4)),\"PASS\"),COUNTIF(INDIRECT(\"'Success Criteria'!\" & ADDRESS(8,A131+4)):INDIRECT(\"'Success Criteria'!\" & ADDRESS(70,A131+4)),\"PASS with comments\"))","v":0},{"$f":"COUNTIF(INDIRECT(\"'Success Criteria'!\" & ADDRESS(8,A131+4)):INDIRECT(\"'Success Criteria'!\" & ADDRESS(70,A131+4)),\"NON conformant\")","v":0},{"$f":"COUNTIF(INDIRECT(\"'Success Criteria'!\" & ADDRESS(8,A131+4)):INDIRECT(\"'Success Criteria'!\" & ADDRESS(70,A131+4)),\"N/A\")","v":0},{"$f":"COUNTIF(INDIRECT(\"'Success Criteria'!\" & ADDRESS(8,A131+4)):INDIRECT(\"'Success Criteria'!\" & ADDRESS(70,A131+4)),\"not tested\")","v":0},{"$f":"SUM(COUNTIF(INDIRECT(\"'Success Criteria'!\" & ADDRESS(74,A131+4)):INDIRECT(\"'Success Criteria'!\" & ADDRESS(115,A131+4)),\"PASS\"),COUNTIF(INDIRECT(\"'Success Criteria'!\" & ADDRESS(74,A131+4)):INDIRECT(\"'Success Criteria'!\" & ADDRESS(115,A131+4)),\"PASS with comments\"))","v":2},{"$f":"COUNTIF(INDIRECT(\"'Success Criteria'!\" & ADDRESS(74,A131+4)):INDIRECT(\"'Success Criteria'!\" & ADDRESS(115,A131+4)),\"NON conformant\")","v":0},{"$f":"COUNTIF(INDIRECT(\"'Success Criteria'!\" & ADDRESS(74,A131+4)):INDIRECT(\"'Success Criteria'!\" & ADDRESS(115,A131+4)),\"N/A\")","v":0},{"$f":"COUNTIF(INDIRECT(\"'Success Criteria'!\" & ADDRESS(74,A131+4)):INDIRECT(\"'Success Criteria'!\" & ADDRESS(115,A131+4)),\"not tested\")","v":0},{"$f":"SUM(COUNTIF(INDIRECT(\"'Success Criteria'!\" & ADDRESS(120,A131+4)):INDIRECT(\"'Success Criteria'!\" & ADDRESS(174,A131+4)),\"PASS\"),COUNTIF(INDIRECT(\"'Success Criteria'!\" & ADDRESS(120,A131+4)):INDIRECT(\"'Success Criteria'!\" & ADDRESS(174,A131+4)),\"PASS with comments\"))","v":0},{"$f":"COUNTIF(INDIRECT(\"'Success Criteria'!\" & ADDRESS(120,A131+4)):INDIRECT(\"'Success Criteria'!\" & ADDRESS(174,A131+4)),\"NON conformant\")","v":0},{"$f":"COUNTIF(INDIRECT(\"'Success Criteria'!\" & ADDRESS(120,A131+4)):INDIRECT(\"'Success Criteria'!\" & ADDRESS(174,A131+4)),\"N/A\")","v":0},{"$f":"COUNTIF(INDIRECT(\"'Success Criteria'!\" & ADDRESS(120,A131+4)):INDIRECT(\"'Success Criteria'!\" & ADDRESS(174,A131+4)),\"not tested\")","v":28},2,0,0,28,null,0,"",2,"",28,1]
[118,"Page 118","URL 118","Please select",{"$f":"SUM(COUNTIF(INDIRECT(\"'Success Criteria'!\" & ADDRESS(8,A132+4)):INDIRECT(\"'Success Criteria'!\" & ADDRESS(70,A132+4)),\"PASS\"),COUNTIF(INDIRECT(\"'Success Criteria'!\" & ADDRESS(8,A132+4)):INDIRECT(\"'Success Criteria'!\" & ADDRESS(70,A132+4)),\"PASS with comments\"))","v":0},{"$f":"COUNTIF(INDIRECT(\"'Success Criteria'!\" & ADDRESS(8,A132+4)):INDIRECT(\"'Success Criteria'!\" & ADDRESS(70,A132+4)),\"NON conformant\")","v":0},{"$f":"COUNTIF(INDIRECT(\"'Success Criteria'!\" & ADDRESS(8,A132+4)):INDIRECT(\"'Success Criteria'!\" & ADDRESS(70,A132+4)),\"N/A\")","v":0},{"$f":"COUNTIF(INDIRECT(\"'Success Criteria'!\" & ADDRESS(8,A132+4)):INDIRECT(\"'Success Criteria'!\" & ADDRESS(70,A132+4)),\"not tested\")","v":0},{"$f":"SUM(COUNTIF(INDIRECT(\"'Success Criteria'!\" & ADDRESS(74,A132+4)):INDIRECT(\"'Success Criteria'!\" & ADDRESS(115,A132+4)),\"PASS\"),COUNTIF(INDIRECT(\"'Success Criteria'!\" & ADDRESS(74,A132+4)):INDIRECT(\"'Success Criteria'!\" & ADDRESS(115,A132+4)),\"PASS with comments\"))","v":2},{"$f":"COUNTIF(INDIRECT(\"'Success Criteria'!\" & ADDRESS(74,A132+4)):INDIRECT(\"'Success Criteria'!\" & ADDRESS(115,A132+4)),\"NON conformant\")","v":0},{"$f":"COUNTIF(INDIRECT(\"'Success Criteria'!\" & ADDRESS(74,A132+4)):INDIRECT(\"'Success Criteria'!\" & ADDRESS(115,A132+4)),\"N/A\")","v":0},{"$f":"COUNTIF(INDIRECT(\"'Success Criteria'!\" & ADDRESS(74,A132+4)):INDIRECT(\"'Success Criteria'!\" & ADDRESS(115,A132+4)),\"not tested\")","v":0},{"$f":"SUM(COUNTIF(INDIRECT(\"'Success Criteria'!\" & ADDRESS(120,A132+4)):INDIRECT(\"'Success Criteria'!\" & ADDRESS(174,A132+4)),\"PASS\"),COUNTIF(INDIRECT(\"'Success Criteria'!\" & ADDRESS(120,A132+4)):INDIRECT(\"'Success Criteria'!\" & ADDRESS(174,A132+4)),\"PASS with comments\"))","v":0},{"$f":"COUNTIF(INDIRECT(\"'Success Criteria'!\" & ADDRESS(120,A132+4)):INDIRECT(\"'Success Criteria'!\" & ADDRESS(174,A132+4)),\"NON conformant\")","v":0},{"$f":"COUNTIF(INDIRECT(\"'Success Criteria'!\" & ADDRESS(120,A132+4)):INDIRECT(\"'Success Criteria'!\" & ADDRESS(174,A132+4)),\"N/A\")","v":0},{"$f":"COUNTIF(INDIRECT(\"'Success Criteria'!\" & ADDRESS(120,A132+4)):INDIRECT(\"'Success Criteria'!\" & ADDRESS(174,A132+4)),\"not tested\")","v":28},2,0,0,28,null,0,"",2,"",28,1]
[119,"Page 119","URL 119","Please select",{"$f":"SUM(COUNTIF(INDIRECT(\"'Success Criteria'!\" & ADDRESS(8,A133+4)):INDIRECT(\"'Success Criteria'!\" & ADDRESS(70,A133+4)),\"PASS\"),COUNTIF(INDIRECT(\"'Success Criteria'!\" & ADDRESS(8,A133+4)):INDIRECT(\"'Success Criteria'!\" & ADDRESS(70,A133+4)),\"PASS with comments\"))","v":0},{"$f":"COUNTIF(INDIRECT(\"'Success Criteria'!\" & ADDRESS(8,A133+4)):INDIRECT(\"'Success Criteria'!\" & ADDRESS(70,A133+4)),\"NON conformant\")","v":0},{"$f":"COUNTIF(INDIRECT(\"'Success Criteria'!\" & ADDRESS(8,A133+4)):INDIRECT(\"'Success Criteria'!\" & ADDRESS(70,A133+4)),\"N/A\")","v":0},{"$f":"COUNTIF(INDIRECT(\"'Success Criteria'!\" & ADDRESS(8,A133+4)):INDIRECT(\"'Success Criteria'!\" & ADDRESS(70,A133+4)),\"not tested\")","v":0},{"$f":"SUM(COUNTIF(INDIRECT(\"'Success Criteria'!\" & ADDRESS(74,A133+4)):INDIRECT(\"'Success Criteria'!\" & ADDRESS(115,A133+4)),\"PASS\"),COUNTIF(INDIRECT(\"'Success Criteria'!\" & ADDRESS(74,A133+4)):INDIRECT(\"'Success Criteria'!\" & ADDRESS(115,A133+4)),\"PASS with comments\"))","v":2},{"$f":"COUNTIF(INDIRECT(\"'Success Criteria'!\" & ADDRESS(74,A133+4)):INDIRECT(\"'Success Criteria'!\" & ADDRESS(115,A133+4)),\"NON conformant\")","v":0},{"$f":"COUNTIF(INDIRECT(\"'Success Criteria'!\" & ADDRESS(74,A133+4)):INDIRECT(\"'Success Criteria'!\" & ADDRESS(115,A133+4)),\"N/A\")","v":0},{"$f":"COUNTIF(INDIRECT(\"'Success Criteria'!\" & ADDRESS(74,A133+4)):INDIRECT(\"'Success Criteria'!\" & ADDRESS(115,A133+4)),\"not tested\")","v":0},{"$f":"SUM(COUNTIF(INDIRECT(\"'Success Criteria'!\" & ADDRESS(120,A133+4)):INDIRECT(\"'Success Criteria'!\" & ADDRESS(174,A133+4)),\"PASS\"),COUNTIF(INDIRECT(\"'Success Criteria'!\" & ADDRESS(120,A133+4)):INDIRECT(\"'Success Criteria'!\" & ADDRESS(174,A133+4)),\"PASS with comments\"))","v":0},{"$f":"COUNTIF(INDIRECT(\"'Success Criteria'!\" & ADDRESS(120,A133+4)):INDIRECT(\"'Success Criteria'!\" & ADDRESS(174,A133+4)),\"NON conformant\")","v":0},{"$f":"COUNTIF(INDIRECT(\"'Success Criteria'!\" & ADDRESS(120,A133+4)):INDIRECT(\"'Success Criteria'!\" & ADDRESS(174,A133+4)),\"N/A\")","v":0},{"$f":"COUNTIF(INDIRECT(\"'Success Criteria'!\" & ADDRESS(120,A133+4)):INDIRECT(\"'Success Criteria'!\" & ADDRESS(174,A133+4)),\"not tested\")","v":28},2,0,0,28,null,0,"",2,"",28,1]
[120,"Page 120","URL 120","Please select",{"$f":"SUM(COUNTIF(INDIRECT(\"'Success Criteria'!\" & ADDRESS(8,A134+4)):INDIRECT(\"'Success Criteria'!\" & ADDRESS(70,A134+4)),\"PASS\"),COUNTIF(INDIRECT(\"'Success Criteria'!\" & ADDRESS(8,A134+4)):INDIRECT(\"'Success Criteria'!\" & ADDRESS(70,A134+4)),\"PASS with comments\"))","v":0},{"$f":"COUNTIF(INDIRECT(\"'Success Criteria'!\" & ADDRESS(8,A134+4)):INDIRECT(\"'Success Criteria'!\" & ADDRESS(70,A134+4)),\"NON conformant\")","v":0},{"$f":"COUNTIF(INDIRECT(\"'Success Criteria'!\" & ADDRESS(8,A134+4)):INDIRECT(\"'Success Criteria'!\" & ADDRESS(70,A134+4)),\"N/A\")","v":0},{"$f":"COUNTIF(INDIRECT(\"'Success Criteria'!\" & ADDRESS(8,A134+4)):INDIRECT(\"'Success Criteria'!\" & ADDRESS(70,A134+4)),\"not tested\")","v":0},{"$f":"SUM(COUNTIF(INDIRECT(\"'Success Criteria'!\" & ADDRESS(74,A134+4)):INDIRECT(\"'Success Criteria'!\" & ADDRESS(115,A134+4)),\"PASS\"),COUNTIF(INDIRECT(\"'Success Criteria'!\" & ADDRESS(74,A134+4)):INDIRECT(\"'Success Criteria'!\" & ADDRESS(115,A134+4)),\"PASS with comments\"))","v":2},{"$f":"COUNTIF(INDIRECT(\"'Success Criteria'!\" & ADDRESS(74,A134+4)):INDIRECT(\"'Success Criteria'!\" & ADDRESS(115,A134+4)),\"NON conformant\")","v":0},{"$f":"COUNTIF(INDIRECT(\"'Success Criteria'!\" & ADDRESS(74,A134+4)):INDIRECT(\"'Success Criteria'!\" & ADDRESS(115,A134+4)),\"N/A\")","v":0},{"$f":"COUNTIF(INDIRECT(\"'Success Criteria'!\" & ADDRESS(74,A134+4)):INDIRECT(\"'Success Criteria'!\" & ADDRESS(115,A134+4)),\"not tested\")","v":0},{"$f":"SUM(COUNTIF(INDIRECT(\"'Success Criteria'!\" & ADDRESS(120,A134+4)):INDIRECT(\"'Success Criteria'!\" & ADDRESS(174,A134+4)),\"PASS\"),COUNTIF(INDIRECT(\"'Success Criteria'!\" & ADDRESS(120,A134+4)):INDIRECT(\"'Success Criteria'!\" & ADDRESS(174,A134+4)),\"PASS with comments\"))","v":0},{"$f":"COUNTIF(INDIRECT(\"'Success Criteria'!\" & ADDRESS(120,A134+4)):INDIRECT(\"'Success Criteria'!\" & ADDRESS(174,A134+4)),\"NON conformant\")","v":0},{"$f":"COUNTIF(INDIRECT(\"'Success Criteria'!\" & ADDRESS(120,A134+4)):INDIRECT(\"'Success Criteria'!\" & ADDRESS(174,A134+4)),\"N/A\")","v":0},{"$f":"COUNTIF(INDIRECT(\"'Success Criteria'!\" & ADDRESS(120,A134+4)):INDIRECT(\"'Success Criteria'!\" & ADDRESS(174,A134+4)),\"not tested\")","v":28},2,0,0,28,null,0,"",2,"",28,1]
[121,"Page 121","URL 121","Please select",{"$f":"SUM(COUNTIF(INDIRECT(\"'Success Criteria'!\" & ADDRESS(8,A135+4)):INDIRECT(\"'Success Criteria'!\" & ADDRESS(70,A135+4)),\"PASS\"),COUNTIF(INDIRECT(\"'Success Criteria'!\" & ADDRESS(8,A135+4)):INDIRECT(\"'Success Criteria'!\" & ADDRESS(70,A135+4)),\"PASS with comments\"))","v":0},{"$f":"COUNTIF(INDIRECT(\"'Success Criteria'!\" & ADDRESS(8,A135+4)):INDIRECT(\"'Success Criteria'!\" & ADDRESS(70,A135+4)),\"NON conformant\")","v":0},{"$f":"COUNTIF(INDIRECT(\"'Success Criteria'!\" & ADDRESS(8,A135+4)):INDIRECT(\"'Success Criteria'!\" & ADDRESS(70,A135+4)),\"N/A\")","v":0},{"$f":"COUNTIF(INDIRECT(\"'Success Criteria'!\" & ADDRESS(8,A135+4)):INDIRECT(\"'Success Criteria'!\" & ADDRESS(70,A135+4)),\"not tested\")","v":0},{"$f":"SUM(COUNTIF(INDIRECT(\"'Success Criteria'!\" & ADDRESS(74,A135+4)):INDIRECT(\"'Success Criteria'!\" & ADDRESS(115,A135+4)),\"PASS\"),COUNTIF(INDIRECT(\"'Success Criteria'!\" & ADDRESS(74,A135+4)):INDIRECT(\"'Success Criteria'!\" & ADDRESS(115,A135+4)),\"PASS with comments\"))","v":2},{"$f":"COUNTIF(INDIRECT(\"'Success Criteria'!\" & ADDRESS(74,A135+4)):INDIRECT(\"'Success Criteria'!\" & ADDRESS(115,A135+4)),\"NON conformant\")","v":0},{"$f":"COUNTIF(INDIRECT(\"'Success Criteria'!\" & ADDRESS(74,A135+4)):INDIRECT(\"'Success Criteria'!\" & ADDRESS(115,A135+4)),\"N/A\")","v":0},{"$f":"COUNTIF(INDIRECT(\"'Success Criteria'!\" & ADDRESS(74,A135+4)):INDIRECT(\"'Success Criteria'!\" & ADDRESS(115,A135+4)),\"not tested\")","v":0},{"$f":"SUM(COUNTIF(INDIRECT(\"'Success Criteria'!\" & ADDRESS(120,A135+4)):INDIRECT(\"'Success Criteria'!\" & ADDRESS(174,A135+4)),\"PASS\"),COUNTIF(INDIRECT(\"'Success Criteria'!\" & ADDRESS(120,A135+4)):INDIRECT(\"'Success Criteria'!\" & ADDRESS(174,A135+4)),\"PASS with comments\"))","v":0},{"$f":"COUNTIF(INDIRECT(\"'Success Criteria'!\" & ADDRESS(120,A135+4)):INDIRECT(\"'Success Criteria'!\" & ADDRESS(174,A135+4)),\"NON conformant\")","v":0},{"$f":"COUNTIF(INDIRECT(\"'Success Criteria'!\" & ADDRESS(120,A135+4)):INDIRECT(\"'Success Criteria'!\" & ADDRESS(174,A135+4)),\"N/A\")","v":0},{"$f":"COUNTIF(INDIRECT(\"'Success Criteria'!\" & ADDRESS(120,A135+4)):INDIRECT(\"'Success Criteria'!\" & ADDRESS(174,A135+4)),\"not tested\")","v":28},2,0,0,28,null,0,"",2,"",28,1]
[122,"Page 122","URL 122","Please select",{"$f":"SUM(COUNTIF(INDIRECT(\"'Success Criteria'!\" & ADDRESS(8,A136+4)):INDIRECT(\"'Success Criteria'!\" & ADDRESS(70,A136+4)),\"PASS\"),COUNTIF(INDIRECT(\"'Success Criteria'!\" & ADDRESS(8,A136+4)):INDIRECT(\"'Success Criteria'!\" & ADDRESS(70,A136+4)),\"PASS with comments\"))","v":0},{"$f":"COUNTIF(INDIRECT(\"'Success Criteria'!\" & ADDRESS(8,A136+4)):INDIRECT(\"'Success Criteria'!\" & ADDRESS(70,A136+4)),\"NON conformant\")","v":0},{"$f":"COUNTIF(INDIRECT(\"'Success Criteria'!\" & ADDRESS(8,A136+4)):INDIRECT(\"'Success Criteria'!\" & ADDRESS(70,A136+4)),\"N/A\")","v":0},{"$f":"COUNTIF(INDIRECT(\"'Success Criteria'!\" & ADDRESS(8,A136+4)):INDIRECT(\"'Success Criteria'!\" & ADDRESS(70,A136+4)),\"not tested\")","v":0},{"$f":"SUM(COUNTIF(INDIRECT(\"'Success Criteria'!\" & ADDRESS(74,A136+4)):INDIRECT(\"'Success Criteria'!\" & ADDRESS(115,A136+4)),\"PASS\"),COUNTIF(INDIRECT(\"'Success Criteria'!\" & ADDRESS(74,A136+4)):INDIRECT(\"'Success Criteria'!\" & ADDRESS(115,A136+4)),\"PASS with comments\"))","v":2},{"$f":"COUNTIF(INDIRECT(\"'Success Criteria'!\" & ADDRESS(74,A136+4)):INDIRECT(\"'Success Criteria'!\" & ADDRESS(115,A136+4)),\"NON conformant\")","v":0},{"$f":"COUNTIF(INDIRECT(\"'Success Criteria'!\" & ADDRESS(74,A136+4)):INDIRECT(\"'Success Criteria'!\" & ADDRESS(115,A136+4)),\"N/A\")","v":0},{"$f":"COUNTIF(INDIRECT(\"'Success Criteria'!\" & ADDRESS(74,A136+4)):INDIRECT(\"'Success Criteria'!\" & ADDRESS(115,A136+4)),\"not tested\")","v":0},{"$f":"SUM(COUNTIF(INDIRECT(\"'Success Criteria'!\" & ADDRESS(120,A136+4)):INDIRECT(\"'Success Criteria'!\" & ADDRESS(174,A136+4)),\"PASS\"),COUNTIF(INDIRECT(\"'Success Criteria'!\" & ADDRESS(120,A136+4)):INDIRECT(\"'Success Criteria'!\" & ADDRESS(174,A136+4)),\"PASS with comments\"))","v":0},{"$f":"COUNTIF(INDIRECT(\"'Success Criteria'!\" & ADDRESS(120,A136+4)):INDIRECT(\"'Success Criteria'!\" & ADDRESS(174,A136+4)),\"NON conformant\")","v":0},{"$f":"COUNTIF(INDIRECT(\"'Success Criteria'!\" & ADDRESS(120,A136+4)):INDIRECT(\"'Success Criteria'!\" & ADDRESS(174,A136+4)),\"N/A\")","v":0},{"$f":"COUNTIF(INDIRECT(\"'Success Criteria'!\" & ADDRESS(120,A136+4)):INDIRECT(\"'Success Criteria'!\" & ADDRESS(174,A136+4)),\"not tested\")","v":28},2,0,0,28,null,0,"",2,"",28,1]
[123,"Page 123","URL 123","Please select",{"$f":"SUM(COUNTIF(INDIRECT(\"'Success Criteria'!\" & ADDRESS(8,A137+4)):INDIRECT(\"'Success Criteria'!\" & ADDRESS(70,A137+4)),\"PASS\"),COUNTIF(INDIRECT(\"'Success Criteria'!\" & ADDRESS(8,A137+4)):INDIRECT(\"'Success Criteria'!\" & ADDRESS(70,A137+4)),\"PASS with comments\"))","v":0},{"$f":"COUNTIF(INDIRECT(\"'Success Criteria'!\" & ADDRESS(8,A137+4)):INDIRECT(\"'Success Criteria'!\" & ADDRESS(70,A137+4)),\"NON conformant\")","v":0},{"$f":"COUNTIF(INDIRECT(\"'Success Criteria'!\" & ADDRESS(8,A137+4)):INDIRECT(\"'Success Criteria'!\" & ADDRESS(70,A137+4)),\"N/A\")","v":0},{"$f":"COUNTIF(INDIRECT(\"'Success Criteria'!\" & ADDRESS(8,A137+4)):INDIRECT(\"'Success Criteria'!\" & ADDRESS(70,A137+4)),\"not tested\")","v":0},{"$f":"SUM(COUNTIF(INDIRECT(\"'Success Criteria'!\" & ADDRESS(74,A137+4)):INDIRECT(\"'Success Criteria'!\" & ADDRESS(115,A137+4)),\"PASS\"),COUNTIF(INDIRECT(\"'Success Criteria'!\" & ADDRESS(74,A137+4)):INDIRECT(\"'Success Criteria'!\" & ADDRESS(115,A137+4)),\"PASS with comments\"))","v":2},{"$f":"COUNTIF(INDIRECT(\"'Success Criteria'!\" & ADDRESS(74,A137+4)):INDIRECT(\"'Success Criteria'!\" & ADDRESS(115,A137+4)),\"NON conformant\")","v":0},{"$f":"COUNTIF(INDIRECT(\"'Success Criteria'!\" & ADDRESS(74,A137+4)):INDIRECT(\"'Success Criteria'!\" & ADDRESS(115,A137+4)),\"N/A\")","v":0},{"$f":"COUNTIF(INDIRECT(\"'Success Criteria'!\" & ADDRESS(74,A137+4)):INDIRECT(\"'Success Criteria'!\" & ADDRESS(115,A137+4)),\"not tested\")","v":0},{"$f":"SUM(COUNTIF(INDIRECT(\"'Success Criteria'!\" & ADDRESS(120,A137+4)):INDIRECT(\"'Success Criteria'!\" & ADDRESS(174,A137+4)),\"PASS\"),COUNTIF(INDIRECT(\"'Success Criteria'!\" & ADDRESS(120,A137+4)):INDIRECT(\"'Success Criteria'!\" & ADDRESS(174,A137+4)),\"PASS with comments\"))","v":0},{"$f":"COUNTIF(INDIRECT(\"'Success Criteria'!\" & ADDRESS(120,A137+4)):INDIRECT(\"'Success Criteria'!\" & ADDRESS(174,A137+4)),\"NON conformant\")","v":0},{"$f":"COUNTIF(INDIRECT(\"'Success Criteria'!\" & ADDRESS(120,A137+4)):INDIRECT(\"'Success Criteria'!\" & ADDRESS(174,A137+4)),\"N/A\")","v":0},{"$f":"COUNTIF(INDIRECT(\"'Success Criteria'!\" & ADDRESS(120,A137+4)):INDIRECT(\"'Success Criteria'!\" & ADDRESS(174,A137+4)),\"not tested\")","v":28},2,0,0,28,null,0,"",2,"",28,1]
[124,"Page 124","URL 124","Please select",{"$f":"SUM(COUNTIF(INDIRECT(\"'Success Criteria'!\" & ADDRESS(8,A138+4)):INDIRECT(\"'Success Criteria'!\" & ADDRESS(70,A138+4)),\"PASS\"),COUNTIF(INDIRECT(\"'Success Criteria'!\" & ADDRESS(8,A138+4)):INDIRECT(\"'Success Criteria'!\" & ADDRESS(70,A138+4)),\"PASS with comments\"))","v":0},{"$f":"COUNTIF(INDIRECT(\"'Success Criteria'!\" & ADDRESS(8,A138+4)):INDIRECT(\"'Success Criteria'!\" & ADDRESS(70,A138+4)),\"NON conformant\")","v":0},{"$f":"COUNTIF(INDIRECT(\"'Success Criteria'!\" & ADDRESS(8,A138+4)):INDIRECT(\"'Success Criteria'!\" & ADDRESS(70,A138+4)),\"N/A\")","v":0},{"$f":"COUNTIF(INDIRECT(\"'Success Criteria'!\" & ADDRESS(8,A138+4)):INDIRECT(\"'Success Criteria'!\" & ADDRESS(70,A138+4)),\"not tested\")","v":0},{"$f":"SUM(COUNTIF(INDIRECT(\"'Success Criteria'!\" & ADDRESS(74,A138+4)):INDIRECT(\"'Success Criteria'!\" & ADDRESS(115,A138+4)),\"PASS\"),COUNTIF(INDIRECT(\"'Success Criteria'!\" & ADDRESS(74,A138+4)):INDIRECT(\"'Success Criteria'!\" & ADDRESS(115,A138+4)),\"PASS with comments\"))","v":2},{"$f":"COUNTIF(INDIRECT(\"'Success Criteria'!\" & ADDRESS(74,A138+4)):INDIRECT(\"'Success Criteria'!\" & ADDRESS(115,A138+4)),\"NON conformant\")","v":0},{"$f":"COUNTIF(INDIRECT(\"'Success Criteria'!\" & ADDRESS(74,A138+4)):INDIRECT(\"'Success Criteria'!\" & ADDRESS(115,A138+4)),\"N/A\")","v":0},{"$f":"COUNTIF(INDIRECT(\"'Success Criteria'!\" & ADDRESS(74,A138+4)):INDIRECT(\"'Success Criteria'!\" & ADDRESS(115,A138+4)),\"not tested\")","v":0},{"$f":"SUM(COUNTIF(INDIRECT(\"'Success Criteria'!\" & ADDRESS(120,A138+4)):INDIRECT(\"'Success Criteria'!\" & ADDRESS(174,A138+4)),\"PASS\"),COUNTIF(INDIRECT(\"'Success Criteria'!\" & ADDRESS(120,A138+4)):INDIRECT(\"'Success Criteria'!\" & ADDRESS(174,A138+4)),\"PASS with comments\"))","v":0},{"$f":"COUNTIF(INDIRECT(\"'Success Criteria'!\" & ADDRESS(120,A138+4)):INDIRECT(\"'Success Criteria'!\" & ADDRESS(174,A138+4)),\"NON conformant\")","v":0},{"$f":"COUNTIF(INDIRECT(\"'Success Criteria'!\" & ADDRESS(120,A138+4)):INDIRECT(\"'Success Criteria'!\" & ADDRESS(174,A138+4)),\"N/A\")","v":0},{"$f":"COUNTIF(INDIRECT(\"'Success Criteria'!\" & ADDRESS(120,A138+4)):INDIRECT(\"'Success Criteria'!\" & ADDRESS(174,A138+4)),\"not tested\")","v":28},2,0,0,28,null,0,"",2,"",28,1]
[125,"Page 125","URL 125","Please select",{"$f":"SUM(COUNTIF(INDIRECT(\"'Success Criteria'!\" & ADDRESS(8,A139+4)):INDIRECT(\"'Success Criteria'!\" & ADDRESS(70,A139+4)),\"PASS\"),COUNTIF(INDIRECT(\"'Success Criteria'!\" & ADDRESS(8,A139+4)):INDIRECT(\"'Success Criteria'!\" & ADDRESS(70,A139+4)),\"PASS with comments\"))","v":0},{"$f":"COUNTIF(INDIRECT(\"'Success Criteria'!\" & ADDRESS(8,A139+4)):INDIRECT(\"'Success Criteria'!\" & ADDRESS(70,A139+4)),\"NON conformant\")","v":0},{"$f":"COUNTIF(INDIRECT(\"'Success Criteria'!\" & ADDRESS(8,A139+4)):INDIRECT(\"'Success Criteria'!\" & ADDRESS(70,A139+4)),\"N/A\")","v":0},{"$f":"COUNTIF(INDIRECT(\"'Success Criteria'!\" & ADDRESS(8,A139+4)):INDIRECT(\"'Success Criteria'!\" & ADDRESS(70,A139+4)),\"not tested\")","v":0},{"$f":"SUM(COUNTIF(INDIRECT(\"'Success Criteria'!\" & ADDRESS(74,A139+4)):INDIRECT(\"'Success Criteria'!\" & ADDRESS(115,A139+4)),\"PASS\"),COUNTIF(INDIRECT(\"'Success Criteria'!\" & ADDRESS(74,A139+4)):INDIRECT(\"'Success Criteria'!\" & ADDRESS(115,A139+4)),\"PASS with comments\"))","v":2},{"$f":"COUNTIF(INDIRECT(\"'Success Criteria'!\" & ADDRESS(74,A139+4)):INDIRECT(\"'Success Criteria'!\" & ADDRESS(115,A139+4)),\"NON conformant\")","v":0},{"$f":"COUNTIF(INDIRECT(\"'Success Criteria'!\" & ADDRESS(74,A139+4)):INDIRECT(\"'Success Criteria'!\" & ADDRESS(115,A139+4)),\"N/A\")","v":0},{"$f":"COUNTIF(INDIRECT(\"'Success Criteria'!\" & ADDRESS(74,A139+4)):INDIRECT(\"'Success Criteria'!\" & ADDRESS(115,A139+4)),\"not tested\")","v":0},{"$f":"SUM(COUNTIF(INDIRECT(\"'Success Criteria'!\" & ADDRESS(120,A139+4)):INDIRECT(\"'Success Criteria'!\" & ADDRESS(174,A139+4)),\"PASS\"),COUNTIF(INDIRECT(\"'Success Criteria'!\" & ADDRESS(120,A139+4)):INDIRECT(\"'Success Criteria'!\" & ADDRESS(174,A139+4)),\"PASS with comments\"))","v":0},{"$f":"COUNTIF(INDIRECT(\"'Success Criteria'!\" & ADDRESS(120,A139+4)):INDIRECT(\"'Success Criteria'!\" & ADDRESS(174,A139+4)),\"NON conformant\")","v":0},{"$f":"COUNTIF(INDIRECT(\"'Success Criteria'!\" & ADDRESS(120,A139+4)):INDIRECT(\"'Success Criteria'!\" & ADDRESS(174,A139+4)),\"N/A\")","v":0},{"$f":"COUNTIF(INDIRECT(\"'Success Criteria'!\" & ADDRESS(120,A139+4)):INDIRECT(\"'Success Criteria'!\" & ADDRESS(174,A139+4)),\"not tested\")","v":28},2,0,0,28,null,0,"",2,"",28,1]
[126,"Page 126","URL 126","Please select",{"$f":"SUM(COUNTIF(INDIRECT(\"'Success Criteria'!\" & ADDRESS(8,A140+4)):INDIRECT(\"'Success Criteria'!\" & ADDRESS(70,A140+4)),\"PASS\"),COUNTIF(INDIRECT(\"'Success Criteria'!\" & ADDRESS(8,A140+4)):INDIRECT(\"'Success Criteria'!\" & ADDRESS(70,A140+4)),\"PASS with comments\"))","v":0},{"$f":"COUNTIF(INDIRECT(\"'Success Criteria'!\" & ADDRESS(8,A140+4)):INDIRECT(\"'Success Criteria'!\" & ADDRESS(70,A140+4)),\"NON conformant\")","v":0},{"$f":"COUNTIF(INDIRECT(\"'Success Criteria'!\" & ADDRESS(8,A140+4)):INDIRECT(\"'Success Criteria'!\" & ADDRESS(70,A140+4)),\"N/A\")","v":0},{"$f":"COUNTIF(INDIRECT(\"'Success Criteria'!\" & ADDRESS(8,A140+4)):INDIRECT(\"'Success Criteria'!\" & ADDRESS(70,A140+4)),\"not tested\")","v":0},{"$f":"SUM(COUNTIF(INDIRECT(\"'Success Criteria'!\" & ADDRESS(74,A140+4)):INDIRECT(\"'Success Criteria'!\" & ADDRESS(115,A140+4)),\"PASS\"),COUNTIF(INDIRECT(\"'Success Criteria'!\" & ADDRESS(74,A140+4)):INDIRECT(\"'Success Criteria'!\" & ADDRESS(115,A140+4)),\"PASS with comments\"))","v":2},{"$f":"COUNTIF(INDIRECT(\"'Success Criteria'!\" & ADDRESS(74,A140+4)):INDIRECT(\"'Success Criteria'!\" & ADDRESS(115,A140+4)),\"NON conformant\")","v":0},{"$f":"COUNTIF(INDIRECT(\"'Success Criteria'!\" & ADDRESS(74,A140+4)):INDIRECT(\"'Success Criteria'!\" & ADDRESS(115,A140+4)),\"N/A\")","v":0},{"$f":"COUNTIF(INDIRECT(\"'Success Criteria'!\" & ADDRESS(74,A140+4)):INDIRECT(\"'Success Criteria'!\" & ADDRESS(115,A140+4)),\"not tested\")","v":0},{"$f":"SUM(COUNTIF(INDIRECT(\"'Success Criteria'!\" & ADDRESS(120,A140+4)):INDIRECT(\"'Success Criteria'!\" & ADDRESS(174,A140+4)),\"PASS\"),COUNTIF(INDIRECT(\"'Success Criteria'!\" & ADDRESS(120,A140+4)):INDIRECT(\"'Success Criteria'!\" & ADDRESS(174,A140+4)),\"PASS with comments\"))","v":0},{"$f":"COUNTIF(INDIRECT(\"'Success Criteria'!\" & ADDRESS(120,A140+4)):INDIRECT(\"'Success Criteria'!\" & ADDRESS(174,A140+4)),\"NON conformant\")","v":0},{"$f":"COUNTIF(INDIRECT(\"'Success Criteria'!\" & ADDRESS(120,A140+4)):INDIRECT(\"'Success Criteria'!\" & ADDRESS(174,A140+4)),\"N/A\")","v":0},{"$f":"COUNTIF(INDIRECT(\"'Success Criteria'!\" & ADDRESS(120,A140+4)):INDIRECT(\"'Success Criteria'!\" & ADDRESS(174,A140+4)),\"not tested\")","v":28},2,0,0,28,null,0,"",2,"",28,1]
[127,"Page 127","URL 127","Please select",{"$f":"SUM(COUNTIF(INDIRECT(\"'Success Criteria'!\" & ADDRESS(8,A141+4)):INDIRECT(\"'Success Criteria'!\" & ADDRESS(70,A141+4)),\"PASS\"),COUNTIF(INDIRECT(\"'Success Criteria'!\" & ADDRESS(8,A141+4)):INDIRECT(\"'Success Criteria'!\" & ADDRESS(70,A141+4)),\"PASS with comments\"))","v":0},{"$f":"COUNTIF(INDIRECT(\"'Success Criteria'!\" & ADDRESS(8,A141+4)):INDIRECT(\"'Success Criteria'!\" & ADDRESS(70,A141+4)),\"NON conformant\")","v":0},{"$f":"COUNTIF(INDIRECT(\"'Success Criteria'!\" & ADDRESS(8,A141+4)):INDIRECT(\"'Success Criteria'!\" & ADDRESS(70,A141+4)),\"N/A\")","v":0},{"$f":"COUNTIF(INDIRECT(\"'Success Criteria'!\" & ADDRESS(8,A141+4)):INDIRECT(\"'Success Criteria'!\" & ADDRESS(70,A141+4)),\"not tested\")","v":0},{"$f":"SUM(COUNTIF(INDIRECT(\"'Success Criteria'!\" & ADDRESS(74,A141+4)):INDIRECT(\"'Success Criteria'!\" & ADDRESS(115,A141+4)),\"PASS\"),COUNTIF(INDIRECT(\"'Success Criteria'!\" & ADDRESS(74,A141+4)):INDIRECT(\"'Success Criteria'!\" & ADDRESS(115,A141+4)),\"PASS with comments\"))","v":2},{"$f":"COUNTIF(INDIRECT(\"'Success Criteria'!\" & ADDRESS(74,A141+4)):INDIRECT(\"'Success Criteria'!\" & ADDRESS(115,A141+4)),\"NON conformant\")","v":0},{"$f":"COUNTIF(INDIRECT(\"'Success Criteria'!\" & ADDRESS(74,A141+4)):INDIRECT(\"'Success Criteria'!\" & ADDRESS(115,A141+4)),\"N/A\")","v":0},{"$f":"COUNTIF(INDIRECT(\"'Success Criteria'!\" & ADDRESS(74,A141+4)):INDIRECT(\"'Success Criteria'!\" & ADDRESS(115,A141+4)),\"not tested\")","v":0},{"$f":"SUM(COUNTIF(INDIRECT(\"'Success Criteria'!\" & ADDRESS(120,A141+4)):INDIRECT(\"'Success Criteria'!\" & ADDRESS(174,A141+4)),\"PASS\"),COUNTIF(INDIRECT(\"'Success Criteria'!\" & ADDRESS(120,A141+4)):INDIRECT(\"'Success Criteria'!\" & ADDRESS(174,A141+4)),\"PASS with comments\"))","v":0},{"$f":"COUNTIF(INDIRECT(\"'Success Criteria'!\" & ADDRESS(120,A141+4)):INDIRECT(\"'Success Criteria'!\" & ADDRESS(174,A141+4)),\"NON conformant\")","v":0},{"$f":"COUNTIF(INDIRECT(\"'Success Criteria'!\" & ADDRESS(120,A141+4)):INDIRECT(\"'Success Criteria'!\" & ADDRESS(174,A141+4)),\"N/A\")","v":0},{"$f":"COUNTIF(INDIRECT(\"'Success Criteria'!\" & ADDRESS(120,A141+4)):INDIRECT(\"'Success Criteria'!\" & ADDRESS(174,A141+4)),\"not tested\")","v":28},2,0,0,28,null,0,"",2,"",28,1]
[128,"Page 128","URL 128","Please select",{"$f":"SUM(COUNTIF(INDIRECT(\"'Success Criteria'!\" & ADDRESS(8,A142+4)):INDIRECT(\"'Success Criteria'!\" & ADDRESS(70,A142+4)),\"PASS\"),COUNTIF(INDIRECT(\"'Success Criteria'!\" & ADDRESS(8,A142+4)):INDIRECT(\"'Success Criteria'!\" & ADDRESS(70,A142+4)),\"PASS with comments\"))","v":0},{"$f":"COUNTIF(INDIRECT(\"'Success Criteria'!\" & ADDRESS(8,A142+4)):INDIRECT(\"'Success Criteria'!\" & ADDRESS(70,A142+4)),\"NON conformant\")","v":0},{"$f":"COUNTIF(INDIRECT(\"'Success Criteria'!\" & ADDRESS(8,A142+4)):INDIRECT(\"'Success Criteria'!\" & ADDRESS(70,A142+4)),\"N/A\")","v":0},{"$f":"COUNTIF(INDIRECT(\"'Success Criteria'!\" & ADDRESS(8,A142+4)):INDIRECT(\"'Success Criteria'!\" & ADDRESS(70,A142+4)),\"not tested\")","v":0},{"$f":"SUM(COUNTIF(INDIRECT(\"'Success Criteria'!\" & ADDRESS(74,A142+4)):INDIRECT(\"'Success Criteria'!\" & ADDRESS(115,A142+4)),\"PASS\"),COUNTIF(INDIRECT(\"'Success Criteria'!\" & ADDRESS(74,A142+4)):INDIRECT(\"'Success Criteria'!\" & ADDRESS(115,A142+4)),\"PASS with comments\"))","v":2},{"$f":"COUNTIF(INDIRECT(\"'Success Criteria'!\" & ADDRESS(74,A142+4)):INDIRECT(\"'Success Criteria'!\" & ADDRESS(115,A142+4)),\"NON conformant\")","v":0},{"$f":"COUNTIF(INDIRECT(\"'Success Criteria'!\" & ADDRESS(74,A142+4)):INDIRECT(\"'Success Criteria'!\" & ADDRESS(115,A142+4)),\"N/A\")","v":0},{"$f":"COUNTIF(INDIRECT(\"'Success Criteria'!\" & ADDRESS(74,A142+4)):INDIRECT(\"'Success Criteria'!\" & ADDRESS(115,A142+4)),\"not tested\")","v":0},{"$f":"SUM(COUNTIF(INDIRECT(\"'Success Criteria'!\" & ADDRESS(120,A142+4)):INDIRECT(\"'Success Criteria'!\" & ADDRESS(174,A142+4)),\"PASS\"),COUNTIF(INDIRECT(\"'Success Criteria'!\" & ADDRESS(120,A142+4)):INDIRECT(\"'Success Criteria'!\" & ADDRESS(174,A142+4)),\"PASS with comments\"))","v":0},{"$f":"COUNTIF(INDIRECT(\"'Success Criteria'!\" & ADDRESS(120,A142+4)):INDIRECT(\"'Success Criteria'!\" & ADDRESS(174,A142+4)),\"NON conformant\")","v":0},{"$f":"COUNTIF(INDIRECT(\"'Success Criteria'!\" & ADDRESS(120,A142+4)):INDIRECT(\"'Success Criteria'!\" & ADDRESS(174,A142+4)),\"N/A\")","v":0},{"$f":"COUNTIF(INDIRECT(\"'Success Criteria'!\" & ADDRESS(120,A142+4)):INDIRECT(\"'Success Criteria'!\" & ADDRESS(174,A142+4)),\"not tested\")","v":28},2,0,0,28,null,0,"",2,"",28,1]
[129,"Page 129","URL 129","Please select",{"$f":"SUM(COUNTIF(INDIRECT(\"'Success Criteria'!\" & ADDRESS(8,A143+4)):INDIRECT(\"'Success Criteria'!\" & ADDRESS(70,A143+4)),\"PASS\"),COUNTIF(INDIRECT(\"'Success Criteria'!\" & ADDRESS(8,A143+4)):INDIRECT(\"'Success Criteria'!\" & ADDRESS(70,A143+4)),\"PASS with comments\"))","v":0},{"$f":"COUNTIF(INDIRECT(\"'Success Criteria'!\" & ADDRESS(8,A143+4)):INDIRECT(\"'Success Criteria'!\" & ADDRESS(70,A143+4)),\"NON conformant\")","v":0},{"$f":"COUNTIF(INDIRECT(\"'Success Criteria'!\" & ADDRESS(8,A143+4)):INDIRECT(\"'Success Criteria'!\" & ADDRESS(70,A143+4)),\"N/A\")","v":0},{"$f":"COUNTIF(INDIRECT(\"'Success Criteria'!\" & ADDRESS(8,A143+4)):INDIRECT(\"'Success Criteria'!\" & ADDRESS(70,A143+4)),\"not tested\")","v":0},{"$f":"SUM(COUNTIF(INDIRECT(\"'Success Criteria'!\" & ADDRESS(74,A143+4)):INDIRECT(\"'Success Criteria'!\" & ADDRESS(115,A143+4)),\"PASS\"),COUNTIF(INDIRECT(\"'Success Criteria'!\" & ADDRESS(74,A143+4)):INDIRECT(\"'Success Criteria'!\" & ADDRESS(115,A143+4)),\"PASS with comments\"))","v":2},{"$f":"COUNTIF(INDIRECT(\"'Success Criteria'!\" & ADDRESS(74,A143+4)):INDIRECT(\"'Success Criteria'!\" & ADDRESS(115,A143+4)),\"NON conformant\")","v":0},{"$f":"COUNTIF(INDIRECT(\"'Success Criteria'!\" & ADDRESS(74,A143+4)):INDIRECT(\"'Success Criteria'!\" & ADDRESS(115,A143+4)),\"N/A\")","v":0},{"$f":"COUNTIF(INDIRECT(\"'Success Criteria'!\" & ADDRESS(74,A143+4)):INDIRECT(\"'Success Criteria'!\" & ADDRESS(115,A143+4)),\"not tested\")","v":0},{"$f":"SUM(COUNTIF(INDIRECT(\"'Success Criteria'!\" & ADDRESS(120,A143+4)):INDIRECT(\"'Success Criteria'!\" & ADDRESS(174,A143+4)),\"PASS\"),COUNTIF(INDIRECT(\"'Success Criteria'!\" & ADDRESS(120,A143+4)):INDIRECT(\"'Success Criteria'!\" & ADDRESS(174,A143+4)),\"PASS with comments\"))","v":0},{"$f":"COUNTIF(INDIRECT(\"'Success Criteria'!\" & ADDRESS(120,A143+4)):INDIRECT(\"'Success Criteria'!\" & ADDRESS(174,A143+4)),\"NON conformant\")","v":0},{"$f":"COUNTIF(INDIRECT(\"'Success Criteria'!\" & ADDRESS(120,A143+4)):INDIRECT(\"'Success Criteria'!\" & ADDRESS(174,A143+4)),\"N/A\")","v":0},{"$f":"COUNTIF(INDIRECT(\"'Success Criteria'!\" & ADDRESS(120,A143+4)):INDIRECT(\"'Success Criteria'!\" & ADDRESS(174,A143+4)),\"not tested\")","v":28},2,0,0,28,null,0,"",2,"",28,1]
[130,"Page 130","URL 130","Please select",{"$f":"SUM(COUNTIF(INDIRECT(\"'Success Criteria'!\" & ADDRESS(8,A144+4)):INDIRECT(\"'Success Criteria'!\" & ADDRESS(70,A144+4)),\"PASS\"),COUNTIF(INDIRECT(\"'Success Criteria'!\" & ADDRESS(8,A144+4)):INDIRECT(\"'Success Criteria'!\" & ADDRESS(70,A144+4)),\"PASS with comments\"))","v":0},{"$f":"COUNTIF(INDIRECT(\"'Success Criteria'!\" & ADDRESS(8,A144+4)):INDIRECT(\"'Success Criteria'!\" & ADDRESS(70,A144+4)),\"NON conformant\")","v":0},{"$f":"COUNTIF(INDIRECT(\"'Success Criteria'!\" & ADDRESS(8,A144+4)):INDIRECT(\"'Success Criteria'!\" & ADDRESS(70,A144+4)),\"N/A\")","v":0},{"$f":"COUNTIF(INDIRECT(\"'Success Criteria'!\" & ADDRESS(8,A144+4)):INDIRECT(\"'Success Criteria'!\" & ADDRESS(70,A144+4)),\"not tested\")","v":0},{"$f":"SUM(COUNTIF(INDIRECT(\"'Success Criteria'!\" & ADDRESS(74,A144+4)):INDIRECT(\"'Success Criteria'!\" & ADDRESS(115,A144+4)),\"PASS\"),COUNTIF(INDIRECT(\"'Success Criteria'!\" & ADDRESS(74,A144+4)):INDIRECT(\"'Success Criteria'!\" & ADDRESS(115,A144+4)),\"PASS with comments\"))","v":2},{"$f":"COUNTIF(INDIRECT(\"'Success Criteria'!\" & ADDRESS(74,A144+4)):INDIRECT(\"'Success Criteria'!\" & ADDRESS(115,A144+4)),\"NON conformant\")","v":0},{"$f":"COUNTIF(INDIRECT(\"'Success Criteria'!\" & ADDRESS(74,A144+4)):INDIRECT(\"'Success Criteria'!\" & ADDRESS(115,A144+4)),\"N/A\")","v":0},{"$f":"COUNTIF(INDIRECT(\"'Success Criteria'!\" & ADDRESS(74,A144+4)):INDIRECT(\"'Success Criteria'!\" & ADDRESS(115,A144+4)),\"not tested\")","v":0},{"$f":"SUM(COUNTIF(INDIRECT(\"'Success Criteria'!\" & ADDRESS(120,A144+4)):INDIRECT(\"'Success Criteria'!\" & ADDRESS(174,A144+4)),\"PASS\"),COUNTIF(INDIRECT(\"'Success Criteria'!\" & ADDRESS(120,A144+4)):INDIRECT(\"'Success Criteria'!\" & ADDRESS(174,A144+4)),\"PASS with comments\"))","v":0},{"$f":"COUNTIF(INDIRECT(\"'Success Criteria'!\" & ADDRESS(120,A144+4)):INDIRECT(\"'Success Criteria'!\" & ADDRESS(174,A144+4)),\"NON conformant\")","v":0},{"$f":"COUNTIF(INDIRECT(\"'Success Criteria'!\" & ADDRESS(120,A144+4)):INDIRECT(\"'Success Criteria'!\" & ADDRESS(174,A144+4)),\"N/A\")","v":0},{"$f":"COUNTIF(INDIRECT(\"'Success Criteria'!\" & ADDRESS(120,A144+4)):INDIRECT(\"'Success Criteria'!\" & ADDRESS(174,A144+4)),\"not tested\")","v":28},{"$f":"SUM(E144+I144+M144)","v":2},0,0,28,null,0,"",{"$f":"SUM($I144:$L144)","v":2},"",{"$f":"SUM($M144:$P144)","v":28},1]
[131,"Page 131","URL 131","Please select",{"$f":"SUM(COUNTIF(INDIRECT(\"'Success Criteria'!\" & ADDRESS(8,A145+4)):INDIRECT(\"'Success Criteria'!\" & ADDRESS(70,A145+4)),\"PASS\"),COUNTIF(INDIRECT(\"'Success Criteria'!\" & ADDRESS(8,A145+4)):INDIRECT(\"'Success Criteria'!\" & ADDRESS(70,A145+4)),\"PASS with comments\"))","v":0},{"$f":"COUNTIF(INDIRECT(\"'Success Criteria'!\" & ADDRESS(8,A145+4)):INDIRECT(\"'Success Criteria'!\" & ADDRESS(70,A145+4)),\"NON conformant\")","v":0},{"$f":"COUNTIF(INDIRECT(\"'Success Criteria'!\" & ADDRESS(8,A145+4)):INDIRECT(\"'Success Criteria'!\" & ADDRESS(70,A145+4)),\"N/A\")","v":0},{"$f":"COUNTIF(INDIRECT(\"'Success Criteria'!\" & ADDRESS(8,A145+4)):INDIRECT(\"'Success Criteria'!\" & ADDRESS(70,A145+4)),\"not tested\")","v":0},{"$f":"SUM(COUNTIF(INDIRECT(\"'Success Criteria'!\" & ADDRESS(74,A145+4)):INDIRECT(\"'Success Criteria'!\" & ADDRESS(115,A145+4)),\"PASS\"),COUNTIF(INDIRECT(\"'Success Criteria'!\" & ADDRESS(74,A145+4)):INDIRECT(\"'Success Criteria'!\" & ADDRESS(115,A145+4)),\"PASS with comments\"))","v":2},{"$f":"COUNTIF(INDIRECT(\"'Success Criteria'!\" & ADDRESS(74,A145+4)):INDIRECT(\"'Success Criteria'!\" & ADDRESS(115,A145+4)),\"NON conformant\")","v":0},{"$f":"COUNTIF(INDIRECT(\"'Success Criteria'!\" & ADDRESS(74,A145+4)):INDIRECT(\"'Success Criteria'!\" & ADDRESS(115,A145+4)),\"N/A\")","v":0},{"$f":"COUNTIF(INDIRECT(\"'Success Criteria'!\" & ADDRESS(74,A145+4)):INDIRECT(\"'Success Criteria'!\" & ADDRESS(115,A145+4)),\"not tested\")","v":0},{"$f":"SUM(COUNTIF(INDIRECT(\"'Success Criteria'!\" & ADDRESS(120,A145+4)):INDIRECT(\"'Success Criteria'!\" & ADDRESS(174,A145+4)),\"PASS\"),COUNTIF(INDIRECT(\"'Success Criteria'!\" & ADDRESS(120,A145+4)):INDIRECT(\"'Success Criteria'!\" & ADDRESS(174,A145+4)),\"PASS with comments\"))","v":0},{"$f":"COUNTIF(INDIRECT(\"'Success Criteria'!\" & ADDRESS(120,A145+4)):INDIRECT(\"'Success Criteria'!\" & ADDRESS(174,A145+4)),\"NON conformant\")","v":0},{"$f":"COUNTIF(INDIRECT(\"'Success Criteria'!\" & ADDRESS(120,A145+4)):INDIRECT(\"'Success Criteria'!\" & ADDRESS(174,A145+4)),\"N/A\")","v":0},{"$f":"COUNTIF(INDIRECT(\"'Success Criteria'!\" & ADDRESS(120,A145+4)):INDIRECT(\"'Success Criteria'!\" & ADDRESS(174,A145+4)),\"not tested\")","v":28},2,0,0,28,null,0,"",2,"",28,1]
[132,"Page 132","URL 132","Please select",{"$f":"SUM(COUNTIF(INDIRECT(\"'Success Criteria'!\" & ADDRESS(8,A146+4)):INDIRECT(\"'Success Criteria'!\" & ADDRESS(70,A146+4)),\"PASS\"),COUNTIF(INDIRECT(\"'Success Criteria'!\" & ADDRESS(8,A146+4)):INDIRECT(\"'Success Criteria'!\" & ADDRESS(70,A146+4)),\"PASS with comments\"))","v":0},{"$f":"COUNTIF(INDIRECT(\"'Success Criteria'!\" & ADDRESS(8,A146+4)):INDIRECT(\"'Success Criteria'!\" & ADDRESS(70,A146+4)),\"NON conformant\")","v":0},{"$f":"COUNTIF(INDIRECT(\"'Success Criteria'!\" & ADDRESS(8,A146+4)):INDIRECT(\"'Success Criteria'!\" & ADDRESS(70,A146+4)),\"N/A\")","v":0},{"$f":"COUNTIF(INDIRECT(\"'Success Criteria'!\" & ADDRESS(8,A146+4)):INDIRECT(\"'Success Criteria'!\" & ADDRESS(70,A146+4)),\"not tested\")","v":0},{"$f":"SUM(COUNTIF(INDIRECT(\"'Success Criteria'!\" & ADDRESS(74,A146+4)):INDIRECT(\"'Success Criteria'!\" & ADDRESS(115,A146+4)),\"PASS\"),COUNTIF(INDIRECT(\"'Success Criteria'!\" & ADDRESS(74,A146+4)):INDIRECT(\"'Success Criteria'!\" & ADDRESS(115,A146+4)),\"PASS with comments\"))","v":2},{"$f":"COUNTIF(INDIRECT(\"'Success Criteria'!\" & ADDRESS(74,A146+4)):INDIRECT(\"'Success Criteria'!\" & ADDRESS(115,A146+4)),\"NON conformant\")","v":0},{"$f":"COUNTIF(INDIRECT(\"'Success Criteria'!\" & ADDRESS(74,A146+4)):INDIRECT(\"'Success Criteria'!\" & ADDRESS(115,A146+4)),\"N/A\")","v":0},{"$f":"COUNTIF(INDIRECT(\"'Success Criteria'!\" & ADDRESS(74,A146+4)):INDIRECT(\"'Success Criteria'!\" & ADDRESS(115,A146+4)),\"not tested\")","v":0},{"$f":"SUM(COUNTIF(INDIRECT(\"'Success Criteria'!\" & ADDRESS(120,A146+4)):INDIRECT(\"'Success Criteria'!\" & ADDRESS(174,A146+4)),\"PASS\"),COUNTIF(INDIRECT(\"'Success Criteria'!\" & ADDRESS(120,A146+4)):INDIRECT(\"'Success Criteria'!\" & ADDRESS(174,A146+4)),\"PASS with comments\"))","v":0},{"$f":"COUNTIF(INDIRECT(\"'Success Criteria'!\" & ADDRESS(120,A146+4)):INDIRECT(\"'Success Criteria'!\" & ADDRESS(174,A146+4)),\"NON conformant\")","v":0},{"$f":"COUNTIF(INDIRECT(\"'Success Criteria'!\" & ADDRESS(120,A146+4)):INDIRECT(\"'Success Criteria'!\" & ADDRESS(174,A146+4)),\"N/A\")","v":0},{"$f":"COUNTIF(INDIRECT(\"'Success Criteria'!\" & ADDRESS(120,A146+4)):INDIRECT(\"'Success Criteria'!\" & ADDRESS(174,A146+4)),\"not tested\")","v":28},2,0,0,28,null,0,"",2,"",28,1]
[133,"Page 133","URL 133","Please select",{"$f":"SUM(COUNTIF(INDIRECT(\"'Success Criteria'!\" & ADDRESS(8,A147+4)):INDIRECT(\"'Success Criteria'!\" & ADDRESS(70,A147+4)),\"PASS\"),COUNTIF(INDIRECT(\"'Success Criteria'!\" & ADDRESS(8,A147+4)):INDIRECT(\"'Success Criteria'!\" & ADDRESS(70,A147+4)),\"PASS with comments\"))","v":0},{"$f":"COUNTIF(INDIRECT(\"'Success Criteria'!\" & ADDRESS(8,A147+4)):INDIRECT(\"'Success Criteria'!\" & ADDRESS(70,A147+4)),\"NON conformant\")","v":0},{"$f":"COUNTIF(INDIRECT(\"'Success Criteria'!\" & ADDRESS(8,A147+4)):INDIRECT(\"'Success Criteria'!\" & ADDRESS(70,A147+4)),\"N/A\")","v":0},{"$f":"COUNTIF(INDIRECT(\"'Success Criteria'!\" & ADDRESS(8,A147+4)):INDIRECT(\"'Success Criteria'!\" & ADDRESS(70,A147+4)),\"not tested\")","v":0},{"$f":"SUM(COUNTIF(INDIRECT(\"'Success Criteria'!\" & ADDRESS(74,A147+4)):INDIRECT(\"'Success Criteria'!\" & ADDRESS(115,A147+4)),\"PASS\"),COUNTIF(INDIRECT(\"'Success Criteria'!\" & ADDRESS(74,A147+4)):INDIRECT(\"'Success Criteria'!\" & ADDRESS(115,A147+4)),\"PASS with comments\"))","v":2},{"$f":"COUNTIF(INDIRECT(\"'Success Criteria'!\" & ADDRESS(74,A147+4)):INDIRECT(\"'Success Criteria'!\" & ADDRESS(115,A147+4)),\"NON conformant\")","v":0},{"$f":"COUNTIF(INDIRECT(\"'Success Criteria'!\" & ADDRESS(74,A147+4)):INDIRECT(\"'Success Criteria'!\" & ADDRESS(115,A147+4)),\"N/A\")","v":0},{"$f":"COUNTIF(INDIRECT(\"'Success Criteria'!\" & ADDRESS(74,A147+4)):INDIRECT(\"'Success Criteria'!\" & ADDRESS(115,A147+4)),\"not tested\")","v":0},{"$f":"SUM(COUNTIF(INDIRECT(\"'Success Criteria'!\" & ADDRESS(120,A147+4)):INDIRECT(\"'Success Criteria'!\" & ADDRESS(174,A147+4)),\"PASS\"),COUNTIF(INDIRECT(\"'Success Criteria'!\" & ADDRESS(120,A147+4)):INDIRECT(\"'Success Criteria'!\" & ADDRESS(174,A147+4)),\"PASS with comments\"))","v":0},{"$f":"COUNTIF(INDIRECT(\"'Success Criteria'!\" & ADDRESS(120,A147+4)):INDIRECT(\"'Success Criteria'!\" & ADDRESS(174,A147+4)),\"NON conformant\")","v":0},{"$f":"COUNTIF(INDIRECT(\"'Success Criteria'!\" & ADDRESS(120,A147+4)):INDIRECT(\"'Success Criteria'!\" & ADDRESS(174,A147+4)),\"N/A\")","v":0},{"$f":"COUNTIF(INDIRECT(\"'Success Criteria'!\" & ADDRESS(120,A147+4)):INDIRECT(\"'Success Criteria'!\" & ADDRESS(174,A147+4)),\"not tested\")","v":28},2,0,0,28,null,0,"",2,"",28,1]
[134,"Page 134","URL 134","Please select",{"$f":"SUM(COUNTIF(INDIRECT(\"'Success Criteria'!\" & ADDRESS(8,A148+4)):INDIRECT(\"'Success Criteria'!\" & ADDRESS(70,A148+4)),\"PASS\"),COUNTIF(INDIRECT(\"'Success Criteria'!\" & ADDRESS(8,A148+4)):INDIRECT(\"'Success Criteria'!\" & ADDRESS(70,A148+4)),\"PASS with comments\"))","v":0},{"$f":"COUNTIF(INDIRECT(\"'Success Criteria'!\" & ADDRESS(8,A148+4)):INDIRECT(\"'Success Criteria'!\" & ADDRESS(70,A148+4)),\"NON conformant\")","v":0},{"$f":"COUNTIF(INDIRECT(\"'Success Criteria'!\" & ADDRESS(8,A148+4)):INDIRECT(\"'Success Criteria'!\" & ADDRESS(70,A148+4)),\"N/A\")","v":0},{"$f":"COUNTIF(INDIRECT(\"'Success Criteria'!\" & ADDRESS(8,A148+4)):INDIRECT(\"'Success Criteria'!\" & ADDRESS(70,A148+4)),\"not tested\")","v":0},{"$f":"SUM(COUNTIF(INDIRECT(\"'Success Criteria'!\" & ADDRESS(74,A148+4)):INDIRECT(\"'Success Criteria'!\" & ADDRESS(115,A148+4)),\"PASS\"),COUNTIF(INDIRECT(\"'Success Criteria'!\" & ADDRESS(74,A148+4)):INDIRECT(\"'Success Criteria'!\" & ADDRESS(115,A148+4)),\"PASS with comments\"))","v":2},{"$f":"COUNTIF(INDIRECT(\"'Success Criteria'!\" & ADDRESS(74,A148+4)):INDIRECT(\"'Success Criteria'!\" & ADDRESS(115,A148+4)),\"NON conformant\")","v":0},{"$f":"COUNTIF(INDIRECT(\"'Success Criteria'!\" & ADDRESS(74,A148+4)):INDIRECT(\"'Success Criteria'!\" & ADDRESS(115,A148+4)),\"N/A\")","v":0},{"$f":"COUNTIF(INDIRECT(\"'Success Criteria'!\" & ADDRESS(74,A148+4)):INDIRECT(\"'Success Criteria'!\" & ADDRESS(115,A148+4)),\"not tested\")","v":0},{"$f":"SUM(COUNTIF(INDIRECT(\"'Success Criteria'!\" & ADDRESS(120,A148+4)):INDIRECT(\"'Success Criteria'!\" & ADDRESS(174,A148+4)),\"PASS\"),COUNTIF(INDIRECT(\"'Success Criteria'!\" & ADDRESS(120,A148+4)):INDIRECT(\"'Success Criteria'!\" & ADDRESS(174,A148+4)),\"PASS with comments\"))","v":0},{"$f":"COUNTIF(INDIRECT(\"'Success Criteria'!\" & ADDRESS(120,A148+4)):INDIRECT(\"'Success Criteria'!\" & ADDRESS(174,A148+4)),\"NON conformant\")","v":0},{"$f":"COUNTIF(INDIRECT(\"'Success Criteria'!\" & ADDRESS(120,A148+4)):INDIRECT(\"'Success Criteria'!\" & ADDRESS(174,A148+4)),\"N/A\")","v":0},{"$f":"COUNTIF(INDIRECT(\"'Success Criteria'!\" & ADDRESS(120,A148+4)):INDIRECT(\"'Success Criteria'!\" & ADDRESS(174,A148+4)),\"not tested\")","v":28},2,0,0,28,null,0,"",2,"",28,1]
[135,"Page 135","URL 135","Please select",{"$f":"SUM(COUNTIF(INDIRECT(\"'Success Criteria'!\" & ADDRESS(8,A149+4)):INDIRECT(\"'Success Criteria'!\" & ADDRESS(70,A149+4)),\"PASS\"),COUNTIF(INDIRECT(\"'Success Criteria'!\" & ADDRESS(8,A149+4)):INDIRECT(\"'Success Criteria'!\" & ADDRESS(70,A149+4)),\"PASS with comments\"))","v":0},{"$f":"COUNTIF(INDIRECT(\"'Success Criteria'!\" & ADDRESS(8,A149+4)):INDIRECT(\"'Success Criteria'!\" & ADDRESS(70,A149+4)),\"NON conformant\")","v":0},{"$f":"COUNTIF(INDIRECT(\"'Success Criteria'!\" & ADDRESS(8,A149+4)):INDIRECT(\"'Success Criteria'!\" & ADDRESS(70,A149+4)),\"N/A\")","v":0},{"$f":"COUNTIF(INDIRECT(\"'Success Criteria'!\" & ADDRESS(8,A149+4)):INDIRECT(\"'Success Criteria'!\" & ADDRESS(70,A149+4)),\"not tested\")","v":0},{"$f":"SUM(COUNTIF(INDIRECT(\"'Success Criteria'!\" & ADDRESS(74,A149+4)):INDIRECT(\"'Success Criteria'!\" & ADDRESS(115,A149+4)),\"PASS\"),COUNTIF(INDIRECT(\"'Success Criteria'!\" & ADDRESS(74,A149+4)):INDIRECT(\"'Success Criteria'!\" & ADDRESS(115,A149+4)),\"PASS with comments\"))","v":2},{"$f":"COUNTIF(INDIRECT(\"'Success Criteria'!\" & ADDRESS(74,A149+4)):INDIRECT(\"'Success Criteria'!\" & ADDRESS(115,A149+4)),\"NON conformant\")","v":0},{"$f":"COUNTIF(INDIRECT(\"'Success Criteria'!\" & ADDRESS(74,A149+4)):INDIRECT(\"'Success Criteria'!\" & ADDRESS(115,A149+4)),\"N/A\")","v":0},{"$f":"COUNTIF(INDIRECT(\"'Success Criteria'!\" & ADDRESS(74,A149+4)):INDIRECT(\"'Success Criteria'!\" & ADDRESS(115,A149+4)),\"not tested\")","v":0},{"$f":"SUM(COUNTIF(INDIRECT(\"'Success Criteria'!\" & ADDRESS(120,A149+4)):INDIRECT(\"'Success Criteria'!\" & ADDRESS(174,A149+4)),\"PASS\"),COUNTIF(INDIRECT(\"'Success Criteria'!\" & ADDRESS(120,A149+4)):INDIRECT(\"'Success Criteria'!\" & ADDRESS(174,A149+4)),\"PASS with comments\"))","v":0},{"$f":"COUNTIF(INDIRECT(\"'Success Criteria'!\" & ADDRESS(120,A149+4)):INDIRECT(\"'Success Criteria'!\" & ADDRESS(174,A149+4)),\"NON conformant\")","v":0},{"$f":"COUNTIF(INDIRECT(\"'Success Criteria'!\" & ADDRESS(120,A149+4)):INDIRECT(\"'Success Criteria'!\" & ADDRESS(174,A149+4)),\"N/A\")","v":0},{"$f":"COUNTIF(INDIRECT(\"'Success Criteria'!\" & ADDRESS(120,A149+4)):INDIRECT(\"'Success Criteria'!\" & ADDRESS(174,A149+4)),\"not tested\")","v":28},2,0,0,28,null,0,"",2,"",28,1]
[136,"Page 136","URL 136","Please select",{"$f":"SUM(COUNTIF(INDIRECT(\"'Success Criteria'!\" & ADDRESS(8,A150+4)):INDIRECT(\"'Success Criteria'!\" & ADDRESS(70,A150+4)),\"PASS\"),COUNTIF(INDIRECT(\"'Success Criteria'!\" & ADDRESS(8,A150+4)):INDIRECT(\"'Success Criteria'!\" & ADDRESS(70,A150+4)),\"PASS with comments\"))","v":0},{"$f":"COUNTIF(INDIRECT(\"'Success Criteria'!\" & ADDRESS(8,A150+4)):INDIRECT(\"'Success Criteria'!\" & ADDRESS(70,A150+4)),\"NON conformant\")","v":0},{"$f":"COUNTIF(INDIRECT(\"'Success Criteria'!\" & ADDRESS(8,A150+4)):INDIRECT(\"'Success Criteria'!\" & ADDRESS(70,A150+4)),\"N/A\")","v":0},{"$f":"COUNTIF(INDIRECT(\"'Success Criteria'!\" & ADDRESS(8,A150+4)):INDIRECT(\"'Success Criteria'!\" & ADDRESS(70,A150+4)),\"not tested\")","v":0},{"$f":"SUM(COUNTIF(INDIRECT(\"'Success Criteria'!\" & ADDRESS(74,A150+4)):INDIRECT(\"'Success Criteria'!\" & ADDRESS(115,A150+4)),\"PASS\"),COUNTIF(INDIRECT(\"'Success Criteria'!\" & ADDRESS(74,A150+4)):INDIRECT(\"'Success Criteria'!\" & ADDRESS(115,A150+4)),\"PASS with comments\"))","v":2},{"$f":"COUNTIF(INDIRECT(\"'Success Criteria'!\" & ADDRESS(74,A150+4)):INDIRECT(\"'Success Criteria'!\" & ADDRESS(115,A150+4)),\"NON conformant\")","v":0},{"$f":"COUNTIF(INDIRECT(\"'Success Criteria'!\" & ADDRESS(74,A150+4)):INDIRECT(\"'Success Criteria'!\" & ADDRESS(115,A150+4)),\"N/A\")","v":0},{"$f":"COUNTIF(INDIRECT(\"'Success Criteria'!\" & ADDRESS(74,A150+4)):INDIRECT(\"'Success Criteria'!\" & ADDRESS(115,A150+4)),\"not tested\")","v":0},{"$f":"SUM(COUNTIF(INDIRECT(\"'Success Criteria'!\" & ADDRESS(120,A150+4)):INDIRECT(\"'Success Criteria'!\" & ADDRESS(174,A150+4)),\"PASS\"),COUNTIF(INDIRECT(\"'Success Criteria'!\" & ADDRESS(120,A150+4)):INDIRECT(\"'Success Criteria'!\" & ADDRESS(174,A150+4)),\"PASS with comments\"))","v":0},{"$f":"COUNTIF(INDIRECT(\"'Success Criteria'!\" & ADDRESS(120,A150+4)):INDIRECT(\"'Success Criteria'!\" & ADDRESS(174,A150+4)),\"NON conformant\")","v":0},{"$f":"COUNTIF(INDIRECT(\"'Success Criteria'!\" & ADDRESS(120,A150+4)):INDIRECT(\"'Success Criteria'!\" & ADDRESS(174,A150+4)),\"N/A\")","v":0},{"$f":"COUNTIF(INDIRECT(\"'Success Criteria'!\" & ADDRESS(120,A150+4)):INDIRECT(\"'Success Criteria'!\" & ADDRESS(174,A150+4)),\"not tested\")","v":28},2,0,0,28,null,0,"",2,"",28,1]
[137,"Page 137","URL 137","Please select",{"$f":"SUM(COUNTIF(INDIRECT(\"'Success Criteria'!\" & ADDRESS(8,A151+4)):INDIRECT(\"'Success Criteria'!\" & ADDRESS(70,A151+4)),\"PASS\"),COUNTIF(INDIRECT(\"'Success Criteria'!\" & ADDRESS(8,A151+4)):INDIRECT(\"'Success Criteria'!\" & ADDRESS(70,A151+4)),\"PASS with comments\"))","v":0},{"$f":"COUNTIF(INDIRECT(\"'Success Criteria'!\" & ADDRESS(8,A151+4)):INDIRECT(\"'Success Criteria'!\" & ADDRESS(70,A151+4)),\"NON conformant\")","v":0},{"$f":"COUNTIF(INDIRECT(\"'Success Criteria'!\" & ADDRESS(8,A151+4)):INDIRECT(\"'Success Criteria'!\" & ADDRESS(70,A151+4)),\"N/A\")","v":0},{"$f":"COUNTIF(INDIRECT(\"'Success Criteria'!\" & ADDRESS(8,A151+4)):INDIRECT(\"'Success Criteria'!\" & ADDRESS(70,A151+4)),\"not tested\")","v":0},{"$f":"SUM(COUNTIF(INDIRECT(\"'Success Criteria'!\" & ADDRESS(74,A151+4)):INDIRECT(\"'Success Criteria'!\" & ADDRESS(115,A151+4)),\"PASS\"),COUNTIF(INDIRECT(\"'Success Criteria'!\" & ADDRESS(74,A151+4)):INDIRECT(\"'Success Criteria'!\" & ADDRESS(115,A151+4)),\"PASS with comments\"))","v":2},{"$f":"COUNTIF(INDIRECT(\"'Success Criteria'!\" & ADDRESS(74,A151+4)):INDIRECT(\"'Success Criteria'!\" & ADDRESS(115,A151+4)),\"NON conformant\")","v":0},{"$f":"COUNTIF(INDIRECT(\"'Success Criteria'!\" & ADDRESS(74,A151+4)):INDIRECT(\"'Success Criteria'!\" & ADDRESS(115,A151+4)),\"N/A\")","v":0},{"$f":"COUNTIF(INDIRECT(\"'Success Criteria'!\" & ADDRESS(74,A151+4)):INDIRECT(\"'Success Criteria'!\" & ADDRESS(115,A151+4)),\"not tested\")","v":0},{"$f":"SUM(COUNTIF(INDIRECT(\"'Success Criteria'!\" & ADDRESS(120,A151+4)):INDIRECT(\"'Success Criteria'!\" & ADDRESS(174,A151+4)),\"PASS\"),COUNTIF(INDIRECT(\"'Success Criteria'!\" & ADDRESS(120,A151+4)):INDIRECT(\"'Success Criteria'!\" & ADDRESS(174,A151+4)),\"PASS with comments\"))","v":0},{"$f":"COUNTIF(INDIRECT(\"'Success Criteria'!\" & ADDRESS(120,A151+4)):INDIRECT(\"'Success Criteria'!\" & ADDRESS(174,A151+4)),\"NON conformant\")","v":0},{"$f":"COUNTIF(INDIRECT(\"'Success Criteria'!\" & ADDRESS(120,A151+4)):INDIRECT(\"'Success Criteria'!\" & ADDRESS(174,A151+4)),\"N/A\")","v":0},{"$f":"COUNTIF(INDIRECT(\"'Success Criteria'!\" & ADDRESS(120,A151+4)):INDIRECT(\"'Success Criteria'!\" & ADDRESS(174,A151+4)),\"not tested\")","v":28},2,0,0,28,null,0,"",2,"",28,1]
[138,"Page 138","URL 138","Please select",{"$f":"SUM(COUNTIF(INDIRECT(\"'Success Criteria'!\" & ADDRESS(8,A152+4)):INDIRECT(\"'Success Criteria'!\" & ADDRESS(70,A152+4)),\"PASS\"),COUNTIF(INDIRECT(\"'Success Criteria'!\" & ADDRESS(8,A152+4)):INDIRECT(\"'Success Criteria'!\" & ADDRESS(70,A152+4)),\"PASS with comments\"))","v":0},{"$f":"COUNTIF(INDIRECT(\"'Success Criteria'!\" & ADDRESS(8,A152+4)):INDIRECT(\"'Success Criteria'!\" & ADDRESS(70,A152+4)),\"NON conformant\")","v":0},{"$f":"COUNTIF(INDIRECT(\"'Success Criteria'!\" & ADDRESS(8,A152+4)):INDIRECT(\"'Success Criteria'!\" & ADDRESS(70,A152+4)),\"N/A\")","v":0},{"$f":"COUNTIF(INDIRECT(\"'Success Criteria'!\" & ADDRESS(8,A152+4)):INDIRECT(\"'Success Criteria'!\" & ADDRESS(70,A152+4)),\"not tested\")","v":0},{"$f":"SUM(COUNTIF(INDIRECT(\"'Success Criteria'!\" & ADDRESS(74,A152+4)):INDIRECT(\"'Success Criteria'!\" & ADDRESS(115,A152+4)),\"PASS\"),COUNTIF(INDIRECT(\"'Success Criteria'!\" & ADDRESS(74,A152+4)):INDIRECT(\"'Success Criteria'!\" & ADDRESS(115,A152+4)),\"PASS with comments\"))","v":2},{"$f":"COUNTIF(INDIRECT(\"'Success Criteria'!\" & ADDRESS(74,A152+4)):INDIRECT(\"'Success Criteria'!\" & ADDRESS(115,A152+4)),\"NON conformant\")","v":0},{"$f":"COUNTIF(INDIRECT(\"'Success Criteria'!\" & ADDRESS(74,A152+4)):INDIRECT(\"'Success Criteria'!\" & ADDRESS(115,A152+4)),\"N/A\")","v":0},{"$f":"COUNTIF(INDIRECT(\"'Success Criteria'!\" & ADDRESS(74,A152+4)):INDIRECT(\"'Success Criteria'!\" & ADDRESS(115,A152+4)),\"not tested\")","v":0},{"$f":"SUM(COUNTIF(INDIRECT(\"'Success Criteria'!\" & ADDRESS(120,A152+4)):INDIRECT(\"'Success Criteria'!\" & ADDRESS(174,A152+4)),\"PASS\"),COUNTIF(INDIRECT(\"'Success Criteria'!\" & ADDRESS(120,A152+4)):INDIRECT(\"'Success Criteria'!\" & ADDRESS(174,A152+4)),\"PASS with comments\"))","v":0},{"$f":"COUNTIF(INDIRECT(\"'Success Criteria'!\" & ADDRESS(120,A152+4)):INDIRECT(\"'Success Criteria'!\" & ADDRESS(174,A152+4)),\"NON conformant\")","v":0},{"$f":"COUNTIF(INDIRECT(\"'Success Criteria'!\" & ADDRESS(120,A152+4)):INDIRECT(\"'Success Criteria'!\" & ADDRESS(174,A152+4)),\"N/A\")","v":0},{"$f":"COUNTIF(INDIRECT(\"'Success Criteria'!\" & ADDRESS(120,A152+4)):INDIRECT(\"'Success Criteria'!\" & ADDRESS(174,A152+4)),\"not tested\")","v":28},2,0,0,28,null,0,"",2,"",28,1]
[139,"Page 139","URL 139","Please select",{"$f":"SUM(COUNTIF(INDIRECT(\"'Success Criteria'!\" & ADDRESS(8,A153+4)):INDIRECT(\"'Success Criteria'!\" & ADDRESS(70,A153+4)),\"PASS\"),COUNTIF(INDIRECT(\"'Success Criteria'!\" & ADDRESS(8,A153+4)):INDIRECT(\"'Success Criteria'!\" & ADDRESS(70,A153+4)),\"PASS with comments\"))","v":0},{"$f":"COUNTIF(INDIRECT(\"'Success Criteria'!\" & ADDRESS(8,A153+4)):INDIRECT(\"'Success Criteria'!\" & ADDRESS(70,A153+4)),\"NON conformant\")","v":0},{"$f":"COUNTIF(INDIRECT(\"'Success Criteria'!\" & ADDRESS(8,A153+4)):INDIRECT(\"'Success Criteria'!\" & ADDRESS(70,A153+4)),\"N/A\")","v":0},{"$f":"COUNTIF(INDIRECT(\"'Success Criteria'!\" & ADDRESS(8,A153+4)):INDIRECT(\"'Success Criteria'!\" & ADDRESS(70,A153+4)),\"not tested\")","v":0},{"$f":"SUM(COUNTIF(INDIRECT(\"'Success Criteria'!\" & ADDRESS(74,A153+4)):INDIRECT(\"'Success Criteria'!\" & ADDRESS(115,A153+4)),\"PASS\"),COUNTIF(INDIRECT(\"'Success Criteria'!\" & ADDRESS(74,A153+4)):INDIRECT(\"'Success Criteria'!\" & ADDRESS(115,A153+4)),\"PASS with comments\"))","v":2},{"$f":"COUNTIF(INDIRECT(\"'Success Criteria'!\" & ADDRESS(74,A153+4)):INDIRECT(\"'Success Criteria'!\" & ADDRESS(115,A153+4)),\"NON conformant\")","v":0},{"$f":"COUNTIF(INDIRECT(\"'Success Criteria'!\" & ADDRESS(74,A153+4)):INDIRECT(\"'Success Criteria'!\" & ADDRESS(115,A153+4)),\"N/A\")","v":0},{"$f":"COUNTIF(INDIRECT(\"'Success Criteria'!\" & ADDRESS(74,A153+4)):INDIRECT(\"'Success Criteria'!\" & ADDRESS(115,A153+4)),\"not tested\")","v":0},{"$f":"SUM(COUNTIF(INDIRECT(\"'Success Criteria'!\" & ADDRESS(120,A153+4)):INDIRECT(\"'Success Criteria'!\" & ADDRESS(174,A153+4)),\"PASS\"),COUNTIF(INDIRECT(\"'Success Criteria'!\" & ADDRESS(120,A153+4)):INDIRECT(\"'Success Criteria'!\" & ADDRESS(174,A153+4)),\"PASS with comments\"))","v":0},{"$f":"COUNTIF(INDIRECT(\"'Success Criteria'!\" & ADDRESS(120,A153+4)):INDIRECT(\"'Success Criteria'!\" & ADDRESS(174,A153+4)),\"NON conformant\")","v":0},{"$f":"COUNTIF(INDIRECT(\"'Success Criteria'!\" & ADDRESS(120,A153+4)):INDIRECT(\"'Success Criteria'!\" & ADDRESS(174,A153+4)),\"N/A\")","v":0},{"$f":"COUNTIF(INDIRECT(\"'Success Criteria'!\" & ADDRESS(120,A153+4)):INDIRECT(\"'Success Criteria'!\" & ADDRESS(174,A153+4)),\"not tested\")","v":28},2,0,0,28,null,0,"",2,"",28,1]
[140,"Page 140","URL 140","Please select",{"$f":"SUM(COUNTIF(INDIRECT(\"'Success Criteria'!\" & ADDRESS(8,A154+4)):INDIRECT(\"'Success Criteria'!\" & ADDRESS(70,A154+4)),\"PASS\"),COUNTIF(INDIRECT(\"'Success Criteria'!\" & ADDRESS(8,A154+4)):INDIRECT(\"'Success Criteria'!\" & ADDRESS(70,A154+4)),\"PASS with comments\"))","v":0},{"$f":"COUNTIF(INDIRECT(\"'Success Criteria'!\" & ADDRESS(8,A154+4)):INDIRECT(\"'Success Criteria'!\" & ADDRESS(70,A154+4)),\"NON conformant\")","v":0},{"$f":"COUNTIF(INDIRECT(\"'Success Criteria'!\" & ADDRESS(8,A154+4)):INDIRECT(\"'Success Criteria'!\" & ADDRESS(70,A154+4)),\"N/A\")","v":0},{"$f":"COUNTIF(INDIRECT(\"'Success Criteria'!\" & ADDRESS(8,A154+4)):INDIRECT(\"'Success Criteria'!\" & ADDRESS(70,A154+4)),\"not tested\")","v":0},{"$f":"SUM(COUNTIF(INDIRECT(\"'Success Criteria'!\" & ADDRESS(74,A154+4)):INDIRECT(\"'Success Criteria'!\" & ADDRESS(115,A154+4)),\"PASS\"),COUNTIF(INDIRECT(\"'Success Criteria'!\" & ADDRESS(74,A154+4)):INDIRECT(\"'Success Criteria'!\" & ADDRESS(115,A154+4)),\"PASS with comments\"))","v":2},{"$f":"COUNTIF(INDIRECT(\"'Success Criteria'!\" & ADDRESS(74,A154+4)):INDIRECT(\"'Success Criteria'!\" & ADDRESS(115,A154+4)),\"NON conformant\")","v":0},{"$f":"COUNTIF(INDIRECT(\"'Success Criteria'!\" & ADDRESS(74,A154+4)):INDIRECT(\"'Success Criteria'!\" & ADDRESS(115,A154+4)),\"N/A\")","v":0},{"$f":"COUNTIF(INDIRECT(\"'Success Criteria'!\" & ADDRESS(74,A154+4)):INDIRECT(\"'Success Criteria'!\" & ADDRESS(115,A154+4)),\"not tested\")","v":0},{"$f":"SUM(COUNTIF(INDIRECT(\"'Success Criteria'!\" & ADDRESS(120,A154+4)):INDIRECT(\"'Success Criteria'!\" & ADDRESS(174,A154+4)),\"PASS\"),COUNTIF(INDIRECT(\"'Success Criteria'!\" & ADDRESS(120,A154+4)):INDIRECT(\"'Success Criteria'!\" & ADDRESS(174,A154+4)),\"PASS with comments\"))","v":0},{"$f":"COUNTIF(INDIRECT(\"'Success Criteria'!\" & ADDRESS(120,A154+4)):INDIRECT(\"'Success Criteria'!\" & ADDRESS(174,A154+4)),\"NON conformant\")","v":0},{"$f":"COUNTIF(INDIRECT(\"'Success Criteria'!\" & ADDRESS(120,A154+4)):INDIRECT(\"'Success Criteria'!\" & ADDRESS(174,A154+4)),\"N/A\")","v":0},{"$f":"COUNTIF(INDIRECT(\"'Success Criteria'!\" & ADDRESS(120,A154+4)):INDIRECT(\"'Success Criteria'!\" & ADDRESS(174,A154+4)),\"not tested\")","v":28},2,0,0,28,null,0,"",2,"",28,1]
[141,"Page 141","URL 141","Please select",{"$f":"SUM(COUNTIF(INDIRECT(\"'Success Criteria'!\" & ADDRESS(8,A155+4)):INDIRECT(\"'Success Criteria'!\" & ADDRESS(70,A155+4)),\"PASS\"),COUNTIF(INDIRECT(\"'Success Criteria'!\" & ADDRESS(8,A155+4)):INDIRECT(\"'Success Criteria'!\" & ADDRESS(70,A155+4)),\"PASS with comments\"))","v":0},{"$f":"COUNTIF(INDIRECT(\"'Success Criteria'!\" & ADDRESS(8,A155+4)):INDIRECT(\"'Success Criteria'!\" & ADDRESS(70,A155+4)),\"NON conformant\")","v":0},{"$f":"COUNTIF(INDIRECT(\"'Success Criteria'!\" & ADDRESS(8,A155+4)):INDIRECT(\"'Success Criteria'!\" & ADDRESS(70,A155+4)),\"N/A\")","v":0},{"$f":"COUNTIF(INDIRECT(\"'Success Criteria'!\" & ADDRESS(8,A155+4)):INDIRECT(\"'Success Criteria'!\" & ADDRESS(70,A155+4)),\"not tested\")","v":0},{"$f":"SUM(COUNTIF(INDIRECT(\"'Success Criteria'!\" & ADDRESS(74,A155+4)):INDIRECT(\"'Success Criteria'!\" & ADDRESS(115,A155+4)),\"PASS\"),COUNTIF(INDIRECT(\"'Success Criteria'!\" & ADDRESS(74,A155+4)):INDIRECT(\"'Success Criteria'!\" & ADDRESS(115,A155+4)),\"PASS with comments\"))","v":2},{"$f":"COUNTIF(INDIRECT(\"'Success Criteria'!\" & ADDRESS(74,A155+4)):INDIRECT(\"'Success Criteria'!\" & ADDRESS(115,A155+4)),\"NON conformant\")","v":0},{"$f":"COUNTIF(INDIRECT(\"'Success Criteria'!\" & ADDRESS(74,A155+4)):INDIRECT(\"'Success Criteria'!\" & ADDRESS(115,A155+4)),\"N/A\")","v":0},{"$f":"COUNTIF(INDIRECT(\"'Success Criteria'!\" & ADDRESS(74,A155+4)):INDIRECT(\"'Success Criteria'!\" & ADDRESS(115,A155+4)),\"not tested\")","v":0},{"$f":"SUM(COUNTIF(INDIRECT(\"'Success Criteria'!\" & ADDRESS(120,A155+4)):INDIRECT(\"'Success Criteria'!\" & ADDRESS(174,A155+4)),\"PASS\"),COUNTIF(INDIRECT(\"'Success Criteria'!\" & ADDRESS(120,A155+4)):INDIRECT(\"'Success Criteria'!\" & ADDRESS(174,A155+4)),\"PASS with comments\"))","v":0},{"$f":"COUNTIF(INDIRECT(\"'Success Criteria'!\" & ADDRESS(120,A155+4)):INDIRECT(\"'Success Criteria'!\" & ADDRESS(174,A155+4)),\"NON conformant\")","v":0},{"$f":"COUNTIF(INDIRECT(\"'Success Criteria'!\" & ADDRESS(120,A155+4)):INDIRECT(\"'Success Criteria'!\" & ADDRESS(174,A155+4)),\"N/A\")","v":0},{"$f":"COUNTIF(INDIRECT(\"'Success Criteria'!\" & ADDRESS(120,A155+4)):INDIRECT(\"'Success Criteria'!\" & ADDRESS(174,A155+4)),\"not tested\")","v":28},2,0,0,28,null,0,"",2,"",28,1]
[142,"Page 142","URL 142","Please select",{"$f":"SUM(COUNTIF(INDIRECT(\"'Success Criteria'!\" & ADDRESS(8,A156+4)):INDIRECT(\"'Success Criteria'!\" & ADDRESS(70,A156+4)),\"PASS\"),COUNTIF(INDIRECT(\"'Success Criteria'!\" & ADDRESS(8,A156+4)):INDIRECT(\"'Success Criteria'!\" & ADDRESS(70,A156+4)),\"PASS with comments\"))","v":0},{"$f":"COUNTIF(INDIRECT(\"'Success Criteria'!\" & ADDRESS(8,A156+4)):INDIRECT(\"'Success Criteria'!\" & ADDRESS(70,A156+4)),\"NON conformant\")","v":0},{"$f":"COUNTIF(INDIRECT(\"'Success Criteria'!\" & ADDRESS(8,A156+4)):INDIRECT(\"'Success Criteria'!\" & ADDRESS(70,A156+4)),\"N/A\")","v":0},{"$f":"COUNTIF(INDIRECT(\"'Success Criteria'!\" & ADDRESS(8,A156+4)):INDIRECT(\"'Success Criteria'!\" & ADDRESS(70,A156+4)),\"not tested\")","v":0},{"$f":"SUM(COUNTIF(INDIRECT(\"'Success Criteria'!\" & ADDRESS(74,A156+4)):INDIRECT(\"'Success Criteria'!\" & ADDRESS(115,A156+4)),\"PASS\"),COUNTIF(INDIRECT(\"'Success Criteria'!\" & ADDRESS(74,A156+4)):INDIRECT(\"'Success Criteria'!\" & ADDRESS(115,A156+4)),\"PASS with comments\"))","v":2},{"$f":"COUNTIF(INDIRECT(\"'Success Criteria'!\" & ADDRESS(74,A156+4)):INDIRECT(\"'Success Criteria'!\" & ADDRESS(115,A156+4)),\"NON conformant\")","v":0},{"$f":"COUNTIF(INDIRECT(\"'Success Criteria'!\" & ADDRESS(74,A156+4)):INDIRECT(\"'Success Criteria'!\" & ADDRESS(115,A156+4)),\"N/A\")","v":0},{"$f":"COUNTIF(INDIRECT(\"'Success Criteria'!\" & ADDRESS(74,A156+4)):INDIRECT(\"'Success Criteria'!\" & ADDRESS(115,A156+4)),\"not tested\")","v":0},{"$f":"SUM(COUNTIF(INDIRECT(\"'Success Criteria'!\" & ADDRESS(120,A156+4)):INDIRECT(\"'Success Criteria'!\" & ADDRESS(174,A156+4)),\"PASS\"),COUNTIF(INDIRECT(\"'Success Criteria'!\" & ADDRESS(120,A156+4)):INDIRECT(\"'Success Criteria'!\" & ADDRESS(174,A156+4)),\"PASS with comments\"))","v":0},{"$f":"COUNTIF(INDIRECT(\"'Success Criteria'!\" & ADDRESS(120,A156+4)):INDIRECT(\"'Success Criteria'!\" & ADDRESS(174,A156+4)),\"NON conformant\")","v":0},{"$f":"COUNTIF(INDIRECT(\"'Success Criteria'!\" & ADDRESS(120,A156+4)):INDIRECT(\"'Success Criteria'!\" & ADDRESS(174,A156+4)),\"N/A\")","v":0},{"$f":"COUNTIF(INDIRECT(\"'Success Criteria'!\" & ADDRESS(120,A156+4)):INDIRECT(\"'Success Criteria'!\" & ADDRESS(174,A156+4)),\"not tested\")","v":28},2,0,0,28,null,0,"",2,"",28,1]
[143,"Page 143","URL 143","Please select",{"$f":"SUM(COUNTIF(INDIRECT(\"'Success Criteria'!\" & ADDRESS(8,A157+4)):INDIRECT(\"'Success Criteria'!\" & ADDRESS(70,A157+4)),\"PASS\"),COUNTIF(INDIRECT(\"'Success Criteria'!\" & ADDRESS(8,A157+4)):INDIRECT(\"'Success Criteria'!\" & ADDRESS(70,A157+4)),\"PASS with comments\"))","v":0},{"$f":"COUNTIF(INDIRECT(\"'Success Criteria'!\" & ADDRESS(8,A157+4)):INDIRECT(\"'Success Criteria'!\" & ADDRESS(70,A157+4)),\"NON conformant\")","v":0},{"$f":"COUNTIF(INDIRECT(\"'Success Criteria'!\" & ADDRESS(8,A157+4)):INDIRECT(\"'Success Criteria'!\" & ADDRESS(70,A157+4)),\"N/A\")","v":0},{"$f":"COUNTIF(INDIRECT(\"'Success Criteria'!\" & ADDRESS(8,A157+4)):INDIRECT(\"'Success Criteria'!\" & ADDRESS(70,A157+4)),\"not tested\")","v":0},{"$f":"SUM(COUNTIF(INDIRECT(\"'Success Criteria'!\" & ADDRESS(74,A157+4)):INDIRECT(\"'Success Criteria'!\" & ADDRESS(115,A157+4)),\"PASS\"),COUNTIF(INDIRECT(\"'Success Criteria'!\" & ADDRESS(74,A157+4)):INDIRECT(\"'Success Criteria'!\" & ADDRESS(115,A157+4)),\"PASS with comments\"))","v":2},{"$f":"COUNTIF(INDIRECT(\"'Success Criteria'!\" & ADDRESS(74,A157+4)):INDIRECT(\"'Success Criteria'!\" & ADDRESS(115,A157+4)),\"NON conformant\")","v":0},{"$f":"COUNTIF(INDIRECT(\"'Success Criteria'!\" & ADDRESS(74,A157+4)):INDIRECT(\"'Success Criteria'!\" & ADDRESS(115,A157+4)),\"N/A\")","v":0},{"$f":"COUNTIF(INDIRECT(\"'Success Criteria'!\" & ADDRESS(74,A157+4)):INDIRECT(\"'Success Criteria'!\" & ADDRESS(115,A157+4)),\"not tested\")","v":0},{"$f":"SUM(COUNTIF(INDIRECT(\"'Success Criteria'!\" & ADDRESS(120,A157+4)):INDIRECT(\"'Success Criteria'!\" & ADDRESS(174,A157+4)),\"PASS\"),COUNTIF(INDIRECT(\"'Success Criteria'!\" & ADDRESS(120,A157+4)):INDIRECT(\"'Success Criteria'!\" & ADDRESS(174,A157+4)),\"PASS with comments\"))","v":0},{"$f":"COUNTIF(INDIRECT(\"'Success Criteria'!\" & ADDRESS(120,A157+4)):INDIRECT(\"'Success Criteria'!\" & ADDRESS(174,A157+4)),\"NON conformant\")","v":0},{"$f":"COUNTIF(INDIRECT(\"'Success Criteria'!\" & ADDRESS(120,A157+4)):INDIRECT(\"'Success Criteria'!\" & ADDRESS(174,A157+4)),\"N/A\")","v":0},{"$f":"COUNTIF(INDIRECT(\"'Success Criteria'!\" & ADDRESS(120,A157+4)):INDIRECT(\"'Success Criteria'!\" & ADDRESS(174,A157+4)),\"not tested\")","v":28},2,0,0,28,null,0,"",2,"",28,1]
[144,"Page 144","URL 144","Please select",{"$f":"SUM(COUNTIF(INDIRECT(\"'Success Criteria'!\" & ADDRESS(8,A158+4)):INDIRECT(\"'Success Criteria'!\" & ADDRESS(70,A158+4)),\"PASS\"),COUNTIF(INDIRECT(\"'Success Criteria'!\" & ADDRESS(8,A158+4)):INDIRECT(\"'Success Criteria'!\" & ADDRESS(70,A158+4)),\"PASS with comments\"))","v":0},{"$f":"COUNTIF(INDIRECT(\"'Success Criteria'!\" & ADDRESS(8,A158+4)):INDIRECT(\"'Success Criteria'!\" & ADDRESS(70,A158+4)),\"NON conformant\")","v":0},{"$f":"COUNTIF(INDIRECT(\"'Success Criteria'!\" & ADDRESS(8,A158+4)):INDIRECT(\"'Success Criteria'!\" & ADDRESS(70,A158+4)),\"N/A\")","v":0},{"$f":"COUNTIF(INDIRECT(\"'Success Criteria'!\" & ADDRESS(8,A158+4)):INDIRECT(\"'Success Criteria'!\" & ADDRESS(70,A158+4)),\"not tested\")","v":0},{"$f":"SUM(COUNTIF(INDIRECT(\"'Success Criteria'!\" & ADDRESS(74,A158+4)):INDIRECT(\"'Success Criteria'!\" & ADDRESS(115,A158+4)),\"PASS\"),COUNTIF(INDIRECT(\"'Success Criteria'!\" & ADDRESS(74,A158+4)):INDIRECT(\"'Success Criteria'!\" & ADDRESS(115,A158+4)),\"PASS with comments\"))","v":2},{"$f":"COUNTIF(INDIRECT(\"'Success Criteria'!\" & ADDRESS(74,A158+4)):INDIRECT(\"'Success Criteria'!\" & ADDRESS(115,A158+4)),\"NON conformant\")","v":0},{"$f":"COUNTIF(INDIRECT(\"'Success Criteria'!\" & ADDRESS(74,A158+4)):INDIRECT(\"'Success Criteria'!\" & ADDRESS(115,A158+4)),\"N/A\")","v":0},{"$f":"COUNTIF(INDIRECT(\"'Success Criteria'!\" & ADDRESS(74,A158+4)):INDIRECT(\"'Success Criteria'!\" & ADDRESS(115,A158+4)),\"not tested\")","v":0},{"$f":"SUM(COUNTIF(INDIRECT(\"'Success Criteria'!\" & ADDRESS(120,A158+4)):INDIRECT(\"'Success Criteria'!\" & ADDRESS(174,A158+4)),\"PASS\"),COUNTIF(INDIRECT(\"'Success Criteria'!\" & ADDRESS(120,A158+4)):INDIRECT(\"'Success Criteria'!\" & ADDRESS(174,A158+4)),\"PASS with comments\"))","v":0},{"$f":"COUNTIF(INDIRECT(\"'Success Criteria'!\" & ADDRESS(120,A158+4)):INDIRECT(\"'Success Criteria'!\" & ADDRESS(174,A158+4)),\"NON conformant\")","v":0},{"$f":"COUNTIF(INDIRECT(\"'Success Criteria'!\" & ADDRESS(120,A158+4)):INDIRECT(\"'Success Criteria'!\" & ADDRESS(174,A158+4)),\"N/A\")","v":0},{"$f":"COUNTIF(INDIRECT(\"'Success Criteria'!\" & ADDRESS(120,A158+4)):INDIRECT(\"'Success Criteria'!\" & ADDRESS(174,A158+4)),\"not tested\")","v":28},2,0,0,28,null,0,"",2,"",28,1]
[145,"Page 145","URL 145","Please select",{"$f":"SUM(COUNTIF(INDIRECT(\"'Success Criteria'!\" & ADDRESS(8,A159+4)):INDIRECT(\"'Success Criteria'!\" & ADDRESS(70,A159+4)),\"PASS\"),COUNTIF(INDIRECT(\"'Success Criteria'!\" & ADDRESS(8,A159+4)):INDIRECT(\"'Success Criteria'!\" & ADDRESS(70,A159+4)),\"PASS with comments\"))","v":0},{"$f":"COUNTIF(INDIRECT(\"'Success Criteria'!\" & ADDRESS(8,A159+4)):INDIRECT(\"'Success Criteria'!\" & ADDRESS(70,A159+4)),\"NON conformant\")","v":0},{"$f":"COUNTIF(INDIRECT(\"'Success Criteria'!\" & ADDRESS(8,A159+4)):INDIRECT(\"'Success Criteria'!\" & ADDRESS(70,A159+4)),\"N/A\")","v":0},{"$f":"COUNTIF(INDIRECT(\"'Success Criteria'!\" & ADDRESS(8,A159+4)):INDIRECT(\"'Success Criteria'!\" & ADDRESS(70,A159+4)),\"not tested\")","v":0},{"$f":"SUM(COUNTIF(INDIRECT(\"'Success Criteria'!\" & ADDRESS(74,A159+4)):INDIRECT(\"'Success Criteria'!\" & ADDRESS(115,A159+4)),\"PASS\"),COUNTIF(INDIRECT(\"'Success Criteria'!\" & ADDRESS(74,A159+4)):INDIRECT(\"'Success Criteria'!\" & ADDRESS(115,A159+4)),\"PASS with comments\"))","v":2},{"$f":"COUNTIF(INDIRECT(\"'Success Criteria'!\" & ADDRESS(74,A159+4)):INDIRECT(\"'Success Criteria'!\" & ADDRESS(115,A159+4)),\"NON conformant\")","v":0},{"$f":"COUNTIF(INDIRECT(\"'Success Criteria'!\" & ADDRESS(74,A159+4)):INDIRECT(\"'Success Criteria'!\" & ADDRESS(115,A159+4)),\"N/A\")","v":0},{"$f":"COUNTIF(INDIRECT(\"'Success Criteria'!\" & ADDRESS(74,A159+4)):INDIRECT(\"'Success Criteria'!\" & ADDRESS(115,A159+4)),\"not tested\")","v":0},{"$f":"SUM(COUNTIF(INDIRECT(\"'Success Criteria'!\" & ADDRESS(120,A159+4)):INDIRECT(\"'Success Criteria'!\" & ADDRESS(174,A159+4)),\"PASS\"),COUNTIF(INDIRECT(\"'Success Criteria'!\" & ADDRESS(120,A159+4)):INDIRECT(\"'Success Criteria'!\" & ADDRESS(174,A159+4)),\"PASS with comments\"))","v":0},{"$f":"COUNTIF(INDIRECT(\"'Success Criteria'!\" & ADDRESS(120,A159+4)):INDIRECT(\"'Success Criteria'!\" & ADDRESS(174,A159+4)),\"NON conformant\")","v":0},{"$f":"COUNTIF(INDIRECT(\"'Success Criteria'!\" & ADDRESS(120,A159+4)):INDIRECT(\"'Success Criteria'!\" & ADDRESS(174,A159+4)),\"N/A\")","v":0},{"$f":"COUNTIF(INDIRECT(\"'Success Criteria'!\" & ADDRESS(120,A159+4)):INDIRECT(\"'Success Criteria'!\" & ADDRESS(174,A159+4)),\"not tested\")","v":28},2,0,0,28,null,0,"",2,"",28,1]
[146,"Page 146","URL 146","Please select",{"$f":"SUM(COUNTIF(INDIRECT(\"'Success Criteria'!\" & ADDRESS(8,A160+4)):INDIRECT(\"'Success Criteria'!\" & ADDRESS(70,A160+4)),\"PASS\"),COUNTIF(INDIRECT(\"'Success Criteria'!\" & ADDRESS(8,A160+4)):INDIRECT(\"'Success Criteria'!\" & ADDRESS(70,A160+4)),\"PASS with comments\"))","v":0},{"$f":"COUNTIF(INDIRECT(\"'Success Criteria'!\" & ADDRESS(8,A160+4)):INDIRECT(\"'Success Criteria'!\" & ADDRESS(70,A160+4)),\"NON conformant\")","v":0},{"$f":"COUNTIF(INDIRECT(\"'Success Criteria'!\" & ADDRESS(8,A160+4)):INDIRECT(\"'Success Criteria'!\" & ADDRESS(70,A160+4)),\"N/A\")","v":0},{"$f":"COUNTIF(INDIRECT(\"'Success Criteria'!\" & ADDRESS(8,A160+4)):INDIRECT(\"'Success Criteria'!\" & ADDRESS(70,A160+4)),\"not tested\")","v":0},{"$f":"SUM(COUNTIF(INDIRECT(\"'Success Criteria'!\" & ADDRESS(74,A160+4)):INDIRECT(\"'Success Criteria'!\" & ADDRESS(115,A160+4)),\"PASS\"),COUNTIF(INDIRECT(\"'Success Criteria'!\" & ADDRESS(74,A160+4)):INDIRECT(\"'Success Criteria'!\" & ADDRESS(115,A160+4)),\"PASS with comments\"))","v":2},{"$f":"COUNTIF(INDIRECT(\"'Success Criteria'!\" & ADDRESS(74,A160+4)):INDIRECT(\"'Success Criteria'!\" & ADDRESS(115,A160+4)),\"NON conformant\")","v":0},{"$f":"COUNTIF(INDIRECT(\"'Success Criteria'!\" & ADDRESS(74,A160+4)):INDIRECT(\"'Success Criteria'!\" & ADDRESS(115,A160+4)),\"N/A\")","v":0},{"$f":"COUNTIF(INDIRECT(\"'Success Criteria'!\" & ADDRESS(74,A160+4)):INDIRECT(\"'Success Criteria'!\" & ADDRESS(115,A160+4)),\"not tested\")","v":0},{"$f":"SUM(COUNTIF(INDIRECT(\"'Success Criteria'!\" & ADDRESS(120,A160+4)):INDIRECT(\"'Success Criteria'!\" & ADDRESS(174,A160+4)),\"PASS\"),COUNTIF(INDIRECT(\"'Success Criteria'!\" & ADDRESS(120,A160+4)):INDIRECT(\"'Success Criteria'!\" & ADDRESS(174,A160+4)),\"PASS with comments\"))","v":0},{"$f":"COUNTIF(INDIRECT(\"'Success Criteria'!\" & ADDRESS(120,A160+4)):INDIRECT(\"'Success Criteria'!\" & ADDRESS(174,A160+4)),\"NON conformant\")","v":0},{"$f":"COUNTIF(INDIRECT(\"'Success Criteria'!\" & ADDRESS(120,A160+4)):INDIRECT(\"'Success Criteria'!\" & ADDRESS(174,A160+4)),\"N/A\")","v":0},{"$f":"COUNTIF(INDIRECT(\"'Success Criteria'!\" & ADDRESS(120,A160+4)):INDIRECT(\"'Success Criteria'!\" & ADDRESS(174,A160+4)),\"not tested\")","v":28},2,0,0,28,null,0,"",2,"",28,1]
[147,"Page 147","URL 147","Please select",{"$f":"SUM(COUNTIF(INDIRECT(\"'Success Criteria'!\" & ADDRESS(8,A161+4)):INDIRECT(\"'Success Criteria'!\" & ADDRESS(70,A161+4)),\"PASS\"),COUNTIF(INDIRECT(\"'Success Criteria'!\" & ADDRESS(8,A161+4)):INDIRECT(\"'Success Criteria'!\" & ADDRESS(70,A161+4)),\"PASS with comments\"))","v":0},{"$f":"COUNTIF(INDIRECT(\"'Success Criteria'!\" & ADDRESS(8,A161+4)):INDIRECT(\"'Success Criteria'!\" & ADDRESS(70,A161+4)),\"NON conformant\")","v":0},{"$f":"COUNTIF(INDIRECT(\"'Success Criteria'!\" & ADDRESS(8,A161+4)):INDIRECT(\"'Success Criteria'!\" & ADDRESS(70,A161+4)),\"N/A\")","v":0},{"$f":"COUNTIF(INDIRECT(\"'Success Criteria'!\" & ADDRESS(8,A161+4)):INDIRECT(\"'Success Criteria'!\" & ADDRESS(70,A161+4)),\"not tested\")","v":0},{"$f":"SUM(COUNTIF(INDIRECT(\"'Success Criteria'!\" & ADDRESS(74,A161+4)):INDIRECT(\"'Success Criteria'!\" & ADDRESS(115,A161+4)),\"PASS\"),COUNTIF(INDIRECT(\"'Success Criteria'!\" & ADDRESS(74,A161+4)):INDIRECT(\"'Success Criteria'!\" & ADDRESS(115,A161+4)),\"PASS with comments\"))","v":2},{"$f":"COUNTIF(INDIRECT(\"'Success Criteria'!\" & ADDRESS(74,A161+4)):INDIRECT(\"'Success Criteria'!\" & ADDRESS(115,A161+4)),\"NON conformant\")","v":0},{"$f":"COUNTIF(INDIRECT(\"'Success Criteria'!\" & ADDRESS(74,A161+4)):INDIRECT(\"'Success Criteria'!\" & ADDRESS(115,A161+4)),\"N/A\")","v":0},{"$f":"COUNTIF(INDIRECT(\"'Success Criteria'!\" & ADDRESS(74,A161+4)):INDIRECT(\"'Success Criteria'!\" & ADDRESS(115,A161+4)),\"not tested\")","v":0},{"$f":"SUM(COUNTIF(INDIRECT(\"'Success Criteria'!\" & ADDRESS(120,A161+4)):INDIRECT(\"'Success Criteria'!\" & ADDRESS(174,A161+4)),\"PASS\"),COUNTIF(INDIRECT(\"'Success Criteria'!\" & ADDRESS(120,A161+4)):INDIRECT(\"'Success Criteria'!\" & ADDRESS(174,A161+4)),\"PASS with comments\"))","v":0},{"$f":"COUNTIF(INDIRECT(\"'Success Criteria'!\" & ADDRESS(120,A161+4)):INDIRECT(\"'Success Criteria'!\" & ADDRESS(174,A161+4)),\"NON conformant\")","v":0},{"$f":"COUNTIF(INDIRECT(\"'Success Criteria'!\" & ADDRESS(120,A161+4)):INDIRECT(\"'Success Criteria'!\" & ADDRESS(174,A161+4)),\"N/A\")","v":0},{"$f":"COUNTIF(INDIRECT(\"'Success Criteria'!\" & ADDRESS(120,A161+4)):INDIRECT(\"'Success Criteria'!\" & ADDRESS(174,A161+4)),\"not tested\")","v":28},2,0,0,28,null,0,"",2,"",28,1]
[148,"Page 148","URL 148","Please select",{"$f":"SUM(COUNTIF(INDIRECT(\"'Success Criteria'!\" & ADDRESS(8,A162+4)):INDIRECT(\"'Success Criteria'!\" & ADDRESS(70,A162+4)),\"PASS\"),COUNTIF(INDIRECT(\"'Success Criteria'!\" & ADDRESS(8,A162+4)):INDIRECT(\"'Success Criteria'!\" & ADDRESS(70,A162+4)),\"PASS with comments\"))","v":0},{"$f":"COUNTIF(INDIRECT(\"'Success Criteria'!\" & ADDRESS(8,A162+4)):INDIRECT(\"'Success Criteria'!\" & ADDRESS(70,A162+4)),\"NON conformant\")","v":0},{"$f":"COUNTIF(INDIRECT(\"'Success Criteria'!\" & ADDRESS(8,A162+4)):INDIRECT(\"'Success Criteria'!\" & ADDRESS(70,A162+4)),\"N/A\")","v":0},{"$f":"COUNTIF(INDIRECT(\"'Success Criteria'!\" & ADDRESS(8,A162+4)):INDIRECT(\"'Success Criteria'!\" & ADDRESS(70,A162+4)),\"not tested\")","v":0},{"$f":"SUM(COUNTIF(INDIRECT(\"'Success Criteria'!\" & ADDRESS(74,A162+4)):INDIRECT(\"'Success Criteria'!\" & ADDRESS(115,A162+4)),\"PASS\"),COUNTIF(INDIRECT(\"'Success Criteria'!\" & ADDRESS(74,A162+4)):INDIRECT(\"'Success Criteria'!\" & ADDRESS(115,A162+4)),\"PASS with comments\"))","v":2},{"$f":"COUNTIF(INDIRECT(\"'Success Criteria'!\" & ADDRESS(74,A162+4)):INDIRECT(\"'Success Criteria'!\" & ADDRESS(115,A162+4)),\"NON conformant\")","v":0},{"$f":"COUNTIF(INDIRECT(\"'Success Criteria'!\" & ADDRESS(74,A162+4)):INDIRECT(\"'Success Criteria'!\" & ADDRESS(115,A162+4)),\"N/A\")","v":0},{"$f":"COUNTIF(INDIRECT(\"'Success Criteria'!\" & ADDRESS(74,A162+4)):INDIRECT(\"'Success Criteria'!\" & ADDRESS(115,A162+4)),\"not tested\")","v":0},{"$f":"SUM(COUNTIF(INDIRECT(\"'Success Criteria'!\" & ADDRESS(120,A162+4)):INDIRECT(\"'Success Criteria'!\" & ADDRESS(174,A162+4)),\"PASS\"),COUNTIF(INDIRECT(\"'Success Criteria'!\" & ADDRESS(120,A162+4)):INDIRECT(\"'Success Criteria'!\" & ADDRESS(174,A162+4)),\"PASS with comments\"))","v":0},{"$f":"COUNTIF(INDIRECT(\"'Success Criteria'!\" & ADDRESS(120,A162+4)):INDIRECT(\"'Success Criteria'!\" & ADDRESS(174,A162+4)),\"NON conformant\")","v":0},{"$f":"COUNTIF(INDIRECT(\"'Success Criteria'!\" & ADDRESS(120,A162+4)):INDIRECT(\"'Success Criteria'!\" & ADDRESS(174,A162+4)),\"N/A\")","v":0},{"$f":"COUNTIF(INDIRECT(\"'Success Criteria'!\" & ADDRESS(120,A162+4)):INDIRECT(\"'Success Criteria'!\" & ADDRESS(174,A162+4)),\"not tested\")","v":28},2,0,0,28,null,0,"",2,"",28,1]
[149,"Page 149","URL 149","Please select",{"$f":"SUM(COUNTIF(INDIRECT(\"'Success Criteria'!\" & ADDRESS(8,A163+4)):INDIRECT(\"'Success Criteria'!\" & ADDRESS(70,A163+4)),\"PASS\"),COUNTIF(INDIRECT(\"'Success Criteria'!\" & ADDRESS(8,A163+4)):INDIRECT(\"'Success Criteria'!\" & ADDRESS(70,A163+4)),\"PASS with comments\"))","v":0},{"$f":"COUNTIF(INDIRECT(\"'Success Criteria'!\" & ADDRESS(8,A163+4)):INDIRECT(\"'Success Criteria'!\" & ADDRESS(70,A163+4)),\"NON conformant\")","v":0},{"$f":"COUNTIF(INDIRECT(\"'Success Criteria'!\" & ADDRESS(8,A163+4)):INDIRECT(\"'Success Criteria'!\" & ADDRESS(70,A163+4)),\"N/A\")","v":0},{"$f":"COUNTIF(INDIRECT(\"'Success Criteria'!\" & ADDRESS(8,A163+4)):INDIRECT(\"'Success Criteria'!\" & ADDRESS(70,A163+4)),\"not tested\")","v":0},{"$f":"SUM(COUNTIF(INDIRECT(\"'Success Criteria'!\" & ADDRESS(74,A163+4)):INDIRECT(\"'Success Criteria'!\" & ADDRESS(115,A163+4)),\"PASS\"),COUNTIF(INDIRECT(\"'Success Criteria'!\" & ADDRESS(74,A163+4)):INDIRECT(\"'Success Criteria'!\" & ADDRESS(115,A163+4)),\"PASS with comments\"))","v":2},{"$f":"COUNTIF(INDIRECT(\"'Success Criteria'!\" & ADDRESS(74,A163+4)):INDIRECT(\"'Success Criteria'!\" & ADDRESS(115,A163+4)),\"NON conformant\")","v":0},{"$f":"COUNTIF(INDIRECT(\"'Success Criteria'!\" & ADDRESS(74,A163+4)):INDIRECT(\"'Success Criteria'!\" & ADDRESS(115,A163+4)),\"N/A\")","v":0},{"$f":"COUNTIF(INDIRECT(\"'Success Criteria'!\" & ADDRESS(74,A163+4)):INDIRECT(\"'Success Criteria'!\" & ADDRESS(115,A163+4)),\"not tested\")","v":0},{"$f":"SUM(COUNTIF(INDIRECT(\"'Success Criteria'!\" & ADDRESS(120,A163+4)):INDIRECT(\"'Success Criteria'!\" & ADDRESS(174,A163+4)),\"PASS\"),COUNTIF(INDIRECT(\"'Success Criteria'!\" & ADDRESS(120,A163+4)):INDIRECT(\"'Success Criteria'!\" & ADDRESS(174,A163+4)),\"PASS with comments\"))","v":0},{"$f":"COUNTIF(INDIRECT(\"'Success Criteria'!\" & ADDRESS(120,A163+4)):INDIRECT(\"'Success Criteria'!\" & ADDRESS(174,A163+4)),\"NON conformant\")","v":0},{"$f":"COUNTIF(INDIRECT(\"'Success Criteria'!\" & ADDRESS(120,A163+4)):INDIRECT(\"'Success Criteria'!\" & ADDRESS(174,A163+4)),\"N/A\")","v":0},{"$f":"COUNTIF(INDIRECT(\"'Success Criteria'!\" & ADDRESS(120,A163+4)):INDIRECT(\"'Success Criteria'!\" & ADDRESS(174,A163+4)),\"not tested\")","v":28},2,0,0,28,null,0,"",2,"",28,1]
[150,"Page 150","URL 150","Please select",{"$f":"SUM(COUNTIF(INDIRECT(\"'Success Criteria'!\" & ADDRESS(8,A164+4)):INDIRECT(\"'Success Criteria'!\" & ADDRESS(70,A164+4)),\"PASS\"),COUNTIF(INDIRECT(\"'Success Criteria'!\" & ADDRESS(8,A164+4)):INDIRECT(\"'Success Criteria'!\" & ADDRESS(70,A164+4)),\"PASS with comments\"))","v":0},{"$f":"COUNTIF(INDIRECT(\"'Success Criteria'!\" & ADDRESS(8,A164+4)):INDIRECT(\"'Success Criteria'!\" & ADDRESS(70,A164+4)),\"NON conformant\")","v":0},{"$f":"COUNTIF(INDIRECT(\"'Success Criteria'!\" & ADDRESS(8,A164+4)):INDIRECT(\"'Success Criteria'!\" & ADDRESS(70,A164+4)),\"N/A\")","v":0},{"$f":"COUNTIF(INDIRECT(\"'Success Criteria'!\" & ADDRESS(8,A164+4)):INDIRECT(\"'Success Criteria'!\" & ADDRESS(70,A164+4)),\"not tested\")","v":0},{"$f":"SUM(COUNTIF(INDIRECT(\"'Success Criteria'!\" & ADDRESS(74,A164+4)):INDIRECT(\"'Success Criteria'!\" & ADDRESS(115,A164+4)),\"PASS\"),COUNTIF(INDIRECT(\"'Success Criteria'!\" & ADDRESS(74,A164+4)):INDIRECT(\"'Success Criteria'!\" & ADDRESS(115,A164+4)),\"PASS with comments\"))","v":2},{"$f":"COUNTIF(INDIRECT(\"'Success Criteria'!\" & ADDRESS(74,A164+4)):INDIRECT(\"'Success Criteria'!\" & ADDRESS(115,A164+4)),\"NON conformant\")","v":0},{"$f":"COUNTIF(INDIRECT(\"'Success Criteria'!\" & ADDRESS(74,A164+4)):INDIRECT(\"'Success Criteria'!\" & ADDRESS(115,A164+4)),\"N/A\")","v":0},{"$f":"COUNTIF(INDIRECT(\"'Success Criteria'!\" & ADDRESS(74,A164+4)):INDIRECT(\"'Success Criteria'!\" & ADDRESS(115,A164+4)),\"not tested\")","v":0},{"$f":"SUM(COUNTIF(INDIRECT(\"'Success Criteria'!\" & ADDRESS(120,A164+4)):INDIRECT(\"'Success Criteria'!\" & ADDRESS(174,A164+4)),\"PASS\"),COUNTIF(INDIRECT(\"'Success Criteria'!\" & ADDRESS(120,A164+4)):INDIRECT(\"'Success Criteria'!\" & ADDRESS(174,A164+4)),\"PASS with comments\"))","v":0},{"$f":"COUNTIF(INDIRECT(\"'Success Criteria'!\" & ADDRESS(120,A164+4)):INDIRECT(\"'Success Criteria'!\" & ADDRESS(174,A164+4)),\"NON conformant\")","v":0},{"$f":"COUNTIF(INDIRECT(\"'Success Criteria'!\" & ADDRESS(120,A164+4)):INDIRECT(\"'Success Criteria'!\" & ADDRESS(174,A164+4)),\"N/A\")","v":0},{"$f":"COUNTIF(INDIRECT(\"'Success Criteria'!\" & ADDRESS(120,A164+4)):INDIRECT(\"'Success Criteria'!\" & ADDRESS(174,A164+4)),\"not tested\")","v":28},2,0,0,28,null,0,"",2,"",28,1]
[null,null,null,null,null,null,null,null,null,null,null,null,null,null,null,null,null,null,null,null,null,null,"Total",null,"Total",null,"Total"]
[null,null,null,null,"Level A",null,null,null,"Level AA",null,null,null,"Level AAA",null,null,null,"Total",null,null,null,null,null,{"$f":"SUM(W15:W165)","v":6},null,{"$f":"SUM(Y15:Y165)","v":5},null,{"$f":"SUM(AA15:AA165)","v":150}]
[null,null,null,null,"Pass","Fail","N/A","Not tested","Pass","Fail","N/A ","Not tested","Pass","Fail","N/A ","Not tested","Pass","Fail","N/A ","Not tested"]
["Total",null,null,null,{"$f":"SUM(E15:E164)","v":108},9,63,0,362,2,43,0,0,0,0,4200,470,11,106,4200]
["Average per page",null,null,null,{"$f":"E168/$W$166","v":18},{"$f":"F168/$W$166","v":1.5},{"$f":"G168/$W$166","v":10.5},{"$f":"H168/$W$166","v":0},{"$f":"I168/$Y$166","v":72.400000000000006},{"$f":"J168/$Y$166","v":0.4},{"$f":"K168/$Y$166","v":8.6},{"$f":"L168/$Y$166","v":0},{"$f":"M168/$AA$166","v":0},{"$f":"N168/$AA$166","v":0},{"$f":"O168/$AA$166","v":0},{"$f":"P168/$AA$166","v":28},{"$f":"E169+I169+M169","v":90.4},{"$f":"F169+J169+N169","v":1.9},{"$f":"G169+K169+O169","v":19.100000000000001},{"$f":"H169+L169+P169","v":28}]

{"sheet":"Conformance Statement","index":3,"n_rows":41,"n_cols":3,"rows_kept":41,"cut":false,"hidden":true,"merged":[[0,0,0,15]]}
["\nAccessibility Conformance Statement"]
[]
[null,null,"Organisation Name"]
[null,null,{"$f":"IF(Statistics!C2=\"\",\"Populated automatically from the Statistics worksheet\",Statistics!C2)","v":"GLA"}]
[]
[null,null,"Website or Mobile App Name"]
[null,null,{"$f":"IF(Statistics!C3=\"\",\"Populated automatically from the Statistics worksheet\",Statistics!C3)","v":"Team London"}]
[]
[null,null,"Scope"]
[null,null,"Describe what was in and out of scope, including subdomains and content types. This ought to be specified in the proposal."]
[]
[null,null,"Accessibility standards applied"]
[null,null,{"$f":"\"WCAG 2.1 level \" & IF(Statistics!S3=\"Yes\",\"A\",\"\") & IF(Statistics!S4=\"Yes\",\"A\",\"\") & IF(Statistics!S5=\"Yes\",\"A\",\"\")","v":"WCAG 2.1 level AA"}]
[]
[null,null,"Conformance status"]
[null,null,"Please select"]
[]
[null,null,"Additional accessibility considerations"]
[null,null,"Provide details of any accessibility features beyond  those specified in the accessibility standard stated above, such as the provision of sign language videos or context-sensitive help for functionality."]
[]
[null,null,"Date of publication"]
[null,null,{"$f":"IF(Statistics!C10<>\"\",Statistics!C10,IF(Statistics!C8<>\"\",Statistics!C8,\"Populated automatically from the Statistics worksheet\"))","v":"2022-04-19"}]
[]
[null,null,"Accessibility limitations"]
[null,null,"Provide a high level list of accessibility limitations from a user's perspective including whether there are any workarounds.\n\nIf there are a lot of non-conformances, this can be quite generic. If there are not many, it can be more specific."]
[]
[null,null,"Compatibility with user environment"]
[null,null,"Describe the environments (combinations of web browsers, assistive technologies, and operating systems) that the content is known or not expected to work with."]
[]
[null,null,"Technologies used"]
[null,null,"The following technologies are relied upon for conformance. The content would not conform if that technology is turned off or is not supported."]
[]
[null,null,"HTML"]
[null,null,"CSS"]
[null,null,"JavaScript"]
[null,null,"SVG"]
[null,null,"WAI-ARIA"]
[null,null,"PDF"]
[]
[null,null,"Assessment approach"]
[null,null,"External evaluation by Test Partners Ltd"]

{"sheet":"Success Criteria","index":4,"n_rows":175,"n_cols":154,"rows_kept":175,"cut":false,"hidden":false,"merged":[[2,0,3,0],[2,1,2,3],[3,1,3,3],[0,0,1,3]]}
["\nWCAG 2.1 website accessibility audit\nSuccess Criteria",null,null,null,"Initially tested on","Initially tested on","Initially tested on","Initially tested on","Initially tested on","Initially tested on","Initially tested on","Initially tested on","Initially tested on","Initially tested on","Initially tested on","Initially tested on","Initially tested on","Initially tested on","Initially tested on","Initially tested on","Initially tested on","Initially tested on","Initially tested on","Initially tested on","Initially tested on","Initially tested on","Initially tested on","Initially tested on","Initially tested on","Initially tested on","Initially tested on","Initially tested on","Initially tested on","Initially tested on","Initially tested on","Initially tested on","Initially tested on","Initially tested on","Initially tested on","Initially tested on","Initially tested on","Initially tested on","Initially tested on","Initially tested on","Initially tested on","Initially tested on","Initially tested on","Initially tested on","Initially tested on","Initially tested on","Initially tested on","Initially tested on","Initially tested on","Initially tested on","Initially tested on","Initially tested on","Initially tested on","Initially tested on","Initially tested on","Initially tested on","Initially tested on","Initially tested on","Initially tested on","Initially tested on","Initially tested on","Initially tested on","Initially tested on","Initially tested on","Initially tested on","Initially tested on","Initially tested on","Initially tested on","Initially tested on","Initially tested on","Initially tested on","Initially tested on","Initially tested on","Initially tested on","Initially tested on","Initially tested on","Initially tested on","Initially tested on","Initially tested on","Initially tested on","Initially tested on","Initially tested on","Initially tested on","Initially tested on","Initially tested on","Initially tested on","Initially tested on","Initially tested on","Initially tested on","Initially tested on","Initially tested on","Initially tested on","Initially tested on","Initially tested on","Initially tested on","Initially tested on","Initially tested on","Initially tested on","Initially tested on","Initially tested on","Initially tested on","Initially tested on","Initially tested on","Initially tested on","Initially tested on","Initially tested on","Initially tested on","Initially tested on","Initially tested on","Initially tested on","Initially tested on","Initially tested on","Initially tested on","Initially tested on","Initially tested on","Initially tested on","Initially tested on","Initially tested on","Initially tested on","Initially tested on","Initially tested on","Initially tested on","Initially tested on","Initially tested on","Initially tested on","Initially tested on","Initially tested on","Initially tested on","Initially tested on","Initially tested on","Initially tested on","Initially tested on","Initially tested on","Initially tested on","Initially tested on","Initially tested on","Initially tested on","Initially tested on","Initially tested on","Initially tested on","Initially tested on","Initially tested on","Initially tested on","Initially tested on","Initially tested on","Initially tested on","Initially tested on","Initially tested on","Initially tested on","Initially tested on"]
[null,null,null,null,"2022-04-06","2022-04-06","2022-04-11","2022-04-14","2022-04-14","2022-04-14","Press Ctrl+Colon to enter today's date","Press Ctrl+Colon to enter today's date","Press Ctrl+Colon to enter today's date","Press Ctrl+Colon to enter today's date","Press Ctrl+Colon to enter today's date","Press Ctrl+Colon to enter today's date","Press Ctrl+Colon to enter today's date","Press Ctrl+Colon to enter today's date","Press Ctrl+Colon to enter today's date","Press Ctrl+Colon to enter today's date","Press Ctrl+Colon to enter today's date","Press Ctrl+Colon to enter today's date","Press Ctrl+Colon to enter today's date","Press Ctrl+Colon to enter today's date","Press Ctrl+Colon to enter today's date","Press Ctrl+Colon to enter today's date","Press Ctrl+Colon to enter today's date","Press Ctrl+Colon to enter today's date","Press Ctrl+Colon to enter today's date","Press Ctrl+Colon to enter today's date","Press Ctrl+Colon to enter today's date","Press Ctrl+Colon to enter today's date","Press Ctrl+Colon to enter today's date","Press Ctrl+Colon to enter today's date","Press Ctrl+Colon to enter today's date","Press Ctrl+Colon to enter today's date","Press Ctrl+Colon to enter today's date","Press Ctrl+Colon to enter today's date","Press Ctrl+Colon to enter today's date","Press Ctrl+Colon to enter today's date","Press Ctrl+Colon to enter today's date","Press Ctrl+Colon to enter today's date","Press Ctrl+Colon to enter today's date","Press Ctrl+Colon to enter today's date","Press Ctrl+Colon to enter today's date","Press Ctrl+Colon to enter today's date","Press Ctrl+Colon to enter today's date","Press Ctrl+Colon to enter today's date","Press Ctrl+Colon to enter today's date","Press Ctrl+Colon to enter today's date","Press Ctrl+Colon to enter today's date","Press Ctrl+Colon to enter today's date","Press Ctrl+Colon to enter today's date","Press Ctrl+Colon to enter today's date","Press Ctrl+Colon to enter today's date","Press Ctrl+Colon to enter today's date","Press Ctrl+Colon to enter today's date","Press Ctrl+Colon to enter today's date","Press Ctrl+Colon to enter today's date","Press Ctrl+Colon to enter today's date","Press Ctrl+Colon to enter today's date","Press Ctrl+Colon to enter today's date","Press Ctrl+Colon to enter today's date","Press Ctrl+Colon to enter today's date","Press Ctrl+Colon to enter today's date","Press Ctrl+Colon to enter today's date","Press Ctrl+Colon to enter today's date","Press Ctrl+Colon to enter today's date","Press Ctrl+Colon to enter today's date","Press Ctrl+Colon to enter today's date","Press Ctrl+Colon to enter today's date","Press Ctrl+Colon to enter today's date","Press Ctrl+Colon to enter today's date","Press Ctrl+Colon to enter today's date","Press Ctrl+Colon to enter today's date","Press Ctrl+Colon to enter today's date","Press Ctrl+Colon to enter today's date","Press Ctrl+Colon to enter today's date","Press Ctrl+Colon to enter today's date","Press Ctrl+Colon to enter today's date","Press Ctrl+Colon to enter today's date","Press Ctrl+Colon to enter today's date","Press Ctrl+Colon to enter today's date","Press Ctrl+Colon to enter today's date","Press Ctrl+Colon to enter today's date","Press Ctrl+Colon to enter today's date","Press Ctrl+Colon to enter today's date","Press Ctrl+Colon to enter today's date","Press Ctrl+Colon to enter today's date","Press Ctrl+Colon to enter today's date","Press Ctrl+Colon to enter today's date","Press Ctrl+Colon to enter today's date","Press Ctrl+Colon to enter today's date","Press Ctrl+Colon to enter today's date","Press Ctrl+Colon to enter today's date","Press Ctrl+Colon to enter today's date","Press Ctrl+Colon to enter today's date","Press Ctrl+Colon to enter today's date","Press Ctrl+Colon to enter today's date","Press Ctrl+Colon to enter today's date","Press Ctrl+Colon to enter today's date","Press Ctrl+Colon to enter today's date","Press Ctrl+Colon to enter today's date","Press Ctrl+Colon to enter today's date","Press Ctrl+Colon to enter today's date","Press Ctrl+Colon to enter today's date","Press Ctrl+Colon to enter today's date","Press Ctrl+Colon to enter today's date","Press Ctrl+Colon to enter today's date","Press Ctrl+Colon to enter today's date","Press Ctrl+Colon to enter today's date","Press Ctrl+Colon to enter today's date","Press Ctrl+Colon to enter today's date","Press Ctrl+Colon to enter today's date","Press Ctrl+Colon to enter today's date","Press Ctrl+Colon to enter today's date","Press Ctrl+Colon to enter today's date","Press Ctrl+Colon to enter today's date","Press Ctrl+Colon to enter today's date","Press Ctrl+Colon to enter today's date","Press Ctrl+Colon to enter today's date","Press Ctrl+Colon to enter today's date","Press Ctrl+Colon to enter today's date","Press Ctrl+Colon to enter today's date","Press Ctrl+Colon to enter today's date","Press Ctrl+Colon to enter today's date","Press Ctrl+Colon to enter today's date","Press Ctrl+Colon to enter today's date","Press Ctrl+Colon to enter today's date","Press Ctrl+Colon to enter today's date","Press Ctrl+Colon to enter today's date","Press Ctrl+Colon to enter today's date","Press Ctrl+Colon to enter today's date","Press Ctrl+Colon to enter today's date","Press Ctrl+Colon to enter today's date","Press Ctrl+Colon to enter today's date","Press Ctrl+Colon to enter today's date","Press Ctrl+Colon to enter today's date","Press Ctrl+Colon to enter today's date","Press Ctrl+Colon to enter today's date","Press Ctrl+Colon to enter today's date","Press Ctrl+Colon to enter today's date","Press Ctrl+Colon to enter today's date","Press Ctrl+Colon to enter today's date","Press Ctrl+Colon to enter today's date","Press Ctrl+Colon to enter today's date","Press Ctrl+Colon to enter today's date","Press Ctrl+Colon to enter today's date","Press Ctrl+Colon to enter today's date","Press Ctrl+Colon to enter today's date","Press Ctrl+Colon to enter today's date","Press Ctrl+Colon to enter today's date","Press Ctrl+Colon to enter today's date","Press Ctrl+Colon to enter today's date"]
["Key","Cells highlighted in pink indicate non-conformances.",null,null,{"$f":"IF(INDIRECT(\"'Statistics'!\" & ADDRESS(COLUMN()+10,2))=\"\",\"\",INDIRECT(\"'Statistics'!\" & ADDRESS(COLUMN()+10,2)))","v":"Header"},{"$f":"IF(INDIRECT(\"'Statistics'!\" & ADDRESS(COLUMN()+10,2))=\"\",\"\",INDIRECT(\"'Statistics'!\" & ADDRESS(COLUMN()+10,2)))","v":"Footer"},{"$f":"IF(INDIRECT(\"'Statistics'!\" & ADDRESS(COLUMN()+10,2))=\"\",\"\",INDIRECT(\"'Statistics'!\" & ADDRESS(COLUMN()+10,2)))","v":"Home page"},{"$f":"IF(INDIRECT(\"'Statistics'!\" & ADDRESS(COLUMN()+10,2))=\"\",\"\",INDIRECT(\"'Statistics'!\" & ADDRESS(COLUMN()+10,2)))","v":"Search - Find a volunteering role"},{"$f":"IF(INDIRECT(\"'Statistics'!\" & ADDRESS(COLUMN()+10,2))=\"\",\"\",INDIRECT(\"'Statistics'!\" & ADDRESS(COLUMN()+10,2)))","v":"Opportunity page"},{"$f":"IF(INDIRECT(\"'Statistics'!\" & ADDRESS(COLUMN()+10,2))=\"\",\"\",INDIRECT(\"'Statistics'!\" & ADDRESS(COLUMN()+10,2)))","v":"Find volunteers"},{"$f":"IF(INDIRECT(\"'Statistics'!\" & ADDRESS(COLUMN()+10,2))=\"\",\"\",INDIRECT(\"'Statistics'!\" & ADDRESS(COLUMN()+10,2)))","v":"Page 7"},{"$f":"IF(INDIRECT(\"'Statistics'!\" & ADDRESS(COLUMN()+10,2))=\"\",\"\",INDIRECT(\"'Statistics'!\" & ADDRESS(COLUMN()+10,2)))","v":"Page 8"},{"$f":"IF(INDIRECT(\"'Statistics'!\" & ADDRESS(COLUMN()+10,2))=\"\",\"\",INDIRECT(\"'Statistics'!\" & ADDRESS(COLUMN()+10,2)))","v":"Page 9"},{"$f":"IF(INDIRECT(\"'Statistics'!\" & ADDRESS(COLUMN()+10,2))=\"\",\"\",INDIRECT(\"'Statistics'!\" & ADDRESS(COLUMN()+10,2)))","v":"Page 10"},{"$f":"IF(INDIRECT(\"'Statistics'!\" & ADDRESS(COLUMN()+10,2))=\"\",\"\",INDIRECT(\"'Statistics'!\" & ADDRESS(COLUMN()+10,2)))","v":"Page 11"},{"$f":"IF(INDIRECT(\"'Statistics'!\" & ADDRESS(COLUMN()+10,2))=\"\",\"\",INDIRECT(\"'Statistics'!\" & ADDRESS(COLUMN()+10,2)))","v":"Page 12"},{"$f":"IF(INDIRECT(\"'Statistics'!\" & ADDRESS(COLUMN()+10,2))=\"\",\"\",INDIRECT(\"'Statistics'!\" & ADDRESS(COLUMN()+10,2)))","v":"Page 13"},{"$f":"IF(INDIRECT(\"'Statistics'!\" & ADDRESS(COLUMN()+10,2))=\"\",\"\",INDIRECT(\"'Statistics'!\" & ADDRESS(COLUMN()+10,2)))","v":"Page 14"},{"$f":"IF(INDIRECT(\"'Statistics'!\" & ADDRESS(COLUMN()+10,2))=\"\",\"\",INDIRECT(\"'Statistics'!\" & ADDRESS(COLUMN()+10,2)))","v":"Page 15"},{"$f":"IF(INDIRECT(\"'Statistics'!\" & ADDRESS(COLUMN()+10,2))=\"\",\"\",INDIRECT(\"'Statistics'!\" & ADDRESS(COLUMN()+10,2)))","v":"Page 16"},{"$f":"IF(INDIRECT(\"'Statistics'!\" & ADDRESS(COLUMN()+10,2))=\"\",\"\",INDIRECT(\"'Statistics'!\" & ADDRESS(COLUMN()+10,2)))","v":"Page 17"},{"$f":"IF(INDIRECT(\"'Statistics'!\" & ADDRESS(COLUMN()+10,2))=\"\",\"\",INDIRECT(\"'Statistics'!\" & ADDRESS(COLUMN()+10,2)))","v":"Page 18"},{"$f":"IF(INDIRECT(\"'Statistics'!\" & ADDRESS(COLUMN()+10,2))=\"\",\"\",INDIRECT(\"'Statistics'!\" & ADDRESS(COLUMN()+10,2)))","v":"Page 19"},{"$f":"IF(INDIRECT(\"'Statistics'!\" & ADDRESS(COLUMN()+10,2))=\"\",\"\",INDIRECT(\"'Statistics'!\" & ADDRESS(COLUMN()+10,2)))","v":"Page 20"},{"$f":"IF(INDIRECT(\"'Statistics'!\" & ADDRESS(COLUMN()+10,2))=\"\",\"\",INDIRECT(\"'Statistics'!\" & ADDRESS(COLUMN()+10,2)))","v":"Page 21"},{"$f":"IF(INDIRECT(\"'Statistics'!\" & ADDRESS(COLUMN()+10,2))=\"\",\"\",INDIRECT(\"'Statistics'!\" & ADDRESS(COLUMN()+10,2)))","v":"Page 22"},{"$f":"IF(INDIRECT(\"'Statistics'!\" & ADDRESS(COLUMN()+10,2))=\"\",\"\",INDIRECT(\"'Statistics'!\" & ADDRESS(COLUMN()+10,2)))","v":"Page 23"},{"$f":"IF(INDIRECT(\"'Statistics'!\" & ADDRESS(COLUMN()+10,2))=\"\",\"\",INDIRECT(\"'Statistics'!\" & ADDRESS(COLUMN()+10,2)))","v":"Page 24"},{"$f":"IF(INDIRECT(\"'Statistics'!\" & ADDRESS(COLUMN()+10,2))=\"\",\"\",INDIRECT(\"'Statistics'!\" & ADDRESS(COLUMN()+10,2)))","v":"Page 25"},{"$f":"IF(INDIRECT(\"'Statistics'!\" & ADDRESS(COLUMN()+10,2))=\"\",\"\",INDIRECT(\"'Statistics'!\" & ADDRESS(COLUMN()+10,2)))","v":"Page 26"},{"$f":"IF(INDIRECT(\"'Statistics'!\" & ADDRESS(COLUMN()+10,2))=\"\",\"\",INDIRECT(\"'Statistics'!\" & ADDRESS(COLUMN()+10,2)))","v":"Page 27"},{"$f":"IF(INDIRECT(\"'Statistics'!\" & ADDRESS(COLUMN()+10,2))=\"\",\"\",INDIRECT(\"'Statistics'!\" & ADDRESS(COLUMN()+10,2)))","v":"Page 28"},{"$f":"IF(INDIRECT(\"'Statistics'!\" & ADDRESS(COLUMN()+10,2))=\"\",\"\",INDIRECT(\"'Statistics'!\" & ADDRESS(COLUMN()+10,2)))","v":"Page 29"},{"$f":"IF(INDIRECT(\"'Statistics'!\" & ADDRESS(COLUMN()+10,2))=\"\",\"\",INDIRECT(\"'Statistics'!\" & ADDRESS(COLUMN()+10,2)))","v":"Page 30"},{"$f":"IF(INDIRECT(\"'Statistics'!\" & ADDRESS(COLUMN()+10,2))=\"\",\"\",INDIRECT(\"'Statistics'!\" & ADDRESS(COLUMN()+10,2)))","v":"Page 31"},{"$f":"IF(INDIRECT(\"'Statistics'!\" & ADDRESS(COLUMN()+10,2))=\"\",\"\",INDIRECT(\"'Statistics'!\" & ADDRESS(COLUMN()+10,2)))","v":"Page 32"},{"$f":"IF(INDIRECT(\"'Statistics'!\" & ADDRESS(COLUMN()+10,2))=\"\",\"\",INDIRECT(\"'Statistics'!\" & ADDRESS(COLUMN()+10,2)))","v":"Page 33"},{"$f":"IF(INDIRECT(\"'Statistics'!\" & ADDRESS(COLUMN()+10,2))=\"\",\"\",INDIRECT(\"'Statistics'!\" & ADDRESS(COLUMN()+10,2)))","v":"Page 34"},{"$f":"IF(INDIRECT(\"'Statistics'!\" & ADDRESS(COLUMN()+10,2))=\"\",\"\",INDIRECT(\"'Statistics'!\" & ADDRESS(COLUMN()+10,2)))","v":"Page 35"},{"$f":"IF(INDIRECT(\"'Statistics'!\" & ADDRESS(COLUMN()+10,2))=\"\",\"\",INDIRECT(\"'Statistics'!\" & ADDRESS(COLUMN()+10,2)))","v":"Page 36"},{"$f":"IF(INDIRECT(\"'Statistics'!\" & ADDRESS(COLUMN()+10,2))=\"\",\"\",INDIRECT(\"'Statistics'!\" & ADDRESS(COLUMN()+10,2)))","v":"Page 37"},{"$f":"IF(INDIRECT(\"'Statistics'!\" & ADDRESS(COLUMN()+10,2))=\"\",\"\",INDIRECT(\"'Statistics'!\" & ADDRESS(COLUMN()+10,2)))","v":"Page 38"},{"$f":"IF(INDIRECT(\"'Statistics'!\" & ADDRESS(COLUMN()+10,2))=\"\",\"\",INDIRECT(\"'Statistics'!\" & ADDRESS(COLUMN()+10,2)))","v":"Page 39"},{"$f":"IF(INDIRECT(\"'Statistics'!\" & ADDRESS(COLUMN()+10,2))=\"\",\"\",INDIRECT(\"'Statistics'!\" & ADDRESS(COLUMN()+10,2)))","v":"Page 40"},{"$f":"IF(INDIRECT(\"'Statistics'!\" & ADDRESS(COLUMN()+10,2))=\"\",\"\",INDIRECT(\"'Statistics'!\" & ADDRESS(COLUMN()+10,2)))","v":"Page 41"},{"$f":"IF(INDIRECT(\"'Statistics'!\" & ADDRESS(COLUMN()+10,2))=\"\",\"\",INDIRECT(\"'Statistics'!\" & ADDRESS(COLUMN()+10,2)))","v":"Page 42"},{"$f":"IF(INDIRECT(\"'Statistics'!\" & ADDRESS(COLUMN()+10,2))=\"\",\"\",INDIRECT(\"'Statistics'!\" & ADDRESS(COLUMN()+10,2)))","v":"Page 43"},{"$f":"IF(INDIRECT(\"'Statistics'!\" & ADDRESS(COLUMN()+10,2))=\"\",\"\",INDIRECT(\"'Statistics'!\" & ADDRESS(COLUMN()+10,2)))","v":"Page 44"},{"$f":"IF(INDIRECT(\"'Statistics'!\" & ADDRESS(COLUMN()+10,2))=\"\",\"\",INDIRECT(\"'Statistics'!\" & ADDRESS(COLUMN()+10,2)))","v":"Page 45"},{"$f":"IF(INDIRECT(\"'Statistics'!\" & ADDRESS(COLUMN()+10,2))=\"\",\"\",INDIRECT(\"'Statistics'!\" & ADDRESS(COLUMN()+10,2)))","v":"Page 46"},{"$f":"IF(INDIRECT(\"'Statistics'!\" & ADDRESS(COLUMN()+10,2))=\"\",\"\",INDIRECT(\"'Statistics'!\" & ADDRESS(COLUMN()+10,2)))","v":"Page 47"},{"$f":"IF(INDIRECT(\"'Statistics'!\" & ADDRESS(COLUMN()+10,2))=\"\",\"\",INDIRECT(\"'Statistics'!\" & ADDRESS(COLUMN()+10,2)))","v":"Page 48"},{"$f":"IF(INDIRECT(\"'Statistics'!\" & ADDRESS(COLUMN()+10,2))=\"\",\"\",INDIRECT(\"'Statistics'!\" & ADDRESS(COLUMN()+10,2)))","v":"Page 49"},{"$f":"IF(INDIRECT(\"'Statistics'!\" & ADDRESS(COLUMN()+10,2))=\"\",\"\",INDIRECT(\"'Statistics'!\" & ADDRESS(COLUMN()+10,2)))","v":"Page 50"},{"$f":"IF(INDIRECT(\"'Statistics'!\" & ADDRESS(COLUMN()+10,2))=\"\",\"\",INDIRECT(\"'Statistics'!\" & ADDRESS(COLUMN()+10,2)))","v":"Page 51"},{"$f":"IF(INDIRECT(\"'Statistics'!\" & ADDRESS(COLUMN()+10,2))=\"\",\"\",INDIRECT(\"'Statistics'!\" & ADDRESS(COLUMN()+10,2)))","v":"Page 52"},{"$f":"IF(INDIRECT(\"'Statistics'!\" & ADDRESS(COLUMN()+10,2))=\"\",\"\",INDIRECT(\"'Statistics'!\" & ADDRESS(COLUMN()+10,2)))","v":"Page 53"},{"$f":"IF(INDIRECT(\"'Statistics'!\" & ADDRESS(COLUMN()+10,2))=\"\",\"\",INDIRECT(\"'Statistics'!\" & ADDRESS(COLUMN()+10,2)))","v":"Page 54"},{"$f":"IF(INDIRECT(\"'Statistics'!\" & ADDRESS(COLUMN()+10,2))=\"\",\"\",INDIRECT(\"'Statistics'!\" & ADDRESS(COLUMN()+10,2)))","v":"Page 55"},{"$f":"IF(INDIRECT(\"'Statistics'!\" & ADDRESS(COLUMN()+10,2))=\"\",\"\",INDIRECT(\"'Statistics'!\" & ADDRESS(COLUMN()+10,2)))","v":"Page 56"},{"$f":"IF(INDIRECT(\"'Statistics'!\" & ADDRESS(COLUMN()+10,2))=\"\",\"\",INDIRECT(\"'Statistics'!\" & ADDRESS(COLUMN()+10,2)))","v":"Page 57"},{"$f":"IF(INDIRECT(\"'Statistics'!\" & ADDRESS(COLUMN()+10,2))=\"\",\"\",INDIRECT(\"'Statistics'!\" & ADDRESS(COLUMN()+10,2)))","v":"Page 58"},{"$f":"IF(INDIRECT(\"'Statistics'!\" & ADDRESS(COLUMN()+10,2))=\"\",\"\",INDIRECT(\"'Statistics'!\" & ADDRESS(COLUMN()+10,2)))","v":"Page 59"},{"$f":"IF(INDIRECT(\"'Statistics'!\" & ADDRESS(COLUMN()+10,2))=\"\",\"\",INDIRECT(\"'Statistics'!\" & ADDRESS(COLUMN()+10,2)))","v":"Page 60"},{"$f":"IF(INDIRECT(\"'Statistics'!\" & ADDRESS(COLUMN()+10,2))=\"\",\"\",INDIRECT(\"'Statistics'!\" & ADDRESS(COLUMN()+10,2)))","v":"Page 61"},{"$f":"IF(INDIRECT(\"'Statistics'!\" & ADDRESS(COLUMN()+10,2))=\"\",\"\",INDIRECT(\"'Statistics'!\" & ADDRESS(COLUMN()+10,2)))","v":"Page 62"},{"$f":"IF(INDIRECT(\"'Statistics'!\" & ADDRESS(COLUMN()+10,2))=\"\",\"\",INDIRECT(\"'Statistics'!\" & ADDRESS(COLUMN()+10,2)))","v":"Page 63"},{"$f":"IF(INDIRECT(\"'Statistics'!\" & ADDRESS(COLUMN()+10,2))=\"\",\"\",INDIRECT(\"'Statistics'!\" & ADDRESS(COLUMN()+10,2)))","v":"Page 64"},{"$f":"IF(INDIRECT(\"'Statistics'!\" & ADDRESS(COLUMN()+10,2))=\"\",\"\",INDIRECT(\"'Statistics'!\" & ADDRESS(COLUMN()+10,2)))","v":"Page 65"},{"$f":"IF(INDIRECT(\"'Statistics'!\" & ADDRESS(COLUMN()+10,2))=\"\",\"\",INDIRECT(\"'Statistics'!\" & ADDRESS(COLUMN()+10,2)))","v":"Page 66"},{"$f":"IF(INDIRECT(\"'Statistics'!\" & ADDRESS(COLUMN()+10,2))=\"\",\"\",INDIRECT(\"'Statistics'!\" & ADDRESS(COLUMN()+10,2)))","v":"Page 67"},{"$f":"IF(INDIRECT(\"'Statistics'!\" & ADDRESS(COLUMN()+10,2))=\"\",\"\",INDIRECT(\"'Statistics'!\" & ADDRESS(COLUMN()+10,2)))","v":"Page 68"},{"$f":"IF(INDIRECT(\"'Statistics'!\" & ADDRESS(COLUMN()+10,2))=\"\",\"\",INDIRECT(\"'Statistics'!\" & ADDRESS(COLUMN()+10,2)))","v":"Page 69"},{"$f":"IF(INDIRECT(\"'Statistics'!\" & ADDRESS(COLUMN()+10,2))=\"\",\"\",INDIRECT(\"'Statistics'!\" & ADDRESS(COLUMN()+10,2)))","v":"Page 70"},{"$f":"IF(INDIRECT(\"'Statistics'!\" & ADDRESS(COLUMN()+10,2))=\"\",\"\",INDIRECT(\"'Statistics'!\" & ADDRESS(COLUMN()+10,2)))","v":"Page 71"},{"$f":"IF(INDIRECT(\"'Statistics'!\" & ADDRESS(COLUMN()+10,2))=\"\",\"\",INDIRECT(\"'Statistics'!\" & ADDRESS(COLUMN()+10,2)))","v":"Page 72"},{"$f":"IF(INDIRECT(\"'Statistics'!\" & ADDRESS(COLUMN()+10,2))=\"\",\"\",INDIRECT(\"'Statistics'!\" & ADDRESS(COLUMN()+10,2)))","v":"Page 73"},{"$f":"IF(INDIRECT(\"'Statistics'!\" & ADDRESS(COLUMN()+10,2))=\"\",\"\",INDIRECT(\"'Statistics'!\" & ADDRESS(COLUMN()+10,2)))","v":"Page 74"},{"$f":"IF(INDIRECT(\"'Statistics'!\" & ADDRESS(COLUMN()+10,2))=\"\",\"\",INDIRECT(\"'Statistics'!\" & ADDRESS(COLUMN()+10,2)))","v":"Page 75"},{"$f":"IF(INDIRECT(\"'Statistics'!\" & ADDRESS(COLUMN()+10,2))=\"\",\"\",INDIRECT(\"'Statistics'!\" & ADDRESS(COLUMN()+10,2)))","v":"Page 76"},{"$f":"IF(INDIRECT(\"'Statistics'!\" & ADDRESS(COLUMN()+10,2))=\"\",\"\",INDIRECT(\"'Statistics'!\" & ADDRESS(COLUMN()+10,2)))","v":"Page 77"},{"$f":"IF(INDIRECT(\"'Statistics'!\" & ADDRESS(COLUMN()+10,2))=\"\",\"\",INDIRECT(\"'Statistics'!\" & ADDRESS(COLUMN()+10,2)))","v":"Page 78"},{"$f":"IF(INDIRECT(\"'Statistics'!\" & ADDRESS(COLUMN()+10,2))=\"\",\"\",INDIRECT(\"'Statistics'!\" & ADDRESS(COLUMN()+10,2)))","v":"Page 79"},{"$f":"IF(INDIRECT(\"'Statistics'!\" & ADDRESS(COLUMN()+10,2))=\"\",\"\",INDIRECT(\"'Statistics'!\" & ADDRESS(COLUMN()+10,2)))","v":"Page 80"},{"$f":"IF(INDIRECT(\"'Statistics'!\" & ADDRESS(COLUMN()+10,2))=\"\",\"\",INDIRECT(\"'Statistics'!\" & ADDRESS(COLUMN()+10,2)))","v":"Page 81"},{"$f":"IF(INDIRECT(\"'Statistics'!\" & ADDRESS(COLUMN()+10,2))=\"\",\"\",INDIRECT(\"'Statistics'!\" & ADDRESS(COLUMN()+10,2)))","v":"Page 82"},{"$f":"IF(INDIRECT(\"'Statistics'!\" & ADDRESS(COLUMN()+10,2))=\"\",\"\",INDIRECT(\"'Statistics'!\" & ADDRESS(COLUMN()+10,2)))","v":"Page 83"},{"$f":"IF(INDIRECT(\"'Statistics'!\" & ADDRESS(COLUMN()+10,2))=\"\",\"\",INDIRECT(\"'Statistics'!\" & ADDRESS(COLUMN()+10,2)))","v":"Page 84"},{"$f":"IF(INDIRECT(\"'Statistics'!\" & ADDRESS(COLUMN()+10,2))=\"\",\"\",INDIRECT(\"'Statistics'!\" & ADDRESS(COLUMN()+10,2)))","v":"Page 85"},{"$f":"IF(INDIRECT(\"'Statistics'!\" & ADDRESS(COLUMN()+10,2))=\"\",\"\",INDIRECT(\"'Statistics'!\" & ADDRESS(COLUMN()+10,2)))","v":"Page 86"},{"$f":"IF(INDIRECT(\"'Statistics'!\" & ADDRESS(COLUMN()+10,2))=\"\",\"\",INDIRECT(\"'Statistics'!\" & ADDRESS(COLUMN()+10,2)))","v":"Page 87"},{"$f":"IF(INDIRECT(\"'Statistics'!\" & ADDRESS(COLUMN()+10,2))=\"\",\"\",INDIRECT(\"'Statistics'!\" & ADDRESS(COLUMN()+10,2)))","v":"Page 88"},{"$f":"IF(INDIRECT(\"'Statistics'!\" & ADDRESS(COLUMN()+10,2))=\"\",\"\",INDIRECT(\"'Statistics'!\" & ADDRESS(COLUMN()+10,2)))","v":"Page 89"},{"$f":"IF(INDIRECT(\"'Statistics'!\" & ADDRESS(COLUMN()+10,2))=\"\",\"\",INDIRECT(\"'Statistics'!\" & ADDRESS(COLUMN()+10,2)))","v":"Page 90"},{"$f":"IF(INDIRECT(\"'Statistics'!\" & ADDRESS(COLUMN()+10,2))=\"\",\"\",INDIRECT(\"'Statistics'!\" & ADDRESS(COLUMN()+10,2)))","v":"Page 91"},{"$f":"IF(INDIRECT(\"'Statistics'!\" & ADDRESS(COLUMN()+10,2))=\"\",\"\",INDIRECT(\"'Statistics'!\" & ADDRESS(COLUMN()+10,2)))","v":"Page 92"},{"$f":"IF(INDIRECT(\"'Statistics'!\" & ADDRESS(COLUMN()+10,2))=\"\",\"\",INDIRECT(\"'Statistics'!\" & ADDRESS(COLUMN()+10,2)))","v":"Page 93"},{"$f":"IF(INDIRECT(\"'Statistics'!\" & ADDRESS(COLUMN()+10,2))=\"\",\"\",INDIRECT(\"'Statistics'!\" & ADDRESS(COLUMN()+10,2)))","v":"Page 94"},{"$f":"IF(INDIRECT(\"'Statistics'!\" & ADDRESS(COLUMN()+10,2))=\"\",\"\",INDIRECT(\"'Statistics'!\" & ADDRESS(COLUMN()+10,2)))","v":"Page 95"},{"$f":"IF(INDIRECT(\"'Statistics'!\" & ADDRESS(COLUMN()+10,2))=\"\",\"\",INDIRECT(\"'Statistics'!\" & ADDRESS(COLUMN()+10,2)))","v":"Page 96"},{"$f":"IF(INDIRECT(\"'Statistics'!\" & ADDRESS(COLUMN()+10,2))=\"\",\"\",INDIRECT(\"'Statistics'!\" & ADDRESS(COLUMN()+10,2)))","v":"Page 97"},{"$f":"IF(INDIRECT(\"'Statistics'!\" & ADDRESS(COLUMN()+10,2))=\"\",\"\",INDIRECT(\"'Statistics'!\" & ADDRESS(COLUMN()+10,2)))","v":"Page 98"},{"$f":"IF(INDIRECT(\"'Statistics'!\" & ADDRESS(COLUMN()+10,2))=\"\",\"\",INDIRECT(\"'Statistics'!\" & ADDRESS(COLUMN()+10,2)))","v":"Page 99"},{"$f":"IF(INDIRECT(\"'Statistics'!\" & ADDRESS(COLUMN()+10,2))=\"\",\"\",INDIRECT(\"'Statistics'!\" & ADDRESS(COLUMN()+10,2)))","v":"Page 100"},{"$f":"IF(INDIRECT(\"'Statistics'!\" & ADDRESS(COLUMN()+10,2))=\"\",\"\",INDIRECT(\"'Statistics'!\" & ADDRESS(COLUMN()+10,2)))","v":"Page 101"},{"$f":"IF(INDIRECT(\"'Statistics'!\" & ADDRESS(COLUMN()+10,2))=\"\",\"\",INDIRECT(\"'Statistics'!\" & ADDRESS(COLUMN()+10,2)))","v":"Page 102"},{"$f":"IF(INDIRECT(\"'Statistics'!\" & ADDRESS(COLUMN()+10,2))=\"\",\"\",INDIRECT(\"'Statistics'!\" & ADDRESS(COLUMN()+10,2)))","v":"Page 103"},{"$f":"IF(INDIRECT(\"'Statistics'!\" & ADDRESS(COLUMN()+10,2))=\"\",\"\",INDIRECT(\"'Statistics'!\" & ADDRESS(COLUMN()+10,2)))","v":"Page 104"},{"$f":"IF(INDIRECT(\"'Statistics'!\" & ADDRESS(COLUMN()+10,2))=\"\",\"\",INDIRECT(\"'Statistics'!\" & ADDRESS(COLUMN()+10,2)))","v":"Page 105"},{"$f":"IF(INDIRECT(\"'Statistics'!\" & ADDRESS(COLUMN()+10,2))=\"\",\"\",INDIRECT(\"'Statistics'!\" & ADDRESS(COLUMN()+10,2)))","v":"Page 106"},{"$f":"IF(INDIRECT(\"'Statistics'!\" & ADDRESS(COLUMN()+10,2))=\"\",\"\",INDIRECT(\"'Statistics'!\" & ADDRESS(COLUMN()+10,2)))","v":"Page 107"},{"$f":"IF(INDIRECT(\"'Statistics'!\" & ADDRESS(COLUMN()+10,2))=\"\",\"\",INDIRECT(\"'Statistics'!\" & ADDRESS(COLUMN()+10,2)))","v":"Page 108"},{"$f":"IF(INDIRECT(\"'Statistics'!\" & ADDRESS(COLUMN()+10,2))=\"\",\"\",INDIRECT(\"'Statistics'!\" & ADDRESS(COLUMN()+10,2)))","v":"Page 109"},{"$f":"IF(INDIRECT(\"'Statistics'!\" & ADDRESS(COLUMN()+10,2))=\"\",\"\",INDIRECT(\"'Statistics'!\" & ADDRESS(COLUMN()+10,2)))","v":"Page 110"},{"$f":"IF(INDIRECT(\"'Statistics'!\" & ADDRESS(COLUMN()+10,2))=\"\",\"\",INDIRECT(\"'Statistics'!\" & ADDRESS(COLUMN()+10,2)))","v":"Page 111"},{"$f":"IF(INDIRECT(\"'Statistics'!\" & ADDRESS(COLUMN()+10,2))=\"\",\"\",INDIRECT(\"'Statistics'!\" & ADDRESS(COLUMN()+10,2)))","v":"Page 112"},{"$f":"IF(INDIRECT(\"'Statistics'!\" & ADDRESS(COLUMN()+10,2))=\"\",\"\",INDIRECT(\"'Statistics'!\" & ADDRESS(COLUMN()+10,2)))","v":"Page 113"},{"$f":"IF(INDIRECT(\"'Statistics'!\" & ADDRESS(COLUMN()+10,2))=\"\",\"\",INDIRECT(\"'Statistics'!\" & ADDRESS(COLUMN()+10,2)))","v":"Page 114"},{"$f":"IF(INDIRECT(\"'Statistics'!\" & ADDRESS(COLUMN()+10,2))=\"\",\"\",INDIRECT(\"'Statistics'!\" & ADDRESS(COLUMN()+10,2)))","v":"Page 115"},{"$f":"IF(INDIRECT(\"'Statistics'!\" & ADDRESS(COLUMN()+10,2))=\"\",\"\",INDIRECT(\"'Statistics'!\" & ADDRESS(COLUMN()+10,2)))","v":"Page 116"},{"$f":"IF(INDIRECT(\"'Statistics'!\" & ADDRESS(COLUMN()+10,2))=\"\",\"\",INDIRECT(\"'Statistics'!\" & ADDRESS(COLUMN()+10,2)))","v":"Page 117"},{"$f":"IF(INDIRECT(\"'Statistics'!\" & ADDRESS(COLUMN()+10,2))=\"\",\"\",INDIRECT(\"'Statistics'!\" & ADDRESS(COLUMN()+10,2)))","v":"Page 118"},{"$f":"IF(INDIRECT(\"'Statistics'!\" & ADDRESS(COLUMN()+10,2))=\"\",\"\",INDIRECT(\"'Statistics'!\" & ADDRESS(COLUMN()+10,2)))","v":"Page 119"},{"$f":"IF(INDIRECT(\"'Statistics'!\" & ADDRESS(COLUMN()+10,2))=\"\",\"\",INDIRECT(\"'Statistics'!\" & ADDRESS(COLUMN()+10,2)))","v":"Page 120"},{"$f":"IF(INDIRECT(\"'Statistics'!\" & ADDRESS(COLUMN()+10,2))=\"\",\"\",INDIRECT(\"'Statistics'!\" & ADDRESS(COLUMN()+10,2)))","v":"Page 121"},{"$f":"IF(INDIRECT(\"'Statistics'!\" & ADDRESS(COLUMN()+10,2))=\"\",\"\",INDIRECT(\"'Statistics'!\" & ADDRESS(COLUMN()+10,2)))","v":"Page 122"},{"$f":"IF(INDIRECT(\"'Statistics'!\" & ADDRESS(COLUMN()+10,2))=\"\",\"\",INDIRECT(\"'Statistics'!\" & ADDRESS(COLUMN()+10,2)))","v":"Page 123"},{"$f":"IF(INDIRECT(\"'Statistics'!\" & ADDRESS(COLUMN()+10,2))=\"\",\"\",INDIRECT(\"'Statistics'!\" & ADDRESS(COLUMN()+10,2)))","v":"Page 124"},{"$f":"IF(INDIRECT(\"'Statistics'!\" & ADDRESS(COLUMN()+10,2))=\"\",\"\",INDIRECT(\"'Statistics'!\" & ADDRESS(COLUMN()+10,2)))","v":"Page 125"},{"$f":"IF(INDIRECT(\"'Statistics'!\" & ADDRESS(COLUMN()+10,2))=\"\",\"\",INDIRECT(\"'Statistics'!\" & ADDRESS(COLUMN()+10,2)))","v":"Page 126"},{"$f":"IF(INDIRECT(\"'Statistics'!\" & ADDRESS(COLUMN()+10,2))=\"\",\"\",INDIRECT(\"'Statistics'!\" & ADDRESS(COLUMN()+10,2)))","v":"Page 127"},{"$f":"IF(INDIRECT(\"'Statistics'!\" & ADDRESS(COLUMN()+10,2))=\"\",\"\",INDIRECT(\"'Statistics'!\" & ADDRESS(COLUMN()+10,2)))","v":"Page 128"},{"$f":"IF(INDIRECT(\"'Statistics'!\" & ADDRESS(COLUMN()+10,2))=\"\",\"\",INDIRECT(\"'Statistics'!\" & ADDRESS(COLUMN()+10,2)))","v":"Page 129"},{"$f":"IF(INDIRECT(\"'Statistics'!\" & ADDRESS(COLUMN()+10,2))=\"\",\"\",INDIRECT(\"'Statistics'!\" & ADDRESS(COLUMN()+10,2)))","v":"Page 130"},{"$f":"IF(INDIRECT(\"'Statistics'!\" & ADDRESS(COLUMN()+10,2))=\"\",\"\",INDIRECT(\"'Statistics'!\" & ADDRESS(COLUMN()+10,2)))","v":"Page 131"},{"$f":"IF(INDIRECT(\"'Statistics'!\" & ADDRESS(COLUMN()+10,2))=\"\",\"\",INDIRECT(\"'Statistics'!\" & ADDRESS(COLUMN()+10,2)))","v":"Page 132"},{"$f":"IF(INDIRECT(\"'Statistics'!\" & ADDRESS(COLUMN()+10,2))=\"\",\"\",INDIRECT(\"'Statistics'!\" & ADDRESS(COLUMN()+10,2)))","v":"Page 133"},{"$f":"IF(INDIRECT(\"'Statistics'!\" & ADDRESS(COLUMN()+10,2))=\"\",\"\",INDIRECT(\"'Statistics'!\" & ADDRESS(COLUMN()+10,2)))","v":"Page 134"},{"$f":"IF(INDIRECT(\"'Statistics'!\" & ADDRESS(COLUMN()+10,2))=\"\",\"\",INDIRECT(\"'Statistics'!\" & ADDRESS(COLUMN()+10,2)))","v":"Page 135"},{"$f":"IF(INDIRECT(\"'Statistics'!\" & ADDRESS(COLUMN()+10,2))=\"\",\"\",INDIRECT(\"'Statistics'!\" & ADDRESS(COLUMN()+10,2)))","v":"Page 136"},{"$f":"IF(INDIRECT(\"'Statistics'!\" & ADDRESS(COLUMN()+10,2))=\"\",\"\",INDIRECT(\"'Statistics'!\" & ADDRESS(COLUMN()+10,2)))","v":"Page 137"},{"$f":"IF(INDIRECT(\"'Statistics'!\" & ADDRESS(COLUMN()+10,2))=\"\",\"\",INDIRECT(\"'Statistics'!\" & ADDRESS(COLUMN()+10,2)))","v":"Page 138"},{"$f":"IF(INDIRECT(\"'Statistics'!\" & ADDRESS(COLUMN()+10,2))=\"\",\"\",INDIRECT(\"'Statistics'!\" & ADDRESS(COLUMN()+10,2)))","v":"Page 139"},{"$f":"IF(INDIRECT(\"'Statistics'!\" & ADDRESS(COLUMN()+10,2))=\"\",\"\",INDIRECT(\"'Statistics'!\" & ADDRESS(COLUMN()+10,2)))","v":"Page 140"},{"$f":"IF(INDIRECT(\"'Statistics'!\" & ADDRESS(COLUMN()+10,2))=\"\",\"\",INDIRECT(\"'Statistics'!\" & ADDRESS(COLUMN()+10,2)))","v":"Page 141"},{"$f":"IF(INDIRECT(\"'Statistics'!\" & ADDRESS(COLUMN()+10,2))=\"\",\"\",INDIRECT(\"'Statistics'!\" & ADDRESS(COLUMN()+10,2)))","v":"Page 142"},{"$f":"IF(INDIRECT(\"'Statistics'!\" & ADDRESS(COLUMN()+10,2))=\"\",\"\",INDIRECT(\"'Statistics'!\" & ADDRESS(COLUMN()+10,2)))","v":"Page 143"},{"$f":"IF(INDIRECT(\"'Statistics'!\" & ADDRESS(COLUMN()+10,2))=\"\",\"\",INDIRECT(\"'Statistics'!\" & ADDRESS(COLUMN()+10,2)))","v":"Page 144"},{"$f":"IF(INDIRECT(\"'Statistics'!\" & ADDRESS(COLUMN()+10,2))=\"\",\"\",INDIRECT(\"'Statistics'!\" & ADDRESS(COLUMN()+10,2)))","v":"Page 145"},{"$f":"IF(INDIRECT(\"'Statistics'!\" & ADDRESS(COLUMN()+10,2))=\"\",\"\",INDIRECT(\"'Statistics'!\" & ADDRESS(COLUMN()+10,2)))","v":"Page 146"},{"$f":"IF(INDIRECT(\"'Statistics'!\" & ADDRESS(COLUMN()+10,2))=\"\",\"\",INDIRECT(\"'Statistics'!\" & ADDRESS(COLUMN()+10,2)))","v":"Page 147"},{"$f":"IF(INDIRECT(\"'Statistics'!\" & ADDRESS(COLUMN()+10,2))=\"\",\"\",INDIRECT(\"'Statistics'!\" & ADDRESS(COLUMN()+10,2)))","v":"Page 148"},{"$f":"IF(INDIRECT(\"'Statistics'!\" & ADDRESS(COLUMN()+10,2))=\"\",\"\",INDIRECT(\"'Statistics'!\" & ADDRESS(COLUMN()+10,2)))","v":"Page 149"},{"$f":"IF(INDIRECT(\"'Statistics'!\" & ADDRESS(COLUMN()+10,2))=\"\",\"\",INDIRECT(\"'Statistics'!\" & ADDRESS(COLUMN()+10,2)))","v":"Page 150"}]
[null,"Cells highlighted in tan indicate that the criteria are technically met with caveats or recommendations.",null,null,{"$f":"IF(INDIRECT(\"'Statistics'!\" & ADDRESS(COLUMN()+10,3))=\"\",\"\",INDIRECT(\"'Statistics'!\" & ADDRESS(COLUMN()+10,3)))","v":" https://wwwtest.london.gov.uk/team-london/"},{"$f":"IF(INDIRECT(\"'Statistics'!\" & ADDRESS(COLUMN()+10,3))=\"\",\"\",INDIRECT(\"'Statistics'!\" & ADDRESS(COLUMN()+10,3)))","v":" https://wwwtest.london.gov.uk/team-london/"},{"$f":"IF(INDIRECT(\"'Statistics'!\" & ADDRESS(COLUMN()+10,3))=\"\",\"\",INDIRECT(\"'Statistics'!\" & ADDRESS(COLUMN()+10,3)))","v":"https://wwwtest.london.gov.uk/team-london/"},{"$f":"IF(INDIRECT(\"'Statistics'!\" & ADDRESS(COLUMN()+10,3))=\"\",\"\",INDIRECT(\"'Statistics'!\" & ADDRESS(COLUMN()+10,3)))","v":"https://wwwtest.london.gov.uk/team-london/search-opportunities?search_api_fulltext=&latlng%5Bvalue%5D=&latlng%5Bdistance%5D%5Bfrom%5D=100000"},{"$f":"IF(INDIRECT(\"'Statistics'!\" & ADDRESS(COLUMN()+10,3))=\"\",\"\",INDIRECT(\"'Statistics'!\" & ADDRESS(COLUMN()+10,3)))","v":"https://wwwtest.london.gov.uk/team-london/one-to-one-sports-and-games-coach-for-children-with-disabilities"},{"$f":"IF(INDIRECT(\"'Statistics'!\" & ADDRESS(COLUMN()+10,3))=\"\",\"\",INDIRECT(\"'Statistics'!\" & ADDRESS(COLUMN()+10,3)))","v":"https://wwwtest.london.gov.uk/team-london/find-volunteers"},{"$f":"IF(INDIRECT(\"'Statistics'!\" & ADDRESS(COLUMN()+10,3))=\"\",\"\",INDIRECT(\"'Statistics'!\" & ADDRESS(COLUMN()+10,3)))","v":"URL 7"},{"$f":"IF(INDIRECT(\"'Statistics'!\" & ADDRESS(COLUMN()+10,3))=\"\",\"\",INDIRECT(\"'Statistics'!\" & ADDRESS(COLUMN()+10,3)))","v":"URL 8"},{"$f":"IF(INDIRECT(\"'Statistics'!\" & ADDRESS(COLUMN()+10,3))=\"\",\"\",INDIRECT(\"'Statistics'!\" & ADDRESS(COLUMN()+10,3)))","v":"URL 9"},{"$f":"IF(INDIRECT(\"'Statistics'!\" & ADDRESS(COLUMN()+10,3))=\"\",\"\",INDIRECT(\"'Statistics'!\" & ADDRESS(COLUMN()+10,3)))","v":"URL 10"},{"$f":"IF(INDIRECT(\"'Statistics'!\" & ADDRESS(COLUMN()+10,3))=\"\",\"\",INDIRECT(\"'Statistics'!\" & ADDRESS(COLUMN()+10,3)))","v":"URL 11"},{"$f":"IF(INDIRECT(\"'Statistics'!\" & ADDRESS(COLUMN()+10,3))=\"\",\"\",INDIRECT(\"'Statistics'!\" & ADDRESS(COLUMN()+10,3)))","v":"URL 12"},{"$f":"IF(INDIRECT(\"'Statistics'!\" & ADDRESS(COLUMN()+10,3))=\"\",\"\",INDIRECT(\"'Statistics'!\" & ADDRESS(COLUMN()+10,3)))","v":"URL 13"},{"$f":"IF(INDIRECT(\"'Statistics'!\" & ADDRESS(COLUMN()+10,3))=\"\",\"\",INDIRECT(\"'Statistics'!\" & ADDRESS(COLUMN()+10,3)))","v":"URL 14"},{"$f":"IF(INDIRECT(\"'Statistics'!\" & ADDRESS(COLUMN()+10,3))=\"\",\"\",INDIRECT(\"'Statistics'!\" & ADDRESS(COLUMN()+10,3)))","v":"URL 15"},{"$f":"IF(INDIRECT(\"'Statistics'!\" & ADDRESS(COLUMN()+10,3))=\"\",\"\",INDIRECT(\"'Statistics'!\" & ADDRESS(COLUMN()+10,3)))","v":"URL 16"},{"$f":"IF(INDIRECT(\"'Statistics'!\" & ADDRESS(COLUMN()+10,3))=\"\",\"\",INDIRECT(\"'Statistics'!\" & ADDRESS(COLUMN()+10,3)))","v":"URL 17"},{"$f":"IF(INDIRECT(\"'Statistics'!\" & ADDRESS(COLUMN()+10,3))=\"\",\"\",INDIRECT(\"'Statistics'!\" & ADDRESS(COLUMN()+10,3)))","v":"URL 18"},{"$f":"IF(INDIRECT(\"'Statistics'!\" & ADDRESS(COLUMN()+10,3))=\"\",\"\",INDIRECT(\"'Statistics'!\" & ADDRESS(COLUMN()+10,3)))","v":"URL 19"},{"$f":"IF(INDIRECT(\"'Statistics'!\" & ADDRESS(COLUMN()+10,3))=\"\",\"\",INDIRECT(\"'Statistics'!\" & ADDRESS(COLUMN()+10,3)))","v":"URL 20"},{"$f":"IF(INDIRECT(\"'Statistics'!\" & ADDRESS(COLUMN()+10,3))=\"\",\"\",INDIRECT(\"'Statistics'!\" & ADDRESS(COLUMN()+10,3)))","v":"URL 21"},{"$f":"IF(INDIRECT(\"'Statistics'!\" & ADDRESS(COLUMN()+10,3))=\"\",\"\",INDIRECT(\"'Statistics'!\" & ADDRESS(COLUMN()+10,3)))","v":"URL 22"},{"$f":"IF(INDIRECT(\"'Statistics'!\" & ADDRESS(COLUMN()+10,3))=\"\",\"\",INDIRECT(\"'Statistics'!\" & ADDRESS(COLUMN()+10,3)))","v":"URL 23"},{"$f":"IF(INDIRECT(\"'Statistics'!\" & ADDRESS(COLUMN()+10,3))=\"\",\"\",INDIRECT(\"'Statistics'!\" & ADDRESS(COLUMN()+10,3)))","v":"URL 24"},{"$f":"IF(INDIRECT(\"'Statistics'!\" & ADDRESS(COLUMN()+10,3))=\"\",\"\",INDIRECT(\"'Statistics'!\" & ADDRESS(COLUMN()+10,3)))","v":"URL 25"},{"$f":"IF(INDIRECT(\"'Statistics'!\" & ADDRESS(COLUMN()+10,3))=\"\",\"\",INDIRECT(\"'Statistics'!\" & ADDRESS(COLUMN()+10,3)))","v":"URL 26"},{"$f":"IF(INDIRECT(\"'Statistics'!\" & ADDRESS(COLUMN()+10,3))=\"\",\"\",INDIRECT(\"'Statistics'!\" & ADDRESS(COLUMN()+10,3)))","v":"URL 27"},{"$f":"IF(INDIRECT(\"'Statistics'!\" & ADDRESS(COLUMN()+10,3))=\"\",\"\",INDIRECT(\"'Statistics'!\" & ADDRESS(COLUMN()+10,3)))","v":"URL 28"},{"$f":"IF(INDIRECT(\"'Statistics'!\" & ADDRESS(COLUMN()+10,3))=\"\",\"\",INDIRECT(\"'Statistics'!\" & ADDRESS(COLUMN()+10,3)))","v":"URL 29"},{"$f":"IF(INDIRECT(\"'Statistics'!\" & ADDRESS(COLUMN()+10,3))=\"\",\"\",INDIRECT(\"'Statistics'!\" & ADDRESS(COLUMN()+10,3)))","v":"URL 30"},{"$f":"IF(INDIRECT(\"'Statistics'!\" & ADDRESS(COLUMN()+10,3))=\"\",\"\",INDIRECT(\"'Statistics'!\" & ADDRESS(COLUMN()+10,3)))","v":"URL 31"},{"$f":"IF(INDIRECT(\"'Statistics'!\" & ADDRESS(COLUMN()+10,3))=\"\",\"\",INDIRECT(\"'Statistics'!\" & ADDRESS(COLUMN()+10,3)))","v":"URL 32"},{"$f":"IF(INDIRECT(\"'Statistics'!\" & ADDRESS(COLUMN()+10,3))=\"\",\"\",INDIRECT(\"'Statistics'!\" & ADDRESS(COLUMN()+10,3)))","v":"URL 33"},{"$f":"IF(INDIRECT(\"'Statistics'!\" & ADDRESS(COLUMN()+10,3))=\"\",\"\",INDIRECT(\"'Statistics'!\" & ADDRESS(COLUMN()+10,3)))","v":"URL 34"},{"$f":"IF(INDIRECT(\"'Statistics'!\" & ADDRESS(COLUMN()+10,3))=\"\",\"\",INDIRECT(\"'Statistics'!\" & ADDRESS(COLUMN()+10,3)))","v":"URL 35"},{"$f":"IF(INDIRECT(\"'Statistics'!\" & ADDRESS(COLUMN()+10,3))=\"\",\"\",INDIRECT(\"'Statistics'!\" & ADDRESS(COLUMN()+10,3)))","v":"URL 36"},{"$f":"IF(INDIRECT(\"'Statistics'!\" & ADDRESS(COLUMN()+10,3))=\"\",\"\",INDIRECT(\"'Statistics'!\" & ADDRESS(COLUMN()+10,3)))","v":"URL 37"},{"$f":"IF(INDIRECT(\"'Statistics'!\" & ADDRESS(COLUMN()+10,3))=\"\",\"\",INDIRECT(\"'Statistics'!\" & ADDRESS(COLUMN()+10,3)))","v":"URL 38"},{"$f":"IF(INDIRECT(\"'Statistics'!\" & ADDRESS(COLUMN()+10,3))=\"\",\"\",INDIRECT(\"'Statistics'!\" & ADDRESS(COLUMN()+10,3)))","v":"URL 39"},{"$f":"IF(INDIRECT(\"'Statistics'!\" & ADDRESS(COLUMN()+10,3))=\"\",\"\",INDIRECT(\"'Statistics'!\" & ADDRESS(COLUMN()+10,3)))","v":"URL 40"},{"$f":"IF(INDIRECT(\"'Statistics'!\" & ADDRESS(COLUMN()+10,3))=\"\",\"\",INDIRECT(\"'Statistics'!\" & ADDRESS(COLUMN()+10,3)))","v":"URL 41"},{"$f":"IF(INDIRECT(\"'Statistics'!\" & ADDRESS(COLUMN()+10,3))=\"\",\"\",INDIRECT(\"'Statistics'!\" & ADDRESS(COLUMN()+10,3)))","v":"URL 42"},{"$f":"IF(INDIRECT(\"'Statistics'!\" & ADDRESS(COLUMN()+10,3))=\"\",\"\",INDIRECT(\"'Statistics'!\" & ADDRESS(COLUMN()+10,3)))","v":"URL 43"},{"$f":"IF(INDIRECT(\"'Statistics'!\" & ADDRESS(COLUMN()+10,3))=\"\",\"\",INDIRECT(\"'Statistics'!\" & ADDRESS(COLUMN()+10,3)))","v":"URL 44"},{"$f":"IF(INDIRECT(\"'Statistics'!\" & ADDRESS(COLUMN()+10,3))=\"\",\"\",INDIRECT(\"'Statistics'!\" & ADDRESS(COLUMN()+10,3)))","v":"URL 45"},{"$f":"IF(INDIRECT(\"'Statistics'!\" & ADDRESS(COLUMN()+10,3))=\"\",\"\",INDIRECT(\"'Statistics'!\" & ADDRESS(COLUMN()+10,3)))","v":"URL 46"},{"$f":"IF(INDIRECT(\"'Statistics'!\" & ADDRESS(COLUMN()+10,3))=\"\",\"\",INDIRECT(\"'Statistics'!\" & ADDRESS(COLUMN()+10,3)))","v":"URL 47"},{"$f":"IF(INDIRECT(\"'Statistics'!\" & ADDRESS(COLUMN()+10,3))=\"\",\"\",INDIRECT(\"'Statistics'!\" & ADDRESS(COLUMN()+10,3)))","v":"URL 48"},{"$f":"IF(INDIRECT(\"'Statistics'!\" & ADDRESS(COLUMN()+10,3))=\"\",\"\",INDIRECT(\"'Statistics'!\" & ADDRESS(COLUMN()+10,3)))","v":"URL 49"},{"$f":"IF(INDIRECT(\"'Statistics'!\" & ADDRESS(COLUMN()+10,3))=\"\",\"\",INDIRECT(\"'Statistics'!\" & ADDRESS(COLUMN()+10,3)))","v":"URL 50"},{"$f":"IF(INDIRECT(\"'Statistics'!\" & ADDRESS(COLUMN()+10,3))=\"\",\"\",INDIRECT(\"'Statistics'!\" & ADDRESS(COLUMN()+10,3)))","v":"URL 51"},{"$f":"IF(INDIRECT(\"'Statistics'!\" & ADDRESS(COLUMN()+10,3))=\"\",\"\",INDIRECT(\"'Statistics'!\" & ADDRESS(COLUMN()+10,3)))","v":"URL 52"},{"$f":"IF(INDIRECT(\"'Statistics'!\" & ADDRESS(COLUMN()+10,3))=\"\",\"\",INDIRECT(\"'Statistics'!\" & ADDRESS(COLUMN()+10,3)))","v":"URL 53"},{"$f":"IF(INDIRECT(\"'Statistics'!\" & ADDRESS(COLUMN()+10,3))=\"\",\"\",INDIRECT(\"'Statistics'!\" & ADDRESS(COLUMN()+10,3)))","v":"URL 54"},{"$f":"IF(INDIRECT(\"'Statistics'!\" & ADDRESS(COLUMN()+10,3))=\"\",\"\",INDIRECT(\"'Statistics'!\" & ADDRESS(COLUMN()+10,3)))","v":"URL 55"},{"$f":"IF(INDIRECT(\"'Statistics'!\" & ADDRESS(COLUMN()+10,3))=\"\",\"\",INDIRECT(\"'Statistics'!\" & ADDRESS(COLUMN()+10,3)))","v":"URL 56"},{"$f":"IF(INDIRECT(\"'Statistics'!\" & ADDRESS(COLUMN()+10,3))=\"\",\"\",INDIRECT(\"'Statistics'!\" & ADDRESS(COLUMN()+10,3)))","v":"URL 57"},{"$f":"IF(INDIRECT(\"'Statistics'!\" & ADDRESS(COLUMN()+10,3))=\"\",\"\",INDIRECT(\"'Statistics'!\" & ADDRESS(COLUMN()+10,3)))","v":"URL 58"},{"$f":"IF(INDIRECT(\"'Statistics'!\" & ADDRESS(COLUMN()+10,3))=\"\",\"\",INDIRECT(\"'Statistics'!\" & ADDRESS(COLUMN()+10,3)))","v":"URL 59"},{"$f":"IF(INDIRECT(\"'Statistics'!\" & ADDRESS(COLUMN()+10,3))=\"\",\"\",INDIRECT(\"'Statistics'!\" & ADDRESS(COLUMN()+10,3)))","v":"URL 60"},{"$f":"IF(INDIRECT(\"'Statistics'!\" & ADDRESS(COLUMN()+10,3))=\"\",\"\",INDIRECT(\"'Statistics'!\" & ADDRESS(COLUMN()+10,3)))","v":"URL 61"},{"$f":"IF(INDIRECT(\"'Statistics'!\" & ADDRESS(COLUMN()+10,3))=\"\",\"\",INDIRECT(\"'Statistics'!\" & ADDRESS(COLUMN()+10,3)))","v":"URL 62"},{"$f":"IF(INDIRECT(\"'Statistics'!\" & ADDRESS(COLUMN()+10,3))=\"\",\"\",INDIRECT(\"'Statistics'!\" & ADDRESS(COLUMN()+10,3)))","v":"URL 63"},{"$f":"IF(INDIRECT(\"'Statistics'!\" & ADDRESS(COLUMN()+10,3))=\"\",\"\",INDIRECT(\"'Statistics'!\" & ADDRESS(COLUMN()+10,3)))","v":"URL 64"},{"$f":"IF(INDIRECT(\"'Statistics'!\" & ADDRESS(COLUMN()+10,3))=\"\",\"\",INDIRECT(\"'Statistics'!\" & ADDRESS(COLUMN()+10,3)))","v":"URL 65"},{"$f":"IF(INDIRECT(\"'Statistics'!\" & ADDRESS(COLUMN()+10,3))=\"\",\"\",INDIRECT(\"'Statistics'!\" & ADDRESS(COLUMN()+10,3)))","v":"URL 66"},{"$f":"IF(INDIRECT(\"'Statistics'!\" & ADDRESS(COLUMN()+10,3))=\"\",\"\",INDIRECT(\"'Statistics'!\" & ADDRESS(COLUMN()+10,3)))","v":"URL 67"},{"$f":"IF(INDIRECT(\"'Statistics'!\" & ADDRESS(COLUMN()+10,3))=\"\",\"\",INDIRECT(\"'Statistics'!\" & ADDRESS(COLUMN()+10,3)))","v":"URL 68"},{"$f":"IF(INDIRECT(\"'Statistics'!\" & ADDRESS(COLUMN()+10,3))=\"\",\"\",INDIRECT(\"'Statistics'!\" & ADDRESS(COLUMN()+10,3)))","v":"URL 69"},{"$f":"IF(INDIRECT(\"'Statistics'!\" & ADDRESS(COLUMN()+10,3))=\"\",\"\",INDIRECT(\"'Statistics'!\" & ADDRESS(COLUMN()+10,3)))","v":"URL 70"},{"$f":"IF(INDIRECT(\"'Statistics'!\" & ADDRESS(COLUMN()+10,3))=\"\",\"\",INDIRECT(\"'Statistics'!\" & ADDRESS(COLUMN()+10,3)))","v":"URL 71"},{"$f":"IF(INDIRECT(\"'Statistics'!\" & ADDRESS(COLUMN()+10,3))=\"\",\"\",INDIRECT(\"'Statistics'!\" & ADDRESS(COLUMN()+10,3)))","v":"URL 72"},{"$f":"IF(INDIRECT(\"'Statistics'!\" & ADDRESS(COLUMN()+10,3))=\"\",\"\",INDIRECT(\"'Statistics'!\" & ADDRESS(COLUMN()+10,3)))","v":"URL 73"},{"$f":"IF(INDIRECT(\"'Statistics'!\" & ADDRESS(COLUMN()+10,3))=\"\",\"\",INDIRECT(\"'Statistics'!\" & ADDRESS(COLUMN()+10,3)))","v":"URL 74"},{"$f":"IF(INDIRECT(\"'Statistics'!\" & ADDRESS(COLUMN()+10,3))=\"\",\"\",INDIRECT(\"'Statistics'!\" & ADDRESS(COLUMN()+10,3)))","v":"URL 75"},{"$f":"IF(INDIRECT(\"'Statistics'!\" & ADDRESS(COLUMN()+10,3))=\"\",\"\",INDIRECT(\"'Statistics'!\" & ADDRESS(COLUMN()+10,3)))","v":"URL 76"},{"$f":"IF(INDIRECT(\"'Statistics'!\" & ADDRESS(COLUMN()+10,3))=\"\",\"\",INDIRECT(\"'Statistics'!\" & ADDRESS(COLUMN()+10,3)))","v":"URL 77"},{"$f":"IF(INDIRECT(\"'Statistics'!\" & ADDRESS(COLUMN()+10,3))=\"\",\"\",INDIRECT(\"'Statistics'!\" & ADDRESS(COLUMN()+10,3)))","v":"URL 78"},{"$f":"IF(INDIRECT(\"'Statistics'!\" & ADDRESS(COLUMN()+10,3))=\"\",\"\",INDIRECT(\"'Statistics'!\" & ADDRESS(COLUMN()+10,3)))","v":"URL 79"},{"$f":"IF(INDIRECT(\"'Statistics'!\" & ADDRESS(COLUMN()+10,3))=\"\",\"\",INDIRECT(\"'Statistics'!\" & ADDRESS(COLUMN()+10,3)))","v":"URL 80"},{"$f":"IF(INDIRECT(\"'Statistics'!\" & ADDRESS(COLUMN()+10,3))=\"\",\"\",INDIRECT(\"'Statistics'!\" & ADDRESS(COLUMN()+10,3)))","v":"URL 81"},{"$f":"IF(INDIRECT(\"'Statistics'!\" & ADDRESS(COLUMN()+10,3))=\"\",\"\",INDIRECT(\"'Statistics'!\" & ADDRESS(COLUMN()+10,3)))","v":"URL 82"},{"$f":"IF(INDIRECT(\"'Statistics'!\" & ADDRESS(COLUMN()+10,3))=\"\",\"\",INDIRECT(\"'Statistics'!\" & ADDRESS(COLUMN()+10,3)))","v":"URL 83"},{"$f":"IF(INDIRECT(\"'Statistics'!\" & ADDRESS(COLUMN()+10,3))=\"\",\"\",INDIRECT(\"'Statistics'!\" & ADDRESS(COLUMN()+10,3)))","v":"URL 84"},{"$f":"IF(INDIRECT(\"'Statistics'!\" & ADDRESS(COLUMN()+10,3))=\"\",\"\",INDIRECT(\"'Statistics'!\" & ADDRESS(COLUMN()+10,3)))","v":"URL 85"},{"$f":"IF(INDIRECT(\"'Statistics'!\" & ADDRESS(COLUMN()+10,3))=\"\",\"\",INDIRECT(\"'Statistics'!\" & ADDRESS(COLUMN()+10,3)))","v":"URL 86"},{"$f":"IF(INDIRECT(\"'Statistics'!\" & ADDRESS(COLUMN()+10,3))=\"\",\"\",INDIRECT(\"'Statistics'!\" & ADDRESS(COLUMN()+10,3)))","v":"URL 87"},{"$f":"IF(INDIRECT(\"'Statistics'!\" & ADDRESS(COLUMN()+10,3))=\"\",\"\",INDIRECT(\"'Statistics'!\" & ADDRESS(COLUMN()+10,3)))","v":"URL 88"},{"$f":"IF(INDIRECT(\"'Statistics'!\" & ADDRESS(COLUMN()+10,3))=\"\",\"\",INDIRECT(\"'Statistics'!\" & ADDRESS(COLUMN()+10,3)))","v":"URL 89"},{"$f":"IF(INDIRECT(\"'Statistics'!\" & ADDRESS(COLUMN()+10,3))=\"\",\"\",INDIRECT(\"'Statistics'!\" & ADDRESS(COLUMN()+10,3)))","v":"URL 90"},{"$f":"IF(INDIRECT(\"'Statistics'!\" & ADDRESS(COLUMN()+10,3))=\"\",\"\",INDIRECT(\"'Statistics'!\" & ADDRESS(COLUMN()+10,3)))","v":"URL 91"},{"$f":"IF(INDIRECT(\"'Statistics'!\" & ADDRESS(COLUMN()+10,3))=\"\",\"\",INDIRECT(\"'Statistics'!\" & ADDRESS(COLUMN()+10,3)))","v":"URL 92"},{"$f":"IF(INDIRECT(\"'Statistics'!\" & ADDRESS(COLUMN()+10,3))=\"\",\"\",INDIRECT(\"'Statistics'!\" & ADDRESS(COLUMN()+10,3)))","v":"URL 93"},{"$f":"IF(INDIRECT(\"'Statistics'!\" & ADDRESS(COLUMN()+10,3))=\"\",\"\",INDIRECT(\"'Statistics'!\" & ADDRESS(COLUMN()+10,3)))","v":"URL 94"},{"$f":"IF(INDIRECT(\"'Statistics'!\" & ADDRESS(COLUMN()+10,3))=\"\",\"\",INDIRECT(\"'Statistics'!\" & ADDRESS(COLUMN()+10,3)))","v":"URL 95"},{"$f":"IF(INDIRECT(\"'Statistics'!\" & ADDRESS(COLUMN()+10,3))=\"\",\"\",INDIRECT(\"'Statistics'!\" & ADDRESS(COLUMN()+10,3)))","v":"URL 96"},{"$f":"IF(INDIRECT(\"'Statistics'!\" & ADDRESS(COLUMN()+10,3))=\"\",\"\",INDIRECT(\"'Statistics'!\" & ADDRESS(COLUMN()+10,3)))","v":"URL 97"},{"$f":"IF(INDIRECT(\"'Statistics'!\" & ADDRESS(COLUMN()+10,3))=\"\",\"\",INDIRECT(\"'Statistics'!\" & ADDRESS(COLUMN()+10,3)))","v":"URL 98"},{"$f":"IF(INDIRECT(\"'Statistics'!\" & ADDRESS(COLUMN()+10,3))=\"\",\"\",INDIRECT(\"'Statistics'!\" & ADDRESS(COLUMN()+10,3)))","v":"URL 99"},{"$f":"IF(INDIRECT(\"'Statistics'!\" & ADDRESS(COLUMN()+10,3))=\"\",\"\",INDIRECT(\"'Statistics'!\" & ADDRESS(COLUMN()+10,3)))","v":"URL 100"},{"$f":"IF(INDIRECT(\"'Statistics'!\" & ADDRESS(COLUMN()+10,3))=\"\",\"\",INDIRECT(\"'Statistics'!\" & ADDRESS(COLUMN()+10,3)))","v":"URL 101"},{"$f":"IF(INDIRECT(\"'Statistics'!\" & ADDRESS(COLUMN()+10,3))=\"\",\"\",INDIRECT(\"'Statistics'!\" & ADDRESS(COLUMN()+10,3)))","v":"URL 102"},{"$f":"IF(INDIRECT(\"'Statistics'!\" & ADDRESS(COLUMN()+10,3))=\"\",\"\",INDIRECT(\"'Statistics'!\" & ADDRESS(COLUMN()+10,3)))","v":"URL 103"},{"$f":"IF(INDIRECT(\"'Statistics'!\" & ADDRESS(COLUMN()+10,3))=\"\",\"\",INDIRECT(\"'Statistics'!\" & ADDRESS(COLUMN()+10,3)))","v":"URL 104"},{"$f":"IF(INDIRECT(\"'Statistics'!\" & ADDRESS(COLUMN()+10,3))=\"\",\"\",INDIRECT(\"'Statistics'!\" & ADDRESS(COLUMN()+10,3)))","v":"URL 105"},{"$f":"IF(INDIRECT(\"'Statistics'!\" & ADDRESS(COLUMN()+10,3))=\"\",\"\",INDIRECT(\"'Statistics'!\" & ADDRESS(COLUMN()+10,3)))","v":"URL 106"},{"$f":"IF(INDIRECT(\"'Statistics'!\" & ADDRESS(COLUMN()+10,3))=\"\",\"\",INDIRECT(\"'Statistics'!\" & ADDRESS(COLUMN()+10,3)))","v":"URL 107"},{"$f":"IF(INDIRECT(\"'Statistics'!\" & ADDRESS(COLUMN()+10,3))=\"\",\"\",INDIRECT(\"'Statistics'!\" & ADDRESS(COLUMN()+10,3)))","v":"URL 108"},{"$f":"IF(INDIRECT(\"'Statistics'!\" & ADDRESS(COLUMN()+10,3))=\"\",\"\",INDIRECT(\"'Statistics'!\" & ADDRESS(COLUMN()+10,3)))","v":"URL 109"},{"$f":"IF(INDIRECT(\"'Statistics'!\" & ADDRESS(COLUMN()+10,3))=\"\",\"\",INDIRECT(\"'Statistics'!\" & ADDRESS(COLUMN()+10,3)))","v":"URL 110"},{"$f":"IF(INDIRECT(\"'Statistics'!\" & ADDRESS(COLUMN()+10,3))=\"\",\"\",INDIRECT(\"'Statistics'!\" & ADDRESS(COLUMN()+10,3)))","v":"URL 111"},{"$f":"IF(INDIRECT(\"'Statistics'!\" & ADDRESS(COLUMN()+10,3))=\"\",\"\",INDIRECT(\"'Statistics'!\" & ADDRESS(COLUMN()+10,3)))","v":"URL 112"},{"$f":"IF(INDIRECT(\"'Statistics'!\" & ADDRESS(COLUMN()+10,3))=\"\",\"\",INDIRECT(\"'Statistics'!\" & ADDRESS(COLUMN()+10,3)))","v":"URL 113"},{"$f":"IF(INDIRECT(\"'Statistics'!\" & ADDRESS(COLUMN()+10,3))=\"\",\"\",INDIRECT(\"'Statistics'!\" & ADDRESS(COLUMN()+10,3)))","v":"URL 114"},{"$f":"IF(INDIRECT(\"'Statistics'!\" & ADDRESS(COLUMN()+10,3))=\"\",\"\",INDIRECT(\"'Statistics'!\" & ADDRESS(COLUMN()+10,3)))","v":"URL 115"},{"$f":"IF(INDIRECT(\"'Statistics'!\" & ADDRESS(COLUMN()+10,3))=\"\",\"\",INDIRECT(\"'Statistics'!\" & ADDRESS(COLUMN()+10,3)))","v":"URL 116"},{"$f":"IF(INDIRECT(\"'Statistics'!\" & ADDRESS(COLUMN()+10,3))=\"\",\"\",INDIRECT(\"'Statistics'!\" & ADDRESS(COLUMN()+10,3)))","v":"URL 117"},{"$f":"IF(INDIRECT(\"'Statistics'!\" & ADDRESS(COLUMN()+10,3))=\"\",\"\",INDIRECT(\"'Statistics'!\" & ADDRESS(COLUMN()+10,3)))","v":"URL 118"},{"$f":"IF(INDIRECT(\"'Statistics'!\" & ADDRESS(COLUMN()+10,3))=\"\",\"\",INDIRECT(\"'Statistics'!\" & ADDRESS(COLUMN()+10,3)))","v":"URL 119"},{"$f":"IF(INDIRECT(\"'Statistics'!\" & ADDRESS(COLUMN()+10,3))=\"\",\"\",INDIRECT(\"'Statistics'!\" & ADDRESS(COLUMN()+10,3)))","v":"URL 120"},{"$f":"IF(INDIRECT(\"'Statistics'!\" & ADDRESS(COLUMN()+10,3))=\"\",\"\",INDIRECT(\"'Statistics'!\" & ADDRESS(COLUMN()+10,3)))","v":"URL 121"},{"$f":"IF(INDIRECT(\"'Statistics'!\" & ADDRESS(COLUMN()+10,3))=\"\",\"\",INDIRECT(\"'Statistics'!\" & ADDRESS(COLUMN()+10,3)))","v":"URL 122"},{"$f":"IF(INDIRECT(\"'Statistics'!\" & ADDRESS(COLUMN()+10,3))=\"\",\"\",INDIRECT(\"'Statistics'!\" & ADDRESS(COLUMN()+10,3)))","v":"URL 123"},{"$f":"IF(INDIRECT(\"'Statistics'!\" & ADDRESS(COLUMN()+10,3))=\"\",\"\",INDIRECT(\"'Statistics'!\" & ADDRESS(COLUMN()+10,3)))","v":"URL 124"},{"$f":"IF(INDIRECT(\"'Statistics'!\" & ADDRESS(COLUMN()+10,3))=\"\",\"\",INDIRECT(\"'Statistics'!\" & ADDRESS(COLUMN()+10,3)))","v":"URL 125"},{"$f":"IF(INDIRECT(\"'Statistics'!\" & ADDRESS(COLUMN()+10,3))=\"\",\"\",INDIRECT(\"'Statistics'!\" & ADDRESS(COLUMN()+10,3)))","v":"URL 126"},{"$f":"IF(INDIRECT(\"'Statistics'!\" & ADDRESS(COLUMN()+10,3))=\"\",\"\",INDIRECT(\"'Statistics'!\" & ADDRESS(COLUMN()+10,3)))","v":"URL 127"},{"$f":"IF(INDIRECT(\"'Statistics'!\" & ADDRESS(COLUMN()+10,3))=\"\",\"\",INDIRECT(\"'Statistics'!\" & ADDRESS(COLUMN()+10,3)))","v":"URL 128"},{"$f":"IF(INDIRECT(\"'Statistics'!\" & ADDRESS(COLUMN()+10,3))=\"\",\"\",INDIRECT(\"'Statistics'!\" & ADDRESS(COLUMN()+10,3)))","v":"URL 129"},{"$f":"IF(INDIRECT(\"'Statistics'!\" & ADDRESS(COLUMN()+10,3))=\"\",\"\",INDIRECT(\"'Statistics'!\" & ADDRESS(COLUMN()+10,3)))","v":"URL 130"},{"$f":"IF(INDIRECT(\"'Statistics'!\" & ADDRESS(COLUMN()+10,3))=\"\",\"\",INDIRECT(\"'Statistics'!\" & ADDRESS(COLUMN()+10,3)))","v":"URL 131"},{"$f":"IF(INDIRECT(\"'Statistics'!\" & ADDRESS(COLUMN()+10,3))=\"\",\"\",INDIRECT(\"'Statistics'!\" & ADDRESS(COLUMN()+10,3)))","v":"URL 132"},{"$f":"IF(INDIRECT(\"'Statistics'!\" & ADDRESS(COLUMN()+10,3))=\"\",\"\",INDIRECT(\"'Statistics'!\" & ADDRESS(COLUMN()+10,3)))","v":"URL 133"},{"$f":"IF(INDIRECT(\"'Statistics'!\" & ADDRESS(COLUMN()+10,3))=\"\",\"\",INDIRECT(\"'Statistics'!\" & ADDRESS(COLUMN()+10,3)))","v":"URL 134"},{"$f":"IF(INDIRECT(\"'Statistics'!\" & ADDRESS(COLUMN()+10,3))=\"\",\"\",INDIRECT(\"'Statistics'!\" & ADDRESS(COLUMN()+10,3)))","v":"URL 135"},{"$f":"IF(INDIRECT(\"'Statistics'!\" & ADDRESS(COLUMN()+10,3))=\"\",\"\",INDIRECT(\"'Statistics'!\" & ADDRESS(COLUMN()+10,3)))","v":"URL 136"},{"$f":"IF(INDIRECT(\"'Statistics'!\" & ADDRESS(COLUMN()+10,3))=\"\",\"\",INDIRECT(\"'Statistics'!\" & ADDRESS(COLUMN()+10,3)))","v":"URL 137"},{"$f":"IF(INDIRECT(\"'Statistics'!\" & ADDRESS(COLUMN()+10,3))=\"\",\"\",INDIRECT(\"'Statistics'!\" & ADDRESS(COLUMN()+10,3)))","v":"URL 138"},{"$f":"IF(INDIRECT(\"'Statistics'!\" & ADDRESS(COLUMN()+10,3))=\"\",\"\",INDIRECT(\"'Statistics'!\" & ADDRESS(COLUMN()+10,3)))","v":"URL 139"},{"$f":"IF(INDIRECT(\"'Statistics'!\" & ADDRESS(COLUMN()+10,3))=\"\",\"\",INDIRECT(\"'Statistics'!\" & ADDRESS(COLUMN()+10,3)))","v":"URL 140"},{"$f":"IF(INDIRECT(\"'Statistics'!\" & ADDRESS(COLUMN()+10,3))=\"\",\"\",INDIRECT(\"'Statistics'!\" & ADDRESS(COLUMN()+10,3)))","v":"URL 141"},{"$f":"IF(INDIRECT(\"'Statistics'!\" & ADDRESS(COLUMN()+10,3))=\"\",\"\",INDIRECT(\"'Statistics'!\" & ADDRESS(COLUMN()+10,3)))","v":"URL 142"},{"$f":"IF(INDIRECT(\"'Statistics'!\" & ADDRESS(COLUMN()+10,3))=\"\",\"\",INDIRECT(\"'Statistics'!\" & ADDRESS(COLUMN()+10,3)))","v":"URL 143"},{"$f":"IF(INDIRECT(\"'Statistics'!\" & ADDRESS(COLUMN()+10,3))=\"\",\"\",INDIRECT(\"'Statistics'!\" & ADDRESS(COLUMN()+10,3)))","v":"URL 144"},{"$f":"IF(INDIRECT(\"'Statistics'!\" & ADDRESS(COLUMN()+10,3))=\"\",\"\",INDIRECT(\"'Statistics'!\" & ADDRESS(COLUMN()+10,3)))","v":"URL 145"},{"$f":"IF(INDIRECT(\"'Statistics'!\" & ADDRESS(COLUMN()+10,3))=\"\",\"\",INDIRECT(\"'Statistics'!\" & ADDRESS(COLUMN()+10,3)))","v":"URL 146"},{"$f":"IF(INDIRECT(\"'Statistics'!\" & ADDRESS(COLUMN()+10,3))=\"\",\"\",INDIRECT(\"'Statistics'!\" & ADDRESS(COLUMN()+10,3)))","v":"URL 147"},{"$f":"IF(INDIRECT(\"'Statistics'!\" & ADDRESS(COLUMN()+10,3))=\"\",\"\",INDIRECT(\"'Statistics'!\" & ADDRESS(COLUMN()+10,3)))","v":"URL 148"},{"$f":"IF(INDIRECT(\"'Statistics'!\" & ADDRESS(COLUMN()+10,3))=\"\",\"\",INDIRECT(\"'Statistics'!\" & ADDRESS(COLUMN()+10,3)))","v":"URL 149"},{"$f":"IF(INDIRECT(\"'Statistics'!\" & ADDRESS(COLUMN()+10,3))=\"\",\"\",INDIRECT(\"'Statistics'!\" & ADDRESS(COLUMN()+10,3)))","v":"URL 150"}]
[null,null,null,null,"Page #1","Page #2","Page #3","Page #4","Page #5","Page #6","Page #7","Page #8","Page #9","Page #10","Page #11","Page #12","Page #13","Page #14","Page #15","Page #16","Page #17","Page #18","Page #19","Page #20","Page #21","Page #22","Page #23","Page #24","Page #25","Page #26","Page #27","Page #28","Page #29","Page #30","Page #31","Page #32","Page #33","Page #34","Page #35","Page #36","Page #37","Page #38","Page #39","Page #40","Page #41","Page #42","Page #43","Page #44","Page #45","Page #46","Page #47","Page #48","Page #49","Page #50","Page #51","Page #52","Page #53","Page #54","Page #55","Page #56","Page #57","Page #58","Page #59","Page #60","Page #61","Page #62","Page #63","Page #64","Page #65","Page #66","Page #67","Page #68","Page #69","Page #70","Page #71","Page #72","Page #73","Page #74","Page #75","Page #76","Page #77","Page #78","Page #79","Page #80","Page #81","Page #82","Page #83","Page #84","Page #85","Page #86","Page #87","Page #88","Page #89","Page #90","Page #91","Page #92","Page #93","Page #94","Page #95","Page #96","Page #97","Page #98","Page #99","Page #100","Page #101","Page #102","Page #103","Page #104","Page #105","Page #106","Page #107","Page #108","Page #109","Page #110","Page #111","Page #112","Page #113","Page #114","Page #115","Page #116","Page #117","Page #118","Page #119","Page #120","Page #121","Page #122","Page #123","Page #124","Page #125","Page #126","Page #127","Page #128","Page #129","Page #130","Page #131","Page #132","Page #133","Page #134","Page #135","Page #136","Page #137","Page #138","Page #139","Page #140","Page #141","Page #142","Page #143","Page #144","Page #145","Page #146","Page #147","Page #148","Page #149","Page #150"]
[null,null,"Level A Success Criteria",null,"View screenshot","View screenshot","View screenshot","View screenshot","View screenshot","View screenshot","View screenshot","View screenshot","View screenshot","View screenshot","View screenshot","View screenshot","View screenshot","View screenshot","View screenshot","View screenshot","View screenshot","View screenshot","View screenshot","View screenshot","View screenshot","View screenshot","View screenshot","View screenshot","View screenshot","View screenshot","View screenshot","View screenshot","View screenshot","View screenshot","View screenshot","View screenshot","View screenshot","View screenshot","View screenshot","View screenshot","View screenshot","View screenshot","View screenshot","View screenshot","View screenshot","View screenshot","View screenshot","View screenshot","View screenshot","View screenshot","View screenshot","View screenshot","View screenshot","View screenshot"]
["W3C Ref.","Level.",null,"Principle 1: Perceivable - Information and user interface components must be presentable to users in ways they can perceive.",{"$f":"IF(Statistics!$S3=\"Yes\",COUNTIF(E8:E69,\"NON CONFORMANT\") & \" Level A Non-conformance\" & IF(COUNTIF(E8:E69,\"NON CONFORMANT\")=1,\"\",\"s\"),\"\") & IF(Statistics!$S4=\"Yes\",\"\n\" & COUNTIF(E74:E115,\"NON CONFORMANT\") & \" Level AA Non-conformance\" & IF(COUNTIF(E74:E115,\"NON CONFORMANT\")=1,\"\",\"s\"),\"\") & IF(Statistics!$S5=\"Yes\",\"\n\" & COUNTIF(E120:E174,\"NON CONFORMANT\") & \" Level AAA Non-conformance\" & IF(COUNTIF(E120:E174,\"NON CONFORMANT\")=1,\"\",\"s\"),\"\")","v":"1 Level A Non-conformance\n0 Level AA Non-conformances"},{"$f":"IF(Statistics!$S3=\"Yes\",COUNTIF(F8:F69,\"NON CONFORMANT\") & \" Level A Non-conformance\" & IF(COUNTIF(F8:F69,\"NON CONFORMANT\")=1,\"\",\"s\"),\"\") & IF(Statistics!$S4=\"Yes\",\"\n\" & COUNTIF(F74:F115,\"NON CONFORMANT\") & \" Level AA Non-conformance\" & IF(COUNTIF(F74:F115,\"NON CONFORMANT\")=1,\"\",\"s\"),\"\") & IF(Statistics!$S5=\"Yes\",\"\n\" & COUNTIF(F120:F174,\"NON CONFORMANT\") & \" Level AAA Non-conformance\" & IF(COUNTIF(F120:F174,\"NON CONFORMANT\")=1,\"\",\"s\"),\"\")","v":"1 Level A Non-conformance\n0 Level AA Non-conformances"},{"$f":"IF(Statistics!$S3=\"Yes\",COUNTIF(G8:G69,\"NON CONFORMANT\") & \" Level A Non-conformance\" & IF(COUNTIF(G8:G69,\"NON CONFORMANT\")=1,\"\",\"s\"),\"\") & IF(Statistics!$S4=\"Yes\",\"\n\" & COUNTIF(G74:G115,\"NON CONFORMANT\") & \" Level AA Non-conformance\" & IF(COUNTIF(G74:G115,\"NON CONFORMANT\")=1,\"\",\"s\"),\"\") & IF(Statistics!$S5=\"Yes\",\"\n\" & COUNTIF(G120:G174,\"NON CONFORMANT\") & \" Level AAA Non-conformance\" & IF(COUNTIF(G120:G174,\"NON CONFORMANT\")=1,\"\",\"s\"),\"\")","v":"2 Level A Non-conformances\n0 Level AA Non-conformances"},{"$f":"IF(Statistics!$S3=\"Yes\",COUNTIF(H8:H69,\"NON CONFORMANT\") & \" Level A Non-conformance\" & IF(COUNTIF(H8:H69,\"NON CONFORMANT\")=1,\"\",\"s\"),\"\") & IF(Statistics!$S4=\"Yes\",\"\n\" & COUNTIF(H74:H115,\"NON CONFORMANT\") & \" Level AA Non-conformance\" & IF(COUNTIF(H74:H115,\"NON CONFORMANT\")=1,\"\",\"s\"),\"\") & IF(Statistics!$S5=\"Yes\",\"\n\" & COUNTIF(H120:H174,\"NON CONFORMANT\") & \" Level AAA Non-conformance\" & IF(COUNTIF(H120:H174,\"NON CONFORMANT\")=1,\"\",\"s\"),\"\")","v":"3 Level A Non-conformances\n0 Level AA Non-conformances"},{"$f":"IF(Statistics!$S3=\"Yes\",COUNTIF(I8:I69,\"NON CONFORMANT\") & \" Level A Non-conformance\" & IF(COUNTIF(I8:I69,\"NON CONFORMANT\")=1,\"\",\"s\"),\"\") & IF(Statistics!$S4=\"Yes\",\"\n\" & COUNTIF(I74:I115,\"NON CONFORMANT\") & \" Level AA Non-conformance\" & IF(COUNTIF(I74:I115,\"NON CONFORMANT\")=1,\"\",\"s\"),\"\") & IF(Statistics!$S5=\"Yes\",\"\n\" & COUNTIF(I120:I174,\"NON CONFORMANT\") & \" Level AAA Non-conformance\" & IF(COUNTIF(I120:I174,\"NON CONFORMANT\")=1,\"\",\"s\"),\"\")","v":"1 Level A Non-conformance\n0 Level AA Non-conformances"},{"$f":"IF(Statistics!$S3=\"Yes\",COUNTIF(J8:J69,\"NON CONFORMANT\") & \" Level A Non-conformance\" & IF(COUNTIF(J8:J69,\"NON CONFORMANT\")=1,\"\",\"s\"),\"\") & IF(Statistics!$S4=\"Yes\",\"\n\" & COUNTIF(J74:J115,\"NON CONFORMANT\") & \" Level AA Non-conformance\" & IF(COUNTIF(J74:J115,\"NON CONFORMANT\")=1,\"\",\"s\"),\"\") & IF(Statistics!$S5=\"Yes\",\"\n\" & COUNTIF(J120:J174,\"NON CONFORMANT\") & \" Level AAA Non-conformance\" & IF(COUNTIF(J120:J174,\"NON CONFORMANT\")=1,\"\",\"s\"),\"\")","v":"1 Level A Non-conformance\n2 Level AA Non-conformances"},{"$f":"IF(Statistics!$S3=\"Yes\",COUNTIF(K8:K69,\"NON CONFORMANT\") & \" Level A Non-conformance\" & IF(COUNTIF(K8:K69,\"NON CONFORMANT\")=1,\"\",\"s\"),\"\") & IF(Statistics!$S4=\"Yes\",\"\n\" & COUNTIF(K74:K115,\"NON CONFORMANT\") & \" Level AA Non-conformance\" & IF(COUNTIF(K74:K115,\"NON CONFORMANT\")=1,\"\",\"s\"),\"\") & IF(Statistics!$S5=\"Yes\",\"\n\" & COUNTIF(K120:K174,\"NON CONFORMANT\") & \" Level AAA Non-conformance\" & IF(COUNTIF(K120:K174,\"NON CONFORMANT\")=1,\"\",\"s\"),\"\")","v":"0 Level A Non-conformances\n0 Level AA Non-conformances"},{"$f":"IF(Statistics!$S3=\"Yes\",COUNTIF(L8:L69,\"NON CONFORMANT\") & \" Level A Non-conformance\" & IF(COUNTIF(L8:L69,\"NON CONFORMANT\")=1,\"\",\"s\"),\"\") & IF(Statistics!$S4=\"Yes\",\"\n\" & COUNTIF(L74:L115,\"NON CONFORMANT\") & \" Level AA Non-conformance\" & IF(COUNTIF(L74:L115,\"NON CONFORMANT\")=1,\"\",\"s\"),\"\") & IF(Statistics!$S5=\"Yes\",\"\n\" & COUNTIF(L120:L174,\"NON CONFORMANT\") & \" Level AAA Non-conformance\" & IF(COUNTIF(L120:L174,\"NON CONFORMANT\")=1,\"\",\"s\"),\"\")","v":"0 Level A Non-conformances\n0 Level AA Non-conformances"},{"$f":"IF(Statistics!$S3=\"Yes\",COUNTIF(M8:M69,\"NON CONFORMANT\") & \" Level A Non-conformance\" & IF(COUNTIF(M8:M69,\"NON CONFORMANT\")=1,\"\",\"s\"),\"\") & IF(Statistics!$S4=\"Yes\",\"\n\" & COUNTIF(M74:M115,\"NON CONFORMANT\") & \" Level AA Non-conformance\" & IF(COUNTIF(M74:M115,\"NON CONFORMANT\")=1,\"\",\"s\"),\"\") & IF(Statistics!$S5=\"Yes\",\"\n\" & COUNTIF(M120:M174,\"NON CONFORMANT\") & \" Level AAA Non-conformance\" & IF(COUNTIF(M120:M174,\"NON CONFORMANT\")=1,\"\",\"s\"),\"\")","v":"0 Level A Non-conformances\n0 Level AA Non-conformances"},{"$f":"IF(Statistics!$S3=\"Yes\",COUNTIF(N8:N69,\"NON CONFORMANT\") & \" Level A Non-conformance\" & IF(COUNTIF(N8:N69,\"NON CONFORMANT\")=1,\"\",\"s\"),\"\") & IF(Statistics!$S4=\"Yes\",\"\n\" & COUNTIF(N74:N115,\"NON CONFORMANT\") & \" Level AA Non-conformance\" & IF(COUNTIF(N74:N115,\"NON CONFORMANT\")=1,\"\",\"s\"),\"\") & IF(Statistics!$S5=\"Yes\",\"\n\" & COUNTIF(N120:N174,\"NON CONFORMANT\") & \" Level AAA Non-conformance\" & IF(COUNTIF(N120:N174,\"NON CONFORMANT\")=1,\"\",\"s\"),\"\")","v":"0 Level A Non-conformances\n0 Level AA Non-conformances"},{"$f":"IF(Statistics!$S3=\"Yes\",COUNTIF(O8:O69,\"NON CONFORMANT\") & \" Level A Non-conformance\" & IF(COUNTIF(O8:O69,\"NON CONFORMANT\")=1,\"\",\"s\"),\"\") & IF(Statistics!$S4=\"Yes\",\"\n\" & COUNTIF(O74:O115,\"NON CONFORMANT\") & \" Level AA Non-conformance\" & IF(COUNTIF(O74:O115,\"NON CONFORMANT\")=1,\"\",\"s\"),\"\") & IF(Statistics!$S5=\"Yes\",\"\n\" & COUNTIF(O120:O174,\"NON CONFORMANT\") & \" Level AAA Non-conformance\" & IF(COUNTIF(O120:O174,\"NON CONFORMANT\")=1,\"\",\"s\"),\"\")","v":"0 Level A Non-conformances\n0 Level AA Non-conformances"},{"$f":"IF(Statistics!$S3=\"Yes\",COUNTIF(P8:P69,\"NON CONFORMANT\") & \" Level A Non-conformance\" & IF(COUNTIF(P8:P69,\"NON CONFORMANT\")=1,\"\",\"s\"),\"\") & IF(Statistics!$S4=\"Yes\",\"\n\" & COUNTIF(P74:P115,\"NON CONFORMANT\") & \" Level AA Non-conformance\" & IF(COUNTIF(P74:P115,\"NON CONFORMANT\")=1,\"\",\"s\"),\"\") & IF(Statistics!$S5=\"Yes\",\"\n\" & COUNTIF(P120:P174,\"NON CONFORMANT\") & \" Level AAA Non-conformance\" & IF(COUNTIF(P120:P174,\"NON CONFORMANT\")=1,\"\",\"s\"),\"\")","v":"0 Level A Non-conformances\n0 Level AA Non-conformances"},{"$f":"IF(Statistics!$S3=\"Yes\",COUNTIF(Q8:Q69,\"NON CONFORMANT\") & \" Level A Non-conformance\" & IF(COUNTIF(Q8:Q69,\"NON CONFORMANT\")=1,\"\",\"s\"),\"\") & IF(Statistics!$S4=\"Yes\",\"\n\" & COUNTIF(Q74:Q115,\"NON CONFORMANT\") & \" Level AA Non-conformance\" & IF(COUNTIF(Q74:Q115,\"NON CONFORMANT\")=1,\"\",\"s\"),\"\") & IF(Statistics!$S5=\"Yes\",\"\n\" & COUNTIF(Q120:Q174,\"NON CONFORMANT\") & \" Level AAA Non-conformance\" & IF(COUNTIF(Q120:Q174,\"NON CONFORMANT\")=1,\"\",\"s\"),\"\")","v":"0 Level A Non-conformances\n0 Level AA Non-conformances"},{"$f":"IF(Statistics!$S3=\"Yes\",COUNTIF(R8:R69,\"NON CONFORMANT\") & \" Level A Non-conformance\" & IF(COUNTIF(R8:R69,\"NON CONFORMANT\")=1,\"\",\"s\"),\"\") & IF(Statistics!$S4=\"Yes\",\"\n\" & COUNTIF(R74:R115,\"NON CONFORMANT\") & \" Level AA Non-conformance\" & IF(COUNTIF(R74:R115,\"NON CONFORMANT\")=1,\"\",\"s\"),\"\") & IF(Statistics!$S5=\"Yes\",\"\n\" & COUNTIF(R120:R174,\"NON CONFORMANT\") & \" Level AAA Non-conformance\" & IF(COUNTIF(R120:R174,\"NON CONFORMANT\")=1,\"\",\"s\"),\"\")","v":"0 Level A Non-conformances\n0 Level AA Non-conformances"},{"$f":"IF(Statistics!$S3=\"Yes\",COUNTIF(S8:S69,\"NON CONFORMANT\") & \" Level A Non-conformance\" & IF(COUNTIF(S8:S69,\"NON CONFORMANT\")=1,\"\",\"s\"),\"\") & IF(Statistics!$S4=\"Yes\",\"\n\" & COUNTIF(S74:S115,\"NON CONFORMANT\") & \" Level AA Non-conformance\" & IF(COUNTIF(S74:S115,\"NON CONFORMANT\")=1,\"\",\"s\"),\"\") & IF(Statistics!$S5=\"Yes\",\"\n\" & COUNTIF(S120:S174,\"NON CONFORMANT\") & \" Level AAA Non-conformance\" & IF(COUNTIF(S120:S174,\"NON CONFORMANT\")=1,\"\",\"s\"),\"\")","v":"0 Level A Non-conformances\n0 Level AA Non-conformances"},{"$f":"IF(Statistics!$S3=\"Yes\",COUNTIF(T8:T69,\"NON CONFORMANT\") & \" Level A Non-conformance\" & IF(COUNTIF(T8:T69,\"NON CONFORMANT\")=1,\"\",\"s\"),\"\") & IF(Statistics!$S4=\"Yes\",\"\n\" & COUNTIF(T74:T115,\"NON CONFORMANT\") & \" Level AA Non-conformance\" & IF(COUNTIF(T74:T115,\"NON CONFORMANT\")=1,\"\",\"s\"),\"\") & IF(Statistics!$S5=\"Yes\",\"\n\" & COUNTIF(T120:T174,\"NON CONFORMANT\") & \" Level AAA Non-conformance\" & IF(COUNTIF(T120:T174,\"NON CONFORMANT\")=1,\"\",\"s\"),\"\")","v":"0 Level A Non-conformances\n0 Level AA Non-conformances"},{"$f":"IF(Statistics!$S3=\"Yes\",COUNTIF(U8:U69,\"NON CONFORMANT\") & \" Level A Non-conformance\" & IF(COUNTIF(U8:U69,\"NON CONFORMANT\")=1,\"\",\"s\"),\"\") & IF(Statistics!$S4=\"Yes\",\"\n\" & COUNTIF(U74:U115,\"NON CONFORMANT\") & \" Level AA Non-conformance\" & IF(COUNTIF(U74:U115,\"NON CONFORMANT\")=1,\"\",\"s\"),\"\") & IF(Statistics!$S5=\"Yes\",\"\n\" & COUNTIF(U120:U174,\"NON CONFORMANT\") & \" Level AAA Non-conformance\" & IF(COUNTIF(U120:U174,\"NON CONFORMANT\")=1,\"\",\"s\"),\"\")","v":"0 Level A Non-conformances\n0 Level AA Non-conformances"},{"$f":"IF(Statistics!$S3=\"Yes\",COUNTIF(V8:V69,\"NON CONFORMANT\") & \" Level A Non-conformance\" & IF(COUNTIF(V8:V69,\"NON CONFORMANT\")=1,\"\",\"s\"),\"\") & IF(Statistics!$S4=\"Yes\",\"\n\" & COUNTIF(V74:V115,\"NON CONFORMANT\") & \" Level AA Non-conformance\" & IF(COUNTIF(V74:V115,\"NON CONFORMANT\")=1,\"\",\"s\"),\"\") & IF(Statistics!$S5=\"Yes\",\"\n\" & COUNTIF(V120:V174,\"NON CONFORMANT\") & \" Level AAA Non-conformance\" & IF(COUNTIF(V120:V174,\"NON CONFORMANT\")=1,\"\",\"s\"),\"\")","v":"0 Level A Non-conformances\n0 Level AA Non-conformances"},{"$f":"IF(Statistics!$S3=\"Yes\",COUNTIF(W8:W69,\"NON CONFORMANT\") & \" Level A Non-conformance\" & IF(COUNTIF(W8:W69,\"NON CONFORMANT\")=1,\"\",\"s\"),\"\") & IF(Statistics!$S4=\"Yes\",\"\n\" & COUNTIF(W74:W115,\"NON CONFORMANT\") & \" Level AA Non-conformance\" & IF(COUNTIF(W74:W115,\"NON CONFORMANT\")=1,\"\",\"s\"),\"\") & IF(Statistics!$S5=\"Yes\",\"\n\" & COUNTIF(W120:W174,\"NON CONFORMANT\") & \" Level AAA Non-conformance\" & IF(COUNTIF(W120:W174,\"NON CONFORMANT\")=1,\"\",\"s\"),\"\")","v":"0 Level A Non-conformances\n0 Level AA Non-conformances"},{"$f":"IF(Statistics!$S3=\"Yes\",COUNTIF(X8:X69,\"NON CONFORMANT\") & \" Level A Non-conformance\" & IF(COUNTIF(X8:X69,\"NON CONFORMANT\")=1,\"\",\"s\"),\"\") & IF(Statistics!$S4=\"Yes\",\"\n\" & COUNTIF(X74:X115,\"NON CONFORMANT\") & \" Level AA Non-conformance\" & IF(COUNTIF(X74:X115,\"NON CONFORMANT\")=1,\"\",\"s\"),\"\") & IF(Statistics!$S5=\"Yes\",\"\n\" & COUNTIF(X120:X174,\"NON CONFORMANT\") & \" Level AAA Non-conformance\" & IF(COUNTIF(X120:X174,\"NON CONFORMANT\")=1,\"\",\"s\"),\"\")","v":"0 Level A Non-conformances\n0 Level AA Non-conformances"},{"$f":"IF(Statistics!$S3=\"Yes\",COUNTIF(Y8:Y69,\"NON CONFORMANT\") & \" Level A Non-conformance\" & IF(COUNTIF(Y8:Y69,\"NON CONFORMANT\")=1,\"\",\"s\"),\"\") & IF(Statistics!$S4=\"Yes\",\"\n\" & COUNTIF(Y74:Y115,\"NON CONFORMANT\") & \" Level AA Non-conformance\" & IF(COUNTIF(Y74:Y115,\"NON CONFORMANT\")=1,\"\",\"s\"),\"\") & IF(Statistics!$S5=\"Yes\",\"\n\" & COUNTIF(Y120:Y174,\"NON CONFORMANT\") & \" Level AAA Non-conformance\" & IF(COUNTIF(Y120:Y174,\"NON CONFORMANT\")=1,\"\",\"s\"),\"\")","v":"0 Level A Non-conformances\n0 Level AA Non-conformances"},{"$f":"IF(Statistics!$S3=\"Yes\",COUNTIF(Z8:Z69,\"NON CONFORMANT\") & \" Level A Non-conformance\" & IF(COUNTIF(Z8:Z69,\"NON CONFORMANT\")=1,\"\",\"s\"),\"\") & IF(Statistics!$S4=\"Yes\",\"\n\" & COUNTIF(Z74:Z115,\"NON CONFORMANT\") & \" Level AA Non-conformance\" & IF(COUNTIF(Z74:Z115,\"NON CONFORMANT\")=1,\"\",\"s\"),\"\") & IF(Statistics!$S5=\"Yes\",\"\n\" & COUNTIF(Z120:Z174,\"NON CONFORMANT\") & \" Level AAA Non-conformance\" & IF(COUNTIF(Z120:Z174,\"NON CONFORMANT\")=1,\"\",\"s\"),\"\")","v":"0 Level A Non-conformances\n0 Level AA Non-conformances"},{"$f":"IF(Statistics!$S3=\"Yes\",COUNTIF(AA8:AA69,\"NON CONFORMANT\") & \" Level A Non-conformance\" & IF(COUNTIF(AA8:AA69,\"NON CONFORMANT\")=1,\"\",\"s\"),\"\") & IF(Statistics!$S4=\"Yes\",\"\n\" & COUNTIF(AA74:AA115,\"NON CONFORMANT\") & \" Level AA Non-conformance\" & IF(COUNTIF(AA74:AA115,\"NON CONFORMANT\")=1,\"\",\"s\"),\"\") & IF(Statistics!$S5=\"Yes\",\"\n\" & COUNTIF(AA120:AA174,\"NON CONFORMANT\") & \" Level AAA Non-conformance\" & IF(COUNTIF(AA120:AA174,\"NON CONFORMANT\")=1,\"\",\"s\"),\"\")","v":"0 Level A Non-conformances\n0 Level AA Non-conformances"},{"$f":"IF(Statistics!$S3=\"Yes\",COUNTIF(AB8:AB69,\"NON CONFORMANT\") & \" Level A Non-conformance\" & IF(COUNTIF(AB8:AB69,\"NON CONFORMANT\")=1,\"\",\"s\"),\"\") & IF(Statistics!$S4=\"Yes\",\"\n\" & COUNTIF(AB74:AB115,\"NON CONFORMANT\") & \" Level AA Non-conformance\" & IF(COUNTIF(AB74:AB115,\"NON CONFORMANT\")=1,\"\",\"s\"),\"\") & IF(Statistics!$S5=\"Yes\",\"\n\" & COUNTIF(AB120:AB174,\"NON CONFORMANT\") & \" Level AAA Non-conformance\" & IF(COUNTIF(AB120:AB174,\"NON CONFORMANT\")=1,\"\",\"s\"),\"\")","v":"0 Level A Non-conformances\n0 Level AA Non-conformances"},{"$f":"IF(Statistics!$S3=\"Yes\",COUNTIF(AC8:AC69,\"NON CONFORMANT\") & \" Level A Non-conformance\" & IF(COUNTIF(AC8:AC69,\"NON CONFORMANT\")=1,\"\",\"s\"),\"\") & IF(Statistics!$S4=\"Yes\",\"\n\" & COUNTIF(AC74:AC115,\"NON CONFORMANT\") & \" Level AA Non-conformance\" & IF(COUNTIF(AC74:AC115,\"NON CONFORMANT\")=1,\"\",\"s\"),\"\") & IF(Statistics!$S5=\"Yes\",\"\n\" & COUNTIF(AC120:AC174,\"NON CONFORMANT\") & \" Level AAA Non-conformance\" & IF(COUNTIF(AC120:AC174,\"NON CONFORMANT\")=1,\"\",\"s\"),\"\")","v":"0 Level A Non-conformances\n0 Level AA Non-conformances"},{"$f":"IF(Statistics!$S3=\"Yes\",COUNTIF(AD8:AD69,\"NON CONFORMANT\") & \" Level A Non-conformance\" & IF(COUNTIF(AD8:AD69,\"NON CONFORMANT\")=1,\"\",\"s\"),\"\") & IF(Statistics!$S4=\"Yes\",\"\n\" & COUNTIF(AD74:AD115,\"NON CONFORMANT\") & \" Level AA Non-conformance\" & IF(COUNTIF(AD74:AD115,\"NON CONFORMANT\")=1,\"\",\"s\"),\"\") & IF(Statistics!$S5=\"Yes\",\"\n\" & COUNTIF(AD120:AD174,\"NON CONFORMANT\") & \" Level AAA Non-conformance\" & IF(COUNTIF(AD120:AD174,\"NON CONFORMANT\")=1,\"\",\"s\"),\"\")","v":"0 Level A Non-conformances\n0 Level AA Non-conformances"},{"$f":"IF(Statistics!$S3=\"Yes\",COUNTIF(AE8:AE69,\"NON CONFORMANT\") & \" Level A Non-conformance\" & IF(COUNTIF(AE8:AE69,\"NON CONFORMANT\")=1,\"\",\"s\"),\"\") & IF(Statistics!$S4=\"Yes\",\"\n\" & COUNTIF(AE74:AE115,\"NON CONFORMANT\") & \" Level AA Non-conformance\" & IF(COUNTIF(AE74:AE115,\"NON CONFORMANT\")=1,\"\",\"s\"),\"\") & IF(Statistics!$S5=\"Yes\",\"\n\" & COUNTIF(AE120:AE174,\"NON CONFORMANT\") & \" Level AAA Non-conformance\" & IF(COUNTIF(AE120:AE174,\"NON CONFORMANT\")=1,\"\",\"s\"),\"\")","v":"0 Level A Non-conformances\n0 Level AA Non-conformances"},{"$f":"IF(Statistics!$S3=\"Yes\",COUNTIF(AF8:AF69,\"NON CONFORMANT\") & \" Level A Non-conformance\" & IF(COUNTIF(AF8:AF69,\"NON CONFORMANT\")=1,\"\",\"s\"),\"\") & IF(Statistics!$S4=\"Yes\",\"\n\" & COUNTIF(AF74:AF115,\"NON CONFORMANT\") & \" Level AA Non-conformance\" & IF(COUNTIF(AF74:AF115,\"NON CONFORMANT\")=1,\"\",\"s\"),\"\") & IF(Statistics!$S5=\"Yes\",\"\n\" & COUNTIF(AF120:AF174,\"NON CONFORMANT\") & \" Level AAA Non-conformance\" & IF(COUNTIF(AF120:AF174,\"NON CONFORMANT\")=1,\"\",\"s\"),\"\")","v":"0 Level A Non-conformances\n0 Level AA Non-conformances"},{"$f":"IF(Statistics!$S3=\"Yes\",COUNTIF(AG8:AG69,\"NON CONFORMANT\") & \" Level A Non-conformance\" & IF(COUNTIF(AG8:AG69,\"NON CONFORMANT\")=1,\"\",\"s\"),\"\") & IF(Statistics!$S4=\"Yes\",\"\n\" & COUNTIF(AG74:AG115,\"NON CONFORMANT\") & \" Level AA Non-conformance\" & IF(COUNTIF(AG74:AG115,\"NON CONFORMANT\")=1,\"\",\"s\"),\"\") & IF(Statistics!$S5=\"Yes\",\"\n\" & COUNTIF(AG120:AG174,\"NON CONFORMANT\") & \" Level AAA Non-conformance\" & IF(COUNTIF(AG120:AG174,\"NON CONFORMANT\")=1,\"\",\"s\"),\"\")","v":"0 Level A Non-conformances\n0 Level AA Non-conformances"},{"$f":"IF(Statistics!$S3=\"Yes\",COUNTIF(AH8:AH69,\"NON CONFORMANT\") & \" Level A Non-conformance\" & IF(COUNTIF(AH8:AH69,\"NON CONFORMANT\")=1,\"\",\"s\"),\"\") & IF(Statistics!$S4=\"Yes\",\"\n\" & COUNTIF(AH74:AH115,\"NON CONFORMANT\") & \" Level AA Non-conformance\" & IF(COUNTIF(AH74:AH115,\"NON CONFORMANT\")=1,\"\",\"s\"),\"\") & IF(Statistics!$S5=\"Yes\",\"\n\" & COUNTIF(AH120:AH174,\"NON CONFORMANT\") & \" Level AAA Non-conformance\" & IF(COUNTIF(AH120:AH174,\"NON CONFORMANT\")=1,\"\",\"s\"),\"\")","v":"0 Level A Non-conformances\n0 Level AA Non-conformances"},{"$f":"IF(Statistics!$S3=\"Yes\",COUNTIF(AI8:AI69,\"NON CONFORMANT\") & \" Level A Non-conformance\" & IF(COUNTIF(AI8:AI69,\"NON CONFORMANT\")=1,\"\",\"s\"),\"\") & IF(Statistics!$S4=\"Yes\",\"\n\" & COUNTIF(AI74:AI115,\"NON CONFORMANT\") & \" Level AA Non-conformance\" & IF(COUNTIF(AI74:AI115,\"NON CONFORMANT\")=1,\"\",\"s\"),\"\") & IF(Statistics!$S5=\"Yes\",\"\n\" & COUNTIF(AI120:AI174,\"NON CONFORMANT\") & \" Level AAA Non-conformance\" & IF(COUNTIF(AI120:AI174,\"NON CONFORMANT\")=1,\"\",\"s\"),\"\")","v":"0 Level A Non-conformances\n0 Level AA Non-conformances"},{"$f":"IF(Statistics!$S3=\"Yes\",COUNTIF(AJ8:AJ69,\"NON CONFORMANT\") & \" Level A Non-conformance\" & IF(COUNTIF(AJ8:AJ69,\"NON CONFORMANT\")=1,\"\",\"s\"),\"\") & IF(Statistics!$S4=\"Yes\",\"\n\" & COUNTIF(AJ74:AJ115,\"NON CONFORMANT\") & \" Level AA Non-conformance\" & IF(COUNTIF(AJ74:AJ115,\"NON CONFORMANT\")=1,\"\",\"s\"),\"\") & IF(Statistics!$S5=\"Yes\",\"\n\" & COUNTIF(AJ120:AJ174,\"NON CONFORMANT\") & \" Level AAA Non-conformance\" & IF(COUNTIF(AJ120:AJ174,\"NON CONFORMANT\")=1,\"\",\"s\"),\"\")","v":"0 Level A Non-conformances\n0 Level AA Non-conformances"},{"$f":"IF(Statistics!$S3=\"Yes\",COUNTIF(AK8:AK69,\"NON CONFORMANT\") & \" Level A Non-conformance\" & IF(COUNTIF(AK8:AK69,\"NON CONFORMANT\")=1,\"\",\"s\"),\"\") & IF(Statistics!$S4=\"Yes\",\"\n\" & COUNTIF(AK74:AK115,\"NON CONFORMANT\") & \" Level AA Non-conformance\" & IF(COUNTIF(AK74:AK115,\"NON CONFORMANT\")=1,\"\",\"s\"),\"\") & IF(Statistics!$S5=\"Yes\",\"\n\" & COUNTIF(AK120:AK174,\"NON CONFORMANT\") & \" Level AAA Non-conformance\" & IF(COUNTIF(AK120:AK174,\"NON CONFORMANT\")=1,\"\",\"s\"),\"\")","v":"0 Level A Non-conformances\n0 Level AA Non-conformances"},{"$f":"IF(Statistics!$S3=\"Yes\",COUNTIF(AL8:AL69,\"NON CONFORMANT\") & \" Level A Non-conformance\" & IF(COUNTIF(AL8:AL69,\"NON CONFORMANT\")=1,\"\",\"s\"),\"\") & IF(Statistics!$S4=\"Yes\",\"\n\" & COUNTIF(AL74:AL115,\"NON CONFORMANT\") & \" Level AA Non-conformance\" & IF(COUNTIF(AL74:AL115,\"NON CONFORMANT\")=1,\"\",\"s\"),\"\") & IF(Statistics!$S5=\"Yes\",\"\n\" & COUNTIF(AL120:AL174,\"NON CONFORMANT\") & \" Level AAA Non-conformance\" & IF(COUNTIF(AL120:AL174,\"NON CONFORMANT\")=1,\"\",\"s\"),\"\")","v":"0 Level A Non-conformances\n0 Level AA Non-conformances"},{"$f":"IF(Statistics!$S3=\"Yes\",COUNTIF(AM8:AM69,\"NON CONFORMANT\") & \" Level A Non-conformance\" & IF(COUNTIF(AM8:AM69,\"NON CONFORMANT\")=1,\"\",\"s\"),\"\") & IF(Statistics!$S4=\"Yes\",\"\n\" & COUNTIF(AM74:AM115,\"NON CONFORMANT\") & \" Level AA Non-conformance\" & IF(COUNTIF(AM74:AM115,\"NON CONFORMANT\")=1,\"\",\"s\"),\"\") & IF(Statistics!$S5=\"Yes\",\"\n\" & COUNTIF(AM120:AM174,\"NON CONFORMANT\") & \" Level AAA Non-conformance\" & IF(COUNTIF(AM120:AM174,\"NON CONFORMANT\")=1,\"\",\"s\"),\"\")","v":"0 Level A Non-conformances\n0 Level AA Non-conformances"},{"$f":"IF(Statistics!$S3=\"Yes\",COUNTIF(AN8:AN69,\"NON CONFORMANT\") & \" Level A Non-conformance\" & IF(COUNTIF(AN8:AN69,\"NON CONFORMANT\")=1,\"\",\"s\"),\"\") & IF(Statistics!$S4=\"Yes\",\"\n\" & COUNTIF(AN74:AN115,\"NON CONFORMANT\") & \" Level AA Non-conformance\" & IF(COUNTIF(AN74:AN115,\"NON CONFORMANT\")=1,\"\",\"s\"),\"\") & IF(Statistics!$S5=\"Yes\",\"\n\" & COUNTIF(AN120:AN174,\"NON CONFORMANT\") & \" Level AAA Non-conformance\" & IF(COUNTIF(AN120:AN174,\"NON CONFORMANT\")=1,\"\",\"s\"),\"\")","v":"0 Level A Non-conformances\n0 Level AA Non-conformances"},{"$f":"IF(Statistics!$S3=\"Yes\",COUNTIF(AO8:AO69,\"NON CONFORMANT\") & \" Level A Non-conformance\" & IF(COUNTIF(AO8:AO69,\"NON CONFORMANT\")=1,\"\",\"s\"),\"\") & IF(Statistics!$S4=\"Yes\",\"\n\" & COUNTIF(AO74:AO115,\"NON CONFORMANT\") & \" Level AA Non-conformance\" & IF(COUNTIF(AO74:AO115,\"NON CONFORMANT\")=1,\"\",\"s\"),\"\") & IF(Statistics!$S5=\"Yes\",\"\n\" & COUNTIF(AO120:AO174,\"NON CONFORMANT\") & \" Level AAA Non-conformance\" & IF(COUNTIF(AO120:AO174,\"NON CONFORMANT\")=1,\"\",\"s\"),\"\")","v":"0 Level A Non-conformances\n0 Level AA Non-conformances"},{"$f":"IF(Statistics!$S3=\"Yes\",COUNTIF(AP8:AP69,\"NON CONFORMANT\") & \" Level A Non-conformance\" & IF(COUNTIF(AP8:AP69,\"NON CONFORMANT\")=1,\"\",\"s\"),\"\") & IF(Statistics!$S4=\"Yes\",\"\n\" & COUNTIF(AP74:AP115,\"NON CONFORMANT\") & \" Level AA Non-conformance\" & IF(COUNTIF(AP74:AP115,\"NON CONFORMANT\")=1,\"\",\"s\"),\"\") & IF(Statistics!$S5=\"Yes\",\"\n\" & COUNTIF(AP120:AP174,\"NON CONFORMANT\") & \" Level AAA Non-conformance\" & IF(COUNTIF(AP120:AP174,\"NON CONFORMANT\")=1,\"\",\"s\"),\"\")","v":"0 Level A Non-conformances\n0 Level AA Non-conformances"},{"$f":"IF(Statistics!$S3=\"Yes\",COUNTIF(AQ8:AQ69,\"NON CONFORMANT\") & \" Level A Non-conformance\" & IF(COUNTIF(AQ8:AQ69,\"NON CONFORMANT\")=1,\"\",\"s\"),\"\") & IF(Statistics!$S4=\"Yes\",\"\n\" & COUNTIF(AQ74:AQ115,\"NON CONFORMANT\") & \" Level AA Non-conformance\" & IF(COUNTIF(AQ74:AQ115,\"NON CONFORMANT\")=1,\"\",\"s\"),\"\") & IF(Statistics!$S5=\"Yes\",\"\n\" & COUNTIF(AQ120:AQ174,\"NON CONFORMANT\") & \" Level AAA Non-conformance\" & IF(COUNTIF(AQ120:AQ174,\"NON CONFORMANT\")=1,\"\",\"s\"),\"\")","v":"0 Level A Non-conformances\n0 Level AA Non-conformances"},{"$f":"IF(Statistics!$S3=\"Yes\",COUNTIF(AR8:AR69,\"NON CONFORMANT\") & \" Level A Non-conformance\" & IF(COUNTIF(AR8:AR69,\"NON CONFORMANT\")=1,\"\",\"s\"),\"\") & IF(Statistics!$S4=\"Yes\",\"\n\" & COUNTIF(AR74:AR115,\"NON CONFORMANT\") & \" Level AA Non-conformance\" & IF(COUNTIF(AR74:AR115,\"NON CONFORMANT\")=1,\"\",\"s\"),\"\") & IF(Statistics!$S5=\"Yes\",\"\n\" & COUNTIF(AR120:AR174,\"NON CONFORMANT\") & \" Level AAA Non-conformance\" & IF(COUNTIF(AR120:AR174,\"NON CONFORMANT\")=1,\"\",\"s\"),\"\")","v":"0 Level A Non-conformances\n0 Level AA Non-conformances"},{"$f":"IF(Statistics!$S3=\"Yes\",COUNTIF(AS8:AS69,\"NON CONFORMANT\") & \" Level A Non-conformance\" & IF(COUNTIF(AS8:AS69,\"NON CONFORMANT\")=1,\"\",\"s\"),\"\") & IF(Statistics!$S4=\"Yes\",\"\n\" & COUNTIF(AS74:AS115,\"NON CONFORMANT\") & \" Level AA Non-conformance\" & IF(COUNTIF(AS74:AS115,\"NON CONFORMANT\")=1,\"\",\"s\"),\"\") & IF(Statistics!$S5=\"Yes\",\"\n\" & COUNTIF(AS120:AS174,\"NON CONFORMANT\") & \" Level AAA Non-conformance\" & IF(COUNTIF(AS120:AS174,\"NON CONFORMANT\")=1,\"\",\"s\"),\"\")","v":"0 Level A Non-conformances\n0 Level AA Non-conformances"},{"$f":"IF(Statistics!$S3=\"Yes\",COUNTIF(AT8:AT69,\"NON CONFORMANT\") & \" Level A Non-conformance\" & IF(COUNTIF(AT8:AT69,\"NON CONFORMANT\")=1,\"\",\"s\"),\"\") & IF(Statistics!$S4=\"Yes\",\"\n\" & COUNTIF(AT74:AT115,\"NON CONFORMANT\") & \" Level AA Non-conformance\" & IF(COUNTIF(AT74:AT115,\"NON CONFORMANT\")=1,\"\",\"s\"),\"\") & IF(Statistics!$S5=\"Yes\",\"\n\" & COUNTIF(AT120:AT174,\"NON CONFORMANT\") & \" Level AAA Non-conformance\" & IF(COUNTIF(AT120:AT174,\"NON CONFORMANT\")=1,\"\",\"s\"),\"\")","v":"0 Level A Non-conformances\n0 Level AA Non-conformances"},{"$f":"IF(Statistics!$S3=\"Yes\",COUNTIF(AU8:AU69,\"NON CONFORMANT\") & \" Level A Non-conformance\" & IF(COUNTIF(AU8:AU69,\"NON CONFORMANT\")=1,\"\",\"s\"),\"\") & IF(Statistics!$S4=\"Yes\",\"\n\" & COUNTIF(AU74:AU115,\"NON CONFORMANT\") & \" Level AA Non-conformance\" & IF(COUNTIF(AU74:AU115,\"NON CONFORMANT\")=1,\"\",\"s\"),\"\") & IF(Statistics!$S5=\"Yes\",\"\n\" & COUNTIF(AU120:AU174,\"NON CONFORMANT\") & \" Level AAA Non-conformance\" & IF(COUNTIF(AU120:AU174,\"NON CONFORMANT\")=1,\"\",\"s\"),\"\")","v":"0 Level A Non-conformances\n0 Level AA Non-conformances"},{"$f":"IF(Statistics!$S3=\"Yes\",COUNTIF(AV8:AV69,\"NON CONFORMANT\") & \" Level A Non-conformance\" & IF(COUNTIF(AV8:AV69,\"NON CONFORMANT\")=1,\"\",\"s\"),\"\") & IF(Statistics!$S4=\"Yes\",\"\n\" & COUNTIF(AV74:AV115,\"NON CONFORMANT\") & \" Level AA Non-conformance\" & IF(COUNTIF(AV74:AV115,\"NON CONFORMANT\")=1,\"\",\"s\"),\"\") & IF(Statistics!$S5=\"Yes\",\"\n\" & COUNTIF(AV120:AV174,\"NON CONFORMANT\") & \" Level AAA Non-conformance\" & IF(COUNTIF(AV120:AV174,\"NON CONFORMANT\")=1,\"\",\"s\"),\"\")","v":"0 Level A Non-conformances\n0 Level AA Non-conformances"},{"$f":"IF(Statistics!$S3=\"Yes\",COUNTIF(AW8:AW69,\"NON CONFORMANT\") & \" Level A Non-conformance\" & IF(COUNTIF(AW8:AW69,\"NON CONFORMANT\")=1,\"\",\"s\"),\"\") & IF(Statistics!$S4=\"Yes\",\"\n\" & COUNTIF(AW74:AW115,\"NON CONFORMANT\") & \" Level AA Non-conformance\" & IF(COUNTIF(AW74:AW115,\"NON CONFORMANT\")=1,\"\",\"s\"),\"\") & IF(Statistics!$S5=\"Yes\",\"\n\" & COUNTIF(AW120:AW174,\"NON CONFORMANT\") & \" Level AAA Non-conformance\" & IF(COUNTIF(AW120:AW174,\"NON CONFORMANT\")=1,\"\",\"s\"),\"\")","v":"0 Level A Non-conformances\n0 Level AA Non-conformances"},{"$f":"IF(Statistics!$S3=\"Yes\",COUNTIF(AX8:AX69,\"NON CONFORMANT\") & \" Level A Non-conformance\" & IF(COUNTIF(AX8:AX69,\"NON CONFORMANT\")=1,\"\",\"s\"),\"\") & IF(Statistics!$S4=\"Yes\",\"\n\" & COUNTIF(AX74:AX115,\"NON CONFORMANT\") & \" Level AA Non-conformance\" & IF(COUNTIF(AX74:AX115,\"NON CONFORMANT\")=1,\"\",\"s\"),\"\") & IF(Statistics!$S5=\"Yes\",\"\n\" & COUNTIF(AX120:AX174,\"NON CONFORMANT\") & \" Level AAA Non-conformance\" & IF(COUNTIF(AX120:AX174,\"NON CONFORMANT\")=1,\"\",\"s\"),\"\")","v":"0 Level A Non-conformances\n0 Level AA Non-conformances"},{"$f":"IF(Statistics!$S3=\"Yes\",COUNTIF(AY8:AY69,\"NON CONFORMANT\") & \" Level A Non-conformance\" & IF(COUNTIF(AY8:AY69,\"NON CONFORMANT\")=1,\"\",\"s\"),\"\") & IF(Statistics!$S4=\"Yes\",\"\n\" & COUNTIF(AY74:AY115,\"NON CONFORMANT\") & \" Level AA Non-conformance\" & IF(COUNTIF(AY74:AY115,\"NON CONFORMANT\")=1,\"\",\"s\"),\"\") & IF(Statistics!$S5=\"Yes\",\"\n\" & COUNTIF(AY120:AY174,\"NON CONFORMANT\") & \" Level AAA Non-conformance\" & IF(COUNTIF(AY120:AY174,\"NON CONFORMANT\")=1,\"\",\"s\"),\"\")","v":"0 Level A Non-conformances\n0 Level AA Non-conformances"},{"$f":"IF(Statistics!$S3=\"Yes\",COUNTIF(AZ8:AZ69,\"NON CONFORMANT\") & \" Level A Non-conformance\" & IF(COUNTIF(AZ8:AZ69,\"NON CONFORMANT\")=1,\"\",\"s\"),\"\") & IF(Statistics!$S4=\"Yes\",\"\n\" & COUNTIF(AZ74:AZ115,\"NON CONFORMANT\") & \" Level AA Non-conformance\" & IF(COUNTIF(AZ74:AZ115,\"NON CONFORMANT\")=1,\"\",\"s\"),\"\") & IF(Statistics!$S5=\"Yes\",\"\n\" & COUNTIF(AZ120:AZ174,\"NON CONFORMANT\") & \" Level AAA Non-conformance\" & IF(COUNTIF(AZ120:AZ174,\"NON CONFORMANT\")=1,\"\",\"s\"),\"\")","v":"0 Level A Non-conformances\n0 Level AA Non-conformances"},{"$f":"IF(Statistics!$S3=\"Yes\",COUNTIF(BA8:BA69,\"NON CONFORMANT\") & \" Level A Non-conformance\" & IF(COUNTIF(BA8:BA69,\"NON CONFORMANT\")=1,\"\",\"s\"),\"\") & IF(Statistics!$S4=\"Yes\",\"\n\" & COUNTIF(BA74:BA115,\"NON CONFORMANT\") & \" Level AA Non-conformance\" & IF(COUNTIF(BA74:BA115,\"NON CONFORMANT\")=1,\"\",\"s\"),\"\") & IF(Statistics!$S5=\"Yes\",\"\n\" & COUNTIF(BA120:BA174,\"NON CONFORMANT\") & \" Level AAA Non-conformance\" & IF(COUNTIF(BA120:BA174,\"NON CONFORMANT\")=1,\"\",\"s\"),\"\")","v":"0 Level A Non-conformances\n0 Level AA Non-conformances"},{"$f":"IF(Statistics!$S3=\"Yes\",COUNTIF(BB8:BB69,\"NON CONFORMANT\") & \" Level A Non-conformance\" & IF(COUNTIF(BB8:BB69,\"NON CONFORMANT\")=1,\"\",\"s\"),\"\") & IF(Statistics!$S4=\"Yes\",\"\n\" & COUNTIF(BB74:BB115,\"NON CONFORMANT\") & \" Level AA Non-conformance\" & IF(COUNTIF(BB74:BB115,\"NON CONFORMANT\")=1,\"\",\"s\"),\"\") & IF(Statistics!$S5=\"Yes\",\"\n\" & COUNTIF(BB120:BB174,\"NON CONFORMANT\") & \" Level AAA Non-conformance\" & IF(COUNTIF(BB120:BB174,\"NON CONFORMANT\")=1,\"\",\"s\"),\"\")","v":"0 Level A Non-conformances\n0 Level AA Non-conformances"},{"$f":"IF(Statistics!$S3=\"Yes\",COUNTIF(BC8:BC69,\"NON CONFORMANT\") & \" Level A Non-conformance\" & IF(COUNTIF(BC8:BC69,\"NON CONFORMANT\")=1,\"\",\"s\"),\"\") & IF(Statistics!$S4=\"Yes\",\"\n\" & COUNTIF(BC74:BC115,\"NON CONFORMANT\") & \" Level AA Non-conformance\" & IF(COUNTIF(BC74:BC115,\"NON CONFORMANT\")=1,\"\",\"s\"),\"\") & IF(Statistics!$S5=\"Yes\",\"\n\" & COUNTIF(BC120:BC174,\"NON CONFORMANT\") & \" Level AAA Non-conformance\" & IF(COUNTIF(BC120:BC174,\"NON CONFORMANT\")=1,\"\",\"s\"),\"\")","v":"0 Level A Non-conformances\n0 Level AA Non-conformances"},{"$f":"IF(Statistics!$S3=\"Yes\",COUNTIF(BD8:BD69,\"NON CONFORMANT\") & \" Level A Non-conformance\" & IF(COUNTIF(BD8:BD69,\"NON CONFORMANT\")=1,\"\",\"s\"),\"\") & IF(Statistics!$S4=\"Yes\",\"\n\" & COUNTIF(BD74:BD115,\"NON CONFORMANT\") & \" Level AA Non-conformance\" & IF(COUNTIF(BD74:BD115,\"NON CONFORMANT\")=1,\"\",\"s\"),\"\") & IF(Statistics!$S5=\"Yes\",\"\n\" & COUNTIF(BD120:BD174,\"NON CONFORMANT\") & \" Level AAA Non-conformance\" & IF(COUNTIF(BD120:BD174,\"NON CONFORMANT\")=1,\"\",\"s\"),\"\")","v":"0 Level A Non-conformances\n0 Level AA Non-conformances"},{"$f":"IF(Statistics!$S3=\"Yes\",COUNTIF(BE8:BE69,\"NON CONFORMANT\") & \" Level A Non-conformance\" & IF(COUNTIF(BE8:BE69,\"NON CONFORMANT\")=1,\"\",\"s\"),\"\") & IF(Statistics!$S4=\"Yes\",\"\n\" & COUNTIF(BE74:BE115,\"NON CONFORMANT\") & \" Level AA Non-conformance\" & IF(COUNTIF(BE74:BE115,\"NON CONFORMANT\")=1,\"\",\"s\"),\"\") & IF(Statistics!$S5=\"Yes\",\"\n\" & COUNTIF(BE120:BE174,\"NON CONFORMANT\") & \" Level AAA Non-conformance\" & IF(COUNTIF(BE120:BE174,\"NON CONFORMANT\")=1,\"\",\"s\"),\"\")","v":"0 Level A Non-conformances\n0 Level AA Non-conformances"},{"$f":"IF(Statistics!$S3=\"Yes\",COUNTIF(BF8:BF69,\"NON CONFORMANT\") & \" Level A Non-conformance\" & IF(COUNTIF(BF8:BF69,\"NON CONFORMANT\")=1,\"\",\"s\"),\"\") & IF(Statistics!$S4=\"Yes\",\"\n\" & COUNTIF(BF74:BF115,\"NON CONFORMANT\") & \" Level AA Non-conformance\" & IF(COUNTIF(BF74:BF115,\"NON CONFORMANT\")=1,\"\",\"s\"),\"\") & IF(Statistics!$S5=\"Yes\",\"\n\" & COUNTIF(BF120:BF174,\"NON CONFORMANT\") & \" Level AAA Non-conformance\" & IF(COUNTIF(BF120:BF174,\"NON CONFORMANT\")=1,\"\",\"s\"),\"\")","v":"0 Level A Non-conformances\n0 Level AA Non-conformances"},{"$f":"IF(Statistics!$S3=\"Yes\",COUNTIF(BG8:BG69,\"NON CONFORMANT\") & \" Level A Non-conformance\" & IF(COUNTIF(BG8:BG69,\"NON CONFORMANT\")=1,\"\",\"s\"),\"\") & IF(Statistics!$S4=\"Yes\",\"\n\" & COUNTIF(BG74:BG115,\"NON CONFORMANT\") & \" Level AA Non-conformance\" & IF(COUNTIF(BG74:BG115,\"NON CONFORMANT\")=1,\"\",\"s\"),\"\") & IF(Statistics!$S5=\"Yes\",\"\n\" & COUNTIF(BG120:BG174,\"NON CONFORMANT\") & \" Level AAA Non-conformance\" & IF(COUNTIF(BG120:BG174,\"NON CONFORMANT\")=1,\"\",\"s\"),\"\")","v":"0 Level A Non-conformances\n0 Level AA Non-conformances"},{"$f":"IF(Statistics!$S3=\"Yes\",COUNTIF(BH8:BH69,\"NON CONFORMANT\") & \" Level A Non-conformance\" & IF(COUNTIF(BH8:BH69,\"NON CONFORMANT\")=1,\"\",\"s\"),\"\") & IF(Statistics!$S4=\"Yes\",\"\n\" & COUNTIF(BH74:BH115,\"NON CONFORMANT\") & \" Level AA Non-conformance\" & IF(COUNTIF(BH74:BH115,\"NON CONFORMANT\")=1,\"\",\"s\"),\"\") & IF(Statistics!$S5=\"Yes\",\"\n\" & COUNTIF(BH120:BH174,\"NON CONFORMANT\") & \" Level AAA Non-conformance\" & IF(COUNTIF(BH120:BH174,\"NON CONFORMANT\")=1,\"\",\"s\"),\"\")","v":"0 Level A Non-conformances\n0 Level AA Non-conformances"},{"$f":"IF(Statistics!$S3=\"Yes\",COUNTIF(BI8:BI69,\"NON CONFORMANT\") & \" Level A Non-conformance\" & IF(COUNTIF(BI8:BI69,\"NON CONFORMANT\")=1,\"\",\"s\"),\"\") & IF(Statistics!$S4=\"Yes\",\"\n\" & COUNTIF(BI74:BI115,\"NON CONFORMANT\") & \" Level AA Non-conformance\" & IF(COUNTIF(BI74:BI115,\"NON CONFORMANT\")=1,\"\",\"s\"),\"\") & IF(Statistics!$S5=\"Yes\",\"\n\" & COUNTIF(BI120:BI174,\"NON CONFORMANT\") & \" Level AAA Non-conformance\" & IF(COUNTIF(BI120:BI174,\"NON CONFORMANT\")=1,\"\",\"s\"),\"\")","v":"0 Level A Non-conformances\n0 Level AA Non-conformances"},{"$f":"IF(Statistics!$S3=\"Yes\",COUNTIF(BJ8:BJ69,\"NON CONFORMANT\") & \" Level A Non-conformance\" & IF(COUNTIF(BJ8:BJ69,\"NON CONFORMANT\")=1,\"\",\"s\"),\"\") & IF(Statistics!$S4=\"Yes\",\"\n\" & COUNTIF(BJ74:BJ115,\"NON CONFORMANT\") & \" Level AA Non-conformance\" & IF(COUNTIF(BJ74:BJ115,\"NON CONFORMANT\")=1,\"\",\"s\"),\"\") & IF(Statistics!$S5=\"Yes\",\"\n\" & COUNTIF(BJ120:BJ174,\"NON CONFORMANT\") & \" Level AAA Non-conformance\" & IF(COUNTIF(BJ120:BJ174,\"NON CONFORMANT\")=1,\"\",\"s\"),\"\")","v":"0 Level A Non-conformances\n0 Level AA Non-conformances"},{"$f":"IF(Statistics!$S3=\"Yes\",COUNTIF(BK8:BK69,\"NON CONFORMANT\") & \" Level A Non-conformance\" & IF(COUNTIF(BK8:BK69,\"NON CONFORMANT\")=1,\"\",\"s\"),\"\") & IF(Statistics!$S4=\"Yes\",\"\n\" & COUNTIF(BK74:BK115,\"NON CONFORMANT\") & \" Level AA Non-conformance\" & IF(COUNTIF(BK74:BK115,\"NON CONFORMANT\")=1,\"\",\"s\"),\"\") & IF(Statistics!$S5=\"Yes\",\"\n\" & COUNTIF(BK120:BK174,\"NON CONFORMANT\") & \" Level AAA Non-conformance\" & IF(COUNTIF(BK120:BK174,\"NON CONFORMANT\")=1,\"\",\"s\"),\"\")","v":"0 Level A Non-conformances\n0 Level AA Non-conformances"},{"$f":"IF(Statistics!$S3=\"Yes\",COUNTIF(BL8:BL69,\"NON CONFORMANT\") & \" Level A Non-conformance\" & IF(COUNTIF(BL8:BL69,\"NON CONFORMANT\")=1,\"\",\"s\"),\"\") & IF(Statistics!$S4=\"Yes\",\"\n\" & COUNTIF(BL74:BL115,\"NON CONFORMANT\") & \" Level AA Non-conformance\" & IF(COUNTIF(BL74:BL115,\"NON CONFORMANT\")=1,\"\",\"s\"),\"\") & IF(Statistics!$S5=\"Yes\",\"\n\" & COUNTIF(BL120:BL174,\"NON CONFORMANT\") & \" Level AAA Non-conformance\" & IF(COUNTIF(BL120:BL174,\"NON CONFORMANT\")=1,\"\",\"s\"),\"\")","v":"0 Level A Non-conformances\n0 Level AA Non-conformances"},{"$f":"IF(Statistics!$S3=\"Yes\",COUNTIF(BM8:BM69,\"NON CONFORMANT\") & \" Level A Non-conformance\" & IF(COUNTIF(BM8:BM69,\"NON CONFORMANT\")=1,\"\",\"s\"),\"\") & IF(Statistics!$S4=\"Yes\",\"\n\" & COUNTIF(BM74:BM115,\"NON CONFORMANT\") & \" Level AA Non-conformance\" & IF(COUNTIF(BM74:BM115,\"NON CONFORMANT\")=1,\"\",\"s\"),\"\") & IF(Statistics!$S5=\"Yes\",\"\n\" & COUNTIF(BM120:BM174,\"NON CONFORMANT\") & \" Level AAA Non-conformance\" & IF(COUNTIF(BM120:BM174,\"NON CONFORMANT\")=1,\"\",\"s\"),\"\")","v":"0 Level A Non-conformances\n0 Level AA Non-conformances"},{"$f":"IF(Statistics!$S3=\"Yes\",COUNTIF(BN8:BN69,\"NON CONFORMANT\") & \" Level A Non-conformance\" & IF(COUNTIF(BN8:BN69,\"NON CONFORMANT\")=1,\"\",\"s\"),\"\") & IF(Statistics!$S4=\"Yes\",\"\n\" & COUNTIF(BN74:BN115,\"NON CONFORMANT\") & \" Level AA Non-conformance\" & IF(COUNTIF(BN74:BN115,\"NON CONFORMANT\")=1,\"\",\"s\"),\"\") & IF(Statistics!$S5=\"Yes\",\"\n\" & COUNTIF(BN120:BN174,\"NON CONFORMANT\") & \" Level AAA Non-conformance\" & IF(COUNTIF(BN120:BN174,\"NON CONFORMANT\")=1,\"\",\"s\"),\"\")","v":"0 Level A Non-conformances\n0 Level AA Non-conformances"},{"$f":"IF(Statistics!$S3=\"Yes\",COUNTIF(BO8:BO69,\"NON CONFORMANT\") & \" Level A Non-conformance\" & IF(COUNTIF(BO8:BO69,\"NON CONFORMANT\")=1,\"\",\"s\"),\"\") & IF(Statistics!$S4=\"Yes\",\"\n\" & COUNTIF(BO74:BO115,\"NON CONFORMANT\") & \" Level AA Non-conformance\" & IF(COUNTIF(BO74:BO115,\"NON CONFORMANT\")=1,\"\",\"s\"),\"\") & IF(Statistics!$S5=\"Yes\",\"\n\" & COUNTIF(BO120:BO174,\"NON CONFORMANT\") & \" Level AAA Non-conformance\" & IF(COUNTIF(BO120:BO174,\"NON CONFORMANT\")=1,\"\",\"s\"),\"\")","v":"0 Level A Non-conformances\n0 Level AA Non-conformances"},{"$f":"IF(Statistics!$S3=\"Yes\",COUNTIF(BP8:BP69,\"NON CONFORMANT\") & \" Level A Non-conformance\" & IF(COUNTIF(BP8:BP69,\"NON CONFORMANT\")=1,\"\",\"s\"),\"\") & IF(Statistics!$S4=\"Yes\",\"\n\" & COUNTIF(BP74:BP115,\"NON CONFORMANT\") & \" Level AA Non-conformance\" & IF(COUNTIF(BP74:BP115,\"NON CONFORMANT\")=1,\"\",\"s\"),\"\") & IF(Statistics!$S5=\"Yes\",\"\n\" & COUNTIF(BP120:BP174,\"NON CONFORMANT\") & \" Level AAA Non-conformance\" & IF(COUNTIF(BP120:BP174,\"NON CONFORMANT\")=1,\"\",\"s\"),\"\")","v":"0 Level A Non-conformances\n0 Level AA Non-conformances"},{"$f":"IF(Statistics!$S3=\"Yes\",COUNTIF(BQ8:BQ69,\"NON CONFORMANT\") & \" Level A Non-conformance\" & IF(COUNTIF(BQ8:BQ69,\"NON CONFORMANT\")=1,\"\",\"s\"),\"\") & IF(Statistics!$S4=\"Yes\",\"\n\" & COUNTIF(BQ74:BQ115,\"NON CONFORMANT\") & \" Level AA Non-conformance\" & IF(COUNTIF(BQ74:BQ115,\"NON CONFORMANT\")=1,\"\",\"s\"),\"\") & IF(Statistics!$S5=\"Yes\",\"\n\" & COUNTIF(BQ120:BQ174,\"NON CONFORMANT\") & \" Level AAA Non-conformance\" & IF(COUNTIF(BQ120:BQ174,\"NON CONFORMANT\")=1,\"\",\"s\"),\"\")","v":"0 Level A Non-conformances\n0 Level AA Non-conformances"},{"$f":"IF(Statistics!$S3=\"Yes\",COUNTIF(BR8:BR69,\"NON CONFORMANT\") & \" Level A Non-conformance\" & IF(COUNTIF(BR8:BR69,\"NON CONFORMANT\")=1,\"\",\"s\"),\"\") & IF(Statistics!$S4=\"Yes\",\"\n\" & COUNTIF(BR74:BR115,\"NON CONFORMANT\") & \" Level AA Non-conformance\" & IF(COUNTIF(BR74:BR115,\"NON CONFORMANT\")=1,\"\",\"s\"),\"\") & IF(Statistics!$S5=\"Yes\",\"\n\" & COUNTIF(BR120:BR174,\"NON CONFORMANT\") & \" Level AAA Non-conformance\" & IF(COUNTIF(BR120:BR174,\"NON CONFORMANT\")=1,\"\",\"s\"),\"\")","v":"0 Level A Non-conformances\n0 Level AA Non-conformances"},{"$f":"IF(Statistics!$S3=\"Yes\",COUNTIF(BS8:BS69,\"NON CONFORMANT\") & \" Level A Non-conformance\" & IF(COUNTIF(BS8:BS69,\"NON CONFORMANT\")=1,\"\",\"s\"),\"\") & IF(Statistics!$S4=\"Yes\",\"\n\" & COUNTIF(BS74:BS115,\"NON CONFORMANT\") & \" Level AA Non-conformance\" & IF(COUNTIF(BS74:BS115,\"NON CONFORMANT\")=1,\"\",\"s\"),\"\") & IF(Statistics!$S5=\"Yes\",\"\n\" & COUNTIF(BS120:BS174,\"NON CONFORMANT\") & \" Level AAA Non-conformance\" & IF(COUNTIF(BS120:BS174,\"NON CONFORMANT\")=1,\"\",\"s\"),\"\")","v":"0 Level A Non-conformances\n0 Level AA Non-conformances"},{"$f":"IF(Statistics!$S3=\"Yes\",COUNTIF(BT8:BT69,\"NON CONFORMANT\") & \" Level A Non-conformance\" & IF(COUNTIF(BT8:BT69,\"NON CONFORMANT\")=1,\"\",\"s\"),\"\") & IF(Statistics!$S4=\"Yes\",\"\n\" & COUNTIF(BT74:BT115,\"NON CONFORMANT\") & \" Level AA Non-conformance\" & IF(COUNTIF(BT74:BT115,\"NON CONFORMANT\")=1,\"\",\"s\"),\"\") & IF(Statistics!$S5=\"Yes\",\"\n\" & COUNTIF(BT120:BT174,\"NON CONFORMANT\") & \" Level AAA Non-conformance\" & IF(COUNTIF(BT120:BT174,\"NON CONFORMANT\")=1,\"\",\"s\"),\"\")","v":"0 Level A Non-conformances\n0 Level AA Non-conformances"},{"$f":"IF(Statistics!$S3=\"Yes\",COUNTIF(BU8:BU69,\"NON CONFORMANT\") & \" Level A Non-conformance\" & IF(COUNTIF(BU8:BU69,\"NON CONFORMANT\")=1,\"\",\"s\"),\"\") & IF(Statistics!$S4=\"Yes\",\"\n\" & COUNTIF(BU74:BU115,\"NON CONFORMANT\") & \" Level AA Non-conformance\" & IF(COUNTIF(BU74:BU115,\"NON CONFORMANT\")=1,\"\",\"s\"),\"\") & IF(Statistics!$S5=\"Yes\",\"\n\" & COUNTIF(BU120:BU174,\"NON CONFORMANT\") & \" Level AAA Non-conformance\" & IF(COUNTIF(BU120:BU174,\"NON CONFORMANT\")=1,\"\",\"s\"),\"\")","v":"0 Level A Non-conformances\n0 Level AA Non-conformances"},{"$f":"IF(Statistics!$S3=\"Yes\",COUNTIF(BV8:BV69,\"NON CONFORMANT\") & \" Level A Non-conformance\" & IF(COUNTIF(BV8:BV69,\"NON CONFORMANT\")=1,\"\",\"s\"),\"\") & IF(Statistics!$S4=\"Yes\",\"\n\" & COUNTIF(BV74:BV115,\"NON CONFORMANT\") & \" Level AA Non-conformance\" & IF(COUNTIF(BV74:BV115,\"NON CONFORMANT\")=1,\"\",\"s\"),\"\") & IF(Statistics!$S5=\"Yes\",\"\n\" & COUNTIF(BV120:BV174,\"NON CONFORMANT\") & \" Level AAA Non-conformance\" & IF(COUNTIF(BV120:BV174,\"NON CONFORMANT\")=1,\"\",\"s\"),\"\")","v":"0 Level A Non-conformances\n0 Level AA Non-conformances"},{"$f":"IF(Statistics!$S3=\"Yes\",COUNTIF(BW8:BW69,\"NON CONFORMANT\") & \" Level A Non-conformance\" & IF(COUNTIF(BW8:BW69,\"NON CONFORMANT\")=1,\"\",\"s\"),\"\") & IF(Statistics!$S4=\"Yes\",\"\n\" & COUNTIF(BW74:BW115,\"NON CONFORMANT\") & \" Level AA Non-conformance\" & IF(COUNTIF(BW74:BW115,\"NON CONFORMANT\")=1,\"\",\"s\"),\"\") & IF(Statistics!$S5=\"Yes\",\"\n\" & COUNTIF(BW120:BW174,\"NON CONFORMANT\") & \" Level AAA Non-conformance\" & IF(COUNTIF(BW120:BW174,\"NON CONFORMANT\")=1,\"\",\"s\"),\"\")","v":"0 Level A Non-conformances\n0 Level AA Non-conformances"},{"$f":"IF(Statistics!$S3=\"Yes\",COUNTIF(BX8:BX69,\"NON CONFORMANT\") & \" Level A Non-conformance\" & IF(COUNTIF(BX8:BX69,\"NON CONFORMANT\")=1,\"\",\"s\"),\"\") & IF(Statistics!$S4=\"Yes\",\"\n\" & COUNTIF(BX74:BX115,\"NON CONFORMANT\") & \" Level AA Non-conformance\" & IF(COUNTIF(BX74:BX115,\"NON CONFORMANT\")=1,\"\",\"s\"),\"\") & IF(Statistics!$S5=\"Yes\",\"\n\" & COUNTIF(BX120:BX174,\"NON CONFORMANT\") & \" Level AAA Non-conformance\" & IF(COUNTIF(BX120:BX174,\"NON CONFORMANT\")=1,\"\",\"s\"),\"\")","v":"0 Level A Non-conformances\n0 Level AA Non-conformances"},{"$f":"IF(Statistics!$S3=\"Yes\",COUNTIF(BY8:BY69,\"NON CONFORMANT\") & \" Level A Non-conformance\" & IF(COUNTIF(BY8:BY69,\"NON CONFORMANT\")=1,\"\",\"s\"),\"\") & IF(Statistics!$S4=\"Yes\",\"\n\" & COUNTIF(BY74:BY115,\"NON CONFORMANT\") & \" Level AA Non-conformance\" & IF(COUNTIF(BY74:BY115,\"NON CONFORMANT\")=1,\"\",\"s\"),\"\") & IF(Statistics!$S5=\"Yes\",\"\n\" & COUNTIF(BY120:BY174,\"NON CONFORMANT\") & \" Level AAA Non-conformance\" & IF(COUNTIF(BY120:BY174,\"NON CONFORMANT\")=1,\"\",\"s\"),\"\")","v":"0 Level A Non-conformances\n0 Level AA Non-conformances"},{"$f":"IF(Statistics!$S3=\"Yes\",COUNTIF(BZ8:BZ69,\"NON CONFORMANT\") & \" Level A Non-conformance\" & IF(COUNTIF(BZ8:BZ69,\"NON CONFORMANT\")=1,\"\",\"s\"),\"\") & IF(Statistics!$S4=\"Yes\",\"\n\" & COUNTIF(BZ74:BZ115,\"NON CONFORMANT\") & \" Level AA Non-conformance\" & IF(COUNTIF(BZ74:BZ115,\"NON CONFORMANT\")=1,\"\",\"s\"),\"\") & IF(Statistics!$S5=\"Yes\",\"\n\" & COUNTIF(BZ120:BZ174,\"NON CONFORMANT\") & \" Level AAA Non-conformance\" & IF(COUNTIF(BZ120:BZ174,\"NON CONFORMANT\")=1,\"\",\"s\"),\"\")","v":"0 Level A Non-conformances\n0 Level AA Non-conformances"},{"$f":"IF(Statistics!$S3=\"Yes\",COUNTIF(CA8:CA69,\"NON CONFORMANT\") & \" Level A Non-conformance\" & IF(COUNTIF(CA8:CA69,\"NON CONFORMANT\")=1,\"\",\"s\"),\"\") & IF(Statistics!$S4=\"Yes\",\"\n\" & COUNTIF(CA74:CA115,\"NON CONFORMANT\") & \" Level AA Non-conformance\" & IF(COUNTIF(CA74:CA115,\"NON CONFORMANT\")=1,\"\",\"s\"),\"\") & IF(Statistics!$S5=\"Yes\",\"\n\" & COUNTIF(CA120:CA174,\"NON CONFORMANT\") & \" Level AAA Non-conformance\" & IF(COUNTIF(CA120:CA174,\"NON CONFORMANT\")=1,\"\",\"s\"),\"\")","v":"0 Level A Non-conformances\n0 Level AA Non-conformances"},{"$f":"IF(Statistics!$S3=\"Yes\",COUNTIF(CB8:CB69,\"NON CONFORMANT\") & \" Level A Non-conformance\" & IF(COUNTIF(CB8:CB69,\"NON CONFORMANT\")=1,\"\",\"s\"),\"\") & IF(Statistics!$S4=\"Yes\",\"\n\" & COUNTIF(CB74:CB115,\"NON CONFORMANT\") & \" Level AA Non-conformance\" & IF(COUNTIF(CB74:CB115,\"NON CONFORMANT\")=1,\"\",\"s\"),\"\") & IF(Statistics!$S5=\"Yes\",\"\n\" & COUNTIF(CB120:CB174,\"NON CONFORMANT\") & \" Level AAA Non-conformance\" & IF(COUNTIF(CB120:CB174,\"NON CONFORMANT\")=1,\"\",\"s\"),\"\")","v":"0 Level A Non-conformances\n0 Level AA Non-conformances"},{"$f":"IF(Statistics!$S3=\"Yes\",COUNTIF(CC8:CC69,\"NON CONFORMANT\") & \" Level A Non-conformance\" & IF(COUNTIF(CC8:CC69,\"NON CONFORMANT\")=1,\"\",\"s\"),\"\") & IF(Statistics!$S4=\"Yes\",\"\n\" & COUNTIF(CC74:CC115,\"NON CONFORMANT\") & \" Level AA Non-conformance\" & IF(COUNTIF(CC74:CC115,\"NON CONFORMANT\")=1,\"\",\"s\"),\"\") & IF(Statistics!$S5=\"Yes\",\"\n\" & COUNTIF(CC120:CC174,\"NON CONFORMANT\") & \" Level AAA Non-conformance\" & IF(COUNTIF(CC120:CC174,\"NON CONFORMANT\")=1,\"\",\"s\"),\"\")","v":"0 Level A Non-conformances\n0 Level AA Non-conformances"},{"$f":"IF(Statistics!$S3=\"Yes\",COUNTIF(CD8:CD69,\"NON CONFORMANT\") & \" Level A Non-conformance\" & IF(COUNTIF(CD8:CD69,\"NON CONFORMANT\")=1,\"\",\"s\"),\"\") & IF(Statistics!$S4=\"Yes\",\"\n\" & COUNTIF(CD74:CD115,\"NON CONFORMANT\") & \" Level AA Non-conformance\" & IF(COUNTIF(CD74:CD115,\"NON CONFORMANT\")=1,\"\",\"s\"),\"\") & IF(Statistics!$S5=\"Yes\",\"\n\" & COUNTIF(CD120:CD174,\"NON CONFORMANT\") & \" Level AAA Non-conformance\" & IF(COUNTIF(CD120:CD174,\"NON CONFORMANT\")=1,\"\",\"s\"),\"\")","v":"0 Level A Non-conformances\n0 Level AA Non-conformances"},{"$f":"IF(Statistics!$S3=\"Yes\",COUNTIF(CE8:CE69,\"NON CONFORMANT\") & \" Level A Non-conformance\" & IF(COUNTIF(CE8:CE69,\"NON CONFORMANT\")=1,\"\",\"s\"),\"\") & IF(Statistics!$S4=\"Yes\",\"\n\" & COUNTIF(CE74:CE115,\"NON CONFORMANT\") & \" Level AA Non-conformance\" & IF(COUNTIF(CE74:CE115,\"NON CONFORMANT\")=1,\"\",\"s\"),\"\") & IF(Statistics!$S5=\"Yes\",\"\n\" & COUNTIF(CE120:CE174,\"NON CONFORMANT\") & \" Level AAA Non-conformance\" & IF(COUNTIF(CE120:CE174,\"NON CONFORMANT\")=1,\"\",\"s\"),\"\")","v":"0 Level A Non-conformances\n0 Level AA Non-conformances"},{"$f":"IF(Statistics!$S3=\"Yes\",COUNTIF(CF8:CF69,\"NON CONFORMANT\") & \" Level A Non-conformance\" & IF(COUNTIF(CF8:CF69,\"NON CONFORMANT\")=1,\"\",\"s\"),\"\") & IF(Statistics!$S4=\"Yes\",\"\n\" & COUNTIF(CF74:CF115,\"NON CONFORMANT\") & \" Level AA Non-conformance\" & IF(COUNTIF(CF74:CF115,\"NON CONFORMANT\")=1,\"\",\"s\"),\"\") & IF(Statistics!$S5=\"Yes\",\"\n\" & COUNTIF(CF120:CF174,\"NON CONFORMANT\") & \" Level AAA Non-conformance\" & IF(COUNTIF(CF120:CF174,\"NON CONFORMANT\")=1,\"\",\"s\"),\"\")","v":"0 Level A Non-conformances\n0 Level AA Non-conformances"},{"$f":"IF(Statistics!$S3=\"Yes\",COUNTIF(CG8:CG69,\"NON CONFORMANT\") & \" Level A Non-conformance\" & IF(COUNTIF(CG8:CG69,\"NON CONFORMANT\")=1,\"\",\"s\"),\"\") & IF(Statistics!$S4=\"Yes\",\"\n\" & COUNTIF(CG74:CG115,\"NON CONFORMANT\") & \" Level AA Non-conformance\" & IF(COUNTIF(CG74:CG115,\"NON CONFORMANT\")=1,\"\",\"s\"),\"\") & IF(Statistics!$S5=\"Yes\",\"\n\" & COUNTIF(CG120:CG174,\"NON CONFORMANT\") & \" Level AAA Non-conformance\" & IF(COUNTIF(CG120:CG174,\"NON CONFORMANT\")=1,\"\",\"s\"),\"\")","v":"0 Level A Non-conformances\n0 Level AA Non-conformances"},{"$f":"IF(Statistics!$S3=\"Yes\",COUNTIF(CH8:CH69,\"NON CONFORMANT\") & \" Level A Non-conformance\" & IF(COUNTIF(CH8:CH69,\"NON CONFORMANT\")=1,\"\",\"s\"),\"\") & IF(Statistics!$S4=\"Yes\",\"\n\" & COUNTIF(CH74:CH115,\"NON CONFORMANT\") & \" Level AA Non-conformance\" & IF(COUNTIF(CH74:CH115,\"NON CONFORMANT\")=1,\"\",\"s\"),\"\") & IF(Statistics!$S5=\"Yes\",\"\n\" & COUNTIF(CH120:CH174,\"NON CONFORMANT\") & \" Level AAA Non-conformance\" & IF(COUNTIF(CH120:CH174,\"NON CONFORMANT\")=1,\"\",\"s\"),\"\")","v":"0 Level A Non-conformances\n0 Level AA Non-conformances"},{"$f":"IF(Statistics!$S3=\"Yes\",COUNTIF(CI8:CI69,\"NON CONFORMANT\") & \" Level A Non-conformance\" & IF(COUNTIF(CI8:CI69,\"NON CONFORMANT\")=1,\"\",\"s\"),\"\") & IF(Statistics!$S4=\"Yes\",\"\n\" & COUNTIF(CI74:CI115,\"NON CONFORMANT\") & \" Level AA Non-conformance\" & IF(COUNTIF(CI74:CI115,\"NON CONFORMANT\")=1,\"\",\"s\"),\"\") & IF(Statistics!$S5=\"Yes\",\"\n\" & COUNTIF(CI120:CI174,\"NON CONFORMANT\") & \" Level AAA Non-conformance\" & IF(COUNTIF(CI120:CI174,\"NON CONFORMANT\")=1,\"\",\"s\"),\"\")","v":"0 Level A Non-conformances\n0 Level AA Non-conformances"},{"$f":"IF(Statistics!$S3=\"Yes\",COUNTIF(CJ8:CJ69,\"NON CONFORMANT\") & \" Level A Non-conformance\" & IF(COUNTIF(CJ8:CJ69,\"NON CONFORMANT\")=1,\"\",\"s\"),\"\") & IF(Statistics!$S4=\"Yes\",\"\n\" & COUNTIF(CJ74:CJ115,\"NON CONFORMANT\") & \" Level AA Non-conformance\" & IF(COUNTIF(CJ74:CJ115,\"NON CONFORMANT\")=1,\"\",\"s\"),\"\") & IF(Statistics!$S5=\"Yes\",\"\n\" & COUNTIF(CJ120:CJ174,\"NON CONFORMANT\") & \" Level AAA Non-conformance\" & IF(COUNTIF(CJ120:CJ174,\"NON CONFORMANT\")=1,\"\",\"s\"),\"\")","v":"0 Level A Non-conformances\n0 Level AA Non-conformances"},{"$f":"IF(Statistics!$S3=\"Yes\",COUNTIF(CK8:CK69,\"NON CONFORMANT\") & \" Level A Non-conformance\" & IF(COUNTIF(CK8:CK69,\"NON CONFORMANT\")=1,\"\",\"s\"),\"\") & IF(Statistics!$S4=\"Yes\",\"\n\" & COUNTIF(CK74:CK115,\"NON CONFORMANT\") & \" Level AA Non-conformance\" & IF(COUNTIF(CK74:CK115,\"NON CONFORMANT\")=1,\"\",\"s\"),\"\") & IF(Statistics!$S5=\"Yes\",\"\n\" & COUNTIF(CK120:CK174,\"NON CONFORMANT\") & \" Level AAA Non-conformance\" & IF(COUNTIF(CK120:CK174,\"NON CONFORMANT\")=1,\"\",\"s\"),\"\")","v":"0 Level A Non-conformances\n0 Level AA Non-conformances"},{"$f":"IF(Statistics!$S3=\"Yes\",COUNTIF(CL8:CL69,\"NON CONFORMANT\") & \" Level A Non-conformance\" & IF(COUNTIF(CL8:CL69,\"NON CONFORMANT\")=1,\"\",\"s\"),\"\") & IF(Statistics!$S4=\"Yes\",\"\n\" & COUNTIF(CL74:CL115,\"NON CONFORMANT\") & \" Level AA Non-conformance\" & IF(COUNTIF(CL74:CL115,\"NON CONFORMANT\")=1,\"\",\"s\"),\"\") & IF(Statistics!$S5=\"Yes\",\"\n\" & COUNTIF(CL120:CL174,\"NON CONFORMANT\") & \" Level AAA Non-conformance\" & IF(COUNTIF(CL120:CL174,\"NON CONFORMANT\")=1,\"\",\"s\"),\"\")","v":"0 Level A Non-conformances\n0 Level AA Non-conformances"},{"$f":"IF(Statistics!$S3=\"Yes\",COUNTIF(CM8:CM69,\"NON CONFORMANT\") & \" Level A Non-conformance\" & IF(COUNTIF(CM8:CM69,\"NON CONFORMANT\")=1,\"\",\"s\"),\"\") & IF(Statistics!$S4=\"Yes\",\"\n\" & COUNTIF(CM74:CM115,\"NON CONFORMANT\") & \" Level AA Non-conformance\" & IF(COUNTIF(CM74:CM115,\"NON CONFORMANT\")=1,\"\",\"s\"),\"\") & IF(Statistics!$S5=\"Yes\",\"\n\" & COUNTIF(CM120:CM174,\"NON CONFORMANT\") & \" Level AAA Non-conformance\" & IF(COUNTIF(CM120:CM174,\"NON CONFORMANT\")=1,\"\",\"s\"),\"\")","v":"0 Level A Non-conformances\n0 Level AA Non-conformances"},{"$f":"IF(Statistics!$S3=\"Yes\",COUNTIF(CN8:CN69,\"NON CONFORMANT\") & \" Level A Non-conformance\" & IF(COUNTIF(CN8:CN69,\"NON CONFORMANT\")=1,\"\",\"s\"),\"\") & IF(Statistics!$S4=\"Yes\",\"\n\" & COUNTIF(CN74:CN115,\"NON CONFORMANT\") & \" Level AA Non-conformance\" & IF(COUNTIF(CN74:CN115,\"NON CONFORMANT\")=1,\"\",\"s\"),\"\") & IF(Statistics!$S5=\"Yes\",\"\n\" & COUNTIF(CN120:CN174,\"NON CONFORMANT\") & \" Level AAA Non-conformance\" & IF(COUNTIF(CN120:CN174,\"NON CONFORMANT\")=1,\"\",\"s\"),\"\")","v":"0 Level A Non-conformances\n0 Level AA Non-conformances"},{"$f":"IF(Statistics!$S3=\"Yes\",COUNTIF(CO8:CO69,\"NON CONFORMANT\") & \" Level A Non-conformance\" & IF(COUNTIF(CO8:CO69,\"NON CONFORMANT\")=1,\"\",\"s\"),\"\") & IF(Statistics!$S4=\"Yes\",\"\n\" & COUNTIF(CO74:CO115,\"NON CONFORMANT\") & \" Level AA Non-conformance\" & IF(COUNTIF(CO74:CO115,\"NON CONFORMANT\")=1,\"\",\"s\"),\"\") & IF(Statistics!$S5=\"Yes\",\"\n\" & COUNTIF(CO120:CO174,\"NON CONFORMANT\") & \" Level AAA Non-conformance\" & IF(COUNTIF(CO120:CO174,\"NON CONFORMANT\")=1,\"\",\"s\"),\"\")","v":"0 Level A Non-conformances\n0 Level AA Non-conformances"},{"$f":"IF(Statistics!$S3=\"Yes\",COUNTIF(CP8:CP69,\"NON CONFORMANT\") & \" Level A Non-conformance\" & IF(COUNTIF(CP8:CP69,\"NON CONFORMANT\")=1,\"\",\"s\"),\"\") & IF(Statistics!$S4=\"Yes\",\"\n\" & COUNTIF(CP74:CP115,\"NON CONFORMANT\") & \" Level AA Non-conformance\" & IF(COUNTIF(CP74:CP115,\"NON CONFORMANT\")=1,\"\",\"s\"),\"\") & IF(Statistics!$S5=\"Yes\",\"\n\" & COUNTIF(CP120:CP174,\"NON CONFORMANT\") & \" Level AAA Non-conformance\" & IF(COUNTIF(CP120:CP174,\"NON CONFORMANT\")=1,\"\",\"s\"),\"\")","v":"0 Level A Non-conformances\n0 Level AA Non-conformances"},{"$f":"IF(Statistics!$S3=\"Yes\",COUNTIF(CQ8:CQ69,\"NON CONFORMANT\") & \" Level A Non-conformance\" & IF(COUNTIF(CQ8:CQ69,\"NON CONFORMANT\")=1,\"\",\"s\"),\"\") & IF(Statistics!$S4=\"Yes\",\"\n\" & COUNTIF(CQ74:CQ115,\"NON CONFORMANT\") & \" Level AA Non-conformance\" & IF(COUNTIF(CQ74:CQ115,\"NON CONFORMANT\")=1,\"\",\"s\"),\"\") & IF(Statistics!$S5=\"Yes\",\"\n\" & COUNTIF(CQ120:CQ174,\"NON CONFORMANT\") & \" Level AAA Non-conformance\" & IF(COUNTIF(CQ120:CQ174,\"NON CONFORMANT\")=1,\"\",\"s\"),\"\")","v":"0 Level A Non-conformances\n0 Level AA Non-conformances"},{"$f":"IF(Statistics!$S3=\"Yes\",COUNTIF(CR8:CR69,\"NON CONFORMANT\") & \" Level A Non-conformance\" & IF(COUNTIF(CR8:CR69,\"NON CONFORMANT\")=1,\"\",\"s\"),\"\") & IF(Statistics!$S4=\"Yes\",\"\n\" & COUNTIF(CR74:CR115,\"NON CONFORMANT\") & \" Level AA Non-conformance\" & IF(COUNTIF(CR74:CR115,\"NON CONFORMANT\")=1,\"\",\"s\"),\"\") & IF(Statistics!$S5=\"Yes\",\"\n\" & COUNTIF(CR120:CR174,\"NON CONFORMANT\") & \" Level AAA Non-conformance\" & IF(COUNTIF(CR120:CR174,\"NON CONFORMANT\")=1,\"\",\"s\"),\"\")","v":"0 Level A Non-conformances\n0 Level AA Non-conformances"},{"$f":"IF(Statistics!$S3=\"Yes\",COUNTIF(CS8:CS69,\"NON CONFORMANT\") & \" Level A Non-conformance\" & IF(COUNTIF(CS8:CS69,\"NON CONFORMANT\")=1,\"\",\"s\"),\"\") & IF(Statistics!$S4=\"Yes\",\"\n\" & COUNTIF(CS74:CS115,\"NON CONFORMANT\") & \" Level AA Non-conformance\" & IF(COUNTIF(CS74:CS115,\"NON CONFORMANT\")=1,\"\",\"s\"),\"\") & IF(Statistics!$S5=\"Yes\",\"\n\" & COUNTIF(CS120:CS174,\"NON CONFORMANT\") & \" Level AAA Non-conformance\" & IF(COUNTIF(CS120:CS174,\"NON CONFORMANT\")=1,\"\",\"s\"),\"\")","v":"0 Level A Non-conformances\n0 Level AA Non-conformances"},{"$f":"IF(Statistics!$S3=\"Yes\",COUNTIF(CT8:CT69,\"NON CONFORMANT\") & \" Level A Non-conformance\" & IF(COUNTIF(CT8:CT69,\"NON CONFORMANT\")=1,\"\",\"s\"),\"\") & IF(Statistics!$S4=\"Yes\",\"\n\" & COUNTIF(CT74:CT115,\"NON CONFORMANT\") & \" Level AA Non-conformance\" & IF(COUNTIF(CT74:CT115,\"NON CONFORMANT\")=1,\"\",\"s\"),\"\") & IF(Statistics!$S5=\"Yes\",\"\n\" & COUNTIF(CT120:CT174,\"NON CONFORMANT\") & \" Level AAA Non-conformance\" & IF(COUNTIF(CT120:CT174,\"NON CONFORMANT\")=1,\"\",\"s\"),\"\")","v":"0 Level A Non-conformances\n0 Level AA Non-conformances"},{"$f":"IF(Statistics!$S3=\"Yes\",COUNTIF(CU8:CU69,\"NON CONFORMANT\") & \" Level A Non-conformance\" & IF(COUNTIF(CU8:CU69,\"NON CONFORMANT\")=1,\"\",\"s\"),\"\") & IF(Statistics!$S4=\"Yes\",\"\n\" & COUNTIF(CU74:CU115,\"NON CONFORMANT\") & \" Level AA Non-conformance\" & IF(COUNTIF(CU74:CU115,\"NON CONFORMANT\")=1,\"\",\"s\"),\"\") & IF(Statistics!$S5=\"Yes\",\"\n\" & COUNTIF(CU120:CU174,\"NON CONFORMANT\") & \" Level AAA Non-conformance\" & IF(COUNTIF(CU120:CU174,\"NON CONFORMANT\")=1,\"\",\"s\"),\"\")","v":"0 Level A Non-conformances\n0 Level AA Non-conformances"},{"$f":"IF(Statistics!$S3=\"Yes\",COUNTIF(CV8:CV69,\"NON CONFORMANT\") & \" Level A Non-conformance\" & IF(COUNTIF(CV8:CV69,\"NON CONFORMANT\")=1,\"\",\"s\"),\"\") & IF(Statistics!$S4=\"Yes\",\"\n\" & COUNTIF(CV74:CV115,\"NON CONFORMANT\") & \" Level AA Non-conformance\" & IF(COUNTIF(CV74:CV115,\"NON CONFORMANT\")=1,\"\",\"s\"),\"\") & IF(Statistics!$S5=\"Yes\",\"\n\" & COUNTIF(CV120:CV174,\"NON CONFORMANT\") & \" Level AAA Non-conformance\" & IF(COUNTIF(CV120:CV174,\"NON CONFORMANT\")=1,\"\",\"s\"),\"\")","v":"0 Level A Non-conformances\n0 Level AA Non-conformances"},{"$f":"IF(Statistics!$S3=\"Yes\",COUNTIF(CW8:CW69,\"NON CONFORMANT\") & \" Level A Non-conformance\" & IF(COUNTIF(CW8:CW69,\"NON CONFORMANT\")=1,\"\",\"s\"),\"\") & IF(Statistics!$S4=\"Yes\",\"\n\" & COUNTIF(CW74:CW115,\"NON CONFORMANT\") & \" Level AA Non-conformance\" & IF(COUNTIF(CW74:CW115,\"NON CONFORMANT\")=1,\"\",\"s\"),\"\") & IF(Statistics!$S5=\"Yes\",\"\n\" & COUNTIF(CW120:CW174,\"NON CONFORMANT\") & \" Level AAA Non-conformance\" & IF(COUNTIF(CW120:CW174,\"NON CONFORMANT\")=1,\"\",\"s\"),\"\")","v":"0 Level A Non-conformances\n0 Level AA Non-conformances"},{"$f":"IF(Statistics!$S3=\"Yes\",COUNTIF(CX8:CX69,\"NON CONFORMANT\") & \" Level A Non-conformance\" & IF(COUNTIF(CX8:CX69,\"NON CONFORMANT\")=1,\"\",\"s\"),\"\") & IF(Statistics!$S4=\"Yes\",\"\n\" & COUNTIF(CX74:CX115,\"NON CONFORMANT\") & \" Level AA Non-conformance\" & IF(COUNTIF(CX74:CX115,\"NON CONFORMANT\")=1,\"\",\"s\"),\"\") & IF(Statistics!$S5=\"Yes\",\"\n\" & COUNTIF(CX120:CX174,\"NON CONFORMANT\") & \" Level AAA Non-conformance\" & IF(COUNTIF(CX120:CX174,\"NON CONFORMANT\")=1,\"\",\"s\"),\"\")","v":"0 Level A Non-conformances\n0 Level AA Non-conformances"},{"$f":"IF(Statistics!$S3=\"Yes\",COUNTIF(CY8:CY69,\"NON CONFORMANT\") & \" Level A Non-conformance\" & IF(COUNTIF(CY8:CY69,\"NON CONFORMANT\")=1,\"\",\"s\"),\"\") & IF(Statistics!$S4=\"Yes\",\"\n\" & COUNTIF(CY74:CY115,\"NON CONFORMANT\") & \" Level AA Non-conformance\" & IF(COUNTIF(CY74:CY115,\"NON CONFORMANT\")=1,\"\",\"s\"),\"\") & IF(Statistics!$S5=\"Yes\",\"\n\" & COUNTIF(CY120:CY174,\"NON CONFORMANT\") & \" Level AAA Non-conformance\" & IF(COUNTIF(CY120:CY174,\"NON CONFORMANT\")=1,\"\",\"s\"),\"\")","v":"0 Level A Non-conformances\n0 Level AA Non-conformances"},{"$f":"IF(Statistics!$S3=\"Yes\",COUNTIF(CZ8:CZ69,\"NON CONFORMANT\") & \" Level A Non-conformance\" & IF(COUNTIF(CZ8:CZ69,\"NON CONFORMANT\")=1,\"\",\"s\"),\"\") & IF(Statistics!$S4=\"Yes\",\"\n\" & COUNTIF(CZ74:CZ115,\"NON CONFORMANT\") & \" Level AA Non-conformance\" & IF(COUNTIF(CZ74:CZ115,\"NON CONFORMANT\")=1,\"\",\"s\"),\"\") & IF(Statistics!$S5=\"Yes\",\"\n\" & COUNTIF(CZ120:CZ174,\"NON CONFORMANT\") & \" Level AAA Non-conformance\" & IF(COUNTIF(CZ120:CZ174,\"NON CONFORMANT\")=1,\"\",\"s\"),\"\")","v":"0 Level A Non-conformances\n0 Level AA Non-conformances"},{"$f":"IF(Statistics!$S3=\"Yes\",COUNTIF(DA8:DA69,\"NON CONFORMANT\") & \" Level A Non-conformance\" & IF(COUNTIF(DA8:DA69,\"NON CONFORMANT\")=1,\"\",\"s\"),\"\") & IF(Statistics!$S4=\"Yes\",\"\n\" & COUNTIF(DA74:DA115,\"NON CONFORMANT\") & \" Level AA Non-conformance\" & IF(COUNTIF(DA74:DA115,\"NON CONFORMANT\")=1,\"\",\"s\"),\"\") & IF(Statistics!$S5=\"Yes\",\"\n\" & COUNTIF(DA120:DA174,\"NON CONFORMANT\") & \" Level AAA Non-conformance\" & IF(COUNTIF(DA120:DA174,\"NON CONFORMANT\")=1,\"\",\"s\"),\"\")","v":"0 Level A Non-conformances\n0 Level AA Non-conformances"},{"$f":"IF(Statistics!$S3=\"Yes\",COUNTIF(DB8:DB69,\"NON CONFORMANT\") & \" Level A Non-conformance\" & IF(COUNTIF(DB8:DB69,\"NON CONFORMANT\")=1,\"\",\"s\"),\"\") & IF(Statistics!$S4=\"Yes\",\"\n\" & COUNTIF(DB74:DB115,\"NON CONFORMANT\") & \" Level AA Non-conformance\" & IF(COUNTIF(DB74:DB115,\"NON CONFORMANT\")=1,\"\",\"s\"),\"\") & IF(Statistics!$S5=\"Yes\",\"\n\" & COUNTIF(DB120:DB174,\"NON CONFORMANT\") & \" Level AAA Non-conformance\" & IF(COUNTIF(DB120:DB174,\"NON CONFORMANT\")=1,\"\",\"s\"),\"\")","v":"0 Level A Non-conformances\n0 Level AA Non-conformances"},{"$f":"IF(Statistics!$S3=\"Yes\",COUNTIF(DC8:DC69,\"NON CONFORMANT\") & \" Level A Non-conformance\" & IF(COUNTIF(DC8:DC69,\"NON CONFORMANT\")=1,\"\",\"s\"),\"\") & IF(Statistics!$S4=\"Yes\",\"\n\" & COUNTIF(DC74:DC115,\"NON CONFORMANT\") & \" Level AA Non-conformance\" & IF(COUNTIF(DC74:DC115,\"NON CONFORMANT\")=1,\"\",\"s\"),\"\") & IF(Statistics!$S5=\"Yes\",\"\n\" & COUNTIF(DC120:DC174,\"NON CONFORMANT\") & \" Level AAA Non-conformance\" & IF(COUNTIF(DC120:DC174,\"NON CONFORMANT\")=1,\"\",\"s\"),\"\")","v":"0 Level A Non-conformances\n0 Level AA Non-conformances"},{"$f":"IF(Statistics!$S3=\"Yes\",COUNTIF(DD8:DD69,\"NON CONFORMANT\") & \" Level A Non-conformance\" & IF(COUNTIF(DD8:DD69,\"NON CONFORMANT\")=1,\"\",\"s\"),\"\") & IF(Statistics!$S4=\"Yes\",\"\n\" & COUNTIF(DD74:DD115,\"NON CONFORMANT\") & \" Level AA Non-conformance\" & IF(COUNTIF(DD74:DD115,\"NON CONFORMANT\")=1,\"\",\"s\"),\"\") & IF(Statistics!$S5=\"Yes\",\"\n\" & COUNTIF(DD120:DD174,\"NON CONFORMANT\") & \" Level AAA Non-conformance\" & IF(COUNTIF(DD120:DD174,\"NON CONFORMANT\")=1,\"\",\"s\"),\"\")","v":"0 Level A Non-conformances\n0 Level AA Non-conformances"},{"$f":"IF(Statistics!$S3=\"Yes\",COUNTIF(DE8:DE69,\"NON CONFORMANT\") & \" Level A Non-conformance\" & IF(COUNTIF(DE8:DE69,\"NON CONFORMANT\")=1,\"\",\"s\"),\"\") & IF(Statistics!$S4=\"Yes\",\"\n\" & COUNTIF(DE74:DE115,\"NON CONFORMANT\") & \" Level AA Non-conformance\" & IF(COUNTIF(DE74:DE115,\"NON CONFORMANT\")=1,\"\",\"s\"),\"\") & IF(Statistics!$S5=\"Yes\",\"\n\" & COUNTIF(DE120:DE174,\"NON CONFORMANT\") & \" Level AAA Non-conformance\" & IF(COUNTIF(DE120:DE174,\"NON CONFORMANT\")=1,\"\",\"s\"),\"\")","v":"0 Level A Non-conformances\n0 Level AA Non-conformances"},{"$f":"IF(Statistics!$S3=\"Yes\",COUNTIF(DF8:DF69,\"NON CONFORMANT\") & \" Level A Non-conformance\" & IF(COUNTIF(DF8:DF69,\"NON CONFORMANT\")=1,\"\",\"s\"),\"\") & IF(Statistics!$S4=\"Yes\",\"\n\" & COUNTIF(DF74:DF115,\"NON CONFORMANT\") & \" Level AA Non-conformance\" & IF(COUNTIF(DF74:DF115,\"NON CONFORMANT\")=1,\"\",\"s\"),\"\") & IF(Statistics!$S5=\"Yes\",\"\n\" & COUNTIF(DF120:DF174,\"NON CONFORMANT\") & \" Level AAA Non-conformance\" & IF(COUNTIF(DF120:DF174,\"NON CONFORMANT\")=1,\"\",\"s\"),\"\")","v":"0 Level A Non-conformances\n0 Level AA Non-conformances"},{"$f":"IF(Statistics!$S3=\"Yes\",COUNTIF(DG8:DG69,\"NON CONFORMANT\") & \" Level A Non-conformance\" & IF(COUNTIF(DG8:DG69,\"NON CONFORMANT\")=1,\"\",\"s\"),\"\") & IF(Statistics!$S4=\"Yes\",\"\n\" & COUNTIF(DG74:DG115,\"NON CONFORMANT\") & \" Level AA Non-conformance\" & IF(COUNTIF(DG74:DG115,\"NON CONFORMANT\")=1,\"\",\"s\"),\"\") & IF(Statistics!$S5=\"Yes\",\"\n\" & COUNTIF(DG120:DG174,\"NON CONFORMANT\") & \" Level AAA Non-conformance\" & IF(COUNTIF(DG120:DG174,\"NON CONFORMANT\")=1,\"\",\"s\"),\"\")","v":"0 Level A Non-conformances\n0 Level AA Non-conformances"},{"$f":"IF(Statistics!$S3=\"Yes\",COUNTIF(DH8:DH69,\"NON CONFORMANT\") & \" Level A Non-conformance\" & IF(COUNTIF(DH8:DH69,\"NON CONFORMANT\")=1,\"\",\"s\"),\"\") & IF(Statistics!$S4=\"Yes\",\"\n\" & COUNTIF(DH74:DH115,\"NON CONFORMANT\") & \" Level AA Non-conformance\" & IF(COUNTIF(DH74:DH115,\"NON CONFORMANT\")=1,\"\",\"s\"),\"\") & IF(Statistics!$S5=\"Yes\",\"\n\" & COUNTIF(DH120:DH174,\"NON CONFORMANT\") & \" Level AAA Non-conformance\" & IF(COUNTIF(DH120:DH174,\"NON CONFORMANT\")=1,\"\",\"s\"),\"\")","v":"0 Level A Non-conformances\n0 Level AA Non-conformances"},{"$f":"IF(Statistics!$S3=\"Yes\",COUNTIF(DI8:DI69,\"NON CONFORMANT\") & \" Level A Non-conformance\" & IF(COUNTIF(DI8:DI69,\"NON CONFORMANT\")=1,\"\",\"s\"),\"\") & IF(Statistics!$S4=\"Yes\",\"\n\" & COUNTIF(DI74:DI115,\"NON CONFORMANT\") & \" Level AA Non-conformance\" & IF(COUNTIF(DI74:DI115,\"NON CONFORMANT\")=1,\"\",\"s\"),\"\") & IF(Statistics!$S5=\"Yes\",\"\n\" & COUNTIF(DI120:DI174,\"NON CONFORMANT\") & \" Level AAA Non-conformance\" & IF(COUNTIF(DI120:DI174,\"NON CONFORMANT\")=1,\"\",\"s\"),\"\")","v":"0 Level A Non-conformances\n0 Level AA Non-conformances"},{"$f":"IF(Statistics!$S3=\"Yes\",COUNTIF(DJ8:DJ69,\"NON CONFORMANT\") & \" Level A Non-conformance\" & IF(COUNTIF(DJ8:DJ69,\"NON CONFORMANT\")=1,\"\",\"s\"),\"\") & IF(Statistics!$S4=\"Yes\",\"\n\" & COUNTIF(DJ74:DJ115,\"NON CONFORMANT\") & \" Level AA Non-conformance\" & IF(COUNTIF(DJ74:DJ115,\"NON CONFORMANT\")=1,\"\",\"s\"),\"\") & IF(Statistics!$S5=\"Yes\",\"\n\" & COUNTIF(DJ120:DJ174,\"NON CONFORMANT\") & \" Level AAA Non-conformance\" & IF(COUNTIF(DJ120:DJ174,\"NON CONFORMANT\")=1,\"\",\"s\"),\"\")","v":"0 Level A Non-conformances\n0 Level AA Non-conformances"},{"$f":"IF(Statistics!$S3=\"Yes\",COUNTIF(DK8:DK69,\"NON CONFORMANT\") & \" Level A Non-conformance\" & IF(COUNTIF(DK8:DK69,\"NON CONFORMANT\")=1,\"\",\"s\"),\"\") & IF(Statistics!$S4=\"Yes\",\"\n\" & COUNTIF(DK74:DK115,\"NON CONFORMANT\") & \" Level AA Non-conformance\" & IF(COUNTIF(DK74:DK115,\"NON CONFORMANT\")=1,\"\",\"s\"),\"\") & IF(Statistics!$S5=\"Yes\",\"\n\" & COUNTIF(DK120:DK174,\"NON CONFORMANT\") & \" Level AAA Non-conformance\" & IF(COUNTIF(DK120:DK174,\"NON CONFORMANT\")=1,\"\",\"s\"),\"\")","v":"0 Level A Non-conformances\n0 Level AA Non-conformances"},{"$f":"IF(Statistics!$S3=\"Yes\",COUNTIF(DL8:DL69,\"NON CONFORMANT\") & \" Level A Non-conformance\" & IF(COUNTIF(DL8:DL69,\"NON CONFORMANT\")=1,\"\",\"s\"),\"\") & IF(Statistics!$S4=\"Yes\",\"\n\" & COUNTIF(DL74:DL115,\"NON CONFORMANT\") & \" Level AA Non-conformance\" & IF(COUNTIF(DL74:DL115,\"NON CONFORMANT\")=1,\"\",\"s\"),\"\") & IF(Statistics!$S5=\"Yes\",\"\n\" & COUNTIF(DL120:DL174,\"NON CONFORMANT\") & \" Level AAA Non-conformance\" & IF(COUNTIF(DL120:DL174,\"NON CONFORMANT\")=1,\"\",\"s\"),\"\")","v":"0 Level A Non-conformances\n0 Level AA Non-conformances"},{"$f":"IF(Statistics!$S3=\"Yes\",COUNTIF(DM8:DM69,\"NON CONFORMANT\") & \" Level A Non-conformance\" & IF(COUNTIF(DM8:DM69,\"NON CONFORMANT\")=1,\"\",\"s\"),\"\") & IF(Statistics!$S4=\"Yes\",\"\n\" & COUNTIF(DM74:DM115,\"NON CONFORMANT\") & \" Level AA Non-conformance\" & IF(COUNTIF(DM74:DM115,\"NON CONFORMANT\")=1,\"\",\"s\"),\"\") & IF(Statistics!$S5=\"Yes\",\"\n\" & COUNTIF(DM120:DM174,\"NON CONFORMANT\") & \" Level AAA Non-conformance\" & IF(COUNTIF(DM120:DM174,\"NON CONFORMANT\")=1,\"\",\"s\"),\"\")","v":"0 Level A Non-conformances\n0 Level AA Non-conformances"},{"$f":"IF(Statistics!$S3=\"Yes\",COUNTIF(DN8:DN69,\"NON CONFORMANT\") & \" Level A Non-conformance\" & IF(COUNTIF(DN8:DN69,\"NON CONFORMANT\")=1,\"\",\"s\"),\"\") & IF(Statistics!$S4=\"Yes\",\"\n\" & COUNTIF(DN74:DN115,\"NON CONFORMANT\") & \" Level AA Non-conformance\" & IF(COUNTIF(DN74:DN115,\"NON CONFORMANT\")=1,\"\",\"s\"),\"\") & IF(Statistics!$S5=\"Yes\",\"\n\" & COUNTIF(DN120:DN174,\"NON CONFORMANT\") & \" Level AAA Non-conformance\" & IF(COUNTIF(DN120:DN174,\"NON CONFORMANT\")=1,\"\",\"s\"),\"\")","v":"0 Level A Non-conformances\n0 Level AA Non-conformances"},{"$f":"IF(Statistics!$S3=\"Yes\",COUNTIF(DO8:DO69,\"NON CONFORMANT\") & \" Level A Non-conformance\" & IF(COUNTIF(DO8:DO69,\"NON CONFORMANT\")=1,\"\",\"s\"),\"\") & IF(Statistics!$S4=\"Yes\",\"\n\" & COUNTIF(DO74:DO115,\"NON CONFORMANT\") & \" Level AA Non-conformance\" & IF(COUNTIF(DO74:DO115,\"NON CONFORMANT\")=1,\"\",\"s\"),\"\") & IF(Statistics!$S5=\"Yes\",\"\n\" & COUNTIF(DO120:DO174,\"NON CONFORMANT\") & \" Level AAA Non-conformance\" & IF(COUNTIF(DO120:DO174,\"NON CONFORMANT\")=1,\"\",\"s\"),\"\")","v":"0 Level A Non-conformances\n0 Level AA Non-conformances"},{"$f":"IF(Statistics!$S3=\"Yes\",COUNTIF(DP8:DP69,\"NON CONFORMANT\") & \" Level A Non-conformance\" & IF(COUNTIF(DP8:DP69,\"NON CONFORMANT\")=1,\"\",\"s\"),\"\") & IF(Statistics!$S4=\"Yes\",\"\n\" & COUNTIF(DP74:DP115,\"NON CONFORMANT\") & \" Level AA Non-conformance\" & IF(COUNTIF(DP74:DP115,\"NON CONFORMANT\")=1,\"\",\"s\"),\"\") & IF(Statistics!$S5=\"Yes\",\"\n\" & COUNTIF(DP120:DP174,\"NON CONFORMANT\") & \" Level AAA Non-conformance\" & IF(COUNTIF(DP120:DP174,\"NON CONFORMANT\")=1,\"\",\"s\"),\"\")","v":"0 Level A Non-conformances\n0 Level AA Non-conformances"},{"$f":"IF(Statistics!$S3=\"Yes\",COUNTIF(DQ8:DQ69,\"NON CONFORMANT\") & \" Level A Non-conformance\" & IF(COUNTIF(DQ8:DQ69,\"NON CONFORMANT\")=1,\"\",\"s\"),\"\") & IF(Statistics!$S4=\"Yes\",\"\n\" & COUNTIF(DQ74:DQ115,\"NON CONFORMANT\") & \" Level AA Non-conformance\" & IF(COUNTIF(DQ74:DQ115,\"NON CONFORMANT\")=1,\"\",\"s\"),\"\") & IF(Statistics!$S5=\"Yes\",\"\n\" & COUNTIF(DQ120:DQ174,\"NON CONFORMANT\") & \" Level AAA Non-conformance\" & IF(COUNTIF(DQ120:DQ174,\"NON CONFORMANT\")=1,\"\",\"s\"),\"\")","v":"0 Level A Non-conformances\n0 Level AA Non-conformances"},{"$f":"IF(Statistics!$S3=\"Yes\",COUNTIF(DR8:DR69,\"NON CONFORMANT\") & \" Level A Non-conformance\" & IF(COUNTIF(DR8:DR69,\"NON CONFORMANT\")=1,\"\",\"s\"),\"\") & IF(Statistics!$S4=\"Yes\",\"\n\" & COUNTIF(DR74:DR115,\"NON CONFORMANT\") & \" Level AA Non-conformance\" & IF(COUNTIF(DR74:DR115,\"NON CONFORMANT\")=1,\"\",\"s\"),\"\") & IF(Statistics!$S5=\"Yes\",\"\n\" & COUNTIF(DR120:DR174,\"NON CONFORMANT\") & \" Level AAA Non-conformance\" & IF(COUNTIF(DR120:DR174,\"NON CONFORMANT\")=1,\"\",\"s\"),\"\")","v":"0 Level A Non-conformances\n0 Level AA Non-conformances"},{"$f":"IF(Statistics!$S3=\"Yes\",COUNTIF(DS8:DS69,\"NON CONFORMANT\") & \" Level A Non-conformance\" & IF(COUNTIF(DS8:DS69,\"NON CONFORMANT\")=1,\"\",\"s\"),\"\") & IF(Statistics!$S4=\"Yes\",\"\n\" & COUNTIF(DS74:DS115,\"NON CONFORMANT\") & \" Level AA Non-conformance\" & IF(COUNTIF(DS74:DS115,\"NON CONFORMANT\")=1,\"\",\"s\"),\"\") & IF(Statistics!$S5=\"Yes\",\"\n\" & COUNTIF(DS120:DS174,\"NON CONFORMANT\") & \" Level AAA Non-conformance\" & IF(COUNTIF(DS120:DS174,\"NON CONFORMANT\")=1,\"\",\"s\"),\"\")","v":"0 Level A Non-conformances\n0 Level AA Non-conformances"},{"$f":"IF(Statistics!$S3=\"Yes\",COUNTIF(DT8:DT69,\"NON CONFORMANT\") & \" Level A Non-conformance\" & IF(COUNTIF(DT8:DT69,\"NON CONFORMANT\")=1,\"\",\"s\"),\"\") & IF(Statistics!$S4=\"Yes\",\"\n\" & COUNTIF(DT74:DT115,\"NON CONFORMANT\") & \" Level AA Non-conformance\" & IF(COUNTIF(DT74:DT115,\"NON CONFORMANT\")=1,\"\",\"s\"),\"\") & IF(Statistics!$S5=\"Yes\",\"\n\" & COUNTIF(DT120:DT174,\"NON CONFORMANT\") & \" Level AAA Non-conformance\" & IF(COUNTIF(DT120:DT174,\"NON CONFORMANT\")=1,\"\",\"s\"),\"\")","v":"0 Level A Non-conformances\n0 Level AA Non-conformances"},{"$f":"IF(Statistics!$S3=\"Yes\",COUNTIF(DU8:DU69,\"NON CONFORMANT\") & \" Level A Non-conformance\" & IF(COUNTIF(DU8:DU69,\"NON CONFORMANT\")=1,\"\",\"s\"),\"\") & IF(Statistics!$S4=\"Yes\",\"\n\" & COUNTIF(DU74:DU115,\"NON CONFORMANT\") & \" Level AA Non-conformance\" & IF(COUNTIF(DU74:DU115,\"NON CONFORMANT\")=1,\"\",\"s\"),\"\") & IF(Statistics!$S5=\"Yes\",\"\n\" & COUNTIF(DU120:DU174,\"NON CONFORMANT\") & \" Level AAA Non-conformance\" & IF(COUNTIF(DU120:DU174,\"NON CONFORMANT\")=1,\"\",\"s\"),\"\")","v":"0 Level A Non-conformances\n0 Level AA Non-conformances"},{"$f":"IF(Statistics!$S3=\"Yes\",COUNTIF(DV8:DV69,\"NON CONFORMANT\") & \" Level A Non-conformance\" & IF(COUNTIF(DV8:DV69,\"NON CONFORMANT\")=1,\"\",\"s\"),\"\") & IF(Statistics!$S4=\"Yes\",\"\n\" & COUNTIF(DV74:DV115,\"NON CONFORMANT\") & \" Level AA Non-conformance\" & IF(COUNTIF(DV74:DV115,\"NON CONFORMANT\")=1,\"\",\"s\"),\"\") & IF(Statistics!$S5=\"Yes\",\"\n\" & COUNTIF(DV120:DV174,\"NON CONFORMANT\") & \" Level AAA Non-conformance\" & IF(COUNTIF(DV120:DV174,\"NON CONFORMANT\")=1,\"\",\"s\"),\"\")","v":"0 Level A Non-conformances\n0 Level AA Non-conformances"},{"$f":"IF(Statistics!$S3=\"Yes\",COUNTIF(DW8:DW69,\"NON CONFORMANT\") & \" Level A Non-conformance\" & IF(COUNTIF(DW8:DW69,\"NON CONFORMANT\")=1,\"\",\"s\"),\"\") & IF(Statistics!$S4=\"Yes\",\"\n\" & COUNTIF(DW74:DW115,\"NON CONFORMANT\") & \" Level AA Non-conformance\" & IF(COUNTIF(DW74:DW115,\"NON CONFORMANT\")=1,\"\",\"s\"),\"\") & IF(Statistics!$S5=\"Yes\",\"\n\" & COUNTIF(DW120:DW174,\"NON CONFORMANT\") & \" Level AAA Non-conformance\" & IF(COUNTIF(DW120:DW174,\"NON CONFORMANT\")=1,\"\",\"s\"),\"\")","v":"0 Level A Non-conformances\n0 Level AA Non-conformances"},{"$f":"IF(Statistics!$S3=\"Yes\",COUNTIF(DX8:DX69,\"NON CONFORMANT\") & \" Level A Non-conformance\" & IF(COUNTIF(DX8:DX69,\"NON CONFORMANT\")=1,\"\",\"s\"),\"\") & IF(Statistics!$S4=\"Yes\",\"\n\" & COUNTIF(DX74:DX115,\"NON CONFORMANT\") & \" Level AA Non-conformance\" & IF(COUNTIF(DX74:DX115,\"NON CONFORMANT\")=1,\"\",\"s\"),\"\") & IF(Statistics!$S5=\"Yes\",\"\n\" & COUNTIF(DX120:DX174,\"NON CONFORMANT\") & \" Level AAA Non-conformance\" & IF(COUNTIF(DX120:DX174,\"NON CONFORMANT\")=1,\"\",\"s\"),\"\")","v":"0 Level A Non-conformances\n0 Level AA Non-conformances"},{"$f":"IF(Statistics!$S3=\"Yes\",COUNTIF(DY8:DY69,\"NON CONFORMANT\") & \" Level A Non-conformance\" & IF(COUNTIF(DY8:DY69,\"NON CONFORMANT\")=1,\"\",\"s\"),\"\") & IF(Statistics!$S4=\"Yes\",\"\n\" & COUNTIF(DY74:DY115,\"NON CONFORMANT\") & \" Level AA Non-conformance\" & IF(COUNTIF(DY74:DY115,\"NON CONFORMANT\")=1,\"\",\"s\"),\"\") & IF(Statistics!$S5=\"Yes\",\"\n\" & COUNTIF(DY120:DY174,\"NON CONFORMANT\") & \" Level AAA Non-conformance\" & IF(COUNTIF(DY120:DY174,\"NON CONFORMANT\")=1,\"\",\"s\"),\"\")","v":"0 Level A Non-conformances\n0 Level AA Non-conformances"},{"$f":"IF(Statistics!$S3=\"Yes\",COUNTIF(DZ8:DZ69,\"NON CONFORMANT\") & \" Level A Non-conformance\" & IF(COUNTIF(DZ8:DZ69,\"NON CONFORMANT\")=1,\"\",\"s\"),\"\") & IF(Statistics!$S4=\"Yes\",\"\n\" & COUNTIF(DZ74:DZ115,\"NON CONFORMANT\") & \" Level AA Non-conformance\" & IF(COUNTIF(DZ74:DZ115,\"NON CONFORMANT\")=1,\"\",\"s\"),\"\") & IF(Statistics!$S5=\"Yes\",\"\n\" & COUNTIF(DZ120:DZ174,\"NON CONFORMANT\") & \" Level AAA Non-conformance\" & IF(COUNTIF(DZ120:DZ174,\"NON CONFORMANT\")=1,\"\",\"s\"),\"\")","v":"0 Level A Non-conformances\n0 Level AA Non-conformances"},{"$f":"IF(Statistics!$S3=\"Yes\",COUNTIF(EA8:EA69,\"NON CONFORMANT\") & \" Level A Non-conformance\" & IF(COUNTIF(EA8:EA69,\"NON CONFORMANT\")=1,\"\",\"s\"),\"\") & IF(Statistics!$S4=\"Yes\",\"\n\" & COUNTIF(EA74:EA115,\"NON CONFORMANT\") & \" Level AA Non-conformance\" & IF(COUNTIF(EA74:EA115,\"NON CONFORMANT\")=1,\"\",\"s\"),\"\") & IF(Statistics!$S5=\"Yes\",\"\n\" & COUNTIF(EA120:EA174,\"NON CONFORMANT\") & \" Level AAA Non-conformance\" & IF(COUNTIF(EA120:EA174,\"NON CONFORMANT\")=1,\"\",\"s\"),\"\")","v":"0 Level A Non-conformances\n0 Level AA Non-conformances"},{"$f":"IF(Statistics!$S3=\"Yes\",COUNTIF(EB8:EB69,\"NON CONFORMANT\") & \" Level A Non-conformance\" & IF(COUNTIF(EB8:EB69,\"NON CONFORMANT\")=1,\"\",\"s\"),\"\") & IF(Statistics!$S4=\"Yes\",\"\n\" & COUNTIF(EB74:EB115,\"NON CONFORMANT\") & \" Level AA Non-conformance\" & IF(COUNTIF(EB74:EB115,\"NON CONFORMANT\")=1,\"\",\"s\"),\"\") & IF(Statistics!$S5=\"Yes\",\"\n\" & COUNTIF(EB120:EB174,\"NON CONFORMANT\") & \" Level AAA Non-conformance\" & IF(COUNTIF(EB120:EB174,\"NON CONFORMANT\")=1,\"\",\"s\"),\"\")","v":"0 Level A Non-conformances\n0 Level AA Non-conformances"},{"$f":"IF(Statistics!$S3=\"Yes\",COUNTIF(EC8:EC69,\"NON CONFORMANT\") & \" Level A Non-conformance\" & IF(COUNTIF(EC8:EC69,\"NON CONFORMANT\")=1,\"\",\"s\"),\"\") & IF(Statistics!$S4=\"Yes\",\"\n\" & COUNTIF(EC74:EC115,\"NON CONFORMANT\") & \" Level AA Non-conformance\" & IF(COUNTIF(EC74:EC115,\"NON CONFORMANT\")=1,\"\",\"s\"),\"\") & IF(Statistics!$S5=\"Yes\",\"\n\" & COUNTIF(EC120:EC174,\"NON CONFORMANT\") & \" Level AAA Non-conformance\" & IF(COUNTIF(EC120:EC174,\"NON CONFORMANT\")=1,\"\",\"s\"),\"\")","v":"0 Level A Non-conformances\n0 Level AA Non-conformances"},{"$f":"IF(Statistics!$S3=\"Yes\",COUNTIF(ED8:ED69,\"NON CONFORMANT\") & \" Level A Non-conformance\" & IF(COUNTIF(ED8:ED69,\"NON CONFORMANT\")=1,\"\",\"s\"),\"\") & IF(Statistics!$S4=\"Yes\",\"\n\" & COUNTIF(ED74:ED115,\"NON CONFORMANT\") & \" Level AA Non-conformance\" & IF(COUNTIF(ED74:ED115,\"NON CONFORMANT\")=1,\"\",\"s\"),\"\") & IF(Statistics!$S5=\"Yes\",\"\n\" & COUNTIF(ED120:ED174,\"NON CONFORMANT\") & \" Level AAA Non-conformance\" & IF(COUNTIF(ED120:ED174,\"NON CONFORMANT\")=1,\"\",\"s\"),\"\")","v":"0 Level A Non-conformances\n0 Level AA Non-conformances"},{"$f":"IF(Statistics!$S3=\"Yes\",COUNTIF(EE8:EE69,\"NON CONFORMANT\") & \" Level A Non-conformance\" & IF(COUNTIF(EE8:EE69,\"NON CONFORMANT\")=1,\"\",\"s\"),\"\") & IF(Statistics!$S4=\"Yes\",\"\n\" & COUNTIF(EE74:EE115,\"NON CONFORMANT\") & \" Level AA Non-conformance\" & IF(COUNTIF(EE74:EE115,\"NON CONFORMANT\")=1,\"\",\"s\"),\"\") & IF(Statistics!$S5=\"Yes\",\"\n\" & COUNTIF(EE120:EE174,\"NON CONFORMANT\") & \" Level AAA Non-conformance\" & IF(COUNTIF(EE120:EE174,\"NON CONFORMANT\")=1,\"\",\"s\"),\"\")","v":"0 Level A Non-conformances\n0 Level AA Non-conformances"},{"$f":"IF(Statistics!$S3=\"Yes\",COUNTIF(EF8:EF69,\"NON CONFORMANT\") & \" Level A Non-conformance\" & IF(COUNTIF(EF8:EF69,\"NON CONFORMANT\")=1,\"\",\"s\"),\"\") & IF(Statistics!$S4=\"Yes\",\"\n\" & COUNTIF(EF74:EF115,\"NON CONFORMANT\") & \" Level AA Non-conformance\" & IF(COUNTIF(EF74:EF115,\"NON CONFORMANT\")=1,\"\",\"s\"),\"\") & IF(Statistics!$S5=\"Yes\",\"\n\" & COUNTIF(EF120:EF174,\"NON CONFORMANT\") & \" Level AAA Non-conformance\" & IF(COUNTIF(EF120:EF174,\"NON CONFORMANT\")=1,\"\",\"s\"),\"\")","v":"0 Level A Non-conformances\n0 Level AA Non-conformances"},{"$f":"IF(Statistics!$S3=\"Yes\",COUNTIF(EG8:EG69,\"NON CONFORMANT\") & \" Level A Non-conformance\" & IF(COUNTIF(EG8:EG69,\"NON CONFORMANT\")=1,\"\",\"s\"),\"\") & IF(Statistics!$S4=\"Yes\",\"\n\" & COUNTIF(EG74:EG115,\"NON CONFORMANT\") & \" Level AA Non-conformance\" & IF(COUNTIF(EG74:EG115,\"NON CONFORMANT\")=1,\"\",\"s\"),\"\") & IF(Statistics!$S5=\"Yes\",\"\n\" & COUNTIF(EG120:EG174,\"NON CONFORMANT\") & \" Level AAA Non-conformance\" & IF(COUNTIF(EG120:EG174,\"NON CONFORMANT\")=1,\"\",\"s\"),\"\")","v":"0 Level A Non-conformances\n0 Level AA Non-conformances"},{"$f":"IF(Statistics!$S3=\"Yes\",COUNTIF(EH8:EH69,\"NON CONFORMANT\") & \" Level A Non-conformance\" & IF(COUNTIF(EH8:EH69,\"NON CONFORMANT\")=1,\"\",\"s\"),\"\") & IF(Statistics!$S4=\"Yes\",\"\n\" & COUNTIF(EH74:EH115,\"NON CONFORMANT\") & \" Level AA Non-conformance\" & IF(COUNTIF(EH74:EH115,\"NON CONFORMANT\")=1,\"\",\"s\"),\"\") & IF(Statistics!$S5=\"Yes\",\"\n\" & COUNTIF(EH120:EH174,\"NON CONFORMANT\") & \" Level AAA Non-conformance\" & IF(COUNTIF(EH120:EH174,\"NON CONFORMANT\")=1,\"\",\"s\"),\"\")","v":"0 Level A Non-conformances\n0 Level AA Non-conformances"},{"$f":"IF(Statistics!$S3=\"Yes\",COUNTIF(EI8:EI69,\"NON CONFORMANT\") & \" Level A Non-conformance\" & IF(COUNTIF(EI8:EI69,\"NON CONFORMANT\")=1,\"\",\"s\"),\"\") & IF(Statistics!$S4=\"Yes\",\"\n\" & COUNTIF(EI74:EI115,\"NON CONFORMANT\") & \" Level AA Non-conformance\" & IF(COUNTIF(EI74:EI115,\"NON CONFORMANT\")=1,\"\",\"s\"),\"\") & IF(Statistics!$S5=\"Yes\",\"\n\" & COUNTIF(EI120:EI174,\"NON CONFORMANT\") & \" Level AAA Non-conformance\" & IF(COUNTIF(EI120:EI174,\"NON CONFORMANT\")=1,\"\",\"s\"),\"\")","v":"0 Level A Non-conformances\n0 Level AA Non-conformances"},{"$f":"IF(Statistics!$S3=\"Yes\",COUNTIF(EJ8:EJ69,\"NON CONFORMANT\") & \" Level A Non-conformance\" & IF(COUNTIF(EJ8:EJ69,\"NON CONFORMANT\")=1,\"\",\"s\"),\"\") & IF(Statistics!$S4=\"Yes\",\"\n\" & COUNTIF(EJ74:EJ115,\"NON CONFORMANT\") & \" Level AA Non-conformance\" & IF(COUNTIF(EJ74:EJ115,\"NON CONFORMANT\")=1,\"\",\"s\"),\"\") & IF(Statistics!$S5=\"Yes\",\"\n\" & COUNTIF(EJ120:EJ174,\"NON CONFORMANT\") & \" Level AAA Non-conformance\" & IF(COUNTIF(EJ120:EJ174,\"NON CONFORMANT\")=1,\"\",\"s\"),\"\")","v":"0 Level A Non-conformances\n0 Level AA Non-conformances"},{"$f":"IF(Statistics!$S3=\"Yes\",COUNTIF(EK8:EK69,\"NON CONFORMANT\") & \" Level A Non-conformance\" & IF(COUNTIF(EK8:EK69,\"NON CONFORMANT\")=1,\"\",\"s\"),\"\") & IF(Statistics!$S4=\"Yes\",\"\n\" & COUNTIF(EK74:EK115,\"NON CONFORMANT\") & \" Level AA Non-conformance\" & IF(COUNTIF(EK74:EK115,\"NON CONFORMANT\")=1,\"\",\"s\"),\"\") & IF(Statistics!$S5=\"Yes\",\"\n\" & COUNTIF(EK120:EK174,\"NON CONFORMANT\") & \" Level AAA Non-conformance\" & IF(COUNTIF(EK120:EK174,\"NON CONFORMANT\")=1,\"\",\"s\"),\"\")","v":"0 Level A Non-conformances\n0 Level AA Non-conformances"},{"$f":"IF(Statistics!$S3=\"Yes\",COUNTIF(EL8:EL69,\"NON CONFORMANT\") & \" Level A Non-conformance\" & IF(COUNTIF(EL8:EL69,\"NON CONFORMANT\")=1,\"\",\"s\"),\"\") & IF(Statistics!$S4=\"Yes\",\"\n\" & COUNTIF(EL74:EL115,\"NON CONFORMANT\") & \" Level AA Non-conformance\" & IF(COUNTIF(EL74:EL115,\"NON CONFORMANT\")=1,\"\",\"s\"),\"\") & IF(Statistics!$S5=\"Yes\",\"\n\" & COUNTIF(EL120:EL174,\"NON CONFORMANT\") & \" Level AAA Non-conformance\" & IF(COUNTIF(EL120:EL174,\"NON CONFORMANT\")=1,\"\",\"s\"),\"\")","v":"0 Level A Non-conformances\n0 Level AA Non-conformances"},{"$f":"IF(Statistics!$S3=\"Yes\",COUNTIF(EM8:EM69,\"NON CONFORMANT\") & \" Level A Non-conformance\" & IF(COUNTIF(EM8:EM69,\"NON CONFORMANT\")=1,\"\",\"s\"),\"\") & IF(Statistics!$S4=\"Yes\",\"\n\" & COUNTIF(EM74:EM115,\"NON CONFORMANT\") & \" Level AA Non-conformance\" & IF(COUNTIF(EM74:EM115,\"NON CONFORMANT\")=1,\"\",\"s\"),\"\") & IF(Statistics!$S5=\"Yes\",\"\n\" & COUNTIF(EM120:EM174,\"NON CONFORMANT\") & \" Level AAA Non-conformance\" & IF(COUNTIF(EM120:EM174,\"NON CONFORMANT\")=1,\"\",\"s\"),\"\")","v":"0 Level A Non-conformances\n0 Level AA Non-conformances"},{"$f":"IF(Statistics!$S3=\"Yes\",COUNTIF(EN8:EN69,\"NON CONFORMANT\") & \" Level A Non-conformance\" & IF(COUNTIF(EN8:EN69,\"NON CONFORMANT\")=1,\"\",\"s\"),\"\") & IF(Statistics!$S4=\"Yes\",\"\n\" & COUNTIF(EN74:EN115,\"NON CONFORMANT\") & \" Level AA Non-conformance\" & IF(COUNTIF(EN74:EN115,\"NON CONFORMANT\")=1,\"\",\"s\"),\"\") & IF(Statistics!$S5=\"Yes\",\"\n\" & COUNTIF(EN120:EN174,\"NON CONFORMANT\") & \" Level AAA Non-conformance\" & IF(COUNTIF(EN120:EN174,\"NON CONFORMANT\")=1,\"\",\"s\"),\"\")","v":"0 Level A Non-conformances\n0 Level AA Non-conformances"},{"$f":"IF(Statistics!$S3=\"Yes\",COUNTIF(EO8:EO69,\"NON CONFORMANT\") & \" Level A Non-conformance\" & IF(COUNTIF(EO8:EO69,\"NON CONFORMANT\")=1,\"\",\"s\"),\"\") & IF(Statistics!$S4=\"Yes\",\"\n\" & COUNTIF(EO74:EO115,\"NON CONFORMANT\") & \" Level AA Non-conformance\" & IF(COUNTIF(EO74:EO115,\"NON CONFORMANT\")=1,\"\",\"s\"),\"\") & IF(Statistics!$S5=\"Yes\",\"\n\" & COUNTIF(EO120:EO174,\"NON CONFORMANT\") & \" Level AAA Non-conformance\" & IF(COUNTIF(EO120:EO174,\"NON CONFORMANT\")=1,\"\",\"s\"),\"\")","v":"0 Level A Non-conformances\n0 Level AA Non-conformances"},{"$f":"IF(Statistics!$S3=\"Yes\",COUNTIF(EP8:EP69,\"NON CONFORMANT\") & \" Level A Non-conformance\" & IF(COUNTIF(EP8:EP69,\"NON CONFORMANT\")=1,\"\",\"s\"),\"\") & IF(Statistics!$S4=\"Yes\",\"\n\" & COUNTIF(EP74:EP115,\"NON CONFORMANT\") & \" Level AA Non-conformance\" & IF(COUNTIF(EP74:EP115,\"NON CONFORMANT\")=1,\"\",\"s\"),\"\") & IF(Statistics!$S5=\"Yes\",\"\n\" & COUNTIF(EP120:EP174,\"NON CONFORMANT\") & \" Level AAA Non-conformance\" & IF(COUNTIF(EP120:EP174,\"NON CONFORMANT\")=1,\"\",\"s\"),\"\")","v":"0 Level A Non-conformances\n0 Level AA Non-conformances"},{"$f":"IF(Statistics!$S3=\"Yes\",COUNTIF(EQ8:EQ69,\"NON CONFORMANT\") & \" Level A Non-conformance\" & IF(COUNTIF(EQ8:EQ69,\"NON CONFORMANT\")=1,\"\",\"s\"),\"\") & IF(Statistics!$S4=\"Yes\",\"\n\" & COUNTIF(EQ74:EQ115,\"NON CONFORMANT\") & \" Level AA Non-conformance\" & IF(COUNTIF(EQ74:EQ115,\"NON CONFORMANT\")=1,\"\",\"s\"),\"\") & IF(Statistics!$S5=\"Yes\",\"\n\" & COUNTIF(EQ120:EQ174,\"NON CONFORMANT\") & \" Level AAA Non-conformance\" & IF(COUNTIF(EQ120:EQ174,\"NON CONFORMANT\")=1,\"\",\"s\"),\"\")","v":"0 Level A Non-conformances\n0 Level AA Non-conformances"},{"$f":"IF(Statistics!$S3=\"Yes\",COUNTIF(ER8:ER69,\"NON CONFORMANT\") & \" Level A Non-conformance\" & IF(COUNTIF(ER8:ER69,\"NON CONFORMANT\")=1,\"\",\"s\"),\"\") & IF(Statistics!$S4=\"Yes\",\"\n\" & COUNTIF(ER74:ER115,\"NON CONFORMANT\") & \" Level AA Non-conformance\" & IF(COUNTIF(ER74:ER115,\"NON CONFORMANT\")=1,\"\",\"s\"),\"\") & IF(Statistics!$S5=\"Yes\",\"\n\" & COUNTIF(ER120:ER174,\"NON CONFORMANT\") & \" Level AAA Non-conformance\" & IF(COUNTIF(ER120:ER174,\"NON CONFORMANT\")=1,\"\",\"s\"),\"\")","v":"0 Level A Non-conformances\n0 Level AA Non-conformances"},{"$f":"IF(Statistics!$S3=\"Yes\",COUNTIF(ES8:ES69,\"NON CONFORMANT\") & \" Level A Non-conformance\" & IF(COUNTIF(ES8:ES69,\"NON CONFORMANT\")=1,\"\",\"s\"),\"\") & IF(Statistics!$S4=\"Yes\",\"\n\" & COUNTIF(ES74:ES115,\"NON CONFORMANT\") & \" Level AA Non-conformance\" & IF(COUNTIF(ES74:ES115,\"NON CONFORMANT\")=1,\"\",\"s\"),\"\") & IF(Statistics!$S5=\"Yes\",\"\n\" & COUNTIF(ES120:ES174,\"NON CONFORMANT\") & \" Level AAA Non-conformance\" & IF(COUNTIF(ES120:ES174,\"NON CONFORMANT\")=1,\"\",\"s\"),\"\")","v":"0 Level A Non-conformances\n0 Level AA Non-conformances"},{"$f":"IF(Statistics!$S3=\"Yes\",COUNTIF(ET8:ET69,\"NON CONFORMANT\") & \" Level A Non-conformance\" & IF(COUNTIF(ET8:ET69,\"NON CONFORMANT\")=1,\"\",\"s\"),\"\") & IF(Statistics!$S4=\"Yes\",\"\n\" & COUNTIF(ET74:ET115,\"NON CONFORMANT\") & \" Level AA Non-conformance\" & IF(COUNTIF(ET74:ET115,\"NON CONFORMANT\")=1,\"\",\"s\"),\"\") & IF(Statistics!$S5=\"Yes\",\"\n\" & COUNTIF(ET120:ET174,\"NON CONFORMANT\") & \" Level AAA Non-conformance\" & IF(COUNTIF(ET120:ET174,\"NON CONFORMANT\")=1,\"\",\"s\"),\"\")","v":"0 Level A Non-conformances\n0 Level AA Non-conformances"},{"$f":"IF(Statistics!$S3=\"Yes\",COUNTIF(EU8:EU69,\"NON CONFORMANT\") & \" Level A Non-conformance\" & IF(COUNTIF(EU8:EU69,\"NON CONFORMANT\")=1,\"\",\"s\"),\"\") & IF(Statistics!$S4=\"Yes\",\"\n\" & COUNTIF(EU74:EU115,\"NON CONFORMANT\") & \" Level AA Non-conformance\" & IF(COUNTIF(EU74:EU115,\"NON CONFORMANT\")=1,\"\",\"s\"),\"\") & IF(Statistics!$S5=\"Yes\",\"\n\" & COUNTIF(EU120:EU174,\"NON CONFORMANT\") & \" Level AAA Non-conformance\" & IF(COUNTIF(EU120:EU174,\"NON CONFORMANT\")=1,\"\",\"s\"),\"\")","v":"0 Level A Non-conformances\n0 Level AA Non-conformances"},{"$f":"IF(Statistics!$S3=\"Yes\",COUNTIF(EV8:EV69,\"NON CONFORMANT\") & \" Level A Non-conformance\" & IF(COUNTIF(EV8:EV69,\"NON CONFORMANT\")=1,\"\",\"s\"),\"\") & IF(Statistics!$S4=\"Yes\",\"\n\" & COUNTIF(EV74:EV115,\"NON CONFORMANT\") & \" Level AA Non-conformance\" & IF(COUNTIF(EV74:EV115,\"NON CONFORMANT\")=1,\"\",\"s\"),\"\") & IF(Statistics!$S5=\"Yes\",\"\n\" & COUNTIF(EV120:EV174,\"NON CONFORMANT\") & \" Level AAA Non-conformance\" & IF(COUNTIF(EV120:EV174,\"NON CONFORMANT\")=1,\"\",\"s\"),\"\")","v":"0 Level A Non-conformances\n0 Level AA Non-conformances"},{"$f":"IF(Statistics!$S3=\"Yes\",COUNTIF(EW8:EW69,\"NON CONFORMANT\") & \" Level A Non-conformance\" & IF(COUNTIF(EW8:EW69,\"NON CONFORMANT\")=1,\"\",\"s\"),\"\") & IF(Statistics!$S4=\"Yes\",\"\n\" & COUNTIF(EW74:EW115,\"NON CONFORMANT\") & \" Level AA Non-conformance\" & IF(COUNTIF(EW74:EW115,\"NON CONFORMANT\")=1,\"\",\"s\"),\"\") & IF(Statistics!$S5=\"Yes\",\"\n\" & COUNTIF(EW120:EW174,\"NON CONFORMANT\") & \" Level AAA Non-conformance\" & IF(COUNTIF(EW120:EW174,\"NON CONFORMANT\")=1,\"\",\"s\"),\"\")","v":"0 Level A Non-conformances\n0 Level AA Non-conformances"},{"$f":"IF(Statistics!$S3=\"Yes\",COUNTIF(EX8:EX69,\"NON CONFORMANT\") & \" Level A Non-conformance\" & IF(COUNTIF(EX8:EX69,\"NON CONFORMANT\")=1,\"\",\"s\"),\"\") & IF(Statistics!$S4=\"Yes\",\"\n\" & COUNTIF(EX74:EX115,\"NON CONFORMANT\") & \" Level AA Non-conformance\" & IF(COUNTIF(EX74:EX115,\"NON CONFORMANT\")=1,\"\",\"s\"),\"\") & IF(Statistics!$S5=\"Yes\",\"\n\" & COUNTIF(EX120:EX174,\"NON CONFORMANT\") & \" Level AAA Non-conformance\" & IF(COUNTIF(EX120:EX174,\"NON CONFORMANT\")=1,\"\",\"s\"),\"\")","v":"0 Level A Non-conformances\n0 Level AA Non-conformances"}]
["1.1.1","A","Non-text Content","All non-text content that is presented to the user has a text alternative that serves the equivalent purpose.","NON CONFORMANT","PASS with comments","NON CONFORMANT","NON CONFORMANT","PASS","NON CONFORMANT"]
[null,null,null,null,"The \"home\" icon is embedded into the text link, so the 'alt' attribute should have a null value.","Comment: The social media links in the content do not have the same destination page as the footer links. It may make sense to make sure that the links in the footer are always identified differently to the links in the main area. Consider changing the 'alt' attributes to something like, \"Follow Team London on Twitter\", etc.","Some image alt attributes contain words like \"image.\"\n\nWhere images embedded in text links (e.g. \"Darius and his classmates volunteer to help the homeless\") they should have alt attributes with null values.","Some image alt attributes contain words like \"image.\" In this context, if possible, the images should have null values in the alt attributes.",null,"Where images embedded in text links (e.g. \"Creating a happy and committed team of volunteers\") they should have alt attributes with null values."]
["1.2.1","A","Audio-only and Video-only (Pre-recorded)","For pre-recorded audio-only and pre-recorded video-only media, an alternative for time-based media or an audio track is provided that presents equivalent information. ","N/A","N/A","N/A","N/A","N/A","N/A"]
[null,null,null,null,"There is no pre-recorded audio-only or pre-recorded video-only media.","There is no pre-recorded audio-only or pre-recorded video-only media.","There is no pre-recorded audio-only or pre-recorded video-only media.","There is no pre-recorded audio-only or pre-recorded video-only media.","There is no pre-recorded audio-only or pre-recorded video-only media.","There is no pre-recorded audio-only or pre-recorded video-only media."]
["1.2.2","A","Captions (Pre-recorded)","Captions are provided for all pre-recorded audio content in synchronized media, except when the media is a media alternative for text and is clearly labelled as such. ","N/A","N/A","N/A","N/A","N/A","N/A"]
[null,null,null,null,"There is no synchronised media.","There is no synchronised media.","There is no synchronised media.","There is no synchronised media.","There is no synchronised media.","There is no synchronised media."]
["1.2.3","A","Audio Description or Media Alternative (Pre-recorded)","An alternative for time-based media or audio description of the pre-recorded video content is provided for synchronized media, except when the media is a media alternative for text and is clearly labelled as such.","N/A","N/A","N/A","N/A","N/A","N/A"]
[null,null,null,null,"There is no time based media or pre-recorded video content .","There is no time based media or pre-recorded video content .","There is no time based media or pre-recorded video content .","There is no time based media or pre-recorded video content .","There is no time based media or pre-recorded video content .","There is no time based media or pre-recorded video content ."]
["1.3.1","A","Info and Relationships","Information, structure, and relationships conveyed through presentation can be programmatically determined or are available in text.","PASS with comments","NON CONFORMANT","NON CONFORMANT","NON CONFORMANT","NON CONFORMANT","PASS"]
[null,null,null,null,"The last item in the breadcrumb trail (\"Welcome to Team London volunteering\") should have an aria-current=\"page\" attribute.","The <h3> headings 'Useful Links' and 'Connect with us' should be in <h2> heading elements.","The text, \"Interest, cause or organisation\" should be in an <h3> heading element.\n\nThe text, \"Search\" should be in an explicitly associated text label for the search input element.\n \nA <fieldset> has been used, but the <legend> element has no value. Remove the <fieldset> element, as one has been used appropriately to group the radio buttons and this one is unnecessary.","The postcode search input element has an explicitly associated text <label> with no value. Note too that the 'for' value does not exactly match the input 'id' attribute value.\n\nA <fieldset> has been used in the Filters section, but the <legend> element has no value. Remove the <fieldset> element, as the <h3> headings are sufficient.\n\nComment: Headings are nested correctly, but consider adding an <h3> heading with the text, \"Search results\" which would improve in-page navigation and structure for screen reader software users. This would not need to be visible on the screen.","The, \"When are you needed?\" calendar tool is a data table. There is an empty <th> cell in the top row that should be a <td> element, as <th> elements cannot be empty."]
["1.3.2","A","Meaningful Sequence","When the sequence in which content is presented affects its meaning, a correct reading sequence can be programmatically determined.","PASS","PASS","PASS","PASS","PASS","PASS"]
[]
["1.3.3","A","Sensory Characteristics","Instructions provided for understanding and operating content do not rely solely on sensory characteristics of components such as shape, size, visual location, orientation, or sound. ","PASS","PASS","PASS","PASS","PASS","PASS"]
[]
["1.4.1","A","Use of Colour","Colour is not used as the only visual means of conveying information, indicating an action, prompting a response, or distinguishing a visual element.","PASS","PASS","PASS","PASS","PASS","PASS"]
[]
["1.4.2","A","Audio Control","If any audio on a Web page plays automatically for more than 3 seconds, either a mechanism is available to pause or stop the audio, or a mechanism is available to control audio volume independently from the overall system volume level. ","N/A","N/A","N/A","N/A","N/A","N/A"]
[null,null,null,null,"The page does not contain any audio content.","The page does not contain any audio content.","The page does not contain any audio content.","The page does not contain any audio content.","The page does not contain any audio content.","The page does not contain any audio content."]
["W3C Ref.","Level.",null,"Principle 2: Operable - User interface components and navigation must be operable."]
["2.1.1","A","Keyboard Navigation","All functionality of the content is operable through a keyboard interface without requiring specific timings for individual keystrokes, except where the underlying function requires input that depends on the path of the user's movement and not just the endpoints.","PASS","PASS","PASS","PASS","PASS","PASS"]
[]
["2.1.2","A","No Keyboard Trap","If keyboard focus can be moved to a component of the page using a keyboard interface, then focus can be moved away from that component using only a keyboard interface, and, if it requires more than unmodified arrow or tab keys or other standard exit methods, the user is advised of the method for moving focus away.","PASS","PASS","PASS","PASS","PASS","PASS"]
[]
["2.1.4","A","Character Key Shortcuts","If a keyboard shortcut is implemented in content using only letter (including upper- and lower-case letters), punctuation, number, or symbol characters, then at least one of the following is true:","N/A","N/A","N/A","N/A","N/A","N/A"]
[null,null,null,"\nTurn off: A mechanism is available to turn the shortcut off;\nRemap: A mechanism is available to remap the shortcut to use one or more non-printable keyboard characters (e.g. Ctrl, Alt, etc);\nActive only on focus: The keyboard shortcut for a user interface component is only active when that component has focus.","There are no character key shortcuts.","There are no character key shortcuts.","There are no character key shortcuts.","There are no character key shortcuts.","There are no character key shortcuts.","There are no character key shortcuts."]
["2.2.1","A","Timing Adjustable","Provide users enough time to read and use content.","PASS","PASS","PASS","PASS","PASS","PASS"]
[]
["2.2.2","A","Pause, Stop, Hide","For moving, blinking, scrolling, or auto-updating information.","N/A","N/A","N/A","N/A","N/A","N/A"]
[null,null,null,null,"There is no moving, blinking, scrolling, or auto-updating information.","There is no moving, blinking, scrolling, or auto-updating information.","There is no moving, blinking, scrolling, or auto-updating information.","There is no moving, blinking, scrolling, or auto-updating information.","There is no moving, blinking, scrolling, or auto-updating information.","There is no moving, blinking, scrolling, or auto-updating information."]
["2.3.1","A","Three Flashes or Below Threshold","Web pages do not contain anything that flashes more than three times in any one second period, or the flash is below the general flash and red flash thresholds.","PASS","PASS","PASS","PASS","PASS","PASS"]
[]
["2.4.1","A","Bypass Blocks","A mechanism is available to bypass blocks of content that are repeated on multiple Web pages.","PASS","N/A","PASS","PASS","PASS","PASS"]
[null,null,null,null,null,"Applies to the page and not to the component"]
["2.4.2","A","Page Titled","Web pages have titles that describe topic or purpose.","N/A","N/A","PASS","PASS","PASS","PASS"]
[null,null,null,null,"N/A to Header component","N/A to Footer component"]
["2.4.3","A","Focus Order","If a Web page can be navigated sequentially and the navigation sequences affect meaning or operation, focusable components receive focus in an order that preserves meaning and operability.","PASS","PASS","PASS","PASS","PASS","PASS"]
[]
["2.4.4","A","Link Purpose (In Context)","The purpose of each link can be determined from the link text alone or from the link text together with its programmatically determined link context, except where the purpose of the link would be ambiguous to users in general.","PASS","PASS","PASS","PASS","PASS","PASS"]
[]
["2.5.1","A","Pointer Gestures","All functionality that uses multipoint or path-based gestures for operation can be operated with a single pointer without a path-based gesture, unless a multipoint or path-based gesture is essential.","N/A","N/A","N/A","N/A","N/A","N/A"]
[null,null,null,null,"There is no functionality that uses multipoint or path-based gestures.","There is no functionality that uses multipoint or path-based gestures.","There is no functionality that uses multipoint or path-based gestures.","There is no functionality that uses multipoint or path-based gestures.","There is no functionality that uses multipoint or path-based gestures.","There is no functionality that uses multipoint or path-based gestures."]
["2.5.2","A","Pointer Cancellation","For functionality that can be operated using a single pointer, at least one of the following is true:","PASS","PASS","PASS","PASS","PASS","PASS"]
[null,null,null,"\nNo Down-Event: The down-event of the pointer is not used to execute any part of the function;\nAbort or Undo: Completion of the function is on the up-event, and a mechanism is available to abort the function before completion or to undo the function after completion;\nUp Reversal: The up-event reverses any outcome of the preceding down-event;\nEssential: Completing the function on the down-event is essential.\n"]
["2.5.3","A","Label in Name","For user interface components with labels that include text or images of text, the name contains the text that is presented visually.","PASS","PASS","PASS","PASS","PASS","PASS"]
[]
["2.5.4","A","Motion Actuation","Functionality that can be operated by device motion or user motion can also be operated by user interface components and responding to the motion can be disabled to prevent accidental actuation, except when:","N/A","N/A","N/A","N/A","N/A","N/A"]
[null,null,null,"Supported Interface: The motion is used to operate functionality through an accessibility supported interface;\nEssential: The motion is essential for the function and doing so would invalidate the activity.\n","There is no functionality that can be operated by device motion or user motion.","There is no functionality that can be operated by device motion or user motion.","There is no functionality that can be operated by device motion or user motion.","There is no functionality that can be operated by device motion or user motion.","There is no functionality that can be operated by device motion or user motion.","There is no functionality that can be operated by device motion or user motion."]
["W3C Ref.","Level.",null,"Principle 3: Understandable - Information and the operation of user interface must be understandable."]
["3.1.1","A","Language of Page","The default human language of each Web page can be programmatically determined. ","N/A","N/A","PASS with comments","PASS with comments","PASS with comments","PASS with comments"]
[null,null,null,null,"The success criterion does not apply to components","The success criterion does not apply to components","The 'html' element has a language value of, \"en\", which is sufficient for this checkpoint. Some screen reader software has specific language addons, however, to help with pronunciation. A value of, \"en-GB\" is recommended.","The 'html' element has a language value of, \"en\", which is sufficient for this checkpoint. Some screen reader software has specific language addons, however, to help with pronunciation. A value of, \"en-GB\" is recommended.","The 'html' element has a language value of, \"en\", which is sufficient for this checkpoint. Some screen reader software has specific language addons, however, to help with pronunciation. A value of, \"en-GB\" is recommended.","The 'html' element has a language value of, \"en\", which is sufficient for this checkpoint. Some screen reader software has specific language addons, however, to help with pronunciation. A value of, \"en-GB\" is recommended."]
["3.2.1","A","On Focus","When any component receives focus, it does not initiate a change of context.","PASS","PASS","PASS","PASS","PASS","PASS"]
[]
["3.2.2","A","On Input","Changing the setting of any user interface component does not automatically cause a change of context unless the user has been advised of the behaviour before using the component","PASS","PASS","PASS","PASS with comments","PASS","PASS"]
[null,null,null,null,null,null,null,"Although there is a change of context, users are warned in advance"]
["3.3.1","A","Error Identification","If an input error is automatically detected, the item that is in error is identified and the error is described to the user in text.","N/A","N/A","N/A","N/A","N/A","N/A"]
[]
["3.3.2","A","Labels or Instructions","Labels or instructions are provided when content requires user input.","N/A","N/A","PASS","NON CONFORMANT","N/A","N/A"]
[null,null,null,null,null,null,null,"The text, \"Please note that when you select these search filters, the page will refresh.\" should really come immediately after the \"Filter\" heading in the reading order."]
["W3C Ref.","Level.",null,"Guideline 4.1 Compatible: Maximize compatibility with current and future user agents, including assistive technologies."]
["4.1.1","A","Parsing","In content implemented using mark-up languages, elements have complete start and end tags, elements are nested according to their specifications, elements do not contain duplicate attributes, and any IDs are unique, except where the specifications allow these features.","PASS","PASS","PASS","PASS","PASS","PASS"]
[]
["4.1.2","A","Name, Role, Value","For all user interface components (including but not limited to: form elements, links and components generated by scripts), the name and role can be programmatically determined; states, properties, and values that can be set by the user can be programmatically set; and notification of changes to these items is available to user agents, including assistive technologies. ","PASS","PASS","PASS","PASS","PASS","PASS"]
[]
[]
[null,null,"Level AA Success Criteria"]
["W3C Ref.","Level.",null,"Principle 1: Perceivable - Information and user interface components must be presentable to users in ways they can perceive."]
["1.2.4","AA","Captions","Captions are provided for all live audio content in synchronized media. ","N/A","N/A","N/A","N/A","N/A","N/A"]
[null,null,null,null,"There is no live audio.","There is no live audio.","There is no live audio.","There is no live audio.","There is no live audio.","There is no live audio."]
["1.2.5","AA","Audio Description (Pre-recorded)","Audio description is provided for all pre-recorded video content in synchronized media.","N/A","N/A","N/A","N/A","N/A","N/A"]
[null,null,null,null,"There is no synchronised media.","There is no synchronised media.","There is no synchronised media.","There is no synchronised media.","There is no synchronised media.","There is no synchronised media."]
["1.3.4","AA","Orientation","Content does not restrict its view and operation to a single display orientation, such as portrait or landscape, unless a specific display orientation is essential.","PASS","PASS","PASS","PASS","PASS","PASS"]
[]
["1.3.5","AA"," Identify Input Purpose","The purpose of each input field collecting information about the user can be programmatically determined when:","N/A","N/A","N/A","N/A","N/A","N/A"]
[null,null,null,"\nThe input field serves a purpose identified in the Input Purposes for User Interface Components section; and\nThe content is implemented using technologies with support for identifying the expected meaning for form input data."]
["1.4.3","AA","Colour Contrast","The visual presentation of text and images of text has a contrast ratio of at least 4.5:1",{"$f":"IF('[2]Colour Contrast Analysis'!Y4=\"0 Faults\",\"PASS\",\"NON COMPLIANT\")","v":"PASS"},{"$f":"IF('[2]Colour Contrast Analysis'!Z4=\"0 Faults\",\"PASS\",\"NON COMPLIANT\")","v":"PASS"},{"$f":"IF('[2]Colour Contrast Analysis'!AA4=\"0 Faults\",\"PASS\",\"NON COMPLIANT\")","v":"PASS"},{"$f":"IF('Colour Contrast Analysis'!AB4=\"0 Faults\",\"PASS\",\"NON CONFORMANT\")","v":"PASS"},{"$f":"IF('Colour Contrast Analysis'!AC4=\"0 Faults\",\"PASS\",\"NON CONFORMANT\")","v":"PASS"},{"$f":"IF('Colour Contrast Analysis'!AD4=\"0 Faults\",\"PASS\",\"NON CONFORMANT\")","v":"NON CONFORMANT"},{"$f":"IF('Colour Contrast Analysis'!AE4=\"0 Faults\",\"PASS\",\"NON CONFORMANT\")","v":"PASS"},{"$f":"IF('Colour Contrast Analysis'!AF4=\"0 Faults\",\"PASS\",\"NON CONFORMANT\")","v":"PASS"},{"$f":"IF('Colour Contrast Analysis'!AG4=\"0 Faults\",\"PASS\",\"NON CONFORMANT\")","v":"PASS"},{"$f":"IF('Colour Contrast Analysis'!AH4=\"0 Faults\",\"PASS\",\"NON CONFORMANT\")","v":"PASS"},{"$f":"IF('Colour Contrast Analysis'!AI4=\"0 Faults\",\"PASS\",\"NON CONFORMANT\")","v":"PASS"},{"$f":"IF('Colour Contrast Analysis'!AJ4=\"0 Faults\",\"PASS\",\"NON CONFORMANT\")","v":"PASS"},{"$f":"IF('Colour Contrast Analysis'!AK4=\"0 Faults\",\"PASS\",\"NON CONFORMANT\")","v":"PASS"},{"$f":"IF('Colour Contrast Analysis'!AL4=\"0 Faults\",\"PASS\",\"NON CONFORMANT\")","v":"PASS"},{"$f":"IF('Colour Contrast Analysis'!AM4=\"0 Faults\",\"PASS\",\"NON CONFORMANT\")","v":"PASS"},{"$f":"IF('Colour Contrast Analysis'!AN4=\"0 Faults\",\"PASS\",\"NON CONFORMANT\")","v":"PASS"},{"$f":"IF('Colour Contrast Analysis'!AO4=\"0 Faults\",\"PASS\",\"NON CONFORMANT\")","v":"PASS"},{"$f":"IF('Colour Contrast Analysis'!AP4=\"0 Faults\",\"PASS\",\"NON CONFORMANT\")","v":"PASS"},{"$f":"IF('Colour Contrast Analysis'!AQ4=\"0 Faults\",\"PASS\",\"NON CONFORMANT\")","v":"PASS"},{"$f":"IF('Colour Contrast Analysis'!AR4=\"0 Faults\",\"PASS\",\"NON CONFORMANT\")","v":"PASS"},{"$f":"IF('Colour Contrast Analysis'!AS4=\"0 Faults\",\"PASS\",\"NON CONFORMANT\")","v":"PASS"},{"$f":"IF('Colour Contrast Analysis'!AT4=\"0 Faults\",\"PASS\",\"NON CONFORMANT\")","v":"PASS"},{"$f":"IF('Colour Contrast Analysis'!AU4=\"0 Faults\",\"PASS\",\"NON CONFORMANT\")","v":"PASS"},{"$f":"IF('Colour Contrast Analysis'!AV4=\"0 Faults\",\"PASS\",\"NON CONFORMANT\")","v":"PASS"},{"$f":"IF('Colour Contrast Analysis'!AW4=\"0 Faults\",\"PASS\",\"NON CONFORMANT\")","v":"PASS"},{"$f":"IF('Colour Contrast Analysis'!AX4=\"0 Faults\",\"PASS\",\"NON CONFORMANT\")","v":"PASS"},{"$f":"IF('Colour Contrast Analysis'!AY4=\"0 Faults\",\"PASS\",\"NON CONFORMANT\")","v":"PASS"},{"$f":"IF('Colour Contrast Analysis'!AZ4=\"0 Faults\",\"PASS\",\"NON CONFORMANT\")","v":"PASS"},{"$f":"IF('Colour Contrast Analysis'!BA4=\"0 Faults\",\"PASS\",\"NON CONFORMANT\")","v":"PASS"},{"$f":"IF('Colour Contrast Analysis'!BB4=\"0 Faults\",\"PASS\",\"NON CONFORMANT\")","v":"PASS"},{"$f":"IF('Colour Contrast Analysis'!BC4=\"0 Faults\",\"PASS\",\"NON CONFORMANT\")","v":"PASS"},{"$f":"IF('Colour Contrast Analysis'!BD4=\"0 Faults\",\"PASS\",\"NON CONFORMANT\")","v":"PASS"},{"$f":"IF('Colour Contrast Analysis'!BE4=\"0 Faults\",\"PASS\",\"NON CONFORMANT\")","v":"PASS"},{"$f":"IF('Colour Contrast Analysis'!BF4=\"0 Faults\",\"PASS\",\"NON CONFORMANT\")","v":"PASS"},{"$f":"IF('Colour Contrast Analysis'!BG4=\"0 Faults\",\"PASS\",\"NON CONFORMANT\")","v":"PASS"},{"$f":"IF('Colour Contrast Analysis'!BH4=\"0 Faults\",\"PASS\",\"NON CONFORMANT\")","v":"PASS"},{"$f":"IF('Colour Contrast Analysis'!BI4=\"0 Faults\",\"PASS\",\"NON CONFORMANT\")","v":"PASS"},{"$f":"IF('Colour Contrast Analysis'!BJ4=\"0 Faults\",\"PASS\",\"NON CONFORMANT\")","v":"PASS"},{"$f":"IF('Colour Contrast Analysis'!BK4=\"0 Faults\",\"PASS\",\"NON CONFORMANT\")","v":"PASS"},{"$f":"IF('Colour Contrast Analysis'!BL4=\"0 Faults\",\"PASS\",\"NON CONFORMANT\")","v":"PASS"},{"$f":"IF('Colour Contrast Analysis'!BM4=\"0 Faults\",\"PASS\",\"NON CONFORMANT\")","v":"PASS"},{"$f":"IF('Colour Contrast Analysis'!BN4=\"0 Faults\",\"PASS\",\"NON CONFORMANT\")","v":"PASS"},{"$f":"IF('Colour Contrast Analysis'!BO4=\"0 Faults\",\"PASS\",\"NON CONFORMANT\")","v":"PASS"},{"$f":"IF('Colour Contrast Analysis'!BP4=\"0 Faults\",\"PASS\",\"NON CONFORMANT\")","v":"PASS"},{"$f":"IF('Colour Contrast Analysis'!BQ4=\"0 Faults\",\"PASS\",\"NON CONFORMANT\")","v":"PASS"},{"$f":"IF('Colour Contrast Analysis'!BR4=\"0 Faults\",\"PASS\",\"NON CONFORMANT\")","v":"PASS"},{"$f":"IF('Colour Contrast Analysis'!BS4=\"0 Faults\",\"PASS\",\"NON CONFORMANT\")","v":"PASS"},{"$f":"IF('Colour Contrast Analysis'!BT4=\"0 Faults\",\"PASS\",\"NON CONFORMANT\")","v":"PASS"},{"$f":"IF('Colour Contrast Analysis'!BU4=\"0 Faults\",\"PASS\",\"NON CONFORMANT\")","v":"PASS"},{"$f":"IF('Colour Contrast Analysis'!BV4=\"0 Faults\",\"PASS\",\"NON CONFORMANT\")","v":"PASS"},{"$f":"IF('Colour Contrast Analysis'!BW4=\"0 Faults\",\"PASS\",\"NON CONFORMANT\")","v":"PASS"},{"$f":"IF('Colour Contrast Analysis'!BX4=\"0 Faults\",\"PASS\",\"NON CONFORMANT\")","v":"PASS"},{"$f":"IF('Colour Contrast Analysis'!BY4=\"0 Faults\",\"PASS\",\"NON CONFORMANT\")","v":"PASS"},{"$f":"IF('Colour Contrast Analysis'!BZ4=\"0 Faults\",\"PASS\",\"NON CONFORMANT\")","v":"PASS"},{"$f":"IF('Colour Contrast Analysis'!CA4=\"0 Faults\",\"PASS\",\"NON CONFORMANT\")","v":"PASS"},{"$f":"IF('Colour Contrast Analysis'!CB4=\"0 Faults\",\"PASS\",\"NON CONFORMANT\")","v":"PASS"},{"$f":"IF('Colour Contrast Analysis'!CC4=\"0 Faults\",\"PASS\",\"NON CONFORMANT\")","v":"PASS"},{"$f":"IF('Colour Contrast Analysis'!CD4=\"0 Faults\",\"PASS\",\"NON CONFORMANT\")","v":"PASS"},{"$f":"IF('Colour Contrast Analysis'!CE4=\"0 Faults\",\"PASS\",\"NON CONFORMANT\")","v":"PASS"},{"$f":"IF('Colour Contrast Analysis'!CF4=\"0 Faults\",\"PASS\",\"NON CONFORMANT\")","v":"PASS"},{"$f":"IF('Colour Contrast Analysis'!CG4=\"0 Faults\",\"PASS\",\"NON CONFORMANT\")","v":"PASS"},{"$f":"IF('Colour Contrast Analysis'!CH4=\"0 Faults\",\"PASS\",\"NON CONFORMANT\")","v":"PASS"},{"$f":"IF('Colour Contrast Analysis'!CI4=\"0 Faults\",\"PASS\",\"NON CONFORMANT\")","v":"PASS"},{"$f":"IF('Colour Contrast Analysis'!CJ4=\"0 Faults\",\"PASS\",\"NON CONFORMANT\")","v":"PASS"},{"$f":"IF('Colour Contrast Analysis'!CK4=\"0 Faults\",\"PASS\",\"NON CONFORMANT\")","v":"PASS"},{"$f":"IF('Colour Contrast Analysis'!CL4=\"0 Faults\",\"PASS\",\"NON CONFORMANT\")","v":"PASS"},{"$f":"IF('Colour Contrast Analysis'!CM4=\"0 Faults\",\"PASS\",\"NON CONFORMANT\")","v":"PASS"},{"$f":"IF('Colour Contrast Analysis'!CN4=\"0 Faults\",\"PASS\",\"NON CONFORMANT\")","v":"PASS"},{"$f":"IF('Colour Contrast Analysis'!CO4=\"0 Faults\",\"PASS\",\"NON CONFORMANT\")","v":"PASS"},{"$f":"IF('Colour Contrast Analysis'!CP4=\"0 Faults\",\"PASS\",\"NON CONFORMANT\")","v":"PASS"},{"$f":"IF('Colour Contrast Analysis'!CQ4=\"0 Faults\",\"PASS\",\"NON CONFORMANT\")","v":"PASS"},{"$f":"IF('Colour Contrast Analysis'!CR4=\"0 Faults\",\"PASS\",\"NON CONFORMANT\")","v":"PASS"},{"$f":"IF('Colour Contrast Analysis'!CS4=\"0 Faults\",\"PASS\",\"NON CONFORMANT\")","v":"PASS"},{"$f":"IF('Colour Contrast Analysis'!CT4=\"0 Faults\",\"PASS\",\"NON CONFORMANT\")","v":"PASS"},{"$f":"IF('Colour Contrast Analysis'!CU4=\"0 Faults\",\"PASS\",\"NON CONFORMANT\")","v":"PASS"},{"$f":"IF('Colour Contrast Analysis'!CV4=\"0 Faults\",\"PASS\",\"NON CONFORMANT\")","v":"PASS"},{"$f":"IF('Colour Contrast Analysis'!CW4=\"0 Faults\",\"PASS\",\"NON CONFORMANT\")","v":"PASS"},{"$f":"IF('Colour Contrast Analysis'!CX4=\"0 Faults\",\"PASS\",\"NON CONFORMANT\")","v":"PASS"},{"$f":"IF('Colour Contrast Analysis'!CY4=\"0 Faults\",\"PASS\",\"NON CONFORMANT\")","v":"PASS"},{"$f":"IF('Colour Contrast Analysis'!CZ4=\"0 Faults\",\"PASS\",\"NON CONFORMANT\")","v":"PASS"},{"$f":"IF('Colour Contrast Analysis'!DA4=\"0 Faults\",\"PASS\",\"NON CONFORMANT\")","v":"PASS"},{"$f":"IF('Colour Contrast Analysis'!DB4=\"0 Faults\",\"PASS\",\"NON CONFORMANT\")","v":"PASS"},{"$f":"IF('Colour Contrast Analysis'!DC4=\"0 Faults\",\"PASS\",\"NON CONFORMANT\")","v":"PASS"},{"$f":"IF('Colour Contrast Analysis'!DD4=\"0 Faults\",\"PASS\",\"NON CONFORMANT\")","v":"PASS"},{"$f":"IF('Colour Contrast Analysis'!DE4=\"0 Faults\",\"PASS\",\"NON CONFORMANT\")","v":"PASS"},{"$f":"IF('Colour Contrast Analysis'!DF4=\"0 Faults\",\"PASS\",\"NON CONFORMANT\")","v":"PASS"},{"$f":"IF('Colour Contrast Analysis'!DG4=\"0 Faults\",\"PASS\",\"NON CONFORMANT\")","v":"PASS"},{"$f":"IF('Colour Contrast Analysis'!DH4=\"0 Faults\",\"PASS\",\"NON CONFORMANT\")","v":"PASS"},{"$f":"IF('Colour Contrast Analysis'!DI4=\"0 Faults\",\"PASS\",\"NON CONFORMANT\")","v":"PASS"},{"$f":"IF('Colour Contrast Analysis'!DJ4=\"0 Faults\",\"PASS\",\"NON CONFORMANT\")","v":"PASS"},{"$f":"IF('Colour Contrast Analysis'!DK4=\"0 Faults\",\"PASS\",\"NON CONFORMANT\")","v":"PASS"},{"$f":"IF('Colour Contrast Analysis'!DL4=\"0 Faults\",\"PASS\",\"NON CONFORMANT\")","v":"PASS"},{"$f":"IF('Colour Contrast Analysis'!DM4=\"0 Faults\",\"PASS\",\"NON CONFORMANT\")","v":"PASS"},{"$f":"IF('Colour Contrast Analysis'!DN4=\"0 Faults\",\"PASS\",\"NON CONFORMANT\")","v":"PASS"},{"$f":"IF('Colour Contrast Analysis'!DO4=\"0 Faults\",\"PASS\",\"NON CONFORMANT\")","v":"PASS"},{"$f":"IF('Colour Contrast Analysis'!DP4=\"0 Faults\",\"PASS\",\"NON CONFORMANT\")","v":"PASS"},{"$f":"IF('Colour Contrast Analysis'!DQ4=\"0 Faults\",\"PASS\",\"NON CONFORMANT\")","v":"PASS"},{"$f":"IF('Colour Contrast Analysis'!DR4=\"0 Faults\",\"PASS\",\"NON CONFORMANT\")","v":"PASS"},{"$f":"IF('Colour Contrast Analysis'!DS4=\"0 Faults\",\"PASS\",\"NON CONFORMANT\")","v":"PASS"},{"$f":"IF('Colour Contrast Analysis'!DT4=\"0 Faults\",\"PASS\",\"NON CONFORMANT\")","v":"PASS"},{"$f":"IF('Colour Contrast Analysis'!DU4=\"0 Faults\",\"PASS\",\"NON CONFORMANT\")","v":"PASS"},{"$f":"IF('Colour Contrast Analysis'!DV4=\"0 Faults\",\"PASS\",\"NON CONFORMANT\")","v":"PASS"},{"$f":"IF('Colour Contrast Analysis'!DW4=\"0 Faults\",\"PASS\",\"NON CONFORMANT\")","v":"PASS"},{"$f":"IF('Colour Contrast Analysis'!DX4=\"0 Faults\",\"PASS\",\"NON CONFORMANT\")","v":"PASS"},{"$f":"IF('Colour Contrast Analysis'!DY4=\"0 Faults\",\"PASS\",\"NON CONFORMANT\")","v":"PASS"},{"$f":"IF('Colour Contrast Analysis'!DZ4=\"0 Faults\",\"PASS\",\"NON CONFORMANT\")","v":"PASS"},{"$f":"IF('Colour Contrast Analysis'!EA4=\"0 Faults\",\"PASS\",\"NON CONFORMANT\")","v":"PASS"},{"$f":"IF('Colour Contrast Analysis'!EB4=\"0 Faults\",\"PASS\",\"NON CONFORMANT\")","v":"PASS"},{"$f":"IF('Colour Contrast Analysis'!EC4=\"0 Faults\",\"PASS\",\"NON CONFORMANT\")","v":"PASS"},{"$f":"IF('Colour Contrast Analysis'!ED4=\"0 Faults\",\"PASS\",\"NON CONFORMANT\")","v":"PASS"},{"$f":"IF('Colour Contrast Analysis'!EE4=\"0 Faults\",\"PASS\",\"NON CONFORMANT\")","v":"PASS"},{"$f":"IF('Colour Contrast Analysis'!EF4=\"0 Faults\",\"PASS\",\"NON CONFORMANT\")","v":"PASS"},{"$f":"IF('Colour Contrast Analysis'!EG4=\"0 Faults\",\"PASS\",\"NON CONFORMANT\")","v":"PASS"},{"$f":"IF('Colour Contrast Analysis'!EH4=\"0 Faults\",\"PASS\",\"NON CONFORMANT\")","v":"PASS"},{"$f":"IF('Colour Contrast Analysis'!EI4=\"0 Faults\",\"PASS\",\"NON CONFORMANT\")","v":"PASS"},{"$f":"IF('Colour Contrast Analysis'!EJ4=\"0 Faults\",\"PASS\",\"NON CONFORMANT\")","v":"PASS"},{"$f":"IF('Colour Contrast Analysis'!EK4=\"0 Faults\",\"PASS\",\"NON CONFORMANT\")","v":"PASS"},{"$f":"IF('Colour Contrast Analysis'!EL4=\"0 Faults\",\"PASS\",\"NON CONFORMANT\")","v":"PASS"},{"$f":"IF('Colour Contrast Analysis'!EM4=\"0 Faults\",\"PASS\",\"NON CONFORMANT\")","v":"PASS"},{"$f":"IF('Colour Contrast Analysis'!EN4=\"0 Faults\",\"PASS\",\"NON CONFORMANT\")","v":"PASS"},{"$f":"IF('Colour Contrast Analysis'!EO4=\"0 Faults\",\"PASS\",\"NON CONFORMANT\")","v":"PASS"},{"$f":"IF('Colour Contrast Analysis'!EP4=\"0 Faults\",\"PASS\",\"NON CONFORMANT\")","v":"PASS"},{"$f":"IF('Colour Contrast Analysis'!EQ4=\"0 Faults\",\"PASS\",\"NON CONFORMANT\")","v":"PASS"},{"$f":"IF('Colour Contrast Analysis'!ER4=\"0 Faults\",\"PASS\",\"NON CONFORMANT\")","v":"PASS"},{"$f":"IF('Colour Contrast Analysis'!ES4=\"0 Faults\",\"PASS\",\"NON CONFORMANT\")","v":"PASS"},{"$f":"IF('Colour Contrast Analysis'!ET4=\"0 Faults\",\"PASS\",\"NON CONFORMANT\")","v":"PASS"},{"$f":"IF('Colour Contrast Analysis'!EU4=\"0 Faults\",\"PASS\",\"NON CONFORMANT\")","v":"PASS"},{"$f":"IF('Colour Contrast Analysis'!EV4=\"0 Faults\",\"PASS\",\"NON CONFORMANT\")","v":"PASS"},{"$f":"IF('Colour Contrast Analysis'!EW4=\"0 Faults\",\"PASS\",\"NON CONFORMANT\")","v":"PASS"},{"$f":"IF('Colour Contrast Analysis'!EX4=\"0 Faults\",\"PASS\",\"NON CONFORMANT\")","v":"PASS"},{"$f":"IF('Colour Contrast Analysis'!EY4=\"0 Faults\",\"PASS\",\"NON CONFORMANT\")","v":"PASS"},{"$f":"IF('Colour Contrast Analysis'!EZ4=\"0 Faults\",\"PASS\",\"NON CONFORMANT\")","v":"PASS"},{"$f":"IF('Colour Contrast Analysis'!FA4=\"0 Faults\",\"PASS\",\"NON CONFORMANT\")","v":"PASS"},{"$f":"IF('Colour Contrast Analysis'!FB4=\"0 Faults\",\"PASS\",\"NON CONFORMANT\")","v":"PASS"},{"$f":"IF('Colour Contrast Analysis'!FC4=\"0 Faults\",\"PASS\",\"NON CONFORMANT\")","v":"PASS"},{"$f":"IF('Colour Contrast Analysis'!FD4=\"0 Faults\",\"PASS\",\"NON CONFORMANT\")","v":"PASS"},{"$f":"IF('Colour Contrast Analysis'!FE4=\"0 Faults\",\"PASS\",\"NON CONFORMANT\")","v":"PASS"},{"$f":"IF('Colour Contrast Analysis'!FF4=\"0 Faults\",\"PASS\",\"NON CONFORMANT\")","v":"PASS"},{"$f":"IF('Colour Contrast Analysis'!FG4=\"0 Faults\",\"PASS\",\"NON CONFORMANT\")","v":"PASS"},{"$f":"IF('Colour Contrast Analysis'!FH4=\"0 Faults\",\"PASS\",\"NON CONFORMANT\")","v":"PASS"},{"$f":"IF('Colour Contrast Analysis'!FI4=\"0 Faults\",\"PASS\",\"NON CONFORMANT\")","v":"PASS"},{"$f":"IF('Colour Contrast Analysis'!FJ4=\"0 Faults\",\"PASS\",\"NON CONFORMANT\")","v":"PASS"},{"$f":"IF('Colour Contrast Analysis'!FK4=\"0 Faults\",\"PASS\",\"NON CONFORMANT\")","v":"PASS"},{"$f":"IF('Colour Contrast Analysis'!FL4=\"0 Faults\",\"PASS\",\"NON CONFORMANT\")","v":"PASS"},{"$f":"IF('Colour Contrast Analysis'!FM4=\"0 Faults\",\"PASS\",\"NON CONFORMANT\")","v":"PASS"},{"$f":"IF('Colour Contrast Analysis'!FN4=\"0 Faults\",\"PASS\",\"NON CONFORMANT\")","v":"PASS"},{"$f":"IF('Colour Contrast Analysis'!FO4=\"0 Faults\",\"PASS\",\"NON CONFORMANT\")","v":"PASS"},{"$f":"IF('Colour Contrast Analysis'!FP4=\"0 Faults\",\"PASS\",\"NON CONFORMANT\")","v":"PASS"},{"$f":"IF('Colour Contrast Analysis'!FQ4=\"0 Faults\",\"PASS\",\"NON CONFORMANT\")","v":"PASS"},{"$f":"IF('Colour Contrast Analysis'!FR4=\"0 Faults\",\"PASS\",\"NON CONFORMANT\")","v":"PASS"}]
[null,null,null,null,{"$f":"IF('[2]Colour Contrast Analysis'!Y4=\"0 Faults\",\"\",LEFT('[2]Colour Contrast Analysis'!Y4,FIND(\" \",'[2]Colour Contrast Analysis'!Y4)-1) &\" combination\" & IF('[2]Colour Contrast Analysis'!Y4=\"1 Fault\",\"\",\"s\") & \" of foreground and background colours do\" & IF('[2]Colour Contrast Analysis'!Y4=\"1 Fault\",\"es\",\"\") & \" not have sufficient contrast. Please see the Colour Contrast Analysis worksheet.\")","v":""},{"$f":"IF('[2]Colour Contrast Analysis'!Z4=\"0 Faults\",\"\",LEFT('[2]Colour Contrast Analysis'!Z4,FIND(\" \",'[2]Colour Contrast Analysis'!Z4)-1) &\" combination\" & IF('[2]Colour Contrast Analysis'!Z4=\"1 Fault\",\"\",\"s\") & \" of foreground and background colours do\" & IF('[2]Colour Contrast Analysis'!Z4=\"1 Fault\",\"es\",\"\") & \" not have sufficient contrast. Please see the Colour Contrast Analysis worksheet.\")","v":""},{"$f":"IF('[2]Colour Contrast Analysis'!AA4=\"0 Faults\",\"\",LEFT('[2]Colour Contrast Analysis'!AA4,FIND(\" \",'[2]Colour Contrast Analysis'!AA4)-1) &\" combination\" & IF('[2]Colour Contrast Analysis'!AA4=\"1 Fault\",\"\",\"s\") & \" of foreground and background colours do\" & IF('[2]Colour Contrast Analysis'!AA4=\"1 Fault\",\"es\",\"\") & \" not have sufficient contrast. Please see the Colour Contrast Analysis worksheet.\")","v":""},{"$f":"IF('Colour Contrast Analysis'!AB4=\"0 Faults\",\"\",LEFT('Colour Contrast Analysis'!AB4,FIND(\" \",'Colour Contrast Analysis'!AB4)-1) &\" combination\" & IF('Colour Contrast Analysis'!AB4=\"1 Fault\",\"\",\"s\") & \" of foreground and background colours do\" & IF('Colour Contrast Analysis'!AB4=\"1 Fault\",\"es\",\"\") & \" not have sufficient contrast. Please see the Colour Contrast Analysis worksheet.\")","v":""},{"$f":"IF('Colour Contrast Analysis'!AC4=\"0 Faults\",\"\",LEFT('Colour Contrast Analysis'!AC4,FIND(\" \",'Colour Contrast Analysis'!AC4)-1) &\" combination\" & IF('Colour Contrast Analysis'!AC4=\"1 Fault\",\"\",\"s\") & \" of foreground and background colours do\" & IF('Colour Contrast Analysis'!AC4=\"1 Fault\",\"es\",\"\") & \" not have sufficient contrast. Please see the Colour Contrast Analysis worksheet.\")","v":""},{"$f":"IF('Colour Contrast Analysis'!AD4=\"0 Faults\",\"\",LEFT('Colour Contrast Analysis'!AD4,FIND(\" \",'Colour Contrast Analysis'!AD4)-1) &\" combination\" & IF('Colour Contrast Analysis'!AD4=\"1 Fault\",\"\",\"s\") & \" of foreground and background colours do\" & IF('Colour Contrast Analysis'!AD4=\"1 Fault\",\"es\",\"\") & \" not have sufficient contrast. Please see the Colour Contrast Analysis worksheet.\")","v":"1 combination of foreground and background colours does not have sufficient contrast. Please see the Colour Contrast Analysis worksheet."},{"$f":"IF('Colour Contrast Analysis'!AE4=\"0 Faults\",\"\",LEFT('Colour Contrast Analysis'!AE4,FIND(\" \",'Colour Contrast Analysis'!AE4)-1) &\" combination\" & IF('Colour Contrast Analysis'!AE4=\"1 Fault\",\"\",\"s\") & \" of foreground and background colours do\" & IF('Colour Contrast Analysis'!AE4=\"1 Fault\",\"es\",\"\") & \" not have sufficient contrast. Please see the Colour Contrast Analysis worksheet.\")","v":""},{"$f":"IF('Colour Contrast Analysis'!AF4=\"0 Faults\",\"\",LEFT('Colour Contrast Analysis'!AF4,FIND(\" \",'Colour Contrast Analysis'!AF4)-1) &\" combination\" & IF('Colour Contrast Analysis'!AF4=\"1 Fault\",\"\",\"s\") & \" of foreground and background colours do\" & IF('Colour Contrast Analysis'!AF4=\"1 Fault\",\"es\",\"\") & \" not have sufficient contrast. Please see the Colour Contrast Analysis worksheet.\")","v":""},{"$f":"IF('Colour Contrast Analysis'!AG4=\"0 Faults\",\"\",LEFT('Colour Contrast Analysis'!AG4,FIND(\" \",'Colour Contrast Analysis'!AG4)-1) &\" combination\" & IF('Colour Contrast Analysis'!AG4=\"1 Fault\",\"\",\"s\") & \" of foreground and background colours do\" & IF('Colour Contrast Analysis'!AG4=\"1 Fault\",\"es\",\"\") & \" not have sufficient contrast. Please see the Colour Contrast Analysis worksheet.\")","v":""},{"$f":"IF('Colour Contrast Analysis'!AH4=\"0 Faults\",\"\",LEFT('Colour Contrast Analysis'!AH4,FIND(\" \",'Colour Contrast Analysis'!AH4)-1) &\" combination\" & IF('Colour Contrast Analysis'!AH4=\"1 Fault\",\"\",\"s\") & \" of foreground and background colours do\" & IF('Colour Contrast Analysis'!AH4=\"1 Fault\",\"es\",\"\") & \" not have sufficient contrast. Please see the Colour Contrast Analysis worksheet.\")","v":""},{"$f":"IF('Colour Contrast Analysis'!AI4=\"0 Faults\",\"\",LEFT('Colour Contrast Analysis'!AI4,FIND(\" \",'Colour Contrast Analysis'!AI4)-1) &\" combination\" & IF('Colour Contrast Analysis'!AI4=\"1 Fault\",\"\",\"s\") & \" of foreground and background colours do\" & IF('Colour Contrast Analysis'!AI4=\"1 Fault\",\"es\",\"\") & \" not have sufficient contrast. Please see the Colour Contrast Analysis worksheet.\")","v":""},{"$f":"IF('Colour Contrast Analysis'!AJ4=\"0 Faults\",\"\",LEFT('Colour Contrast Analysis'!AJ4,FIND(\" \",'Colour Contrast Analysis'!AJ4)-1) &\" combination\" & IF('Colour Contrast Analysis'!AJ4=\"1 Fault\",\"\",\"s\") & \" of foreground and background colours do\" & IF('Colour Contrast Analysis'!AJ4=\"1 Fault\",\"es\",\"\") & \" not have sufficient contrast. Please see the Colour Contrast Analysis worksheet.\")","v":""},{"$f":"IF('Colour Contrast Analysis'!AK4=\"0 Faults\",\"\",LEFT('Colour Contrast Analysis'!AK4,FIND(\" \",'Colour Contrast Analysis'!AK4)-1) &\" combination\" & IF('Colour Contrast Analysis'!AK4=\"1 Fault\",\"\",\"s\") & \" of foreground and background colours do\" & IF('Colour Contrast Analysis'!AK4=\"1 Fault\",\"es\",\"\") & \" not have sufficient contrast. Please see the Colour Contrast Analysis worksheet.\")","v":""},{"$f":"IF('Colour Contrast Analysis'!AL4=\"0 Faults\",\"\",LEFT('Colour Contrast Analysis'!AL4,FIND(\" \",'Colour Contrast Analysis'!AL4)-1) &\" combination\" & IF('Colour Contrast Analysis'!AL4=\"1 Fault\",\"\",\"s\") & \" of foreground and background colours do\" & IF('Colour Contrast Analysis'!AL4=\"1 Fault\",\"es\",\"\") & \" not have sufficient contrast. Please see the Colour Contrast Analysis worksheet.\")","v":""},{"$f":"IF('Colour Contrast Analysis'!AM4=\"0 Faults\",\"\",LEFT('Colour Contrast Analysis'!AM4,FIND(\" \",'Colour Contrast Analysis'!AM4)-1) &\" combination\" & IF('Colour Contrast Analysis'!AM4=\"1 Fault\",\"\",\"s\") & \" of foreground and background colours do\" & IF('Colour Contrast Analysis'!AM4=\"1 Fault\",\"es\",\"\") & \" not have sufficient contrast. Please see the Colour Contrast Analysis worksheet.\")","v":""},{"$f":"IF('Colour Contrast Analysis'!AN4=\"0 Faults\",\"\",LEFT('Colour Contrast Analysis'!AN4,FIND(\" \",'Colour Contrast Analysis'!AN4)-1) &\" combination\" & IF('Colour Contrast Analysis'!AN4=\"1 Fault\",\"\",\"s\") & \" of foreground and background colours do\" & IF('Colour Contrast Analysis'!AN4=\"1 Fault\",\"es\",\"\") & \" not have sufficient contrast. Please see the Colour Contrast Analysis worksheet.\")","v":""},{"$f":"IF('Colour Contrast Analysis'!AO4=\"0 Faults\",\"\",LEFT('Colour Contrast Analysis'!AO4,FIND(\" \",'Colour Contrast Analysis'!AO4)-1) &\" combination\" & IF('Colour Contrast Analysis'!AO4=\"1 Fault\",\"\",\"s\") & \" of foreground and background colours do\" & IF('Colour Contrast Analysis'!AO4=\"1 Fault\",\"es\",\"\") & \" not have sufficient contrast. Please see the Colour Contrast Analysis worksheet.\")","v":""},{"$f":"IF('Colour Contrast Analysis'!AP4=\"0 Faults\",\"\",LEFT('Colour Contrast Analysis'!AP4,FIND(\" \",'Colour Contrast Analysis'!AP4)-1) &\" combination\" & IF('Colour Contrast Analysis'!AP4=\"1 Fault\",\"\",\"s\") & \" of foreground and background colours do\" & IF('Colour Contrast Analysis'!AP4=\"1 Fault\",\"es\",\"\") & \" not have sufficient contrast. Please see the Colour Contrast Analysis worksheet.\")","v":""},{"$f":"IF('Colour Contrast Analysis'!AQ4=\"0 Faults\",\"\",LEFT('Colour Contrast Analysis'!AQ4,FIND(\" \",'Colour Contrast Analysis'!AQ4)-1) &\" combination\" & IF('Colour Contrast Analysis'!AQ4=\"1 Fault\",\"\",\"s\") & \" of foreground and background colours do\" & IF('Colour Contrast Analysis'!AQ4=\"1 Fault\",\"es\",\"\") & \" not have sufficient contrast. Please see the Colour Contrast Analysis worksheet.\")","v":""},{"$f":"IF('Colour Contrast Analysis'!AR4=\"0 Faults\",\"\",LEFT('Colour Contrast Analysis'!AR4,FIND(\" \",'Colour Contrast Analysis'!AR4)-1) &\" combination\" & IF('Colour Contrast Analysis'!AR4=\"1 Fault\",\"\",\"s\") & \" of foreground and background colours do\" & IF('Colour Contrast Analysis'!AR4=\"1 Fault\",\"es\",\"\") & \" not have sufficient contrast. Please see the Colour Contrast Analysis worksheet.\")","v":""},{"$f":"IF('Colour Contrast Analysis'!AS4=\"0 Faults\",\"\",LEFT('Colour Contrast Analysis'!AS4,FIND(\" \",'Colour Contrast Analysis'!AS4)-1) &\" combination\" & IF('Colour Contrast Analysis'!AS4=\"1 Fault\",\"\",\"s\") & \" of foreground and background colours do\" & IF('Colour Contrast Analysis'!AS4=\"1 Fault\",\"es\",\"\") & \" not have sufficient contrast. Please see the Colour Contrast Analysis worksheet.\")","v":""},{"$f":"IF('Colour Contrast Analysis'!AT4=\"0 Faults\",\"\",LEFT('Colour Contrast Analysis'!AT4,FIND(\" \",'Colour Contrast Analysis'!AT4)-1) &\" combination\" & IF('Colour Contrast Analysis'!AT4=\"1 Fault\",\"\",\"s\") & \" of foreground and background colours do\" & IF('Colour Contrast Analysis'!AT4=\"1 Fault\",\"es\",\"\") & \" not have sufficient contrast. Please see the Colour Contrast Analysis worksheet.\")","v":""},{"$f":"IF('Colour Contrast Analysis'!AU4=\"0 Faults\",\"\",LEFT('Colour Contrast Analysis'!AU4,FIND(\" \",'Colour Contrast Analysis'!AU4)-1) &\" combination\" & IF('Colour Contrast Analysis'!AU4=\"1 Fault\",\"\",\"s\") & \" of foreground and background colours do\" & IF('Colour Contrast Analysis'!AU4=\"1 Fault\",\"es\",\"\") & \" not have sufficient contrast. Please see the Colour Contrast Analysis worksheet.\")","v":""},{"$f":"IF('Colour Contrast Analysis'!AV4=\"0 Faults\",\"\",LEFT('Colour Contrast Analysis'!AV4,FIND(\" \",'Colour Contrast Analysis'!AV4)-1) &\" combination\" & IF('Colour Contrast Analysis'!AV4=\"1 Fault\",\"\",\"s\") & \" of foreground and background colours do\" & IF('Colour Contrast Analysis'!AV4=\"1 Fault\",\"es\",\"\") & \" not have sufficient contrast. Please see the Colour Contrast Analysis worksheet.\")","v":""},{"$f":"IF('Colour Contrast Analysis'!AW4=\"0 Faults\",\"\",LEFT('Colour Contrast Analysis'!AW4,FIND(\" \",'Colour Contrast Analysis'!AW4)-1) &\" combination\" & IF('Colour Contrast Analysis'!AW4=\"1 Fault\",\"\",\"s\") & \" of foreground and background colours do\" & IF('Colour Contrast Analysis'!AW4=\"1 Fault\",\"es\",\"\") & \" not have sufficient contrast. Please see the Colour Contrast Analysis worksheet.\")","v":""},{"$f":"IF('Colour Contrast Analysis'!AX4=\"0 Faults\",\"\",LEFT('Colour Contrast Analysis'!AX4,FIND(\" \",'Colour Contrast Analysis'!AX4)-1) &\" combination\" & IF('Colour Contrast Analysis'!AX4=\"1 Fault\",\"\",\"s\") & \" of foreground and background colours do\" & IF('Colour Contrast Analysis'!AX4=\"1 Fault\",\"es\",\"\") & \" not have sufficient contrast. Please see the Colour Contrast Analysis worksheet.\")","v":""},{"$f":"IF('Colour Contrast Analysis'!AY4=\"0 Faults\",\"\",LEFT('Colour Contrast Analysis'!AY4,FIND(\" \",'Colour Contrast Analysis'!AY4)-1) &\" combination\" & IF('Colour Contrast Analysis'!AY4=\"1 Fault\",\"\",\"s\") & \" of foreground and background colours do\" & IF('Colour Contrast Analysis'!AY4=\"1 Fault\",\"es\",\"\") & \" not have sufficient contrast. Please see the Colour Contrast Analysis worksheet.\")","v":""},{"$f":"IF('Colour Contrast Analysis'!AZ4=\"0 Faults\",\"\",LEFT('Colour Contrast Analysis'!AZ4,FIND(\" \",'Colour Contrast Analysis'!AZ4)-1) &\" combination\" & IF('Colour Contrast Analysis'!AZ4=\"1 Fault\",\"\",\"s\") & \" of foreground and background colours do\" & IF('Colour Contrast Analysis'!AZ4=\"1 Fault\",\"es\",\"\") & \" not have sufficient contrast. Please see the Colour Contrast Analysis worksheet.\")","v":""},{"$f":"IF('Colour Contrast Analysis'!BA4=\"0 Faults\",\"\",LEFT('Colour Contrast Analysis'!BA4,FIND(\" \",'Colour Contrast Analysis'!BA4)-1) &\" combination\" & IF('Colour Contrast Analysis'!BA4=\"1 Fault\",\"\",\"s\") & \" of foreground and background colours do\" & IF('Colour Contrast Analysis'!BA4=\"1 Fault\",\"es\",\"\") & \" not have sufficient contrast. Please see the Colour Contrast Analysis worksheet.\")","v":""},{"$f":"IF('Colour Contrast Analysis'!BB4=\"0 Faults\",\"\",LEFT('Colour Contrast Analysis'!BB4,FIND(\" \",'Colour Contrast Analysis'!BB4)-1) &\" combination\" & IF('Colour Contrast Analysis'!BB4=\"1 Fault\",\"\",\"s\") & \" of foreground and background colours do\" & IF('Colour Contrast Analysis'!BB4=\"1 Fault\",\"es\",\"\") & \" not have sufficient contrast. Please see the Colour Contrast Analysis worksheet.\")","v":""},{"$f":"IF('Colour Contrast Analysis'!BC4=\"0 Faults\",\"\",LEFT('Colour Contrast Analysis'!BC4,FIND(\" \",'Colour Contrast Analysis'!BC4)-1) &\" combination\" & IF('Colour Contrast Analysis'!BC4=\"1 Fault\",\"\",\"s\") & \" of foreground and background colours do\" & IF('Colour Contrast Analysis'!BC4=\"1 Fault\",\"es\",\"\") & \" not have sufficient contrast. Please see the Colour Contrast Analysis worksheet.\")","v":""},{"$f":"IF('Colour Contrast Analysis'!BD4=\"0 Faults\",\"\",LEFT('Colour Contrast Analysis'!BD4,FIND(\" \",'Colour Contrast Analysis'!BD4)-1) &\" combination\" & IF('Colour Contrast Analysis'!BD4=\"1 Fault\",\"\",\"s\") & \" of foreground and background colours do\" & IF('Colour Contrast Analysis'!BD4=\"1 Fault\",\"es\",\"\") & \" not have sufficient contrast. Please see the Colour Contrast Analysis worksheet.\")","v":""},{"$f":"IF('Colour Contrast Analysis'!BE4=\"0 Faults\",\"\",LEFT('Colour Contrast Analysis'!BE4,FIND(\" \",'Colour Contrast Analysis'!BE4)-1) &\" combination\" & IF('Colour Contrast Analysis'!BE4=\"1 Fault\",\"\",\"s\") & \" of foreground and background colours do\" & IF('Colour Contrast Analysis'!BE4=\"1 Fault\",\"es\",\"\") & \" not have sufficient contrast. Please see the Colour Contrast Analysis worksheet.\")","v":""},{"$f":"IF('Colour Contrast Analysis'!BF4=\"0 Faults\",\"\",LEFT('Colour Contrast Analysis'!BF4,FIND(\" \",'Colour Contrast Analysis'!BF4)-1) &\" combination\" & IF('Colour Contrast Analysis'!BF4=\"1 Fault\",\"\",\"s\") & \" of foreground and background colours do\" & IF('Colour Contrast Analysis'!BF4=\"1 Fault\",\"es\",\"\") & \" not have sufficient contrast. Please see the Colour Contrast Analysis worksheet.\")","v":""},{"$f":"IF('Colour Contrast Analysis'!BG4=\"0 Faults\",\"\",LEFT('Colour Contrast Analysis'!BG4,FIND(\" \",'Colour Contrast Analysis'!BG4)-1) &\" combination\" & IF('Colour Contrast Analysis'!BG4=\"1 Fault\",\"\",\"s\") & \" of foreground and background colours do\" & IF('Colour Contrast Analysis'!BG4=\"1 Fault\",\"es\",\"\") & \" not have sufficient contrast. Please see the Colour Contrast Analysis worksheet.\")","v":""},{"$f":"IF('Colour Contrast Analysis'!BH4=\"0 Faults\",\"\",LEFT('Colour Contrast Analysis'!BH4,FIND(\" \",'Colour Contrast Analysis'!BH4)-1) &\" combination\" & IF('Colour Contrast Analysis'!BH4=\"1 Fault\",\"\",\"s\") & \" of foreground and background colours do\" & IF('Colour Contrast Analysis'!BH4=\"1 Fault\",\"es\",\"\") & \" not have sufficient contrast. Please see the Colour Contrast Analysis worksheet.\")","v":""},{"$f":"IF('Colour Contrast Analysis'!BI4=\"0 Faults\",\"\",LEFT('Colour Contrast Analysis'!BI4,FIND(\" \",'Colour Contrast Analysis'!BI4)-1) &\" combination\" & IF('Colour Contrast Analysis'!BI4=\"1 Fault\",\"\",\"s\") & \" of foreground and background colours do\" & IF('Colour Contrast Analysis'!BI4=\"1 Fault\",\"es\",\"\") & \" not have sufficient contrast. Please see the Colour Contrast Analysis worksheet.\")","v":""},{"$f":"IF('Colour Contrast Analysis'!BJ4=\"0 Faults\",\"\",LEFT('Colour Contrast Analysis'!BJ4,FIND(\" \",'Colour Contrast Analysis'!BJ4)-1) &\" combination\" & IF('Colour Contrast Analysis'!BJ4=\"1 Fault\",\"\",\"s\") & \" of foreground and background colours do\" & IF('Colour Contrast Analysis'!BJ4=\"1 Fault\",\"es\",\"\") & \" not have sufficient contrast. Please see the Colour Contrast Analysis worksheet.\")","v":""},{"$f":"IF('Colour Contrast Analysis'!BK4=\"0 Faults\",\"\",LEFT('Colour Contrast Analysis'!BK4,FIND(\" \",'Colour Contrast Analysis'!BK4)-1) &\" combination\" & IF('Colour Contrast Analysis'!BK4=\"1 Fault\",\"\",\"s\") & \" of foreground and background colours do\" & IF('Colour Contrast Analysis'!BK4=\"1 Fault\",\"es\",\"\") & \" not have sufficient contrast. Please see the Colour Contrast Analysis worksheet.\")","v":""},{"$f":"IF('Colour Contrast Analysis'!BL4=\"0 Faults\",\"\",LEFT('Colour Contrast Analysis'!BL4,FIND(\" \",'Colour Contrast Analysis'!BL4)-1) &\" combination\" & IF('Colour Contrast Analysis'!BL4=\"1 Fault\",\"\",\"s\") & \" of foreground and background colours do\" & IF('Colour Contrast Analysis'!BL4=\"1 Fault\",\"es\",\"\") & \" not have sufficient contrast. Please see the Colour Contrast Analysis worksheet.\")","v":""},{"$f":"IF('Colour Contrast Analysis'!BM4=\"0 Faults\",\"\",LEFT('Colour Contrast Analysis'!BM4,FIND(\" \",'Colour Contrast Analysis'!BM4)-1) &\" combination\" & IF('Colour Contrast Analysis'!BM4=\"1 Fault\",\"\",\"s\") & \" of foreground and background colours do\" & IF('Colour Contrast Analysis'!BM4=\"1 Fault\",\"es\",\"\") & \" not have sufficient contrast. Please see the Colour Contrast Analysis worksheet.\")","v":""},{"$f":"IF('Colour Contrast Analysis'!BN4=\"0 Faults\",\"\",LEFT('Colour Contrast Analysis'!BN4,FIND(\" \",'Colour Contrast Analysis'!BN4)-1) &\" combination\" & IF('Colour Contrast Analysis'!BN4=\"1 Fault\",\"\",\"s\") & \" of foreground and background colours do\" & IF('Colour Contrast Analysis'!BN4=\"1 Fault\",\"es\",\"\") & \" not have sufficient contrast. Please see the Colour Contrast Analysis worksheet.\")","v":""},{"$f":"IF('Colour Contrast Analysis'!BO4=\"0 Faults\",\"\",LEFT('Colour Contrast Analysis'!BO4,FIND(\" \",'Colour Contrast Analysis'!BO4)-1) &\" combination\" & IF('Colour Contrast Analysis'!BO4=\"1 Fault\",\"\",\"s\") & \" of foreground and background colours do\" & IF('Colour Contrast Analysis'!BO4=\"1 Fault\",\"es\",\"\") & \" not have sufficient contrast. Please see the Colour Contrast Analysis worksheet.\")","v":""},{"$f":"IF('Colour Contrast Analysis'!BP4=\"0 Faults\",\"\",LEFT('Colour Contrast Analysis'!BP4,FIND(\" \",'Colour Contrast Analysis'!BP4)-1) &\" combination\" & IF('Colour Contrast Analysis'!BP4=\"1 Fault\",\"\",\"s\") & \" of foreground and background colours do\" & IF('Colour Contrast Analysis'!BP4=\"1 Fault\",\"es\",\"\") & \" not have sufficient contrast. Please see the Colour Contrast Analysis worksheet.\")","v":""},{"$f":"IF('Colour Contrast Analysis'!BQ4=\"0 Faults\",\"\",LEFT('Colour Contrast Analysis'!BQ4,FIND(\" \",'Colour Contrast Analysis'!BQ4)-1) &\" combination\" & IF('Colour Contrast Analysis'!BQ4=\"1 Fault\",\"\",\"s\") & \" of foreground and background colours do\" & IF('Colour Contrast Analysis'!BQ4=\"1 Fault\",\"es\",\"\") & \" not have sufficient contrast. Please see the Colour Contrast Analysis worksheet.\")","v":""},{"$f":"IF('Colour Contrast Analysis'!BR4=\"0 Faults\",\"\",LEFT('Colour Contrast Analysis'!BR4,FIND(\" \",'Colour Contrast Analysis'!BR4)-1) &\" combination\" & IF('Colour Contrast Analysis'!BR4=\"1 Fault\",\"\",\"s\") & \" of foreground and background colours do\" & IF('Colour Contrast Analysis'!BR4=\"1 Fault\",\"es\",\"\") & \" not have sufficient contrast. Please see the Colour Contrast Analysis worksheet.\")","v":""},{"$f":"IF('Colour Contrast Analysis'!BS4=\"0 Faults\",\"\",LEFT('Colour Contrast Analysis'!BS4,FIND(\" \",'Colour Contrast Analysis'!BS4)-1) &\" combination\" & IF('Colour Contrast Analysis'!BS4=\"1 Fault\",\"\",\"s\") & \" of foreground and background colours do\" & IF('Colour Contrast Analysis'!BS4=\"1 Fault\",\"es\",\"\") & \" not have sufficient contrast. Please see the Colour Contrast Analysis worksheet.\")","v":""},{"$f":"IF('Colour Contrast Analysis'!BT4=\"0 Faults\",\"\",LEFT('Colour Contrast Analysis'!BT4,FIND(\" \",'Colour Contrast Analysis'!BT4)-1) &\" combination\" & IF('Colour Contrast Analysis'!BT4=\"1 Fault\",\"\",\"s\") & \" of foreground and background colours do\" & IF('Colour Contrast Analysis'!BT4=\"1 Fault\",\"es\",\"\") & \" not have sufficient contrast. Please see the Colour Contrast Analysis worksheet.\")","v":""},{"$f":"IF('Colour Contrast Analysis'!BU4=\"0 Faults\",\"\",LEFT('Colour Contrast Analysis'!BU4,FIND(\" \",'Colour Contrast Analysis'!BU4)-1) &\" combination\" & IF('Colour Contrast Analysis'!BU4=\"1 Fault\",\"\",\"s\") & \" of foreground and background colours do\" & IF('Colour Contrast Analysis'!BU4=\"1 Fault\",\"es\",\"\") & \" not have sufficient contrast. Please see the Colour Contrast Analysis worksheet.\")","v":""},{"$f":"IF('Colour Contrast Analysis'!BV4=\"0 Faults\",\"\",LEFT('Colour Contrast Analysis'!BV4,FIND(\" \",'Colour Contrast Analysis'!BV4)-1) &\" combination\" & IF('Colour Contrast Analysis'!BV4=\"1 Fault\",\"\",\"s\") & \" of foreground and background colours do\" & IF('Colour Contrast Analysis'!BV4=\"1 Fault\",\"es\",\"\") & \" not have sufficient contrast. Please see the Colour Contrast Analysis worksheet.\")","v":""},{"$f":"IF('Colour Contrast Analysis'!BW4=\"0 Faults\",\"\",LEFT('Colour Contrast Analysis'!BW4,FIND(\" \",'Colour Contrast Analysis'!BW4)-1) &\" combination\" & IF('Colour Contrast Analysis'!BW4=\"1 Fault\",\"\",\"s\") & \" of foreground and background colours do\" & IF('Colour Contrast Analysis'!BW4=\"1 Fault\",\"es\",\"\") & \" not have sufficient contrast. Please see the Colour Contrast Analysis worksheet.\")","v":""},{"$f":"IF('Colour Contrast Analysis'!BX4=\"0 Faults\",\"\",LEFT('Colour Contrast Analysis'!BX4,FIND(\" \",'Colour Contrast Analysis'!BX4)-1) &\" combination\" & IF('Colour Contrast Analysis'!BX4=\"1 Fault\",\"\",\"s\") & \" of foreground and background colours do\" & IF('Colour Contrast Analysis'!BX4=\"1 Fault\",\"es\",\"\") & \" not have sufficient contrast. Please see the Colour Contrast Analysis worksheet.\")","v":""},{"$f":"IF('Colour Contrast Analysis'!BY4=\"0 Faults\",\"\",LEFT('Colour Contrast Analysis'!BY4,FIND(\" \",'Colour Contrast Analysis'!BY4)-1) &\" combination\" & IF('Colour Contrast Analysis'!BY4=\"1 Fault\",\"\",\"s\") & \" of foreground and background colours do\" & IF('Colour Contrast Analysis'!BY4=\"1 Fault\",\"es\",\"\") & \" not have sufficient contrast. Please see the Colour Contrast Analysis worksheet.\")","v":""},{"$f":"IF('Colour Contrast Analysis'!BZ4=\"0 Faults\",\"\",LEFT('Colour Contrast Analysis'!BZ4,FIND(\" \",'Colour Contrast Analysis'!BZ4)-1) &\" combination\" & IF('Colour Contrast Analysis'!BZ4=\"1 Fault\",\"\",\"s\") & \" of foreground and background colours do\" & IF('Colour Contrast Analysis'!BZ4=\"1 Fault\",\"es\",\"\") & \" not have sufficient contrast. Please see the Colour Contrast Analysis worksheet.\")","v":""},{"$f":"IF('Colour Contrast Analysis'!CA4=\"0 Faults\",\"\",LEFT('Colour Contrast Analysis'!CA4,FIND(\" \",'Colour Contrast Analysis'!CA4)-1) &\" combination\" & IF('Colour Contrast Analysis'!CA4=\"1 Fault\",\"\",\"s\") & \" of foreground and background colours do\" & IF('Colour Contrast Analysis'!CA4=\"1 Fault\",\"es\",\"\") & \" not have sufficient contrast. Please see the Colour Contrast Analysis worksheet.\")","v":""},{"$f":"IF('Colour Contrast Analysis'!CB4=\"0 Faults\",\"\",LEFT('Colour Contrast Analysis'!CB4,FIND(\" \",'Colour Contrast Analysis'!CB4)-1) &\" combination\" & IF('Colour Contrast Analysis'!CB4=\"1 Fault\",\"\",\"s\") & \" of foreground and background colours do\" & IF('Colour Contrast Analysis'!CB4=\"1 Fault\",\"es\",\"\") & \" not have sufficient contrast. Please see the Colour Contrast Analysis worksheet.\")","v":""},{"$f":"IF('Colour Contrast Analysis'!CC4=\"0 Faults\",\"\",LEFT('Colour Contrast Analysis'!CC4,FIND(\" \",'Colour Contrast Analysis'!CC4)-1) &\" combination\" & IF('Colour Contrast Analysis'!CC4=\"1 Fault\",\"\",\"s\") & \" of foreground and background colours do\" & IF('Colour Contrast Analysis'!CC4=\"1 Fault\",\"es\",\"\") & \" not have sufficient contrast. Please see the Colour Contrast Analysis worksheet.\")","v":""},{"$f":"IF('Colour Contrast Analysis'!CD4=\"0 Faults\",\"\",LEFT('Colour Contrast Analysis'!CD4,FIND(\" \",'Colour Contrast Analysis'!CD4)-1) &\" combination\" & IF('Colour Contrast Analysis'!CD4=\"1 Fault\",\"\",\"s\") & \" of foreground and background colours do\" & IF('Colour Contrast Analysis'!CD4=\"1 Fault\",\"es\",\"\") & \" not have sufficient contrast. Please see the Colour Contrast Analysis worksheet.\")","v":""},{"$f":"IF('Colour Contrast Analysis'!CE4=\"0 Faults\",\"\",LEFT('Colour Contrast Analysis'!CE4,FIND(\" \",'Colour Contrast Analysis'!CE4)-1) &\" combination\" & IF('Colour Contrast Analysis'!CE4=\"1 Fault\",\"\",\"s\") & \" of foreground and background colours do\" & IF('Colour Contrast Analysis'!CE4=\"1 Fault\",\"es\",\"\") & \" not have sufficient contrast. Please see the Colour Contrast Analysis worksheet.\")","v":""},{"$f":"IF('Colour Contrast Analysis'!CF4=\"0 Faults\",\"\",LEFT('Colour Contrast Analysis'!CF4,FIND(\" \",'Colour Contrast Analysis'!CF4)-1) &\" combination\" & IF('Colour Contrast Analysis'!CF4=\"1 Fault\",\"\",\"s\") & \" of foreground and background colours do\" & IF('Colour Contrast Analysis'!CF4=\"1 Fault\",\"es\",\"\") & \" not have sufficient contrast. Please see the Colour Contrast Analysis worksheet.\")","v":""},{"$f":"IF('Colour Contrast Analysis'!CG4=\"0 Faults\",\"\",LEFT('Colour Contrast Analysis'!CG4,FIND(\" \",'Colour Contrast Analysis'!CG4)-1) &\" combination\" & IF('Colour Contrast Analysis'!CG4=\"1 Fault\",\"\",\"s\") & \" of foreground and background colours do\" & IF('Colour Contrast Analysis'!CG4=\"1 Fault\",\"es\",\"\") & \" not have sufficient contrast. Please see the Colour Contrast Analysis worksheet.\")","v":""},{"$f":"IF('Colour Contrast Analysis'!CH4=\"0 Faults\",\"\",LEFT('Colour Contrast Analysis'!CH4,FIND(\" \",'Colour Contrast Analysis'!CH4)-1) &\" combination\" & IF('Colour Contrast Analysis'!CH4=\"1 Fault\",\"\",\"s\") & \" of foreground and background colours do\" & IF('Colour Contrast Analysis'!CH4=\"1 Fault\",\"es\",\"\") & \" not have sufficient contrast. Please see the Colour Contrast Analysis worksheet.\")","v":""},{"$f":"IF('Colour Contrast Analysis'!CI4=\"0 Faults\",\"\",LEFT('Colour Contrast Analysis'!CI4,FIND(\" \",'Colour Contrast Analysis'!CI4)-1) &\" combination\" & IF('Colour Contrast Analysis'!CI4=\"1 Fault\",\"\",\"s\") & \" of foreground and background colours do\" & IF('Colour Contrast Analysis'!CI4=\"1 Fault\",\"es\",\"\") & \" not have sufficient contrast. Please see the Colour Contrast Analysis worksheet.\")","v":""},{"$f":"IF('Colour Contrast Analysis'!CJ4=\"0 Faults\",\"\",LEFT('Colour Contrast Analysis'!CJ4,FIND(\" \",'Colour Contrast Analysis'!CJ4)-1) &\" combination\" & IF('Colour Contrast Analysis'!CJ4=\"1 Fault\",\"\",\"s\") & \" of foreground and background colours do\" & IF('Colour Contrast Analysis'!CJ4=\"1 Fault\",\"es\",\"\") & \" not have sufficient contrast. Please see the Colour Contrast Analysis worksheet.\")","v":""},{"$f":"IF('Colour Contrast Analysis'!CK4=\"0 Faults\",\"\",LEFT('Colour Contrast Analysis'!CK4,FIND(\" \",'Colour Contrast Analysis'!CK4)-1) &\" combination\" & IF('Colour Contrast Analysis'!CK4=\"1 Fault\",\"\",\"s\") & \" of foreground and background colours do\" & IF('Colour Contrast Analysis'!CK4=\"1 Fault\",\"es\",\"\") & \" not have sufficient contrast. Please see the Colour Contrast Analysis worksheet.\")","v":""},{"$f":"IF('Colour Contrast Analysis'!CL4=\"0 Faults\",\"\",LEFT('Colour Contrast Analysis'!CL4,FIND(\" \",'Colour Contrast Analysis'!CL4)-1) &\" combination\" & IF('Colour Contrast Analysis'!CL4=\"1 Fault\",\"\",\"s\") & \" of foreground and background colours do\" & IF('Colour Contrast Analysis'!CL4=\"1 Fault\",\"es\",\"\") & \" not have sufficient contrast. Please see the Colour Contrast Analysis worksheet.\")","v":""},{"$f":"IF('Colour Contrast Analysis'!CM4=\"0 Faults\",\"\",LEFT('Colour Contrast Analysis'!CM4,FIND(\" \",'Colour Contrast Analysis'!CM4)-1) &\" combination\" & IF('Colour Contrast Analysis'!CM4=\"1 Fault\",\"\",\"s\") & \" of foreground and background colours do\" & IF('Colour Contrast Analysis'!CM4=\"1 Fault\",\"es\",\"\") & \" not have sufficient contrast. Please see the Colour Contrast Analysis worksheet.\")","v":""},{"$f":"IF('Colour Contrast Analysis'!CN4=\"0 Faults\",\"\",LEFT('Colour Contrast Analysis'!CN4,FIND(\" \",'Colour Contrast Analysis'!CN4)-1) &\" combination\" & IF('Colour Contrast Analysis'!CN4=\"1 Fault\",\"\",\"s\") & \" of foreground and background colours do\" & IF('Colour Contrast Analysis'!CN4=\"1 Fault\",\"es\",\"\") & \" not have sufficient contrast. Please see the Colour Contrast Analysis worksheet.\")","v":""},{"$f":"IF('Colour Contrast Analysis'!CO4=\"0 Faults\",\"\",LEFT('Colour Contrast Analysis'!CO4,FIND(\" \",'Colour Contrast Analysis'!CO4)-1) &\" combination\" & IF('Colour Contrast Analysis'!CO4=\"1 Fault\",\"\",\"s\") & \" of foreground and background colours do\" & IF('Colour Contrast Analysis'!CO4=\"1 Fault\",\"es\",\"\") & \" not have sufficient contrast. Please see the Colour Contrast Analysis worksheet.\")","v":""},{"$f":"IF('Colour Contrast Analysis'!CP4=\"0 Faults\",\"\",LEFT('Colour Contrast Analysis'!CP4,FIND(\" \",'Colour Contrast Analysis'!CP4)-1) &\" combination\" & IF('Colour Contrast Analysis'!CP4=\"1 Fault\",\"\",\"s\") & \" of foreground and background colours do\" & IF('Colour Contrast Analysis'!CP4=\"1 Fault\",\"es\",\"\") & \" not have sufficient contrast. Please see the Colour Contrast Analysis worksheet.\")","v":""},{"$f":"IF('Colour Contrast Analysis'!CQ4=\"0 Faults\",\"\",LEFT('Colour Contrast Analysis'!CQ4,FIND(\" \",'Colour Contrast Analysis'!CQ4)-1) &\" combination\" & IF('Colour Contrast Analysis'!CQ4=\"1 Fault\",\"\",\"s\") & \" of foreground and background colours do\" & IF('Colour Contrast Analysis'!CQ4=\"1 Fault\",\"es\",\"\") & \" not have sufficient contrast. Please see the Colour Contrast Analysis worksheet.\")","v":""},{"$f":"IF('Colour Contrast Analysis'!CR4=\"0 Faults\",\"\",LEFT('Colour Contrast Analysis'!CR4,FIND(\" \",'Colour Contrast Analysis'!CR4)-1) &\" combination\" & IF('Colour Contrast Analysis'!CR4=\"1 Fault\",\"\",\"s\") & \" of foreground and background colours do\" & IF('Colour Contrast Analysis'!CR4=\"1 Fault\",\"es\",\"\") & \" not have sufficient contrast. Please see the Colour Contrast Analysis worksheet.\")","v":""},{"$f":"IF('Colour Contrast Analysis'!CS4=\"0 Faults\",\"\",LEFT('Colour Contrast Analysis'!CS4,FIND(\" \",'Colour Contrast Analysis'!CS4)-1) &\" combination\" & IF('Colour Contrast Analysis'!CS4=\"1 Fault\",\"\",\"s\") & \" of foreground and background colours do\" & IF('Colour Contrast Analysis'!CS4=\"1 Fault\",\"es\",\"\") & \" not have sufficient contrast. Please see the Colour Contrast Analysis worksheet.\")","v":""},{"$f":"IF('Colour Contrast Analysis'!CT4=\"0 Faults\",\"\",LEFT('Colour Contrast Analysis'!CT4,FIND(\" \",'Colour Contrast Analysis'!CT4)-1) &\" combination\" & IF('Colour Contrast Analysis'!CT4=\"1 Fault\",\"\",\"s\") & \" of foreground and background colours do\" & IF('Colour Contrast Analysis'!CT4=\"1 Fault\",\"es\",\"\") & \" not have sufficient contrast. Please see the Colour Contrast Analysis worksheet.\")","v":""},{"$f":"IF('Colour Contrast Analysis'!CU4=\"0 Faults\",\"\",LEFT('Colour Contrast Analysis'!CU4,FIND(\" \",'Colour Contrast Analysis'!CU4)-1) &\" combination\" & IF('Colour Contrast Analysis'!CU4=\"1 Fault\",\"\",\"s\") & \" of foreground and background colours do\" & IF('Colour Contrast Analysis'!CU4=\"1 Fault\",\"es\",\"\") & \" not have sufficient contrast. Please see the Colour Contrast Analysis worksheet.\")","v":""},{"$f":"IF('Colour Contrast Analysis'!CV4=\"0 Faults\",\"\",LEFT('Colour Contrast Analysis'!CV4,FIND(\" \",'Colour Contrast Analysis'!CV4)-1) &\" combination\" & IF('Colour Contrast Analysis'!CV4=\"1 Fault\",\"\",\"s\") & \" of foreground and background colours do\" & IF('Colour Contrast Analysis'!CV4=\"1 Fault\",\"es\",\"\") & \" not have sufficient contrast. Please see the Colour Contrast Analysis worksheet.\")","v":""},{"$f":"IF('Colour Contrast Analysis'!CW4=\"0 Faults\",\"\",LEFT('Colour Contrast Analysis'!CW4,FIND(\" \",'Colour Contrast Analysis'!CW4)-1) &\" combination\" & IF('Colour Contrast Analysis'!CW4=\"1 Fault\",\"\",\"s\") & \" of foreground and background colours do\" & IF('Colour Contrast Analysis'!CW4=\"1 Fault\",\"es\",\"\") & \" not have sufficient contrast. Please see the Colour Contrast Analysis worksheet.\")","v":""},{"$f":"IF('Colour Contrast Analysis'!CX4=\"0 Faults\",\"\",LEFT('Colour Contrast Analysis'!CX4,FIND(\" \",'Colour Contrast Analysis'!CX4)-1) &\" combination\" & IF('Colour Contrast Analysis'!CX4=\"1 Fault\",\"\",\"s\") & \" of foreground and background colours do\" & IF('Colour Contrast Analysis'!CX4=\"1 Fault\",\"es\",\"\") & \" not have sufficient contrast. Please see the Colour Contrast Analysis worksheet.\")","v":""},{"$f":"IF('Colour Contrast Analysis'!CY4=\"0 Faults\",\"\",LEFT('Colour Contrast Analysis'!CY4,FIND(\" \",'Colour Contrast Analysis'!CY4)-1) &\" combination\" & IF('Colour Contrast Analysis'!CY4=\"1 Fault\",\"\",\"s\") & \" of foreground and background colours do\" & IF('Colour Contrast Analysis'!CY4=\"1 Fault\",\"es\",\"\") & \" not have sufficient contrast. Please see the Colour Contrast Analysis worksheet.\")","v":""},{"$f":"IF('Colour Contrast Analysis'!CZ4=\"0 Faults\",\"\",LEFT('Colour Contrast Analysis'!CZ4,FIND(\" \",'Colour Contrast Analysis'!CZ4)-1) &\" combination\" & IF('Colour Contrast Analysis'!CZ4=\"1 Fault\",\"\",\"s\") & \" of foreground and background colours do\" & IF('Colour Contrast Analysis'!CZ4=\"1 Fault\",\"es\",\"\") & \" not have sufficient contrast. Please see the Colour Contrast Analysis worksheet.\")","v":""},{"$f":"IF('Colour Contrast Analysis'!DA4=\"0 Faults\",\"\",LEFT('Colour Contrast Analysis'!DA4,FIND(\" \",'Colour Contrast Analysis'!DA4)-1) &\" combination\" & IF('Colour Contrast Analysis'!DA4=\"1 Fault\",\"\",\"s\") & \" of foreground and background colours do\" & IF('Colour Contrast Analysis'!DA4=\"1 Fault\",\"es\",\"\") & \" not have sufficient contrast. Please see the Colour Contrast Analysis worksheet.\")","v":""},{"$f":"IF('Colour Contrast Analysis'!DB4=\"0 Faults\",\"\",LEFT('Colour Contrast Analysis'!DB4,FIND(\" \",'Colour Contrast Analysis'!DB4)-1) &\" combination\" & IF('Colour Contrast Analysis'!DB4=\"1 Fault\",\"\",\"s\") & \" of foreground and background colours do\" & IF('Colour Contrast Analysis'!DB4=\"1 Fault\",\"es\",\"\") & \" not have sufficient contrast. Please see the Colour Contrast Analysis worksheet.\")","v":""},{"$f":"IF('Colour Contrast Analysis'!DC4=\"0 Faults\",\"\",LEFT('Colour Contrast Analysis'!DC4,FIND(\" \",'Colour Contrast Analysis'!DC4)-1) &\" combination\" & IF('Colour Contrast Analysis'!DC4=\"1 Fault\",\"\",\"s\") & \" of foreground and background colours do\" & IF('Colour Contrast Analysis'!DC4=\"1 Fault\",\"es\",\"\") & \" not have sufficient contrast. Please see the Colour Contrast Analysis worksheet.\")","v":""},{"$f":"IF('Colour Contrast Analysis'!DD4=\"0 Faults\",\"\",LEFT('Colour Contrast Analysis'!DD4,FIND(\" \",'Colour Contrast Analysis'!DD4)-1) &\" combination\" & IF('Colour Contrast Analysis'!DD4=\"1 Fault\",\"\",\"s\") & \" of foreground and background colours do\" & IF('Colour Contrast Analysis'!DD4=\"1 Fault\",\"es\",\"\") & \" not have sufficient contrast. Please see the Colour Contrast Analysis worksheet.\")","v":""},{"$f":"IF('Colour Contrast Analysis'!DE4=\"0 Faults\",\"\",LEFT('Colour Contrast Analysis'!DE4,FIND(\" \",'Colour Contrast Analysis'!DE4)-1) &\" combination\" & IF('Colour Contrast Analysis'!DE4=\"1 Fault\",\"\",\"s\") & \" of foreground and background colours do\" & IF('Colour Contrast Analysis'!DE4=\"1 Fault\",\"es\",\"\") & \" not have sufficient contrast. Please see the Colour Contrast Analysis worksheet.\")","v":""},{"$f":"IF('Colour Contrast Analysis'!DF4=\"0 Faults\",\"\",LEFT('Colour Contrast Analysis'!DF4,FIND(\" \",'Colour Contrast Analysis'!DF4)-1) &\" combination\" & IF('Colour Contrast Analysis'!DF4=\"1 Fault\",\"\",\"s\") & \" of foreground and background colours do\" & IF('Colour Contrast Analysis'!DF4=\"1 Fault\",\"es\",\"\") & \" not have sufficient contrast. Please see the Colour Contrast Analysis worksheet.\")","v":""},{"$f":"IF('Colour Contrast Analysis'!DG4=\"0 Faults\",\"\",LEFT('Colour Contrast Analysis'!DG4,FIND(\" \",'Colour Contrast Analysis'!DG4)-1) &\" combination\" & IF('Colour Contrast Analysis'!DG4=\"1 Fault\",\"\",\"s\") & \" of foreground and background colours do\" & IF('Colour Contrast Analysis'!DG4=\"1 Fault\",\"es\",\"\") & \" not have sufficient contrast. Please see the Colour Contrast Analysis worksheet.\")","v":""},{"$f":"IF('Colour Contrast Analysis'!DH4=\"0 Faults\",\"\",LEFT('Colour Contrast Analysis'!DH4,FIND(\" \",'Colour Contrast Analysis'!DH4)-1) &\" combination\" & IF('Colour Contrast Analysis'!DH4=\"1 Fault\",\"\",\"s\") & \" of foreground and background colours do\" & IF('Colour Contrast Analysis'!DH4=\"1 Fault\",\"es\",\"\") & \" not have sufficient contrast. Please see the Colour Contrast Analysis worksheet.\")","v":""},{"$f":"IF('Colour Contrast Analysis'!DI4=\"0 Faults\",\"\",LEFT('Colour Contrast Analysis'!DI4,FIND(\" \",'Colour Contrast Analysis'!DI4)-1) &\" combination\" & IF('Colour Contrast Analysis'!DI4=\"1 Fault\",\"\",\"s\") & \" of foreground and background colours do\" & IF('Colour Contrast Analysis'!DI4=\"1 Fault\",\"es\",\"\") & \" not have sufficient contrast. Please see the Colour Contrast Analysis worksheet.\")","v":""},{"$f":"IF('Colour Contrast Analysis'!DJ4=\"0 Faults\",\"\",LEFT('Colour Contrast Analysis'!DJ4,FIND(\" \",'Colour Contrast Analysis'!DJ4)-1) &\" combination\" & IF('Colour Contrast Analysis'!DJ4=\"1 Fault\",\"\",\"s\") & \" of foreground and background colours do\" & IF('Colour Contrast Analysis'!DJ4=\"1 Fault\",\"es\",\"\") & \" not have sufficient contrast. Please see the Colour Contrast Analysis worksheet.\")","v":""},{"$f":"IF('Colour Contrast Analysis'!DK4=\"0 Faults\",\"\",LEFT('Colour Contrast Analysis'!DK4,FIND(\" \",'Colour Contrast Analysis'!DK4)-1) &\" combination\" & IF('Colour Contrast Analysis'!DK4=\"1 Fault\",\"\",\"s\") & \" of foreground and background colours do\" & IF('Colour Contrast Analysis'!DK4=\"1 Fault\",\"es\",\"\") & \" not have sufficient contrast. Please see the Colour Contrast Analysis worksheet.\")","v":""},{"$f":"IF('Colour Contrast Analysis'!DL4=\"0 Faults\",\"\",LEFT('Colour Contrast Analysis'!DL4,FIND(\" \",'Colour Contrast Analysis'!DL4)-1) &\" combination\" & IF('Colour Contrast Analysis'!DL4=\"1 Fault\",\"\",\"s\") & \" of foreground and background colours do\" & IF('Colour Contrast Analysis'!DL4=\"1 Fault\",\"es\",\"\") & \" not have sufficient contrast. Please see the Colour Contrast Analysis worksheet.\")","v":""},{"$f":"IF('Colour Contrast Analysis'!DM4=\"0 Faults\",\"\",LEFT('Colour Contrast Analysis'!DM4,FIND(\" \",'Colour Contrast Analysis'!DM4)-1) &\" combination\" & IF('Colour Contrast Analysis'!DM4=\"1 Fault\",\"\",\"s\") & \" of foreground and background colours do\" & IF('Colour Contrast Analysis'!DM4=\"1 Fault\",\"es\",\"\") & \" not have sufficient contrast. Please see the Colour Contrast Analysis worksheet.\")","v":""},{"$f":"IF('Colour Contrast Analysis'!DN4=\"0 Faults\",\"\",LEFT('Colour Contrast Analysis'!DN4,FIND(\" \",'Colour Contrast Analysis'!DN4)-1) &\" combination\" & IF('Colour Contrast Analysis'!DN4=\"1 Fault\",\"\",\"s\") & \" of foreground and background colours do\" & IF('Colour Contrast Analysis'!DN4=\"1 Fault\",\"es\",\"\") & \" not have sufficient contrast. Please see the Colour Contrast Analysis worksheet.\")","v":""},{"$f":"IF('Colour Contrast Analysis'!DO4=\"0 Faults\",\"\",LEFT('Colour Contrast Analysis'!DO4,FIND(\" \",'Colour Contrast Analysis'!DO4)-1) &\" combination\" & IF('Colour Contrast Analysis'!DO4=\"1 Fault\",\"\",\"s\") & \" of foreground and background colours do\" & IF('Colour Contrast Analysis'!DO4=\"1 Fault\",\"es\",\"\") & \" not have sufficient contrast. Please see the Colour Contrast Analysis worksheet.\")","v":""},{"$f":"IF('Colour Contrast Analysis'!DP4=\"0 Faults\",\"\",LEFT('Colour Contrast Analysis'!DP4,FIND(\" \",'Colour Contrast Analysis'!DP4)-1) &\" combination\" & IF('Colour Contrast Analysis'!DP4=\"1 Fault\",\"\",\"s\") & \" of foreground and background colours do\" & IF('Colour Contrast Analysis'!DP4=\"1 Fault\",\"es\",\"\") & \" not have sufficient contrast. Please see the Colour Contrast Analysis worksheet.\")","v":""},{"$f":"IF('Colour Contrast Analysis'!DQ4=\"0 Faults\",\"\",LEFT('Colour Contrast Analysis'!DQ4,FIND(\" \",'Colour Contrast Analysis'!DQ4)-1) &\" combination\" & IF('Colour Contrast Analysis'!DQ4=\"1 Fault\",\"\",\"s\") & \" of foreground and background colours do\" & IF('Colour Contrast Analysis'!DQ4=\"1 Fault\",\"es\",\"\") & \" not have sufficient contrast. Please see the Colour Contrast Analysis worksheet.\")","v":""},{"$f":"IF('Colour Contrast Analysis'!DR4=\"0 Faults\",\"\",LEFT('Colour Contrast Analysis'!DR4,FIND(\" \",'Colour Contrast Analysis'!DR4)-1) &\" combination\" & IF('Colour Contrast Analysis'!DR4=\"1 Fault\",\"\",\"s\") & \" of foreground and background colours do\" & IF('Colour Contrast Analysis'!DR4=\"1 Fault\",\"es\",\"\") & \" not have sufficient contrast. Please see the Colour Contrast Analysis worksheet.\")","v":""},{"$f":"IF('Colour Contrast Analysis'!DS4=\"0 Faults\",\"\",LEFT('Colour Contrast Analysis'!DS4,FIND(\" \",'Colour Contrast Analysis'!DS4)-1) &\" combination\" & IF('Colour Contrast Analysis'!DS4=\"1 Fault\",\"\",\"s\") & \" of foreground and background colours do\" & IF('Colour Contrast Analysis'!DS4=\"1 Fault\",\"es\",\"\") & \" not have sufficient contrast. Please see the Colour Contrast Analysis worksheet.\")","v":""},{"$f":"IF('Colour Contrast Analysis'!DT4=\"0 Faults\",\"\",LEFT('Colour Contrast Analysis'!DT4,FIND(\" \",'Colour Contrast Analysis'!DT4)-1) &\" combination\" & IF('Colour Contrast Analysis'!DT4=\"1 Fault\",\"\",\"s\") & \" of foreground and background colours do\" & IF('Colour Contrast Analysis'!DT4=\"1 Fault\",\"es\",\"\") & \" not have sufficient contrast. Please see the Colour Contrast Analysis worksheet.\")","v":""},{"$f":"IF('Colour Contrast Analysis'!DU4=\"0 Faults\",\"\",LEFT('Colour Contrast Analysis'!DU4,FIND(\" \",'Colour Contrast Analysis'!DU4)-1) &\" combination\" & IF('Colour Contrast Analysis'!DU4=\"1 Fault\",\"\",\"s\") & \" of foreground and background colours do\" & IF('Colour Contrast Analysis'!DU4=\"1 Fault\",\"es\",\"\") & \" not have sufficient contrast. Please see the Colour Contrast Analysis worksheet.\")","v":""},{"$f":"IF('Colour Contrast Analysis'!DV4=\"0 Faults\",\"\",LEFT('Colour Contrast Analysis'!DV4,FIND(\" \",'Colour Contrast Analysis'!DV4)-1) &\" combination\" & IF('Colour Contrast Analysis'!DV4=\"1 Fault\",\"\",\"s\") & \" of foreground and background colours do\" & IF('Colour Contrast Analysis'!DV4=\"1 Fault\",\"es\",\"\") & \" not have sufficient contrast. Please see the Colour Contrast Analysis worksheet.\")","v":""},{"$f":"IF('Colour Contrast Analysis'!DW4=\"0 Faults\",\"\",LEFT('Colour Contrast Analysis'!DW4,FIND(\" \",'Colour Contrast Analysis'!DW4)-1) &\" combination\" & IF('Colour Contrast Analysis'!DW4=\"1 Fault\",\"\",\"s\") & \" of foreground and background colours do\" & IF('Colour Contrast Analysis'!DW4=\"1 Fault\",\"es\",\"\") & \" not have sufficient contrast. Please see the Colour Contrast Analysis worksheet.\")","v":""},{"$f":"IF('Colour Contrast Analysis'!DX4=\"0 Faults\",\"\",LEFT('Colour Contrast Analysis'!DX4,FIND(\" \",'Colour Contrast Analysis'!DX4)-1) &\" combination\" & IF('Colour Contrast Analysis'!DX4=\"1 Fault\",\"\",\"s\") & \" of foreground and background colours do\" & IF('Colour Contrast Analysis'!DX4=\"1 Fault\",\"es\",\"\") & \" not have sufficient contrast. Please see the Colour Contrast Analysis worksheet.\")","v":""},{"$f":"IF('Colour Contrast Analysis'!DY4=\"0 Faults\",\"\",LEFT('Colour Contrast Analysis'!DY4,FIND(\" \",'Colour Contrast Analysis'!DY4)-1) &\" combination\" & IF('Colour Contrast Analysis'!DY4=\"1 Fault\",\"\",\"s\") & \" of foreground and background colours do\" & IF('Colour Contrast Analysis'!DY4=\"1 Fault\",\"es\",\"\") & \" not have sufficient contrast. Please see the Colour Contrast Analysis worksheet.\")","v":""},{"$f":"IF('Colour Contrast Analysis'!DZ4=\"0 Faults\",\"\",LEFT('Colour Contrast Analysis'!DZ4,FIND(\" \",'Colour Contrast Analysis'!DZ4)-1) &\" combination\" & IF('Colour Contrast Analysis'!DZ4=\"1 Fault\",\"\",\"s\") & \" of foreground and background colours do\" & IF('Colour Contrast Analysis'!DZ4=\"1 Fault\",\"es\",\"\") & \" not have sufficient contrast. Please see the Colour Contrast Analysis worksheet.\")","v":""},{"$f":"IF('Colour Contrast Analysis'!EA4=\"0 Faults\",\"\",LEFT('Colour Contrast Analysis'!EA4,FIND(\" \",'Colour Contrast Analysis'!EA4)-1) &\" combination\" & IF('Colour Contrast Analysis'!EA4=\"1 Fault\",\"\",\"s\") & \" of foreground and background colours do\" & IF('Colour Contrast Analysis'!EA4=\"1 Fault\",\"es\",\"\") & \" not have sufficient contrast. Please see the Colour Contrast Analysis worksheet.\")","v":""},{"$f":"IF('Colour Contrast Analysis'!EB4=\"0 Faults\",\"\",LEFT('Colour Contrast Analysis'!EB4,FIND(\" \",'Colour Contrast Analysis'!EB4)-1) &\" combination\" & IF('Colour Contrast Analysis'!EB4=\"1 Fault\",\"\",\"s\") & \" of foreground and background colours do\" & IF('Colour Contrast Analysis'!EB4=\"1 Fault\",\"es\",\"\") & \" not have sufficient contrast. Please see the Colour Contrast Analysis worksheet.\")","v":""},{"$f":"IF('Colour Contrast Analysis'!EC4=\"0 Faults\",\"\",LEFT('Colour Contrast Analysis'!EC4,FIND(\" \",'Colour Contrast Analysis'!EC4)-1) &\" combination\" & IF('Colour Contrast Analysis'!EC4=\"1 Fault\",\"\",\"s\") & \" of foreground and background colours do\" & IF('Colour Contrast Analysis'!EC4=\"1 Fault\",\"es\",\"\") & \" not have sufficient contrast. Please see the Colour Contrast Analysis worksheet.\")","v":""},{"$f":"IF('Colour Contrast Analysis'!ED4=\"0 Faults\",\"\",LEFT('Colour Contrast Analysis'!ED4,FIND(\" \",'Colour Contrast Analysis'!ED4)-1) &\" combination\" & IF('Colour Contrast Analysis'!ED4=\"1 Fault\",\"\",\"s\") & \" of foreground and background colours do\" & IF('Colour Contrast Analysis'!ED4=\"1 Fault\",\"es\",\"\") & \" not have sufficient contrast. Please see the Colour Contrast Analysis worksheet.\")","v":""},{"$f":"IF('Colour Contrast Analysis'!EE4=\"0 Faults\",\"\",LEFT('Colour Contrast Analysis'!EE4,FIND(\" \",'Colour Contrast Analysis'!EE4)-1) &\" combination\" & IF('Colour Contrast Analysis'!EE4=\"1 Fault\",\"\",\"s\") & \" of foreground and background colours do\" & IF('Colour Contrast Analysis'!EE4=\"1 Fault\",\"es\",\"\") & \" not have sufficient contrast. Please see the Colour Contrast Analysis worksheet.\")","v":""},{"$f":"IF('Colour Contrast Analysis'!EF4=\"0 Faults\",\"\",LEFT('Colour Contrast Analysis'!EF4,FIND(\" \",'Colour Contrast Analysis'!EF4)-1) &\" combination\" & IF('Colour Contrast Analysis'!EF4=\"1 Fault\",\"\",\"s\") & \" of foreground and background colours do\" & IF('Colour Contrast Analysis'!EF4=\"1 Fault\",\"es\",\"\") & \" not have sufficient contrast. Please see the Colour Contrast Analysis worksheet.\")","v":""},{"$f":"IF('Colour Contrast Analysis'!EG4=\"0 Faults\",\"\",LEFT('Colour Contrast Analysis'!EG4,FIND(\" \",'Colour Contrast Analysis'!EG4)-1) &\" combination\" & IF('Colour Contrast Analysis'!EG4=\"1 Fault\",\"\",\"s\") & \" of foreground and background colours do\" & IF('Colour Contrast Analysis'!EG4=\"1 Fault\",\"es\",\"\") & \" not have sufficient contrast. Please see the Colour Contrast Analysis worksheet.\")","v":""},{"$f":"IF('Colour Contrast Analysis'!EH4=\"0 Faults\",\"\",LEFT('Colour Contrast Analysis'!EH4,FIND(\" \",'Colour Contrast Analysis'!EH4)-1) &\" combination\" & IF('Colour Contrast Analysis'!EH4=\"1 Fault\",\"\",\"s\") & \" of foreground and background colours do\" & IF('Colour Contrast Analysis'!EH4=\"1 Fault\",\"es\",\"\") & \" not have sufficient contrast. Please see the Colour Contrast Analysis worksheet.\")","v":""},{"$f":"IF('Colour Contrast Analysis'!EI4=\"0 Faults\",\"\",LEFT('Colour Contrast Analysis'!EI4,FIND(\" \",'Colour Contrast Analysis'!EI4)-1) &\" combination\" & IF('Colour Contrast Analysis'!EI4=\"1 Fault\",\"\",\"s\") & \" of foreground and background colours do\" & IF('Colour Contrast Analysis'!EI4=\"1 Fault\",\"es\",\"\") & \" not have sufficient contrast. Please see the Colour Contrast Analysis worksheet.\")","v":""},{"$f":"IF('Colour Contrast Analysis'!EJ4=\"0 Faults\",\"\",LEFT('Colour Contrast Analysis'!EJ4,FIND(\" \",'Colour Contrast Analysis'!EJ4)-1) &\" combination\" & IF('Colour Contrast Analysis'!EJ4=\"1 Fault\",\"\",\"s\") & \" of foreground and background colours do\" & IF('Colour Contrast Analysis'!EJ4=\"1 Fault\",\"es\",\"\") & \" not have sufficient contrast. Please see the Colour Contrast Analysis worksheet.\")","v":""},{"$f":"IF('Colour Contrast Analysis'!EK4=\"0 Faults\",\"\",LEFT('Colour Contrast Analysis'!EK4,FIND(\" \",'Colour Contrast Analysis'!EK4)-1) &\" combination\" & IF('Colour Contrast Analysis'!EK4=\"1 Fault\",\"\",\"s\") & \" of foreground and background colours do\" & IF('Colour Contrast Analysis'!EK4=\"1 Fault\",\"es\",\"\") & \" not have sufficient contrast. Please see the Colour Contrast Analysis worksheet.\")","v":""},{"$f":"IF('Colour Contrast Analysis'!EL4=\"0 Faults\",\"\",LEFT('Colour Contrast Analysis'!EL4,FIND(\" \",'Colour Contrast Analysis'!EL4)-1) &\" combination\" & IF('Colour Contrast Analysis'!EL4=\"1 Fault\",\"\",\"s\") & \" of foreground and background colours do\" & IF('Colour Contrast Analysis'!EL4=\"1 Fault\",\"es\",\"\") & \" not have sufficient contrast. Please see the Colour Contrast Analysis worksheet.\")","v":""},{"$f":"IF('Colour Contrast Analysis'!EM4=\"0 Faults\",\"\",LEFT('Colour Contrast Analysis'!EM4,FIND(\" \",'Colour Contrast Analysis'!EM4)-1) &\" combination\" & IF('Colour Contrast Analysis'!EM4=\"1 Fault\",\"\",\"s\") & \" of foreground and background colours do\" & IF('Colour Contrast Analysis'!EM4=\"1 Fault\",\"es\",\"\") & \" not have sufficient contrast. Please see the Colour Contrast Analysis worksheet.\")","v":""},{"$f":"IF('Colour Contrast Analysis'!EN4=\"0 Faults\",\"\",LEFT('Colour Contrast Analysis'!EN4,FIND(\" \",'Colour Contrast Analysis'!EN4)-1) &\" combination\" & IF('Colour Contrast Analysis'!EN4=\"1 Fault\",\"\",\"s\") & \" of foreground and background colours do\" & IF('Colour Contrast Analysis'!EN4=\"1 Fault\",\"es\",\"\") & \" not have sufficient contrast. Please see the Colour Contrast Analysis worksheet.\")","v":""},{"$f":"IF('Colour Contrast Analysis'!EO4=\"0 Faults\",\"\",LEFT('Colour Contrast Analysis'!EO4,FIND(\" \",'Colour Contrast Analysis'!EO4)-1) &\" combination\" & IF('Colour Contrast Analysis'!EO4=\"1 Fault\",\"\",\"s\") & \" of foreground and background colours do\" & IF('Colour Contrast Analysis'!EO4=\"1 Fault\",\"es\",\"\") & \" not have sufficient contrast. Please see the Colour Contrast Analysis worksheet.\")","v":""},{"$f":"IF('Colour Contrast Analysis'!EP4=\"0 Faults\",\"\",LEFT('Colour Contrast Analysis'!EP4,FIND(\" \",'Colour Contrast Analysis'!EP4)-1) &\" combination\" & IF('Colour Contrast Analysis'!EP4=\"1 Fault\",\"\",\"s\") & \" of foreground and background colours do\" & IF('Colour Contrast Analysis'!EP4=\"1 Fault\",\"es\",\"\") & \" not have sufficient contrast. Please see the Colour Contrast Analysis worksheet.\")","v":""},{"$f":"IF('Colour Contrast Analysis'!EQ4=\"0 Faults\",\"\",LEFT('Colour Contrast Analysis'!EQ4,FIND(\" \",'Colour Contrast Analysis'!EQ4)-1) &\" combination\" & IF('Colour Contrast Analysis'!EQ4=\"1 Fault\",\"\",\"s\") & \" of foreground and background colours do\" & IF('Colour Contrast Analysis'!EQ4=\"1 Fault\",\"es\",\"\") & \" not have sufficient contrast. Please see the Colour Contrast Analysis worksheet.\")","v":""},{"$f":"IF('Colour Contrast Analysis'!ER4=\"0 Faults\",\"\",LEFT('Colour Contrast Analysis'!ER4,FIND(\" \",'Colour Contrast Analysis'!ER4)-1) &\" combination\" & IF('Colour Contrast Analysis'!ER4=\"1 Fault\",\"\",\"s\") & \" of foreground and background colours do\" & IF('Colour Contrast Analysis'!ER4=\"1 Fault\",\"es\",\"\") & \" not have sufficient contrast. Please see the Colour Contrast Analysis worksheet.\")","v":""},{"$f":"IF('Colour Contrast Analysis'!ES4=\"0 Faults\",\"\",LEFT('Colour Contrast Analysis'!ES4,FIND(\" \",'Colour Contrast Analysis'!ES4)-1) &\" combination\" & IF('Colour Contrast Analysis'!ES4=\"1 Fault\",\"\",\"s\") & \" of foreground and background colours do\" & IF('Colour Contrast Analysis'!ES4=\"1 Fault\",\"es\",\"\") & \" not have sufficient contrast. Please see the Colour Contrast Analysis worksheet.\")","v":""},{"$f":"IF('Colour Contrast Analysis'!ET4=\"0 Faults\",\"\",LEFT('Colour Contrast Analysis'!ET4,FIND(\" \",'Colour Contrast Analysis'!ET4)-1) &\" combination\" & IF('Colour Contrast Analysis'!ET4=\"1 Fault\",\"\",\"s\") & \" of foreground and background colours do\" & IF('Colour Contrast Analysis'!ET4=\"1 Fault\",\"es\",\"\") & \" not have sufficient contrast. Please see the Colour Contrast Analysis worksheet.\")","v":""},{"$f":"IF('Colour Contrast Analysis'!EU4=\"0 Faults\",\"\",LEFT('Colour Contrast Analysis'!EU4,FIND(\" \",'Colour Contrast Analysis'!EU4)-1) &\" combination\" & IF('Colour Contrast Analysis'!EU4=\"1 Fault\",\"\",\"s\") & \" of foreground and background colours do\" & IF('Colour Contrast Analysis'!EU4=\"1 Fault\",\"es\",\"\") & \" not have sufficient contrast. Please see the Colour Contrast Analysis worksheet.\")","v":""},{"$f":"IF('Colour Contrast Analysis'!EV4=\"0 Faults\",\"\",LEFT('Colour Contrast Analysis'!EV4,FIND(\" \",'Colour Contrast Analysis'!EV4)-1) &\" combination\" & IF('Colour Contrast Analysis'!EV4=\"1 Fault\",\"\",\"s\") & \" of foreground and background colours do\" & IF('Colour Contrast Analysis'!EV4=\"1 Fault\",\"es\",\"\") & \" not have sufficient contrast. Please see the Colour Contrast Analysis worksheet.\")","v":""},{"$f":"IF('Colour Contrast Analysis'!EW4=\"0 Faults\",\"\",LEFT('Colour Contrast Analysis'!EW4,FIND(\" \",'Colour Contrast Analysis'!EW4)-1) &\" combination\" & IF('Colour Contrast Analysis'!EW4=\"1 Fault\",\"\",\"s\") & \" of foreground and background colours do\" & IF('Colour Contrast Analysis'!EW4=\"1 Fault\",\"es\",\"\") & \" not have sufficient contrast. Please see the Colour Contrast Analysis worksheet.\")","v":""},{"$f":"IF('Colour Contrast Analysis'!EX4=\"0 Faults\",\"\",LEFT('Colour Contrast Analysis'!EX4,FIND(\" \",'Colour Contrast Analysis'!EX4)-1) &\" combination\" & IF('Colour Contrast Analysis'!EX4=\"1 Fault\",\"\",\"s\") & \" of foreground and background colours do\" & IF('Colour Contrast Analysis'!EX4=\"1 Fault\",\"es\",\"\") & \" not have sufficient contrast. Please see the Colour Contrast Analysis worksheet.\")","v":""},{"$f":"IF('Colour Contrast Analysis'!EY4=\"0 Faults\",\"\",LEFT('Colour Contrast Analysis'!EY4,FIND(\" \",'Colour Contrast Analysis'!EY4)-1) &\" combination\" & IF('Colour Contrast Analysis'!EY4=\"1 Fault\",\"\",\"s\") & \" of foreground and background colours do\" & IF('Colour Contrast Analysis'!EY4=\"1 Fault\",\"es\",\"\") & \" not have sufficient contrast. Please see the Colour Contrast Analysis worksheet.\")","v":""},{"$f":"IF('Colour Contrast Analysis'!EZ4=\"0 Faults\",\"\",LEFT('Colour Contrast Analysis'!EZ4,FIND(\" \",'Colour Contrast Analysis'!EZ4)-1) &\" combination\" & IF('Colour Contrast Analysis'!EZ4=\"1 Fault\",\"\",\"s\") & \" of foreground and background colours do\" & IF('Colour Contrast Analysis'!EZ4=\"1 Fault\",\"es\",\"\") & \" not have sufficient contrast. Please see the Colour Contrast Analysis worksheet.\")","v":""},{"$f":"IF('Colour Contrast Analysis'!FA4=\"0 Faults\",\"\",LEFT('Colour Contrast Analysis'!FA4,FIND(\" \",'Colour Contrast Analysis'!FA4)-1) &\" combination\" & IF('Colour Contrast Analysis'!FA4=\"1 Fault\",\"\",\"s\") & \" of foreground and background colours do\" & IF('Colour Contrast Analysis'!FA4=\"1 Fault\",\"es\",\"\") & \" not have sufficient contrast. Please see the Colour Contrast Analysis worksheet.\")","v":""},{"$f":"IF('Colour Contrast Analysis'!FB4=\"0 Faults\",\"\",LEFT('Colour Contrast Analysis'!FB4,FIND(\" \",'Colour Contrast Analysis'!FB4)-1) &\" combination\" & IF('Colour Contrast Analysis'!FB4=\"1 Fault\",\"\",\"s\") & \" of foreground and background colours do\" & IF('Colour Contrast Analysis'!FB4=\"1 Fault\",\"es\",\"\") & \" not have sufficient contrast. Please see the Colour Contrast Analysis worksheet.\")","v":""},{"$f":"IF('Colour Contrast Analysis'!FC4=\"0 Faults\",\"\",LEFT('Colour Contrast Analysis'!FC4,FIND(\" \",'Colour Contrast Analysis'!FC4)-1) &\" combination\" & IF('Colour Contrast Analysis'!FC4=\"1 Fault\",\"\",\"s\") & \" of foreground and background colours do\" & IF('Colour Contrast Analysis'!FC4=\"1 Fault\",\"es\",\"\") & \" not have sufficient contrast. Please see the Colour Contrast Analysis worksheet.\")","v":""},{"$f":"IF('Colour Contrast Analysis'!FD4=\"0 Faults\",\"\",LEFT('Colour Contrast Analysis'!FD4,FIND(\" \",'Colour Contrast Analysis'!FD4)-1) &\" combination\" & IF('Colour Contrast Analysis'!FD4=\"1 Fault\",\"\",\"s\") & \" of foreground and background colours do\" & IF('Colour Contrast Analysis'!FD4=\"1 Fault\",\"es\",\"\") & \" not have sufficient contrast. Please see the Colour Contrast Analysis worksheet.\")","v":""},{"$f":"IF('Colour Contrast Analysis'!FE4=\"0 Faults\",\"\",LEFT('Colour Contrast Analysis'!FE4,FIND(\" \",'Colour Contrast Analysis'!FE4)-1) &\" combination\" & IF('Colour Contrast Analysis'!FE4=\"1 Fault\",\"\",\"s\") & \" of foreground and background colours do\" & IF('Colour Contrast Analysis'!FE4=\"1 Fault\",\"es\",\"\") & \" not have sufficient contrast. Please see the Colour Contrast Analysis worksheet.\")","v":""},{"$f":"IF('Colour Contrast Analysis'!FF4=\"0 Faults\",\"\",LEFT('Colour Contrast Analysis'!FF4,FIND(\" \",'Colour Contrast Analysis'!FF4)-1) &\" combination\" & IF('Colour Contrast Analysis'!FF4=\"1 Fault\",\"\",\"s\") & \" of foreground and background colours do\" & IF('Colour Contrast Analysis'!FF4=\"1 Fault\",\"es\",\"\") & \" not have sufficient contrast. Please see the Colour Contrast Analysis worksheet.\")","v":""},{"$f":"IF('Colour Contrast Analysis'!FG4=\"0 Faults\",\"\",LEFT('Colour Contrast Analysis'!FG4,FIND(\" \",'Colour Contrast Analysis'!FG4)-1) &\" combination\" & IF('Colour Contrast Analysis'!FG4=\"1 Fault\",\"\",\"s\") & \" of foreground and background colours do\" & IF('Colour Contrast Analysis'!FG4=\"1 Fault\",\"es\",\"\") & \" not have sufficient contrast. Please see the Colour Contrast Analysis worksheet.\")","v":""},{"$f":"IF('Colour Contrast Analysis'!FH4=\"0 Faults\",\"\",LEFT('Colour Contrast Analysis'!FH4,FIND(\" \",'Colour Contrast Analysis'!FH4)-1) &\" combination\" & IF('Colour Contrast Analysis'!FH4=\"1 Fault\",\"\",\"s\") & \" of foreground and background colours do\" & IF('Colour Contrast Analysis'!FH4=\"1 Fault\",\"es\",\"\") & \" not have sufficient contrast. Please see the Colour Contrast Analysis worksheet.\")","v":""},{"$f":"IF('Colour Contrast Analysis'!FI4=\"0 Faults\",\"\",LEFT('Colour Contrast Analysis'!FI4,FIND(\" \",'Colour Contrast Analysis'!FI4)-1) &\" combination\" & IF('Colour Contrast Analysis'!FI4=\"1 Fault\",\"\",\"s\") & \" of foreground and background colours do\" & IF('Colour Contrast Analysis'!FI4=\"1 Fault\",\"es\",\"\") & \" not have sufficient contrast. Please see the Colour Contrast Analysis worksheet.\")","v":""},{"$f":"IF('Colour Contrast Analysis'!FJ4=\"0 Faults\",\"\",LEFT('Colour Contrast Analysis'!FJ4,FIND(\" \",'Colour Contrast Analysis'!FJ4)-1) &\" combination\" & IF('Colour Contrast Analysis'!FJ4=\"1 Fault\",\"\",\"s\") & \" of foreground and background colours do\" & IF('Colour Contrast Analysis'!FJ4=\"1 Fault\",\"es\",\"\") & \" not have sufficient contrast. Please see the Colour Contrast Analysis worksheet.\")","v":""},{"$f":"IF('Colour Contrast Analysis'!FK4=\"0 Faults\",\"\",LEFT('Colour Contrast Analysis'!FK4,FIND(\" \",'Colour Contrast Analysis'!FK4)-1) &\" combination\" & IF('Colour Contrast Analysis'!FK4=\"1 Fault\",\"\",\"s\") & \" of foreground and background colours do\" & IF('Colour Contrast Analysis'!FK4=\"1 Fault\",\"es\",\"\") & \" not have sufficient contrast. Please see the Colour Contrast Analysis worksheet.\")","v":""},{"$f":"IF('Colour Contrast Analysis'!FL4=\"0 Faults\",\"\",LEFT('Colour Contrast Analysis'!FL4,FIND(\" \",'Colour Contrast Analysis'!FL4)-1) &\" combination\" & IF('Colour Contrast Analysis'!FL4=\"1 Fault\",\"\",\"s\") & \" of foreground and background colours do\" & IF('Colour Contrast Analysis'!FL4=\"1 Fault\",\"es\",\"\") & \" not have sufficient contrast. Please see the Colour Contrast Analysis worksheet.\")","v":""},{"$f":"IF('Colour Contrast Analysis'!FM4=\"0 Faults\",\"\",LEFT('Colour Contrast Analysis'!FM4,FIND(\" \",'Colour Contrast Analysis'!FM4)-1) &\" combination\" & IF('Colour Contrast Analysis'!FM4=\"1 Fault\",\"\",\"s\") & \" of foreground and background colours do\" & IF('Colour Contrast Analysis'!FM4=\"1 Fault\",\"es\",\"\") & \" not have sufficient contrast. Please see the Colour Contrast Analysis worksheet.\")","v":""},{"$f":"IF('Colour Contrast Analysis'!FN4=\"0 Faults\",\"\",LEFT('Colour Contrast Analysis'!FN4,FIND(\" \",'Colour Contrast Analysis'!FN4)-1) &\" combination\" & IF('Colour Contrast Analysis'!FN4=\"1 Fault\",\"\",\"s\") & \" of foreground and background colours do\" & IF('Colour Contrast Analysis'!FN4=\"1 Fault\",\"es\",\"\") & \" not have sufficient contrast. Please see the Colour Contrast Analysis worksheet.\")","v":""},{"$f":"IF('Colour Contrast Analysis'!FO4=\"0 Faults\",\"\",LEFT('Colour Contrast Analysis'!FO4,FIND(\" \",'Colour Contrast Analysis'!FO4)-1) &\" combination\" & IF('Colour Contrast Analysis'!FO4=\"1 Fault\",\"\",\"s\") & \" of foreground and background colours do\" & IF('Colour Contrast Analysis'!FO4=\"1 Fault\",\"es\",\"\") & \" not have sufficient contrast. Please see the Colour Contrast Analysis worksheet.\")","v":""},{"$f":"IF('Colour Contrast Analysis'!FP4=\"0 Faults\",\"\",LEFT('Colour Contrast Analysis'!FP4,FIND(\" \",'Colour Contrast Analysis'!FP4)-1) &\" combination\" & IF('Colour Contrast Analysis'!FP4=\"1 Fault\",\"\",\"s\") & \" of foreground and background colours do\" & IF('Colour Contrast Analysis'!FP4=\"1 Fault\",\"es\",\"\") & \" not have sufficient contrast. Please see the Colour Contrast Analysis worksheet.\")","v":""},{"$f":"IF('Colour Contrast Analysis'!FQ4=\"0 Faults\",\"\",LEFT('Colour Contrast Analysis'!FQ4,FIND(\" \",'Colour Contrast Analysis'!FQ4)-1) &\" combination\" & IF('Colour Contrast Analysis'!FQ4=\"1 Fault\",\"\",\"s\") & \" of foreground and background colours do\" & IF('Colour Contrast Analysis'!FQ4=\"1 Fault\",\"es\",\"\") & \" not have sufficient contrast. Please see the Colour Contrast Analysis worksheet.\")","v":""},{"$f":"IF('Colour Contrast Analysis'!FR4=\"0 Faults\",\"\",LEFT('Colour Contrast Analysis'!FR4,FIND(\" \",'Colour Contrast Analysis'!FR4)-1) &\" combination\" & IF('Colour Contrast Analysis'!FR4=\"1 Fault\",\"\",\"s\") & \" of foreground and background colours do\" & IF('Colour Contrast Analysis'!FR4=\"1 Fault\",\"es\",\"\") & \" not have sufficient contrast. Please see the Colour Contrast Analysis worksheet.\")","v":""}]
["1.4.4","AA","Resize Text","Except for captions and images of text, text can be resized without assistive technology up to 200 percent without loss of content or functionality.","PASS","PASS","PASS","PASS","PASS","PASS"]
[]
["1.4.5","AA","Images of Text","If the technologies being used can achieve the visual presentation, text is used to convey information rather than images of text except for the following:","PASS","PASS","PASS","PASS","PASS","PASS"]
[null,null,null,"\nCustomizable: The image of text can be visually customized to the user's requirements;\nEssential: A particular presentation of text is essential to the information being conveyed.\n"]
["1.4.10","AA","Reflow","Content can be presented without loss of information or functionality, and without requiring scrolling in two dimensions for:","PASS","PASS","PASS","PASS","NON COMPLIANT","NON CONFORMANT"]
[null,null,null,"\nVertical scrolling content at a width equivalent to 320 CSS pixels;\nHorizontal scrolling content at a height equivalent to 256 CSS pixels.\nExcept for parts of the content which require two-dimensional layout for usage or meaning.",null,null,null,null,"The calendar tool requires horizontal scrolling when the browser window is set to 1280 and zoom at 400%.\n\nThere is an exemption to this success criterion for data tables, however it is debatable as to whether this is really a data table. ","The text, \"What other organisations say\" is causing a small amount of horizontal scrolling at 400% magnification, with the window width set to 1280.\n\nThe text under the heading, \"What other organisations say\" in the cards (e.g. \"How to recruit and retain volunteers\") is getting cropped at 400% magnification, with the window width set to 1280.\n\nThe featured text for the \"step-by-step process\" is not being cropped, but it is in a container about 3-characters wide, making it very hard to read. "]
["1.4.11","AA","Non-text Contrast","The visual presentation of the following have a contrast ratio of at least 3:1 against adjacent colour(s):",{"$f":"IF('[2]Non-text Contrast'!Z4=\"0 Faults\",\"PASS\",\"NON COMPLIANT\")","v":"PASS"},{"$f":"IF('[2]Non-text Contrast'!AA4=\"0 Faults\",\"PASS\",\"NON COMPLIANT\")","v":"PASS"},{"$f":"IF('[2]Non-text Contrast'!AB4=\"0 Faults\",\"PASS\",\"NON COMPLIANT\")","v":"PASS"},{"$f":"IF('[2]Non-text Contrast'!AC4=\"0 Faults\",\"PASS\",\"NON COMPLIANT\")","v":"PASS"},{"$f":"IF('[2]Non-text Contrast'!AD4=\"0 Faults\",\"PASS\",\"NON COMPLIANT\")","v":"PASS"},{"$f":"IF('Non-text Contrast'!AF4=\"0 Faults\",\"PASS\",\"NON CONFORMANT\")","v":"PASS"},{"$f":"IF('Non-text Contrast'!AG4=\"0 Faults\",\"PASS\",\"NON CONFORMANT\")","v":"PASS"},{"$f":"IF('Non-text Contrast'!AH4=\"0 Faults\",\"PASS\",\"NON CONFORMANT\")","v":"PASS"},{"$f":"IF('Non-text Contrast'!AI4=\"0 Faults\",\"PASS\",\"NON CONFORMANT\")","v":"PASS"},{"$f":"IF('Non-text Contrast'!AJ4=\"0 Faults\",\"PASS\",\"NON CONFORMANT\")","v":"PASS"},{"$f":"IF('Non-text Contrast'!AK4=\"0 Faults\",\"PASS\",\"NON CONFORMANT\")","v":"PASS"},{"$f":"IF('Non-text Contrast'!AL4=\"0 Faults\",\"PASS\",\"NON CONFORMANT\")","v":"PASS"},{"$f":"IF('Non-text Contrast'!AM4=\"0 Faults\",\"PASS\",\"NON CONFORMANT\")","v":"PASS"},{"$f":"IF('Non-text Contrast'!AN4=\"0 Faults\",\"PASS\",\"NON CONFORMANT\")","v":"PASS"},{"$f":"IF('Non-text Contrast'!AO4=\"0 Faults\",\"PASS\",\"NON CONFORMANT\")","v":"PASS"},{"$f":"IF('Non-text Contrast'!AP4=\"0 Faults\",\"PASS\",\"NON CONFORMANT\")","v":"PASS"},{"$f":"IF('Non-text Contrast'!AQ4=\"0 Faults\",\"PASS\",\"NON CONFORMANT\")","v":"PASS"},{"$f":"IF('Non-text Contrast'!AR4=\"0 Faults\",\"PASS\",\"NON CONFORMANT\")","v":"PASS"},{"$f":"IF('Non-text Contrast'!AS4=\"0 Faults\",\"PASS\",\"NON CONFORMANT\")","v":"PASS"},{"$f":"IF('Non-text Contrast'!AT4=\"0 Faults\",\"PASS\",\"NON CONFORMANT\")","v":"PASS"},{"$f":"IF('Non-text Contrast'!AU4=\"0 Faults\",\"PASS\",\"NON CONFORMANT\")","v":"PASS"},{"$f":"IF('Non-text Contrast'!AV4=\"0 Faults\",\"PASS\",\"NON CONFORMANT\")","v":"PASS"},{"$f":"IF('Non-text Contrast'!AW4=\"0 Faults\",\"PASS\",\"NON CONFORMANT\")","v":"PASS"},{"$f":"IF('Non-text Contrast'!AX4=\"0 Faults\",\"PASS\",\"NON CONFORMANT\")","v":"PASS"},{"$f":"IF('Non-text Contrast'!AY4=\"0 Faults\",\"PASS\",\"NON CONFORMANT\")","v":"PASS"},{"$f":"IF('Non-text Contrast'!AZ4=\"0 Faults\",\"PASS\",\"NON CONFORMANT\")","v":"PASS"},{"$f":"IF('Non-text Contrast'!BA4=\"0 Faults\",\"PASS\",\"NON CONFORMANT\")","v":"PASS"},{"$f":"IF('Non-text Contrast'!BB4=\"0 Faults\",\"PASS\",\"NON CONFORMANT\")","v":"PASS"},{"$f":"IF('Non-text Contrast'!BC4=\"0 Faults\",\"PASS\",\"NON CONFORMANT\")","v":"PASS"},{"$f":"IF('Non-text Contrast'!BD4=\"0 Faults\",\"PASS\",\"NON CONFORMANT\")","v":"PASS"},{"$f":"IF('Non-text Contrast'!BE4=\"0 Faults\",\"PASS\",\"NON CONFORMANT\")","v":"PASS"},{"$f":"IF('Non-text Contrast'!BF4=\"0 Faults\",\"PASS\",\"NON CONFORMANT\")","v":"PASS"},{"$f":"IF('Non-text Contrast'!BG4=\"0 Faults\",\"PASS\",\"NON CONFORMANT\")","v":"PASS"},{"$f":"IF('Non-text Contrast'!BH4=\"0 Faults\",\"PASS\",\"NON CONFORMANT\")","v":"PASS"},{"$f":"IF('Non-text Contrast'!BI4=\"0 Faults\",\"PASS\",\"NON CONFORMANT\")","v":"PASS"},{"$f":"IF('Non-text Contrast'!BJ4=\"0 Faults\",\"PASS\",\"NON CONFORMANT\")","v":"PASS"},{"$f":"IF('Non-text Contrast'!BK4=\"0 Faults\",\"PASS\",\"NON CONFORMANT\")","v":"PASS"},{"$f":"IF('Non-text Contrast'!BL4=\"0 Faults\",\"PASS\",\"NON CONFORMANT\")","v":"PASS"},{"$f":"IF('Non-text Contrast'!BM4=\"0 Faults\",\"PASS\",\"NON CONFORMANT\")","v":"PASS"},{"$f":"IF('Non-text Contrast'!BN4=\"0 Faults\",\"PASS\",\"NON CONFORMANT\")","v":"PASS"},{"$f":"IF('Non-text Contrast'!BO4=\"0 Faults\",\"PASS\",\"NON CONFORMANT\")","v":"PASS"},{"$f":"IF('Non-text Contrast'!BP4=\"0 Faults\",\"PASS\",\"NON CONFORMANT\")","v":"PASS"},{"$f":"IF('Non-text Contrast'!BQ4=\"0 Faults\",\"PASS\",\"NON CONFORMANT\")","v":"PASS"},{"$f":"IF('Non-text Contrast'!BR4=\"0 Faults\",\"PASS\",\"NON CONFORMANT\")","v":"PASS"},{"$f":"IF('Non-text Contrast'!BS4=\"0 Faults\",\"PASS\",\"NON CONFORMANT\")","v":"PASS"},{"$f":"IF('Non-text Contrast'!BT4=\"0 Faults\",\"PASS\",\"NON CONFORMANT\")","v":"PASS"},{"$f":"IF('Non-text Contrast'!BU4=\"0 Faults\",\"PASS\",\"NON CONFORMANT\")","v":"PASS"},{"$f":"IF('Non-text Contrast'!BV4=\"0 Faults\",\"PASS\",\"NON CONFORMANT\")","v":"PASS"},{"$f":"IF('Non-text Contrast'!BW4=\"0 Faults\",\"PASS\",\"NON CONFORMANT\")","v":"PASS"},{"$f":"IF('Non-text Contrast'!BX4=\"0 Faults\",\"PASS\",\"NON CONFORMANT\")","v":"PASS"},{"$f":"IF('Non-text Contrast'!BY4=\"0 Faults\",\"PASS\",\"NON CONFORMANT\")","v":"PASS"},{"$f":"IF('Non-text Contrast'!BZ4=\"0 Faults\",\"PASS\",\"NON CONFORMANT\")","v":"PASS"},{"$f":"IF('Non-text Contrast'!CA4=\"0 Faults\",\"PASS\",\"NON CONFORMANT\")","v":"PASS"},{"$f":"IF('Non-text Contrast'!CB4=\"0 Faults\",\"PASS\",\"NON CONFORMANT\")","v":"PASS"},{"$f":"IF('Non-text Contrast'!CC4=\"0 Faults\",\"PASS\",\"NON CONFORMANT\")","v":"PASS"},{"$f":"IF('Non-text Contrast'!CD4=\"0 Faults\",\"PASS\",\"NON CONFORMANT\")","v":"PASS"},{"$f":"IF('Non-text Contrast'!CE4=\"0 Faults\",\"PASS\",\"NON CONFORMANT\")","v":"PASS"},{"$f":"IF('Non-text Contrast'!CF4=\"0 Faults\",\"PASS\",\"NON CONFORMANT\")","v":"PASS"},{"$f":"IF('Non-text Contrast'!CG4=\"0 Faults\",\"PASS\",\"NON CONFORMANT\")","v":"PASS"},{"$f":"IF('Non-text Contrast'!CH4=\"0 Faults\",\"PASS\",\"NON CONFORMANT\")","v":"PASS"},{"$f":"IF('Non-text Contrast'!CI4=\"0 Faults\",\"PASS\",\"NON CONFORMANT\")","v":"PASS"},{"$f":"IF('Non-text Contrast'!CJ4=\"0 Faults\",\"PASS\",\"NON CONFORMANT\")","v":"PASS"},{"$f":"IF('Non-text Contrast'!CK4=\"0 Faults\",\"PASS\",\"NON CONFORMANT\")","v":"PASS"},{"$f":"IF('Non-text Contrast'!CL4=\"0 Faults\",\"PASS\",\"NON CONFORMANT\")","v":"PASS"},{"$f":"IF('Non-text Contrast'!CM4=\"0 Faults\",\"PASS\",\"NON CONFORMANT\")","v":"PASS"},{"$f":"IF('Non-text Contrast'!CN4=\"0 Faults\",\"PASS\",\"NON CONFORMANT\")","v":"PASS"},{"$f":"IF('Non-text Contrast'!CO4=\"0 Faults\",\"PASS\",\"NON CONFORMANT\")","v":"PASS"},{"$f":"IF('Non-text Contrast'!CP4=\"0 Faults\",\"PASS\",\"NON CONFORMANT\")","v":"PASS"},{"$f":"IF('Non-text Contrast'!CQ4=\"0 Faults\",\"PASS\",\"NON CONFORMANT\")","v":"PASS"},{"$f":"IF('Non-text Contrast'!CR4=\"0 Faults\",\"PASS\",\"NON CONFORMANT\")","v":"PASS"},{"$f":"IF('Non-text Contrast'!CS4=\"0 Faults\",\"PASS\",\"NON CONFORMANT\")","v":"PASS"},{"$f":"IF('Non-text Contrast'!CT4=\"0 Faults\",\"PASS\",\"NON CONFORMANT\")","v":"PASS"},{"$f":"IF('Non-text Contrast'!CU4=\"0 Faults\",\"PASS\",\"NON CONFORMANT\")","v":"PASS"},{"$f":"IF('Non-text Contrast'!CV4=\"0 Faults\",\"PASS\",\"NON CONFORMANT\")","v":"PASS"},{"$f":"IF('Non-text Contrast'!CW4=\"0 Faults\",\"PASS\",\"NON CONFORMANT\")","v":"PASS"},{"$f":"IF('Non-text Contrast'!CX4=\"0 Faults\",\"PASS\",\"NON CONFORMANT\")","v":"PASS"},{"$f":"IF('Non-text Contrast'!CY4=\"0 Faults\",\"PASS\",\"NON CONFORMANT\")","v":"PASS"},{"$f":"IF('Non-text Contrast'!CZ4=\"0 Faults\",\"PASS\",\"NON CONFORMANT\")","v":"PASS"},{"$f":"IF('Non-text Contrast'!DA4=\"0 Faults\",\"PASS\",\"NON CONFORMANT\")","v":"PASS"},{"$f":"IF('Non-text Contrast'!DB4=\"0 Faults\",\"PASS\",\"NON CONFORMANT\")","v":"PASS"},{"$f":"IF('Non-text Contrast'!DC4=\"0 Faults\",\"PASS\",\"NON CONFORMANT\")","v":"PASS"},{"$f":"IF('Non-text Contrast'!DD4=\"0 Faults\",\"PASS\",\"NON CONFORMANT\")","v":"PASS"},{"$f":"IF('Non-text Contrast'!DE4=\"0 Faults\",\"PASS\",\"NON CONFORMANT\")","v":"PASS"},{"$f":"IF('Non-text Contrast'!DF4=\"0 Faults\",\"PASS\",\"NON CONFORMANT\")","v":"PASS"},{"$f":"IF('Non-text Contrast'!DG4=\"0 Faults\",\"PASS\",\"NON CONFORMANT\")","v":"PASS"},{"$f":"IF('Non-text Contrast'!DH4=\"0 Faults\",\"PASS\",\"NON CONFORMANT\")","v":"PASS"},{"$f":"IF('Non-text Contrast'!DI4=\"0 Faults\",\"PASS\",\"NON CONFORMANT\")","v":"PASS"},{"$f":"IF('Non-text Contrast'!DJ4=\"0 Faults\",\"PASS\",\"NON CONFORMANT\")","v":"PASS"},{"$f":"IF('Non-text Contrast'!DK4=\"0 Faults\",\"PASS\",\"NON CONFORMANT\")","v":"PASS"},{"$f":"IF('Non-text Contrast'!DL4=\"0 Faults\",\"PASS\",\"NON CONFORMANT\")","v":"PASS"},{"$f":"IF('Non-text Contrast'!DM4=\"0 Faults\",\"PASS\",\"NON CONFORMANT\")","v":"PASS"},{"$f":"IF('Non-text Contrast'!DN4=\"0 Faults\",\"PASS\",\"NON CONFORMANT\")","v":"PASS"},{"$f":"IF('Non-text Contrast'!DO4=\"0 Faults\",\"PASS\",\"NON CONFORMANT\")","v":"PASS"},{"$f":"IF('Non-text Contrast'!DP4=\"0 Faults\",\"PASS\",\"NON CONFORMANT\")","v":"PASS"},{"$f":"IF('Non-text Contrast'!DQ4=\"0 Faults\",\"PASS\",\"NON CONFORMANT\")","v":"PASS"},{"$f":"IF('Non-text Contrast'!DR4=\"0 Faults\",\"PASS\",\"NON CONFORMANT\")","v":"PASS"},{"$f":"IF('Non-text Contrast'!DS4=\"0 Faults\",\"PASS\",\"NON CONFORMANT\")","v":"PASS"},{"$f":"IF('Non-text Contrast'!DT4=\"0 Faults\",\"PASS\",\"NON CONFORMANT\")","v":"PASS"},{"$f":"IF('Non-text Contrast'!DU4=\"0 Faults\",\"PASS\",\"NON CONFORMANT\")","v":"PASS"},{"$f":"IF('Non-text Contrast'!DV4=\"0 Faults\",\"PASS\",\"NON CONFORMANT\")","v":"PASS"},{"$f":"IF('Non-text Contrast'!DW4=\"0 Faults\",\"PASS\",\"NON CONFORMANT\")","v":"PASS"},{"$f":"IF('Non-text Contrast'!DX4=\"0 Faults\",\"PASS\",\"NON CONFORMANT\")","v":"PASS"},{"$f":"IF('Non-text Contrast'!DY4=\"0 Faults\",\"PASS\",\"NON CONFORMANT\")","v":"PASS"},{"$f":"IF('Non-text Contrast'!DZ4=\"0 Faults\",\"PASS\",\"NON CONFORMANT\")","v":"PASS"},{"$f":"IF('Non-text Contrast'!EA4=\"0 Faults\",\"PASS\",\"NON CONFORMANT\")","v":"PASS"},{"$f":"IF('Non-text Contrast'!EB4=\"0 Faults\",\"PASS\",\"NON CONFORMANT\")","v":"PASS"},{"$f":"IF('Non-text Contrast'!EC4=\"0 Faults\",\"PASS\",\"NON CONFORMANT\")","v":"PASS"},{"$f":"IF('Non-text Contrast'!ED4=\"0 Faults\",\"PASS\",\"NON CONFORMANT\")","v":"PASS"},{"$f":"IF('Non-text Contrast'!EE4=\"0 Faults\",\"PASS\",\"NON CONFORMANT\")","v":"PASS"},{"$f":"IF('Non-text Contrast'!EF4=\"0 Faults\",\"PASS\",\"NON CONFORMANT\")","v":"PASS"},{"$f":"IF('Non-text Contrast'!EG4=\"0 Faults\",\"PASS\",\"NON CONFORMANT\")","v":"PASS"},{"$f":"IF('Non-text Contrast'!EH4=\"0 Faults\",\"PASS\",\"NON CONFORMANT\")","v":"PASS"},{"$f":"IF('Non-text Contrast'!EI4=\"0 Faults\",\"PASS\",\"NON CONFORMANT\")","v":"PASS"},{"$f":"IF('Non-text Contrast'!EJ4=\"0 Faults\",\"PASS\",\"NON CONFORMANT\")","v":"PASS"},{"$f":"IF('Non-text Contrast'!EK4=\"0 Faults\",\"PASS\",\"NON CONFORMANT\")","v":"PASS"},{"$f":"IF('Non-text Contrast'!EL4=\"0 Faults\",\"PASS\",\"NON CONFORMANT\")","v":"PASS"},{"$f":"IF('Non-text Contrast'!EM4=\"0 Faults\",\"PASS\",\"NON CONFORMANT\")","v":"PASS"},{"$f":"IF('Non-text Contrast'!EN4=\"0 Faults\",\"PASS\",\"NON CONFORMANT\")","v":"PASS"},{"$f":"IF('Non-text Contrast'!EO4=\"0 Faults\",\"PASS\",\"NON CONFORMANT\")","v":"PASS"},{"$f":"IF('Non-text Contrast'!EP4=\"0 Faults\",\"PASS\",\"NON CONFORMANT\")","v":"PASS"},{"$f":"IF('Non-text Contrast'!EQ4=\"0 Faults\",\"PASS\",\"NON CONFORMANT\")","v":"PASS"},{"$f":"IF('Non-text Contrast'!ER4=\"0 Faults\",\"PASS\",\"NON CONFORMANT\")","v":"PASS"},{"$f":"IF('Non-text Contrast'!ES4=\"0 Faults\",\"PASS\",\"NON CONFORMANT\")","v":"PASS"},{"$f":"IF('Non-text Contrast'!ET4=\"0 Faults\",\"PASS\",\"NON CONFORMANT\")","v":"PASS"},{"$f":"IF('Non-text Contrast'!EU4=\"0 Faults\",\"PASS\",\"NON CONFORMANT\")","v":"PASS"},{"$f":"IF('Non-text Contrast'!EV4=\"0 Faults\",\"PASS\",\"NON CONFORMANT\")","v":"PASS"},{"$f":"IF('Non-text Contrast'!EW4=\"0 Faults\",\"PASS\",\"NON CONFORMANT\")","v":"PASS"},{"$f":"IF('Non-text Contrast'!EX4=\"0 Faults\",\"PASS\",\"NON CONFORMANT\")","v":"PASS"},{"$f":"IF('Non-text Contrast'!EY4=\"0 Faults\",\"PASS\",\"NON CONFORMANT\")","v":"PASS"},{"$f":"IF('Non-text Contrast'!EZ4=\"0 Faults\",\"PASS\",\"NON CONFORMANT\")","v":"PASS"},{"$f":"IF('Non-text Contrast'!FA4=\"0 Faults\",\"PASS\",\"NON CONFORMANT\")","v":"PASS"},{"$f":"IF('Non-text Contrast'!FB4=\"0 Faults\",\"PASS\",\"NON CONFORMANT\")","v":"PASS"},{"$f":"IF('Non-text Contrast'!FC4=\"0 Faults\",\"PASS\",\"NON CONFORMANT\")","v":"PASS"},{"$f":"IF('Non-text Contrast'!FD4=\"0 Faults\",\"PASS\",\"NON CONFORMANT\")","v":"PASS"},{"$f":"IF('Non-text Contrast'!FE4=\"0 Faults\",\"PASS\",\"NON CONFORMANT\")","v":"PASS"},{"$f":"IF('Non-text Contrast'!FF4=\"0 Faults\",\"PASS\",\"NON CONFORMANT\")","v":"PASS"},{"$f":"IF('Non-text Contrast'!FG4=\"0 Faults\",\"PASS\",\"NON CONFORMANT\")","v":"PASS"},{"$f":"IF('Non-text Contrast'!FH4=\"0 Faults\",\"PASS\",\"NON CONFORMANT\")","v":"PASS"},{"$f":"IF('Non-text Contrast'!FI4=\"0 Faults\",\"PASS\",\"NON CONFORMANT\")","v":"PASS"},{"$f":"IF('Non-text Contrast'!FJ4=\"0 Faults\",\"PASS\",\"NON CONFORMANT\")","v":"PASS"},{"$f":"IF('Non-text Contrast'!FK4=\"0 Faults\",\"PASS\",\"NON CONFORMANT\")","v":"PASS"},{"$f":"IF('Non-text Contrast'!FL4=\"0 Faults\",\"PASS\",\"NON CONFORMANT\")","v":"PASS"},{"$f":"IF('Non-text Contrast'!FM4=\"0 Faults\",\"PASS\",\"NON CONFORMANT\")","v":"PASS"},{"$f":"IF('Non-text Contrast'!FN4=\"0 Faults\",\"PASS\",\"NON CONFORMANT\")","v":"PASS"},{"$f":"IF('Non-text Contrast'!FO4=\"0 Faults\",\"PASS\",\"NON CONFORMANT\")","v":"PASS"},{"$f":"IF('Non-text Contrast'!FP4=\"0 Faults\",\"PASS\",\"NON CONFORMANT\")","v":"PASS"},{"$f":"IF('Non-text Contrast'!FQ4=\"0 Faults\",\"PASS\",\"NON CONFORMANT\")","v":"PASS"},{"$f":"IF('Non-text Contrast'!FR4=\"0 Faults\",\"PASS\",\"NON CONFORMANT\")","v":"PASS"},{"$f":"IF('Non-text Contrast'!FS4=\"0 Faults\",\"PASS\",\"NON CONFORMANT\")","v":"PASS"},{"$f":"IF('Non-text Contrast'!FT4=\"0 Faults\",\"PASS\",\"NON CONFORMANT\")","v":"PASS"}]
[null,null,null,"\nUser Interface Components: Visual information required to identify user interface components and states, except for inactive components or where the appearance of the component is determined by the user agent and not modified by the author;\nGraphical Objects: Parts of graphics required to understand the content, except when a particular presentation of graphics is essential to the information being conveyed.",{"$f":"IF('[2]Non-text Contrast'!Z4=\"0 Faults\",\"\",LEFT('[2]Non-text Contrast'!Z4,FIND(\" \",'[2]Non-text Contrast'!Z4)-1) &\" combination\" & IF('[2]Non-text Contrast'!Z4=\"1 Fault\",\"\",\"s\") & \" of adjacent colours do\" & IF('[2]Non-text Contrast'!Z4=\"1 Fault\",\"es\",\"\") & \" not have sufficient contrast. Please see the Non-text Contrast worksheet.\")","v":""},{"$f":"IF('[2]Non-text Contrast'!AA4=\"0 Faults\",\"\",LEFT('[2]Non-text Contrast'!AA4,FIND(\" \",'[2]Non-text Contrast'!AA4)-1) &\" combination\" & IF('[2]Non-text Contrast'!AA4=\"1 Fault\",\"\",\"s\") & \" of adjacent colours do\" & IF('[2]Non-text Contrast'!AA4=\"1 Fault\",\"es\",\"\") & \" not have sufficient contrast. Please see the Non-text Contrast worksheet.\")","v":""},{"$f":"IF('[2]Non-text Contrast'!AB4=\"0 Faults\",\"\",LEFT('[2]Non-text Contrast'!AB4,FIND(\" \",'[2]Non-text Contrast'!AB4)-1) &\" combination\" & IF('[2]Non-text Contrast'!AB4=\"1 Fault\",\"\",\"s\") & \" of adjacent colours do\" & IF('[2]Non-text Contrast'!AB4=\"1 Fault\",\"es\",\"\") & \" not have sufficient contrast. Please see the Non-text Contrast worksheet.\")","v":""},{"$f":"IF('[2]Non-text Contrast'!AC4=\"0 Faults\",\"\",LEFT('[2]Non-text Contrast'!AC4,FIND(\" \",'[2]Non-text Contrast'!AC4)-1) &\" combination\" & IF('[2]Non-text Contrast'!AC4=\"1 Fault\",\"\",\"s\") & \" of adjacent colours do\" & IF('[2]Non-text Contrast'!AC4=\"1 Fault\",\"es\",\"\") & \" not have sufficient contrast. Please see the Non-text Contrast worksheet.\")","v":""},{"$f":"IF('[2]Non-text Contrast'!AD4=\"0 Faults\",\"\",LEFT('[2]Non-text Contrast'!AD4,FIND(\" \",'[2]Non-text Contrast'!AD4)-1) &\" combination\" & IF('[2]Non-text Contrast'!AD4=\"1 Fault\",\"\",\"s\") & \" of adjacent colours do\" & IF('[2]Non-text Contrast'!AD4=\"1 Fault\",\"es\",\"\") & \" not have sufficient contrast. Please see the Non-text Contrast worksheet.\")","v":""},{"$f":"IF('Non-text Contrast'!AF4=\"0 Faults\",\"\",LEFT('Non-text Contrast'!AF4,FIND(\" \",'Non-text Contrast'!AF4)-1) &\" combination\" & IF('Non-text Contrast'!AF4=\"1 Fault\",\"\",\"s\") & \" of adjacent colours do\" & IF('Non-text Contrast'!AF4=\"1 Fault\",\"es\",\"\") & \" not have sufficient contrast. Please see the Non-text Contrast worksheet.\")","v":""},{"$f":"IF('Non-text Contrast'!AG4=\"0 Faults\",\"\",LEFT('Non-text Contrast'!AG4,FIND(\" \",'Non-text Contrast'!AG4)-1) &\" combination\" & IF('Non-text Contrast'!AG4=\"1 Fault\",\"\",\"s\") & \" of adjacent colours do\" & IF('Non-text Contrast'!AG4=\"1 Fault\",\"es\",\"\") & \" not have sufficient contrast. Please see the Non-text Contrast worksheet.\")","v":""},{"$f":"IF('Non-text Contrast'!AH4=\"0 Faults\",\"\",LEFT('Non-text Contrast'!AH4,FIND(\" \",'Non-text Contrast'!AH4)-1) &\" combination\" & IF('Non-text Contrast'!AH4=\"1 Fault\",\"\",\"s\") & \" of adjacent colours do\" & IF('Non-text Contrast'!AH4=\"1 Fault\",\"es\",\"\") & \" not have sufficient contrast. Please see the Non-text Contrast worksheet.\")","v":""},{"$f":"IF('Non-text Contrast'!AI4=\"0 Faults\",\"\",LEFT('Non-text Contrast'!AI4,FIND(\" \",'Non-text Contrast'!AI4)-1) &\" combination\" & IF('Non-text Contrast'!AI4=\"1 Fault\",\"\",\"s\") & \" of adjacent colours do\" & IF('Non-text Contrast'!AI4=\"1 Fault\",\"es\",\"\") & \" not have sufficient contrast. Please see the Non-text Contrast worksheet.\")","v":""},{"$f":"IF('Non-text Contrast'!AJ4=\"0 Faults\",\"\",LEFT('Non-text Contrast'!AJ4,FIND(\" \",'Non-text Contrast'!AJ4)-1) &\" combination\" & IF('Non-text Contrast'!AJ4=\"1 Fault\",\"\",\"s\") & \" of adjacent colours do\" & IF('Non-text Contrast'!AJ4=\"1 Fault\",\"es\",\"\") & \" not have sufficient contrast. Please see the Non-text Contrast worksheet.\")","v":""},{"$f":"IF('Non-text Contrast'!AK4=\"0 Faults\",\"\",LEFT('Non-text Contrast'!AK4,FIND(\" \",'Non-text Contrast'!AK4)-1) &\" combination\" & IF('Non-text Contrast'!AK4=\"1 Fault\",\"\",\"s\") & \" of adjacent colours do\" & IF('Non-text Contrast'!AK4=\"1 Fault\",\"es\",\"\") & \" not have sufficient contrast. Please see the Non-text Contrast worksheet.\")","v":""},{"$f":"IF('Non-text Contrast'!AL4=\"0 Faults\",\"\",LEFT('Non-text Contrast'!AL4,FIND(\" \",'Non-text Contrast'!AL4)-1) &\" combination\" & IF('Non-text Contrast'!AL4=\"1 Fault\",\"\",\"s\") & \" of adjacent colours do\" & IF('Non-text Contrast'!AL4=\"1 Fault\",\"es\",\"\") & \" not have sufficient contrast. Please see the Non-text Contrast worksheet.\")","v":""},{"$f":"IF('Non-text Contrast'!AM4=\"0 Faults\",\"\",LEFT('Non-text Contrast'!AM4,FIND(\" \",'Non-text Contrast'!AM4)-1) &\" combination\" & IF('Non-text Contrast'!AM4=\"1 Fault\",\"\",\"s\") & \" of adjacent colours do\" & IF('Non-text Contrast'!AM4=\"1 Fault\",\"es\",\"\") & \" not have sufficient contrast. Please see the Non-text Contrast worksheet.\")","v":""},{"$f":"IF('Non-text Contrast'!AN4=\"0 Faults\",\"\",LEFT('Non-text Contrast'!AN4,FIND(\" \",'Non-text Contrast'!AN4)-1) &\" combination\" & IF('Non-text Contrast'!AN4=\"1 Fault\",\"\",\"s\") & \" of adjacent colours do\" & IF('Non-text Contrast'!AN4=\"1 Fault\",\"es\",\"\") & \" not have sufficient contrast. Please see the Non-text Contrast worksheet.\")","v":""},{"$f":"IF('Non-text Contrast'!AO4=\"0 Faults\",\"\",LEFT('Non-text Contrast'!AO4,FIND(\" \",'Non-text Contrast'!AO4)-1) &\" combination\" & IF('Non-text Contrast'!AO4=\"1 Fault\",\"\",\"s\") & \" of adjacent colours do\" & IF('Non-text Contrast'!AO4=\"1 Fault\",\"es\",\"\") & \" not have sufficient contrast. Please see the Non-text Contrast worksheet.\")","v":""},{"$f":"IF('Non-text Contrast'!AP4=\"0 Faults\",\"\",LEFT('Non-text Contrast'!AP4,FIND(\" \",'Non-text Contrast'!AP4)-1) &\" combination\" & IF('Non-text Contrast'!AP4=\"1 Fault\",\"\",\"s\") & \" of adjacent colours do\" & IF('Non-text Contrast'!AP4=\"1 Fault\",\"es\",\"\") & \" not have sufficient contrast. Please see the Non-text Contrast worksheet.\")","v":""},{"$f":"IF('Non-text Contrast'!AQ4=\"0 Faults\",\"\",LEFT('Non-text Contrast'!AQ4,FIND(\" \",'Non-text Contrast'!AQ4)-1) &\" combination\" & IF('Non-text Contrast'!AQ4=\"1 Fault\",\"\",\"s\") & \" of adjacent colours do\" & IF('Non-text Contrast'!AQ4=\"1 Fault\",\"es\",\"\") & \" not have sufficient contrast. Please see the Non-text Contrast worksheet.\")","v":""},{"$f":"IF('Non-text Contrast'!AR4=\"0 Faults\",\"\",LEFT('Non-text Contrast'!AR4,FIND(\" \",'Non-text Contrast'!AR4)-1) &\" combination\" & IF('Non-text Contrast'!AR4=\"1 Fault\",\"\",\"s\") & \" of adjacent colours do\" & IF('Non-text Contrast'!AR4=\"1 Fault\",\"es\",\"\") & \" not have sufficient contrast. Please see the Non-text Contrast worksheet.\")","v":""},{"$f":"IF('Non-text Contrast'!AS4=\"0 Faults\",\"\",LEFT('Non-text Contrast'!AS4,FIND(\" \",'Non-text Contrast'!AS4)-1) &\" combination\" & IF('Non-text Contrast'!AS4=\"1 Fault\",\"\",\"s\") & \" of adjacent colours do\" & IF('Non-text Contrast'!AS4=\"1 Fault\",\"es\",\"\") & \" not have sufficient contrast. Please see the Non-text Contrast worksheet.\")","v":""},{"$f":"IF('Non-text Contrast'!AT4=\"0 Faults\",\"\",LEFT('Non-text Contrast'!AT4,FIND(\" \",'Non-text Contrast'!AT4)-1) &\" combination\" & IF('Non-text Contrast'!AT4=\"1 Fault\",\"\",\"s\") & \" of adjacent colours do\" & IF('Non-text Contrast'!AT4=\"1 Fault\",\"es\",\"\") & \" not have sufficient contrast. Please see the Non-text Contrast worksheet.\")","v":""},{"$f":"IF('Non-text Contrast'!AU4=\"0 Faults\",\"\",LEFT('Non-text Contrast'!AU4,FIND(\" \",'Non-text Contrast'!AU4)-1) &\" combination\" & IF('Non-text Contrast'!AU4=\"1 Fault\",\"\",\"s\") & \" of adjacent colours do\" & IF('Non-text Contrast'!AU4=\"1 Fault\",\"es\",\"\") & \" not have sufficient contrast. Please see the Non-text Contrast worksheet.\")","v":""},{"$f":"IF('Non-text Contrast'!AV4=\"0 Faults\",\"\",LEFT('Non-text Contrast'!AV4,FIND(\" \",'Non-text Contrast'!AV4)-1) &\" combination\" & IF('Non-text Contrast'!AV4=\"1 Fault\",\"\",\"s\") & \" of adjacent colours do\" & IF('Non-text Contrast'!AV4=\"1 Fault\",\"es\",\"\") & \" not have sufficient contrast. Please see the Non-text Contrast worksheet.\")","v":""},{"$f":"IF('Non-text Contrast'!AW4=\"0 Faults\",\"\",LEFT('Non-text Contrast'!AW4,FIND(\" \",'Non-text Contrast'!AW4)-1) &\" combination\" & IF('Non-text Contrast'!AW4=\"1 Fault\",\"\",\"s\") & \" of adjacent colours do\" & IF('Non-text Contrast'!AW4=\"1 Fault\",\"es\",\"\") & \" not have sufficient contrast. Please see the Non-text Contrast worksheet.\")","v":""},{"$f":"IF('Non-text Contrast'!AX4=\"0 Faults\",\"\",LEFT('Non-text Contrast'!AX4,FIND(\" \",'Non-text Contrast'!AX4)-1) &\" combination\" & IF('Non-text Contrast'!AX4=\"1 Fault\",\"\",\"s\") & \" of adjacent colours do\" & IF('Non-text Contrast'!AX4=\"1 Fault\",\"es\",\"\") & \" not have sufficient contrast. Please see the Non-text Contrast worksheet.\")","v":""},{"$f":"IF('Non-text Contrast'!AY4=\"0 Faults\",\"\",LEFT('Non-text Contrast'!AY4,FIND(\" \",'Non-text Contrast'!AY4)-1) &\" combination\" & IF('Non-text Contrast'!AY4=\"1 Fault\",\"\",\"s\") & \" of adjacent colours do\" & IF('Non-text Contrast'!AY4=\"1 Fault\",\"es\",\"\") & \" not have sufficient contrast. Please see the Non-text Contrast worksheet.\")","v":""},{"$f":"IF('Non-text Contrast'!AZ4=\"0 Faults\",\"\",LEFT('Non-text Contrast'!AZ4,FIND(\" \",'Non-text Contrast'!AZ4)-1) &\" combination\" & IF('Non-text Contrast'!AZ4=\"1 Fault\",\"\",\"s\") & \" of adjacent colours do\" & IF('Non-text Contrast'!AZ4=\"1 Fault\",\"es\",\"\") & \" not have sufficient contrast. Please see the Non-text Contrast worksheet.\")","v":""},{"$f":"IF('Non-text Contrast'!BA4=\"0 Faults\",\"\",LEFT('Non-text Contrast'!BA4,FIND(\" \",'Non-text Contrast'!BA4)-1) &\" combination\" & IF('Non-text Contrast'!BA4=\"1 Fault\",\"\",\"s\") & \" of adjacent colours do\" & IF('Non-text Contrast'!BA4=\"1 Fault\",\"es\",\"\") & \" not have sufficient contrast. Please see the Non-text Contrast worksheet.\")","v":""},{"$f":"IF('Non-text Contrast'!BB4=\"0 Faults\",\"\",LEFT('Non-text Contrast'!BB4,FIND(\" \",'Non-text Contrast'!BB4)-1) &\" combination\" & IF('Non-text Contrast'!BB4=\"1 Fault\",\"\",\"s\") & \" of adjacent colours do\" & IF('Non-text Contrast'!BB4=\"1 Fault\",\"es\",\"\") & \" not have sufficient contrast. Please see the Non-text Contrast worksheet.\")","v":""},{"$f":"IF('Non-text Contrast'!BC4=\"0 Faults\",\"\",LEFT('Non-text Contrast'!BC4,FIND(\" \",'Non-text Contrast'!BC4)-1) &\" combination\" & IF('Non-text Contrast'!BC4=\"1 Fault\",\"\",\"s\") & \" of adjacent colours do\" & IF('Non-text Contrast'!BC4=\"1 Fault\",\"es\",\"\") & \" not have sufficient contrast. Please see the Non-text Contrast worksheet.\")","v":""},{"$f":"IF('Non-text Contrast'!BD4=\"0 Faults\",\"\",LEFT('Non-text Contrast'!BD4,FIND(\" \",'Non-text Contrast'!BD4)-1) &\" combination\" & IF('Non-text Contrast'!BD4=\"1 Fault\",\"\",\"s\") & \" of adjacent colours do\" & IF('Non-text Contrast'!BD4=\"1 Fault\",\"es\",\"\") & \" not have sufficient contrast. Please see the Non-text Contrast worksheet.\")","v":""},{"$f":"IF('Non-text Contrast'!BE4=\"0 Faults\",\"\",LEFT('Non-text Contrast'!BE4,FIND(\" \",'Non-text Contrast'!BE4)-1) &\" combination\" & IF('Non-text Contrast'!BE4=\"1 Fault\",\"\",\"s\") & \" of adjacent colours do\" & IF('Non-text Contrast'!BE4=\"1 Fault\",\"es\",\"\") & \" not have sufficient contrast. Please see the Non-text Contrast worksheet.\")","v":""},{"$f":"IF('Non-text Contrast'!BF4=\"0 Faults\",\"\",LEFT('Non-text Contrast'!BF4,FIND(\" \",'Non-text Contrast'!BF4)-1) &\" combination\" & IF('Non-text Contrast'!BF4=\"1 Fault\",\"\",\"s\") & \" of adjacent colours do\" & IF('Non-text Contrast'!BF4=\"1 Fault\",\"es\",\"\") & \" not have sufficient contrast. Please see the Non-text Contrast worksheet.\")","v":""},{"$f":"IF('Non-text Contrast'!BG4=\"0 Faults\",\"\",LEFT('Non-text Contrast'!BG4,FIND(\" \",'Non-text Contrast'!BG4)-1) &\" combination\" & IF('Non-text Contrast'!BG4=\"1 Fault\",\"\",\"s\") & \" of adjacent colours do\" & IF('Non-text Contrast'!BG4=\"1 Fault\",\"es\",\"\") & \" not have sufficient contrast. Please see the Non-text Contrast worksheet.\")","v":""},{"$f":"IF('Non-text Contrast'!BH4=\"0 Faults\",\"\",LEFT('Non-text Contrast'!BH4,FIND(\" \",'Non-text Contrast'!BH4)-1) &\" combination\" & IF('Non-text Contrast'!BH4=\"1 Fault\",\"\",\"s\") & \" of adjacent colours do\" & IF('Non-text Contrast'!BH4=\"1 Fault\",\"es\",\"\") & \" not have sufficient contrast. Please see the Non-text Contrast worksheet.\")","v":""},{"$f":"IF('Non-text Contrast'!BI4=\"0 Faults\",\"\",LEFT('Non-text Contrast'!BI4,FIND(\" \",'Non-text Contrast'!BI4)-1) &\" combination\" & IF('Non-text Contrast'!BI4=\"1 Fault\",\"\",\"s\") & \" of adjacent colours do\" & IF('Non-text Contrast'!BI4=\"1 Fault\",\"es\",\"\") & \" not have sufficient contrast. Please see the Non-text Contrast worksheet.\")","v":""},{"$f":"IF('Non-text Contrast'!BJ4=\"0 Faults\",\"\",LEFT('Non-text Contrast'!BJ4,FIND(\" \",'Non-text Contrast'!BJ4)-1) &\" combination\" & IF('Non-text Contrast'!BJ4=\"1 Fault\",\"\",\"s\") & \" of adjacent colours do\" & IF('Non-text Contrast'!BJ4=\"1 Fault\",\"es\",\"\") & \" not have sufficient contrast. Please see the Non-text Contrast worksheet.\")","v":""},{"$f":"IF('Non-text Contrast'!BK4=\"0 Faults\",\"\",LEFT('Non-text Contrast'!BK4,FIND(\" \",'Non-text Contrast'!BK4)-1) &\" combination\" & IF('Non-text Contrast'!BK4=\"1 Fault\",\"\",\"s\") & \" of adjacent colours do\" & IF('Non-text Contrast'!BK4=\"1 Fault\",\"es\",\"\") & \" not have sufficient contrast. Please see the Non-text Contrast worksheet.\")","v":""},{"$f":"IF('Non-text Contrast'!BL4=\"0 Faults\",\"\",LEFT('Non-text Contrast'!BL4,FIND(\" \",'Non-text Contrast'!BL4)-1) &\" combination\" & IF('Non-text Contrast'!BL4=\"1 Fault\",\"\",\"s\") & \" of adjacent colours do\" & IF('Non-text Contrast'!BL4=\"1 Fault\",\"es\",\"\") & \" not have sufficient contrast. Please see the Non-text Contrast worksheet.\")","v":""},{"$f":"IF('Non-text Contrast'!BM4=\"0 Faults\",\"\",LEFT('Non-text Contrast'!BM4,FIND(\" \",'Non-text Contrast'!BM4)-1) &\" combination\" & IF('Non-text Contrast'!BM4=\"1 Fault\",\"\",\"s\") & \" of adjacent colours do\" & IF('Non-text Contrast'!BM4=\"1 Fault\",\"es\",\"\") & \" not have sufficient contrast. Please see the Non-text Contrast worksheet.\")","v":""},{"$f":"IF('Non-text Contrast'!BN4=\"0 Faults\",\"\",LEFT('Non-text Contrast'!BN4,FIND(\" \",'Non-text Contrast'!BN4)-1) &\" combination\" & IF('Non-text Contrast'!BN4=\"1 Fault\",\"\",\"s\") & \" of adjacent colours do\" & IF('Non-text Contrast'!BN4=\"1 Fault\",\"es\",\"\") & \" not have sufficient contrast. Please see the Non-text Contrast worksheet.\")","v":""},{"$f":"IF('Non-text Contrast'!BO4=\"0 Faults\",\"\",LEFT('Non-text Contrast'!BO4,FIND(\" \",'Non-text Contrast'!BO4)-1) &\" combination\" & IF('Non-text Contrast'!BO4=\"1 Fault\",\"\",\"s\") & \" of adjacent colours do\" & IF('Non-text Contrast'!BO4=\"1 Fault\",\"es\",\"\") & \" not have sufficient contrast. Please see the Non-text Contrast worksheet.\")","v":""},{"$f":"IF('Non-text Contrast'!BP4=\"0 Faults\",\"\",LEFT('Non-text Contrast'!BP4,FIND(\" \",'Non-text Contrast'!BP4)-1) &\" combination\" & IF('Non-text Contrast'!BP4=\"1 Fault\",\"\",\"s\") & \" of adjacent colours do\" & IF('Non-text Contrast'!BP4=\"1 Fault\",\"es\",\"\") & \" not have sufficient contrast. Please see the Non-text Contrast worksheet.\")","v":""},{"$f":"IF('Non-text Contrast'!BQ4=\"0 Faults\",\"\",LEFT('Non-text Contrast'!BQ4,FIND(\" \",'Non-text Contrast'!BQ4)-1) &\" combination\" & IF('Non-text Contrast'!BQ4=\"1 Fault\",\"\",\"s\") & \" of adjacent colours do\" & IF('Non-text Contrast'!BQ4=\"1 Fault\",\"es\",\"\") & \" not have sufficient contrast. Please see the Non-text Contrast worksheet.\")","v":""},{"$f":"IF('Non-text Contrast'!BR4=\"0 Faults\",\"\",LEFT('Non-text Contrast'!BR4,FIND(\" \",'Non-text Contrast'!BR4)-1) &\" combination\" & IF('Non-text Contrast'!BR4=\"1 Fault\",\"\",\"s\") & \" of adjacent colours do\" & IF('Non-text Contrast'!BR4=\"1 Fault\",\"es\",\"\") & \" not have sufficient contrast. Please see the Non-text Contrast worksheet.\")","v":""},{"$f":"IF('Non-text Contrast'!BS4=\"0 Faults\",\"\",LEFT('Non-text Contrast'!BS4,FIND(\" \",'Non-text Contrast'!BS4)-1) &\" combination\" & IF('Non-text Contrast'!BS4=\"1 Fault\",\"\",\"s\") & \" of adjacent colours do\" & IF('Non-text Contrast'!BS4=\"1 Fault\",\"es\",\"\") & \" not have sufficient contrast. Please see the Non-text Contrast worksheet.\")","v":""},{"$f":"IF('Non-text Contrast'!BT4=\"0 Faults\",\"\",LEFT('Non-text Contrast'!BT4,FIND(\" \",'Non-text Contrast'!BT4)-1) &\" combination\" & IF('Non-text Contrast'!BT4=\"1 Fault\",\"\",\"s\") & \" of adjacent colours do\" & IF('Non-text Contrast'!BT4=\"1 Fault\",\"es\",\"\") & \" not have sufficient contrast. Please see the Non-text Contrast worksheet.\")","v":""},{"$f":"IF('Non-text Contrast'!BU4=\"0 Faults\",\"\",LEFT('Non-text Contrast'!BU4,FIND(\" \",'Non-text Contrast'!BU4)-1) &\" combination\" & IF('Non-text Contrast'!BU4=\"1 Fault\",\"\",\"s\") & \" of adjacent colours do\" & IF('Non-text Contrast'!BU4=\"1 Fault\",\"es\",\"\") & \" not have sufficient contrast. Please see the Non-text Contrast worksheet.\")","v":""},{"$f":"IF('Non-text Contrast'!BV4=\"0 Faults\",\"\",LEFT('Non-text Contrast'!BV4,FIND(\" \",'Non-text Contrast'!BV4)-1) &\" combination\" & IF('Non-text Contrast'!BV4=\"1 Fault\",\"\",\"s\") & \" of adjacent colours do\" & IF('Non-text Contrast'!BV4=\"1 Fault\",\"es\",\"\") & \" not have sufficient contrast. Please see the Non-text Contrast worksheet.\")","v":""},{"$f":"IF('Non-text Contrast'!BW4=\"0 Faults\",\"\",LEFT('Non-text Contrast'!BW4,FIND(\" \",'Non-text Contrast'!BW4)-1) &\" combination\" & IF('Non-text Contrast'!BW4=\"1 Fault\",\"\",\"s\") & \" of adjacent colours do\" & IF('Non-text Contrast'!BW4=\"1 Fault\",\"es\",\"\") & \" not have sufficient contrast. Please see the Non-text Contrast worksheet.\")","v":""},{"$f":"IF('Non-text Contrast'!BX4=\"0 Faults\",\"\",LEFT('Non-text Contrast'!BX4,FIND(\" \",'Non-text Contrast'!BX4)-1) &\" combination\" & IF('Non-text Contrast'!BX4=\"1 Fault\",\"\",\"s\") & \" of adjacent colours do\" & IF('Non-text Contrast'!BX4=\"1 Fault\",\"es\",\"\") & \" not have sufficient contrast. Please see the Non-text Contrast worksheet.\")","v":""},{"$f":"IF('Non-text Contrast'!BY4=\"0 Faults\",\"\",LEFT('Non-text Contrast'!BY4,FIND(\" \",'Non-text Contrast'!BY4)-1) &\" combination\" & IF('Non-text Contrast'!BY4=\"1 Fault\",\"\",\"s\") & \" of adjacent colours do\" & IF('Non-text Contrast'!BY4=\"1 Fault\",\"es\",\"\") & \" not have sufficient contrast. Please see the Non-text Contrast worksheet.\")","v":""},{"$f":"IF('Non-text Contrast'!BZ4=\"0 Faults\",\"\",LEFT('Non-text Contrast'!BZ4,FIND(\" \",'Non-text Contrast'!BZ4)-1) &\" combination\" & IF('Non-text Contrast'!BZ4=\"1 Fault\",\"\",\"s\") & \" of adjacent colours do\" & IF('Non-text Contrast'!BZ4=\"1 Fault\",\"es\",\"\") & \" not have sufficient contrast. Please see the Non-text Contrast worksheet.\")","v":""},{"$f":"IF('Non-text Contrast'!CA4=\"0 Faults\",\"\",LEFT('Non-text Contrast'!CA4,FIND(\" \",'Non-text Contrast'!CA4)-1) &\" combination\" & IF('Non-text Contrast'!CA4=\"1 Fault\",\"\",\"s\") & \" of adjacent colours do\" & IF('Non-text Contrast'!CA4=\"1 Fault\",\"es\",\"\") & \" not have sufficient contrast. Please see the Non-text Contrast worksheet.\")","v":""},{"$f":"IF('Non-text Contrast'!CB4=\"0 Faults\",\"\",LEFT('Non-text Contrast'!CB4,FIND(\" \",'Non-text Contrast'!CB4)-1) &\" combination\" & IF('Non-text Contrast'!CB4=\"1 Fault\",\"\",\"s\") & \" of adjacent colours do\" & IF('Non-text Contrast'!CB4=\"1 Fault\",\"es\",\"\") & \" not have sufficient contrast. Please see the Non-text Contrast worksheet.\")","v":""},{"$f":"IF('Non-text Contrast'!CC4=\"0 Faults\",\"\",LEFT('Non-text Contrast'!CC4,FIND(\" \",'Non-text Contrast'!CC4)-1) &\" combination\" & IF('Non-text Contrast'!CC4=\"1 Fault\",\"\",\"s\") & \" of adjacent colours do\" & IF('Non-text Contrast'!CC4=\"1 Fault\",\"es\",\"\") & \" not have sufficient contrast. Please see the Non-text Contrast worksheet.\")","v":""},{"$f":"IF('Non-text Contrast'!CD4=\"0 Faults\",\"\",LEFT('Non-text Contrast'!CD4,FIND(\" \",'Non-text Contrast'!CD4)-1) &\" combination\" & IF('Non-text Contrast'!CD4=\"1 Fault\",\"\",\"s\") & \" of adjacent colours do\" & IF('Non-text Contrast'!CD4=\"1 Fault\",\"es\",\"\") & \" not have sufficient contrast. Please see the Non-text Contrast worksheet.\")","v":""},{"$f":"IF('Non-text Contrast'!CE4=\"0 Faults\",\"\",LEFT('Non-text Contrast'!CE4,FIND(\" \",'Non-text Contrast'!CE4)-1) &\" combination\" & IF('Non-text Contrast'!CE4=\"1 Fault\",\"\",\"s\") & \" of adjacent colours do\" & IF('Non-text Contrast'!CE4=\"1 Fault\",\"es\",\"\") & \" not have sufficient contrast. Please see the Non-text Contrast worksheet.\")","v":""},{"$f":"IF('Non-text Contrast'!CF4=\"0 Faults\",\"\",LEFT('Non-text Contrast'!CF4,FIND(\" \",'Non-text Contrast'!CF4)-1) &\" combination\" & IF('Non-text Contrast'!CF4=\"1 Fault\",\"\",\"s\") & \" of adjacent colours do\" & IF('Non-text Contrast'!CF4=\"1 Fault\",\"es\",\"\") & \" not have sufficient contrast. Please see the Non-text Contrast worksheet.\")","v":""},{"$f":"IF('Non-text Contrast'!CG4=\"0 Faults\",\"\",LEFT('Non-text Contrast'!CG4,FIND(\" \",'Non-text Contrast'!CG4)-1) &\" combination\" & IF('Non-text Contrast'!CG4=\"1 Fault\",\"\",\"s\") & \" of adjacent colours do\" & IF('Non-text Contrast'!CG4=\"1 Fault\",\"es\",\"\") & \" not have sufficient contrast. Please see the Non-text Contrast worksheet.\")","v":""},{"$f":"IF('Non-text Contrast'!CH4=\"0 Faults\",\"\",LEFT('Non-text Contrast'!CH4,FIND(\" \",'Non-text Contrast'!CH4)-1) &\" combination\" & IF('Non-text Contrast'!CH4=\"1 Fault\",\"\",\"s\") & \" of adjacent colours do\" & IF('Non-text Contrast'!CH4=\"1 Fault\",\"es\",\"\") & \" not have sufficient contrast. Please see the Non-text Contrast worksheet.\")","v":""},{"$f":"IF('Non-text Contrast'!CI4=\"0 Faults\",\"\",LEFT('Non-text Contrast'!CI4,FIND(\" \",'Non-text Contrast'!CI4)-1) &\" combination\" & IF('Non-text Contrast'!CI4=\"1 Fault\",\"\",\"s\") & \" of adjacent colours do\" & IF('Non-text Contrast'!CI4=\"1 Fault\",\"es\",\"\") & \" not have sufficient contrast. Please see the Non-text Contrast worksheet.\")","v":""},{"$f":"IF('Non-text Contrast'!CJ4=\"0 Faults\",\"\",LEFT('Non-text Contrast'!CJ4,FIND(\" \",'Non-text Contrast'!CJ4)-1) &\" combination\" & IF('Non-text Contrast'!CJ4=\"1 Fault\",\"\",\"s\") & \" of adjacent colours do\" & IF('Non-text Contrast'!CJ4=\"1 Fault\",\"es\",\"\") & \" not have sufficient contrast. Please see the Non-text Contrast worksheet.\")","v":""},{"$f":"IF('Non-text Contrast'!CK4=\"0 Faults\",\"\",LEFT('Non-text Contrast'!CK4,FIND(\" \",'Non-text Contrast'!CK4)-1) &\" combination\" & IF('Non-text Contrast'!CK4=\"1 Fault\",\"\",\"s\") & \" of adjacent colours do\" & IF('Non-text Contrast'!CK4=\"1 Fault\",\"es\",\"\") & \" not have sufficient contrast. Please see the Non-text Contrast worksheet.\")","v":""},{"$f":"IF('Non-text Contrast'!CL4=\"0 Faults\",\"\",LEFT('Non-text Contrast'!CL4,FIND(\" \",'Non-text Contrast'!CL4)-1) &\" combination\" & IF('Non-text Contrast'!CL4=\"1 Fault\",\"\",\"s\") & \" of adjacent colours do\" & IF('Non-text Contrast'!CL4=\"1 Fault\",\"es\",\"\") & \" not have sufficient contrast. Please see the Non-text Contrast worksheet.\")","v":""},{"$f":"IF('Non-text Contrast'!CM4=\"0 Faults\",\"\",LEFT('Non-text Contrast'!CM4,FIND(\" \",'Non-text Contrast'!CM4)-1) &\" combination\" & IF('Non-text Contrast'!CM4=\"1 Fault\",\"\",\"s\") & \" of adjacent colours do\" & IF('Non-text Contrast'!CM4=\"1 Fault\",\"es\",\"\") & \" not have sufficient contrast. Please see the Non-text Contrast worksheet.\")","v":""},{"$f":"IF('Non-text Contrast'!CN4=\"0 Faults\",\"\",LEFT('Non-text Contrast'!CN4,FIND(\" \",'Non-text Contrast'!CN4)-1) &\" combination\" & IF('Non-text Contrast'!CN4=\"1 Fault\",\"\",\"s\") & \" of adjacent colours do\" & IF('Non-text Contrast'!CN4=\"1 Fault\",\"es\",\"\") & \" not have sufficient contrast. Please see the Non-text Contrast worksheet.\")","v":""},{"$f":"IF('Non-text Contrast'!CO4=\"0 Faults\",\"\",LEFT('Non-text Contrast'!CO4,FIND(\" \",'Non-text Contrast'!CO4)-1) &\" combination\" & IF('Non-text Contrast'!CO4=\"1 Fault\",\"\",\"s\") & \" of adjacent colours do\" & IF('Non-text Contrast'!CO4=\"1 Fault\",\"es\",\"\") & \" not have sufficient contrast. Please see the Non-text Contrast worksheet.\")","v":""},{"$f":"IF('Non-text Contrast'!CP4=\"0 Faults\",\"\",LEFT('Non-text Contrast'!CP4,FIND(\" \",'Non-text Contrast'!CP4)-1) &\" combination\" & IF('Non-text Contrast'!CP4=\"1 Fault\",\"\",\"s\") & \" of adjacent colours do\" & IF('Non-text Contrast'!CP4=\"1 Fault\",\"es\",\"\") & \" not have sufficient contrast. Please see the Non-text Contrast worksheet.\")","v":""},{"$f":"IF('Non-text Contrast'!CQ4=\"0 Faults\",\"\",LEFT('Non-text Contrast'!CQ4,FIND(\" \",'Non-text Contrast'!CQ4)-1) &\" combination\" & IF('Non-text Contrast'!CQ4=\"1 Fault\",\"\",\"s\") & \" of adjacent colours do\" & IF('Non-text Contrast'!CQ4=\"1 Fault\",\"es\",\"\") & \" not have sufficient contrast. Please see the Non-text Contrast worksheet.\")","v":""},{"$f":"IF('Non-text Contrast'!CR4=\"0 Faults\",\"\",LEFT('Non-text Contrast'!CR4,FIND(\" \",'Non-text Contrast'!CR4)-1) &\" combination\" & IF('Non-text Contrast'!CR4=\"1 Fault\",\"\",\"s\") & \" of adjacent colours do\" & IF('Non-text Contrast'!CR4=\"1 Fault\",\"es\",\"\") & \" not have sufficient contrast. Please see the Non-text Contrast worksheet.\")","v":""},{"$f":"IF('Non-text Contrast'!CS4=\"0 Faults\",\"\",LEFT('Non-text Contrast'!CS4,FIND(\" \",'Non-text Contrast'!CS4)-1) &\" combination\" & IF('Non-text Contrast'!CS4=\"1 Fault\",\"\",\"s\") & \" of adjacent colours do\" & IF('Non-text Contrast'!CS4=\"1 Fault\",\"es\",\"\") & \" not have sufficient contrast. Please see the Non-text Contrast worksheet.\")","v":""},{"$f":"IF('Non-text Contrast'!CT4=\"0 Faults\",\"\",LEFT('Non-text Contrast'!CT4,FIND(\" \",'Non-text Contrast'!CT4)-1) &\" combination\" & IF('Non-text Contrast'!CT4=\"1 Fault\",\"\",\"s\") & \" of adjacent colours do\" & IF('Non-text Contrast'!CT4=\"1 Fault\",\"es\",\"\") & \" not have sufficient contrast. Please see the Non-text Contrast worksheet.\")","v":""},{"$f":"IF('Non-text Contrast'!CU4=\"0 Faults\",\"\",LEFT('Non-text Contrast'!CU4,FIND(\" \",'Non-text Contrast'!CU4)-1) &\" combination\" & IF('Non-text Contrast'!CU4=\"1 Fault\",\"\",\"s\") & \" of adjacent colours do\" & IF('Non-text Contrast'!CU4=\"1 Fault\",\"es\",\"\") & \" not have sufficient contrast. Please see the Non-text Contrast worksheet.\")","v":""},{"$f":"IF('Non-text Contrast'!CV4=\"0 Faults\",\"\",LEFT('Non-text Contrast'!CV4,FIND(\" \",'Non-text Contrast'!CV4)-1) &\" combination\" & IF('Non-text Contrast'!CV4=\"1 Fault\",\"\",\"s\") & \" of adjacent colours do\" & IF('Non-text Contrast'!CV4=\"1 Fault\",\"es\",\"\") & \" not have sufficient contrast. Please see the Non-text Contrast worksheet.\")","v":""},{"$f":"IF('Non-text Contrast'!CW4=\"0 Faults\",\"\",LEFT('Non-text Contrast'!CW4,FIND(\" \",'Non-text Contrast'!CW4)-1) &\" combination\" & IF('Non-text Contrast'!CW4=\"1 Fault\",\"\",\"s\") & \" of adjacent colours do\" & IF('Non-text Contrast'!CW4=\"1 Fault\",\"es\",\"\") & \" not have sufficient contrast. Please see the Non-text Contrast worksheet.\")","v":""},{"$f":"IF('Non-text Contrast'!CX4=\"0 Faults\",\"\",LEFT('Non-text Contrast'!CX4,FIND(\" \",'Non-text Contrast'!CX4)-1) &\" combination\" & IF('Non-text Contrast'!CX4=\"1 Fault\",\"\",\"s\") & \" of adjacent colours do\" & IF('Non-text Contrast'!CX4=\"1 Fault\",\"es\",\"\") & \" not have sufficient contrast. Please see the Non-text Contrast worksheet.\")","v":""},{"$f":"IF('Non-text Contrast'!CY4=\"0 Faults\",\"\",LEFT('Non-text Contrast'!CY4,FIND(\" \",'Non-text Contrast'!CY4)-1) &\" combination\" & IF('Non-text Contrast'!CY4=\"1 Fault\",\"\",\"s\") & \" of adjacent colours do\" & IF('Non-text Contrast'!CY4=\"1 Fault\",\"es\",\"\") & \" not have sufficient contrast. Please see the Non-text Contrast worksheet.\")","v":""},{"$f":"IF('Non-text Contrast'!CZ4=\"0 Faults\",\"\",LEFT('Non-text Contrast'!CZ4,FIND(\" \",'Non-text Contrast'!CZ4)-1) &\" combination\" & IF('Non-text Contrast'!CZ4=\"1 Fault\",\"\",\"s\") & \" of adjacent colours do\" & IF('Non-text Contrast'!CZ4=\"1 Fault\",\"es\",\"\") & \" not have sufficient contrast. Please see the Non-text Contrast worksheet.\")","v":""},{"$f":"IF('Non-text Contrast'!DA4=\"0 Faults\",\"\",LEFT('Non-text Contrast'!DA4,FIND(\" \",'Non-text Contrast'!DA4)-1) &\" combination\" & IF('Non-text Contrast'!DA4=\"1 Fault\",\"\",\"s\") & \" of adjacent colours do\" & IF('Non-text Contrast'!DA4=\"1 Fault\",\"es\",\"\") & \" not have sufficient contrast. Please see the Non-text Contrast worksheet.\")","v":""},{"$f":"IF('Non-text Contrast'!DB4=\"0 Faults\",\"\",LEFT('Non-text Contrast'!DB4,FIND(\" \",'Non-text Contrast'!DB4)-1) &\" combination\" & IF('Non-text Contrast'!DB4=\"1 Fault\",\"\",\"s\") & \" of adjacent colours do\" & IF('Non-text Contrast'!DB4=\"1 Fault\",\"es\",\"\") & \" not have sufficient contrast. Please see the Non-text Contrast worksheet.\")","v":""},{"$f":"IF('Non-text Contrast'!DC4=\"0 Faults\",\"\",LEFT('Non-text Contrast'!DC4,FIND(\" \",'Non-text Contrast'!DC4)-1) &\" combination\" & IF('Non-text Contrast'!DC4=\"1 Fault\",\"\",\"s\") & \" of adjacent colours do\" & IF('Non-text Contrast'!DC4=\"1 Fault\",\"es\",\"\") & \" not have sufficient contrast. Please see the Non-text Contrast worksheet.\")","v":""},{"$f":"IF('Non-text Contrast'!DD4=\"0 Faults\",\"\",LEFT('Non-text Contrast'!DD4,FIND(\" \",'Non-text Contrast'!DD4)-1) &\" combination\" & IF('Non-text Contrast'!DD4=\"1 Fault\",\"\",\"s\") & \" of adjacent colours do\" & IF('Non-text Contrast'!DD4=\"1 Fault\",\"es\",\"\") & \" not have sufficient contrast. Please see the Non-text Contrast worksheet.\")","v":""},{"$f":"IF('Non-text Contrast'!DE4=\"0 Faults\",\"\",LEFT('Non-text Contrast'!DE4,FIND(\" \",'Non-text Contrast'!DE4)-1) &\" combination\" & IF('Non-text Contrast'!DE4=\"1 Fault\",\"\",\"s\") & \" of adjacent colours do\" & IF('Non-text Contrast'!DE4=\"1 Fault\",\"es\",\"\") & \" not have sufficient contrast. Please see the Non-text Contrast worksheet.\")","v":""},{"$f":"IF('Non-text Contrast'!DF4=\"0 Faults\",\"\",LEFT('Non-text Contrast'!DF4,FIND(\" \",'Non-text Contrast'!DF4)-1) &\" combination\" & IF('Non-text Contrast'!DF4=\"1 Fault\",\"\",\"s\") & \" of adjacent colours do\" & IF('Non-text Contrast'!DF4=\"1 Fault\",\"es\",\"\") & \" not have sufficient contrast. Please see the Non-text Contrast worksheet.\")","v":""},{"$f":"IF('Non-text Contrast'!DG4=\"0 Faults\",\"\",LEFT('Non-text Contrast'!DG4,FIND(\" \",'Non-text Contrast'!DG4)-1) &\" combination\" & IF('Non-text Contrast'!DG4=\"1 Fault\",\"\",\"s\") & \" of adjacent colours do\" & IF('Non-text Contrast'!DG4=\"1 Fault\",\"es\",\"\") & \" not have sufficient contrast. Please see the Non-text Contrast worksheet.\")","v":""},{"$f":"IF('Non-text Contrast'!DH4=\"0 Faults\",\"\",LEFT('Non-text Contrast'!DH4,FIND(\" \",'Non-text Contrast'!DH4)-1) &\" combination\" & IF('Non-text Contrast'!DH4=\"1 Fault\",\"\",\"s\") & \" of adjacent colours do\" & IF('Non-text Contrast'!DH4=\"1 Fault\",\"es\",\"\") & \" not have sufficient contrast. Please see the Non-text Contrast worksheet.\")","v":""},{"$f":"IF('Non-text Contrast'!DI4=\"0 Faults\",\"\",LEFT('Non-text Contrast'!DI4,FIND(\" \",'Non-text Contrast'!DI4)-1) &\" combination\" & IF('Non-text Contrast'!DI4=\"1 Fault\",\"\",\"s\") & \" of adjacent colours do\" & IF('Non-text Contrast'!DI4=\"1 Fault\",\"es\",\"\") & \" not have sufficient contrast. Please see the Non-text Contrast worksheet.\")","v":""},{"$f":"IF('Non-text Contrast'!DJ4=\"0 Faults\",\"\",LEFT('Non-text Contrast'!DJ4,FIND(\" \",'Non-text Contrast'!DJ4)-1) &\" combination\" & IF('Non-text Contrast'!DJ4=\"1 Fault\",\"\",\"s\") & \" of adjacent colours do\" & IF('Non-text Contrast'!DJ4=\"1 Fault\",\"es\",\"\") & \" not have sufficient contrast. Please see the Non-text Contrast worksheet.\")","v":""},{"$f":"IF('Non-text Contrast'!DK4=\"0 Faults\",\"\",LEFT('Non-text Contrast'!DK4,FIND(\" \",'Non-text Contrast'!DK4)-1) &\" combination\" & IF('Non-text Contrast'!DK4=\"1 Fault\",\"\",\"s\") & \" of adjacent colours do\" & IF('Non-text Contrast'!DK4=\"1 Fault\",\"es\",\"\") & \" not have sufficient contrast. Please see the Non-text Contrast worksheet.\")","v":""},{"$f":"IF('Non-text Contrast'!DL4=\"0 Faults\",\"\",LEFT('Non-text Contrast'!DL4,FIND(\" \",'Non-text Contrast'!DL4)-1) &\" combination\" & IF('Non-text Contrast'!DL4=\"1 Fault\",\"\",\"s\") & \" of adjacent colours do\" & IF('Non-text Contrast'!DL4=\"1 Fault\",\"es\",\"\") & \" not have sufficient contrast. Please see the Non-text Contrast worksheet.\")","v":""},{"$f":"IF('Non-text Contrast'!DM4=\"0 Faults\",\"\",LEFT('Non-text Contrast'!DM4,FIND(\" \",'Non-text Contrast'!DM4)-1) &\" combination\" & IF('Non-text Contrast'!DM4=\"1 Fault\",\"\",\"s\") & \" of adjacent colours do\" & IF('Non-text Contrast'!DM4=\"1 Fault\",\"es\",\"\") & \" not have sufficient contrast. Please see the Non-text Contrast worksheet.\")","v":""},{"$f":"IF('Non-text Contrast'!DN4=\"0 Faults\",\"\",LEFT('Non-text Contrast'!DN4,FIND(\" \",'Non-text Contrast'!DN4)-1) &\" combination\" & IF('Non-text Contrast'!DN4=\"1 Fault\",\"\",\"s\") & \" of adjacent colours do\" & IF('Non-text Contrast'!DN4=\"1 Fault\",\"es\",\"\") & \" not have sufficient contrast. Please see the Non-text Contrast worksheet.\")","v":""},{"$f":"IF('Non-text Contrast'!DO4=\"0 Faults\",\"\",LEFT('Non-text Contrast'!DO4,FIND(\" \",'Non-text Contrast'!DO4)-1) &\" combination\" & IF('Non-text Contrast'!DO4=\"1 Fault\",\"\",\"s\") & \" of adjacent colours do\" & IF('Non-text Contrast'!DO4=\"1 Fault\",\"es\",\"\") & \" not have sufficient contrast. Please see the Non-text Contrast worksheet.\")","v":""},{"$f":"IF('Non-text Contrast'!DP4=\"0 Faults\",\"\",LEFT('Non-text Contrast'!DP4,FIND(\" \",'Non-text Contrast'!DP4)-1) &\" combination\" & IF('Non-text Contrast'!DP4=\"1 Fault\",\"\",\"s\") & \" of adjacent colours do\" & IF('Non-text Contrast'!DP4=\"1 Fault\",\"es\",\"\") & \" not have sufficient contrast. Please see the Non-text Contrast worksheet.\")","v":""},{"$f":"IF('Non-text Contrast'!DQ4=\"0 Faults\",\"\",LEFT('Non-text Contrast'!DQ4,FIND(\" \",'Non-text Contrast'!DQ4)-1) &\" combination\" & IF('Non-text Contrast'!DQ4=\"1 Fault\",\"\",\"s\") & \" of adjacent colours do\" & IF('Non-text Contrast'!DQ4=\"1 Fault\",\"es\",\"\") & \" not have sufficient contrast. Please see the Non-text Contrast worksheet.\")","v":""},{"$f":"IF('Non-text Contrast'!DR4=\"0 Faults\",\"\",LEFT('Non-text Contrast'!DR4,FIND(\" \",'Non-text Contrast'!DR4)-1) &\" combination\" & IF('Non-text Contrast'!DR4=\"1 Fault\",\"\",\"s\") & \" of adjacent colours do\" & IF('Non-text Contrast'!DR4=\"1 Fault\",\"es\",\"\") & \" not have sufficient contrast. Please see the Non-text Contrast worksheet.\")","v":""},{"$f":"IF('Non-text Contrast'!DS4=\"0 Faults\",\"\",LEFT('Non-text Contrast'!DS4,FIND(\" \",'Non-text Contrast'!DS4)-1) &\" combination\" & IF('Non-text Contrast'!DS4=\"1 Fault\",\"\",\"s\") & \" of adjacent colours do\" & IF('Non-text Contrast'!DS4=\"1 Fault\",\"es\",\"\") & \" not have sufficient contrast. Please see the Non-text Contrast worksheet.\")","v":""},{"$f":"IF('Non-text Contrast'!DT4=\"0 Faults\",\"\",LEFT('Non-text Contrast'!DT4,FIND(\" \",'Non-text Contrast'!DT4)-1) &\" combination\" & IF('Non-text Contrast'!DT4=\"1 Fault\",\"\",\"s\") & \" of adjacent colours do\" & IF('Non-text Contrast'!DT4=\"1 Fault\",\"es\",\"\") & \" not have sufficient contrast. Please see the Non-text Contrast worksheet.\")","v":""},{"$f":"IF('Non-text Contrast'!DU4=\"0 Faults\",\"\",LEFT('Non-text Contrast'!DU4,FIND(\" \",'Non-text Contrast'!DU4)-1) &\" combination\" & IF('Non-text Contrast'!DU4=\"1 Fault\",\"\",\"s\") & \" of adjacent colours do\" & IF('Non-text Contrast'!DU4=\"1 Fault\",\"es\",\"\") & \" not have sufficient contrast. Please see the Non-text Contrast worksheet.\")","v":""},{"$f":"IF('Non-text Contrast'!DV4=\"0 Faults\",\"\",LEFT('Non-text Contrast'!DV4,FIND(\" \",'Non-text Contrast'!DV4)-1) &\" combination\" & IF('Non-text Contrast'!DV4=\"1 Fault\",\"\",\"s\") & \" of adjacent colours do\" & IF('Non-text Contrast'!DV4=\"1 Fault\",\"es\",\"\") & \" not have sufficient contrast. Please see the Non-text Contrast worksheet.\")","v":""},{"$f":"IF('Non-text Contrast'!DW4=\"0 Faults\",\"\",LEFT('Non-text Contrast'!DW4,FIND(\" \",'Non-text Contrast'!DW4)-1) &\" combination\" & IF('Non-text Contrast'!DW4=\"1 Fault\",\"\",\"s\") & \" of adjacent colours do\" & IF('Non-text Contrast'!DW4=\"1 Fault\",\"es\",\"\") & \" not have sufficient contrast. Please see the Non-text Contrast worksheet.\")","v":""},{"$f":"IF('Non-text Contrast'!DX4=\"0 Faults\",\"\",LEFT('Non-text Contrast'!DX4,FIND(\" \",'Non-text Contrast'!DX4)-1) &\" combination\" & IF('Non-text Contrast'!DX4=\"1 Fault\",\"\",\"s\") & \" of adjacent colours do\" & IF('Non-text Contrast'!DX4=\"1 Fault\",\"es\",\"\") & \" not have sufficient contrast. Please see the Non-text Contrast worksheet.\")","v":""},{"$f":"IF('Non-text Contrast'!DY4=\"0 Faults\",\"\",LEFT('Non-text Contrast'!DY4,FIND(\" \",'Non-text Contrast'!DY4)-1) &\" combination\" & IF('Non-text Contrast'!DY4=\"1 Fault\",\"\",\"s\") & \" of adjacent colours do\" & IF('Non-text Contrast'!DY4=\"1 Fault\",\"es\",\"\") & \" not have sufficient contrast. Please see the Non-text Contrast worksheet.\")","v":""},{"$f":"IF('Non-text Contrast'!DZ4=\"0 Faults\",\"\",LEFT('Non-text Contrast'!DZ4,FIND(\" \",'Non-text Contrast'!DZ4)-1) &\" combination\" & IF('Non-text Contrast'!DZ4=\"1 Fault\",\"\",\"s\") & \" of adjacent colours do\" & IF('Non-text Contrast'!DZ4=\"1 Fault\",\"es\",\"\") & \" not have sufficient contrast. Please see the Non-text Contrast worksheet.\")","v":""},{"$f":"IF('Non-text Contrast'!EA4=\"0 Faults\",\"\",LEFT('Non-text Contrast'!EA4,FIND(\" \",'Non-text Contrast'!EA4)-1) &\" combination\" & IF('Non-text Contrast'!EA4=\"1 Fault\",\"\",\"s\") & \" of adjacent colours do\" & IF('Non-text Contrast'!EA4=\"1 Fault\",\"es\",\"\") & \" not have sufficient contrast. Please see the Non-text Contrast worksheet.\")","v":""},{"$f":"IF('Non-text Contrast'!EB4=\"0 Faults\",\"\",LEFT('Non-text Contrast'!EB4,FIND(\" \",'Non-text Contrast'!EB4)-1) &\" combination\" & IF('Non-text Contrast'!EB4=\"1 Fault\",\"\",\"s\") & \" of adjacent colours do\" & IF('Non-text Contrast'!EB4=\"1 Fault\",\"es\",\"\") & \" not have sufficient contrast. Please see the Non-text Contrast worksheet.\")","v":""},{"$f":"IF('Non-text Contrast'!EC4=\"0 Faults\",\"\",LEFT('Non-text Contrast'!EC4,FIND(\" \",'Non-text Contrast'!EC4)-1) &\" combination\" & IF('Non-text Contrast'!EC4=\"1 Fault\",\"\",\"s\") & \" of adjacent colours do\" & IF('Non-text Contrast'!EC4=\"1 Fault\",\"es\",\"\") & \" not have sufficient contrast. Please see the Non-text Contrast worksheet.\")","v":""},{"$f":"IF('Non-text Contrast'!ED4=\"0 Faults\",\"\",LEFT('Non-text Contrast'!ED4,FIND(\" \",'Non-text Contrast'!ED4)-1) &\" combination\" & IF('Non-text Contrast'!ED4=\"1 Fault\",\"\",\"s\") & \" of adjacent colours do\" & IF('Non-text Contrast'!ED4=\"1 Fault\",\"es\",\"\") & \" not have sufficient contrast. Please see the Non-text Contrast worksheet.\")","v":""},{"$f":"IF('Non-text Contrast'!EE4=\"0 Faults\",\"\",LEFT('Non-text Contrast'!EE4,FIND(\" \",'Non-text Contrast'!EE4)-1) &\" combination\" & IF('Non-text Contrast'!EE4=\"1 Fault\",\"\",\"s\") & \" of adjacent colours do\" & IF('Non-text Contrast'!EE4=\"1 Fault\",\"es\",\"\") & \" not have sufficient contrast. Please see the Non-text Contrast worksheet.\")","v":""},{"$f":"IF('Non-text Contrast'!EF4=\"0 Faults\",\"\",LEFT('Non-text Contrast'!EF4,FIND(\" \",'Non-text Contrast'!EF4)-1) &\" combination\" & IF('Non-text Contrast'!EF4=\"1 Fault\",\"\",\"s\") & \" of adjacent colours do\" & IF('Non-text Contrast'!EF4=\"1 Fault\",\"es\",\"\") & \" not have sufficient contrast. Please see the Non-text Contrast worksheet.\")","v":""},{"$f":"IF('Non-text Contrast'!EG4=\"0 Faults\",\"\",LEFT('Non-text Contrast'!EG4,FIND(\" \",'Non-text Contrast'!EG4)-1) &\" combination\" & IF('Non-text Contrast'!EG4=\"1 Fault\",\"\",\"s\") & \" of adjacent colours do\" & IF('Non-text Contrast'!EG4=\"1 Fault\",\"es\",\"\") & \" not have sufficient contrast. Please see the Non-text Contrast worksheet.\")","v":""},{"$f":"IF('Non-text Contrast'!EH4=\"0 Faults\",\"\",LEFT('Non-text Contrast'!EH4,FIND(\" \",'Non-text Contrast'!EH4)-1) &\" combination\" & IF('Non-text Contrast'!EH4=\"1 Fault\",\"\",\"s\") & \" of adjacent colours do\" & IF('Non-text Contrast'!EH4=\"1 Fault\",\"es\",\"\") & \" not have sufficient contrast. Please see the Non-text Contrast worksheet.\")","v":""},{"$f":"IF('Non-text Contrast'!EI4=\"0 Faults\",\"\",LEFT('Non-text Contrast'!EI4,FIND(\" \",'Non-text Contrast'!EI4)-1) &\" combination\" & IF('Non-text Contrast'!EI4=\"1 Fault\",\"\",\"s\") & \" of adjacent colours do\" & IF('Non-text Contrast'!EI4=\"1 Fault\",\"es\",\"\") & \" not have sufficient contrast. Please see the Non-text Contrast worksheet.\")","v":""},{"$f":"IF('Non-text Contrast'!EJ4=\"0 Faults\",\"\",LEFT('Non-text Contrast'!EJ4,FIND(\" \",'Non-text Contrast'!EJ4)-1) &\" combination\" & IF('Non-text Contrast'!EJ4=\"1 Fault\",\"\",\"s\") & \" of adjacent colours do\" & IF('Non-text Contrast'!EJ4=\"1 Fault\",\"es\",\"\") & \" not have sufficient contrast. Please see the Non-text Contrast worksheet.\")","v":""},{"$f":"IF('Non-text Contrast'!EK4=\"0 Faults\",\"\",LEFT('Non-text Contrast'!EK4,FIND(\" \",'Non-text Contrast'!EK4)-1) &\" combination\" & IF('Non-text Contrast'!EK4=\"1 Fault\",\"\",\"s\") & \" of adjacent colours do\" & IF('Non-text Contrast'!EK4=\"1 Fault\",\"es\",\"\") & \" not have sufficient contrast. Please see the Non-text Contrast worksheet.\")","v":""},{"$f":"IF('Non-text Contrast'!EL4=\"0 Faults\",\"\",LEFT('Non-text Contrast'!EL4,FIND(\" \",'Non-text Contrast'!EL4)-1) &\" combination\" & IF('Non-text Contrast'!EL4=\"1 Fault\",\"\",\"s\") & \" of adjacent colours do\" & IF('Non-text Contrast'!EL4=\"1 Fault\",\"es\",\"\") & \" not have sufficient contrast. Please see the Non-text Contrast worksheet.\")","v":""},{"$f":"IF('Non-text Contrast'!EM4=\"0 Faults\",\"\",LEFT('Non-text Contrast'!EM4,FIND(\" \",'Non-text Contrast'!EM4)-1) &\" combination\" & IF('Non-text Contrast'!EM4=\"1 Fault\",\"\",\"s\") & \" of adjacent colours do\" & IF('Non-text Contrast'!EM4=\"1 Fault\",\"es\",\"\") & \" not have sufficient contrast. Please see the Non-text Contrast worksheet.\")","v":""},{"$f":"IF('Non-text Contrast'!EN4=\"0 Faults\",\"\",LEFT('Non-text Contrast'!EN4,FIND(\" \",'Non-text Contrast'!EN4)-1) &\" combination\" & IF('Non-text Contrast'!EN4=\"1 Fault\",\"\",\"s\") & \" of adjacent colours do\" & IF('Non-text Contrast'!EN4=\"1 Fault\",\"es\",\"\") & \" not have sufficient contrast. Please see the Non-text Contrast worksheet.\")","v":""},{"$f":"IF('Non-text Contrast'!EO4=\"0 Faults\",\"\",LEFT('Non-text Contrast'!EO4,FIND(\" \",'Non-text Contrast'!EO4)-1) &\" combination\" & IF('Non-text Contrast'!EO4=\"1 Fault\",\"\",\"s\") & \" of adjacent colours do\" & IF('Non-text Contrast'!EO4=\"1 Fault\",\"es\",\"\") & \" not have sufficient contrast. Please see the Non-text Contrast worksheet.\")","v":""},{"$f":"IF('Non-text Contrast'!EP4=\"0 Faults\",\"\",LEFT('Non-text Contrast'!EP4,FIND(\" \",'Non-text Contrast'!EP4)-1) &\" combination\" & IF('Non-text Contrast'!EP4=\"1 Fault\",\"\",\"s\") & \" of adjacent colours do\" & IF('Non-text Contrast'!EP4=\"1 Fault\",\"es\",\"\") & \" not have sufficient contrast. Please see the Non-text Contrast worksheet.\")","v":""},{"$f":"IF('Non-text Contrast'!EQ4=\"0 Faults\",\"\",LEFT('Non-text Contrast'!EQ4,FIND(\" \",'Non-text Contrast'!EQ4)-1) &\" combination\" & IF('Non-text Contrast'!EQ4=\"1 Fault\",\"\",\"s\") & \" of adjacent colours do\" & IF('Non-text Contrast'!EQ4=\"1 Fault\",\"es\",\"\") & \" not have sufficient contrast. Please see the Non-text Contrast worksheet.\")","v":""},{"$f":"IF('Non-text Contrast'!ER4=\"0 Faults\",\"\",LEFT('Non-text Contrast'!ER4,FIND(\" \",'Non-text Contrast'!ER4)-1) &\" combination\" & IF('Non-text Contrast'!ER4=\"1 Fault\",\"\",\"s\") & \" of adjacent colours do\" & IF('Non-text Contrast'!ER4=\"1 Fault\",\"es\",\"\") & \" not have sufficient contrast. Please see the Non-text Contrast worksheet.\")","v":""},{"$f":"IF('Non-text Contrast'!ES4=\"0 Faults\",\"\",LEFT('Non-text Contrast'!ES4,FIND(\" \",'Non-text Contrast'!ES4)-1) &\" combination\" & IF('Non-text Contrast'!ES4=\"1 Fault\",\"\",\"s\") & \" of adjacent colours do\" & IF('Non-text Contrast'!ES4=\"1 Fault\",\"es\",\"\") & \" not have sufficient contrast. Please see the Non-text Contrast worksheet.\")","v":""},{"$f":"IF('Non-text Contrast'!ET4=\"0 Faults\",\"\",LEFT('Non-text Contrast'!ET4,FIND(\" \",'Non-text Contrast'!ET4)-1) &\" combination\" & IF('Non-text Contrast'!ET4=\"1 Fault\",\"\",\"s\") & \" of adjacent colours do\" & IF('Non-text Contrast'!ET4=\"1 Fault\",\"es\",\"\") & \" not have sufficient contrast. Please see the Non-text Contrast worksheet.\")","v":""},{"$f":"IF('Non-text Contrast'!EU4=\"0 Faults\",\"\",LEFT('Non-text Contrast'!EU4,FIND(\" \",'Non-text Contrast'!EU4)-1) &\" combination\" & IF('Non-text Contrast'!EU4=\"1 Fault\",\"\",\"s\") & \" of adjacent colours do\" & IF('Non-text Contrast'!EU4=\"1 Fault\",\"es\",\"\") & \" not have sufficient contrast. Please see the Non-text Contrast worksheet.\")","v":""},{"$f":"IF('Non-text Contrast'!EV4=\"0 Faults\",\"\",LEFT('Non-text Contrast'!EV4,FIND(\" \",'Non-text Contrast'!EV4)-1) &\" combination\" & IF('Non-text Contrast'!EV4=\"1 Fault\",\"\",\"s\") & \" of adjacent colours do\" & IF('Non-text Contrast'!EV4=\"1 Fault\",\"es\",\"\") & \" not have sufficient contrast. Please see the Non-text Contrast worksheet.\")","v":""},{"$f":"IF('Non-text Contrast'!EW4=\"0 Faults\",\"\",LEFT('Non-text Contrast'!EW4,FIND(\" \",'Non-text Contrast'!EW4)-1) &\" combination\" & IF('Non-text Contrast'!EW4=\"1 Fault\",\"\",\"s\") & \" of adjacent colours do\" & IF('Non-text Contrast'!EW4=\"1 Fault\",\"es\",\"\") & \" not have sufficient contrast. Please see the Non-text Contrast worksheet.\")","v":""},{"$f":"IF('Non-text Contrast'!EX4=\"0 Faults\",\"\",LEFT('Non-text Contrast'!EX4,FIND(\" \",'Non-text Contrast'!EX4)-1) &\" combination\" & IF('Non-text Contrast'!EX4=\"1 Fault\",\"\",\"s\") & \" of adjacent colours do\" & IF('Non-text Contrast'!EX4=\"1 Fault\",\"es\",\"\") & \" not have sufficient contrast. Please see the Non-text Contrast worksheet.\")","v":""},{"$f":"IF('Non-text Contrast'!EY4=\"0 Faults\",\"\",LEFT('Non-text Contrast'!EY4,FIND(\" \",'Non-text Contrast'!EY4)-1) &\" combination\" & IF('Non-text Contrast'!EY4=\"1 Fault\",\"\",\"s\") & \" of adjacent colours do\" & IF('Non-text Contrast'!EY4=\"1 Fault\",\"es\",\"\") & \" not have sufficient contrast. Please see the Non-text Contrast worksheet.\")","v":""},{"$f":"IF('Non-text Contrast'!EZ4=\"0 Faults\",\"\",LEFT('Non-text Contrast'!EZ4,FIND(\" \",'Non-text Contrast'!EZ4)-1) &\" combination\" & IF('Non-text Contrast'!EZ4=\"1 Fault\",\"\",\"s\") & \" of adjacent colours do\" & IF('Non-text Contrast'!EZ4=\"1 Fault\",\"es\",\"\") & \" not have sufficient contrast. Please see the Non-text Contrast worksheet.\")","v":""},{"$f":"IF('Non-text Contrast'!FA4=\"0 Faults\",\"\",LEFT('Non-text Contrast'!FA4,FIND(\" \",'Non-text Contrast'!FA4)-1) &\" combination\" & IF('Non-text Contrast'!FA4=\"1 Fault\",\"\",\"s\") & \" of adjacent colours do\" & IF('Non-text Contrast'!FA4=\"1 Fault\",\"es\",\"\") & \" not have sufficient contrast. Please see the Non-text Contrast worksheet.\")","v":""},{"$f":"IF('Non-text Contrast'!FB4=\"0 Faults\",\"\",LEFT('Non-text Contrast'!FB4,FIND(\" \",'Non-text Contrast'!FB4)-1) &\" combination\" & IF('Non-text Contrast'!FB4=\"1 Fault\",\"\",\"s\") & \" of adjacent colours do\" & IF('Non-text Contrast'!FB4=\"1 Fault\",\"es\",\"\") & \" not have sufficient contrast. Please see the Non-text Contrast worksheet.\")","v":""},{"$f":"IF('Non-text Contrast'!FC4=\"0 Faults\",\"\",LEFT('Non-text Contrast'!FC4,FIND(\" \",'Non-text Contrast'!FC4)-1) &\" combination\" & IF('Non-text Contrast'!FC4=\"1 Fault\",\"\",\"s\") & \" of adjacent colours do\" & IF('Non-text Contrast'!FC4=\"1 Fault\",\"es\",\"\") & \" not have sufficient contrast. Please see the Non-text Contrast worksheet.\")","v":""},{"$f":"IF('Non-text Contrast'!FD4=\"0 Faults\",\"\",LEFT('Non-text Contrast'!FD4,FIND(\" \",'Non-text Contrast'!FD4)-1) &\" combination\" & IF('Non-text Contrast'!FD4=\"1 Fault\",\"\",\"s\") & \" of adjacent colours do\" & IF('Non-text Contrast'!FD4=\"1 Fault\",\"es\",\"\") & \" not have sufficient contrast. Please see the Non-text Contrast worksheet.\")","v":""},{"$f":"IF('Non-text Contrast'!FE4=\"0 Faults\",\"\",LEFT('Non-text Contrast'!FE4,FIND(\" \",'Non-text Contrast'!FE4)-1) &\" combination\" & IF('Non-text Contrast'!FE4=\"1 Fault\",\"\",\"s\") & \" of adjacent colours do\" & IF('Non-text Contrast'!FE4=\"1 Fault\",\"es\",\"\") & \" not have sufficient contrast. Please see the Non-text Contrast worksheet.\")","v":""},{"$f":"IF('Non-text Contrast'!FF4=\"0 Faults\",\"\",LEFT('Non-text Contrast'!FF4,FIND(\" \",'Non-text Contrast'!FF4)-1) &\" combination\" & IF('Non-text Contrast'!FF4=\"1 Fault\",\"\",\"s\") & \" of adjacent colours do\" & IF('Non-text Contrast'!FF4=\"1 Fault\",\"es\",\"\") & \" not have sufficient contrast. Please see the Non-text Contrast worksheet.\")","v":""},{"$f":"IF('Non-text Contrast'!FG4=\"0 Faults\",\"\",LEFT('Non-text Contrast'!FG4,FIND(\" \",'Non-text Contrast'!FG4)-1) &\" combination\" & IF('Non-text Contrast'!FG4=\"1 Fault\",\"\",\"s\") & \" of adjacent colours do\" & IF('Non-text Contrast'!FG4=\"1 Fault\",\"es\",\"\") & \" not have sufficient contrast. Please see the Non-text Contrast worksheet.\")","v":""},{"$f":"IF('Non-text Contrast'!FH4=\"0 Faults\",\"\",LEFT('Non-text Contrast'!FH4,FIND(\" \",'Non-text Contrast'!FH4)-1) &\" combination\" & IF('Non-text Contrast'!FH4=\"1 Fault\",\"\",\"s\") & \" of adjacent colours do\" & IF('Non-text Contrast'!FH4=\"1 Fault\",\"es\",\"\") & \" not have sufficient contrast. Please see the Non-text Contrast worksheet.\")","v":""},{"$f":"IF('Non-text Contrast'!FI4=\"0 Faults\",\"\",LEFT('Non-text Contrast'!FI4,FIND(\" \",'Non-text Contrast'!FI4)-1) &\" combination\" & IF('Non-text Contrast'!FI4=\"1 Fault\",\"\",\"s\") & \" of adjacent colours do\" & IF('Non-text Contrast'!FI4=\"1 Fault\",\"es\",\"\") & \" not have sufficient contrast. Please see the Non-text Contrast worksheet.\")","v":""},{"$f":"IF('Non-text Contrast'!FJ4=\"0 Faults\",\"\",LEFT('Non-text Contrast'!FJ4,FIND(\" \",'Non-text Contrast'!FJ4)-1) &\" combination\" & IF('Non-text Contrast'!FJ4=\"1 Fault\",\"\",\"s\") & \" of adjacent colours do\" & IF('Non-text Contrast'!FJ4=\"1 Fault\",\"es\",\"\") & \" not have sufficient contrast. Please see the Non-text Contrast worksheet.\")","v":""},{"$f":"IF('Non-text Contrast'!FK4=\"0 Faults\",\"\",LEFT('Non-text Contrast'!FK4,FIND(\" \",'Non-text Contrast'!FK4)-1) &\" combination\" & IF('Non-text Contrast'!FK4=\"1 Fault\",\"\",\"s\") & \" of adjacent colours do\" & IF('Non-text Contrast'!FK4=\"1 Fault\",\"es\",\"\") & \" not have sufficient contrast. Please see the Non-text Contrast worksheet.\")","v":""},{"$f":"IF('Non-text Contrast'!FL4=\"0 Faults\",\"\",LEFT('Non-text Contrast'!FL4,FIND(\" \",'Non-text Contrast'!FL4)-1) &\" combination\" & IF('Non-text Contrast'!FL4=\"1 Fault\",\"\",\"s\") & \" of adjacent colours do\" & IF('Non-text Contrast'!FL4=\"1 Fault\",\"es\",\"\") & \" not have sufficient contrast. Please see the Non-text Contrast worksheet.\")","v":""},{"$f":"IF('Non-text Contrast'!FM4=\"0 Faults\",\"\",LEFT('Non-text Contrast'!FM4,FIND(\" \",'Non-text Contrast'!FM4)-1) &\" combination\" & IF('Non-text Contrast'!FM4=\"1 Fault\",\"\",\"s\") & \" of adjacent colours do\" & IF('Non-text Contrast'!FM4=\"1 Fault\",\"es\",\"\") & \" not have sufficient contrast. Please see the Non-text Contrast worksheet.\")","v":""},{"$f":"IF('Non-text Contrast'!FN4=\"0 Faults\",\"\",LEFT('Non-text Contrast'!FN4,FIND(\" \",'Non-text Contrast'!FN4)-1) &\" combination\" & IF('Non-text Contrast'!FN4=\"1 Fault\",\"\",\"s\") & \" of adjacent colours do\" & IF('Non-text Contrast'!FN4=\"1 Fault\",\"es\",\"\") & \" not have sufficient contrast. Please see the Non-text Contrast worksheet.\")","v":""},{"$f":"IF('Non-text Contrast'!FO4=\"0 Faults\",\"\",LEFT('Non-text Contrast'!FO4,FIND(\" \",'Non-text Contrast'!FO4)-1) &\" combination\" & IF('Non-text Contrast'!FO4=\"1 Fault\",\"\",\"s\") & \" of adjacent colours do\" & IF('Non-text Contrast'!FO4=\"1 Fault\",\"es\",\"\") & \" not have sufficient contrast. Please see the Non-text Contrast worksheet.\")","v":""},{"$f":"IF('Non-text Contrast'!FP4=\"0 Faults\",\"\",LEFT('Non-text Contrast'!FP4,FIND(\" \",'Non-text Contrast'!FP4)-1) &\" combination\" & IF('Non-text Contrast'!FP4=\"1 Fault\",\"\",\"s\") & \" of adjacent colours do\" & IF('Non-text Contrast'!FP4=\"1 Fault\",\"es\",\"\") & \" not have sufficient contrast. Please see the Non-text Contrast worksheet.\")","v":""},{"$f":"IF('Non-text Contrast'!FQ4=\"0 Faults\",\"\",LEFT('Non-text Contrast'!FQ4,FIND(\" \",'Non-text Contrast'!FQ4)-1) &\" combination\" & IF('Non-text Contrast'!FQ4=\"1 Fault\",\"\",\"s\") & \" of adjacent colours do\" & IF('Non-text Contrast'!FQ4=\"1 Fault\",\"es\",\"\") & \" not have sufficient contrast. Please see the Non-text Contrast worksheet.\")","v":""},{"$f":"IF('Non-text Contrast'!FR4=\"0 Faults\",\"\",LEFT('Non-text Contrast'!FR4,FIND(\" \",'Non-text Contrast'!FR4)-1) &\" combination\" & IF('Non-text Contrast'!FR4=\"1 Fault\",\"\",\"s\") & \" of adjacent colours do\" & IF('Non-text Contrast'!FR4=\"1 Fault\",\"es\",\"\") & \" not have sufficient contrast. Please see the Non-text Contrast worksheet.\")","v":""},{"$f":"IF('Non-text Contrast'!FS4=\"0 Faults\",\"\",LEFT('Non-text Contrast'!FS4,FIND(\" \",'Non-text Contrast'!FS4)-1) &\" combination\" & IF('Non-text Contrast'!FS4=\"1 Fault\",\"\",\"s\") & \" of adjacent colours do\" & IF('Non-text Contrast'!FS4=\"1 Fault\",\"es\",\"\") & \" not have sufficient contrast. Please see the Non-text Contrast worksheet.\")","v":""},{"$f":"IF('Non-text Contrast'!FT4=\"0 Faults\",\"\",LEFT('Non-text Contrast'!FT4,FIND(\" \",'Non-text Contrast'!FT4)-1) &\" combination\" & IF('Non-text Contrast'!FT4=\"1 Fault\",\"\",\"s\") & \" of adjacent colours do\" & IF('Non-text Contrast'!FT4=\"1 Fault\",\"es\",\"\") & \" not have sufficient contrast. Please see the Non-text Contrast worksheet.\")","v":""}]
["1.4.12","AA","Text Spacing","In content implemented using mark-up languages that support the following text style properties, no loss of content or functionality occurs by setting all of the following and by changing no other style property:","PASS","PASS","PASS","PASS","PASS","PASS"]
[null,null,null,"Line height (line spacing) to at least 1.5 times the font size;\nSpacing following paragraphs to at least 2 times the font size;\nLetter spacing (tracking) to at least 0.12 times the font size;\nWord spacing to at least 0.16 times the font size.\nException: Human languages and scripts that do not make use of one or more of these text style properties in written text can conform using only the properties that exist for that combination of language and script."]
["1.4.13","AA","Content on Hover or Focus","Where receiving and then removing pointer hover or keyboard focus triggers additional content to become visible and then hidden, the following are true:","N/A","N/A","N/A","N/A","N/A","N/A"]
[null,null,null,"\nDismissable: A mechanism is available to dismiss the additional content without moving pointer hover or keyboard focus, unless the additional content communicates an input error or does not obscure or replace other content;\nHoverable: If pointer hover can trigger the additional content, then the pointer can be moved over the additional content without the additional content disappearing;\nPersistent: The additional content remains visible until the hover or focus trigger is removed, the user dismisses it, or its information is no longer valid.\nException: The visual presentation of the additional content is controlled by the user agent and is not modified by the author.\n","No content is displayed or hidden when any element receives hover or focus.","No content is displayed or hidden when any element receives hover or focus.","No content is displayed or hidden when any element receives hover or focus.","No content is displayed or hidden when any element receives hover or focus.","No content is displayed or hidden when any element receives hover or focus.","No content is displayed or hidden when any element receives hover or focus."]
["W3C Ref.","Level.",null,"Principle 2: Operable - User interface components and navigation must be operable."]
["2.4.5","AA","Multiple Ways","More than one way is available to locate a Web page within a set of Web pages except where the Web Page is the result of, or a step in, a process. ","N/A","PASS","PASS","PASS","PASS","PASS"]
[]
["2.4.6","AA","Headings and Labels","Headings and labels describe topic or purpose.","PASS","PASS","PASS","PASS","PASS","PASS"]
[]
["2.4.7","AA","Focus Visible","Any keyboard operable user interface has a mode of operation where the keyboard focus indicator is visible.","PASS","PASS","PASS","PASS","PASS","PASS"]
[]
["W3C Ref.","Level.",null,"Principle 3: Understandable - Information and the operation of user interface must be understandable."]
["3.1.2","AA","Language of Parts","The human language of each passage or phrase in the content can be programmatically determined except for proper names, technical terms, words of indeterminate language, and words or phrases that have become part of the vernacular of the immediately surrounding text.","N/A","N/A","N/A","N/A","N/A","N/A"]
[null,null,null,null,"There are no changes in language","There are no changes in language","There are no changes in language","There are no changes in language","There are no changes in language","There are no changes in language"]
["3.2.3","AA","Consistent Navigation","Navigational mechanisms that are repeated on multiple Web pages within a set of Web pages occur in the same relative order each time they are repeated, unless a change is initiated by the user.","PASS","PASS","PASS","PASS","PASS","PASS"]
[]
["3.2.4","AA","Consistent Identification","Components that have the same functionality within a set of Web pages are identified consistently.","PASS","PASS","PASS","PASS","PASS","PASS"]
[]
["3.3.3","AA","Error Suggestion","If an input error is automatically detected and suggestions for correction are known, then the suggestions are provided to the user, unless it would jeopardize the security or purpose of the content.","N/A","N/A","N/A","N/A","N/A","N/A"]
[null,null,null,null,"Errors cannot occur.","Errors cannot occur.","Errors cannot occur.","Errors cannot occur.","Errors cannot occur.","Errors cannot occur."]
["3.3.4","AA","Error Prevention (Legal, Financial, Data)","For Web pages that cause legal commitments or financial transactions for the user to occur, that modify or delete user-controllable data in data storage systems, or that submit user test responses, at least one of the following is true: Reversible, Checked, Confirmed.","N/A","N/A","N/A","N/A","N/A","N/A"]
[null,null,null,null,"None of these types of transactions occur.","None of these types of transactions occur.","None of these types of transactions occur.","None of these types of transactions occur.","None of these types of transactions occur.","None of these types of transactions occur."]
["W3C Ref.","Level.",null,"Guideline 4.1 Compatible: Maximize compatibility with current and future user agents, including assistive technologies."]
["4.1.3","AA","Status Messages","In content implemented using mark-up languages, status messages can be programmatically determined through role or properties such that they can be presented to the user by assistive technologies without receiving focus.","PASS","PASS","PASS","PASS","PASS","PASS"]
[]
[]
[null,null,"Level AAA Success Criteria"]
["W3C Ref.","Level.",null,"Principle 1: Perceivable - Information and user interface components must be presentable to users in ways they can perceive."]
["1.2.6","AAA","Sign Language (Prerecorded)","Sign language interpretation is provided for all prerecorded audio content in synchronized media.","NOT TESTED","NOT TESTED","NOT TESTED","NOT TESTED","NOT TESTED","NOT TESTED","NOT TESTED","NOT TESTED","NOT TESTED","NOT TESTED","NOT TESTED","NOT TESTED","NOT TESTED","NOT TESTED","NOT TESTED","NOT TESTED","NOT TESTED","NOT TESTED","NOT TESTED","NOT TESTED","NOT TESTED","NOT TESTED","NOT TESTED","NOT TESTED","NOT TESTED","NOT TESTED","NOT TESTED","NOT TESTED","NOT TESTED","NOT TESTED","NOT TESTED","NOT TESTED","NOT TESTED","NOT TESTED","NOT TESTED","NOT TESTED","NOT TESTED","NOT TESTED","NOT TESTED","NOT TESTED","NOT TESTED","NOT TESTED","NOT TESTED","NOT TESTED","NOT TESTED","NOT TESTED","NOT TESTED","NOT TESTED","NOT TESTED","NOT TESTED","NOT TESTED","NOT TESTED","NOT TESTED","NOT TESTED","NOT TESTED","NOT TESTED","NOT TESTED","NOT TESTED","NOT TESTED","NOT TESTED","NOT TESTED","NOT TESTED","NOT TESTED","NOT TESTED","NOT TESTED","NOT TESTED","NOT TESTED","NOT TESTED","NOT TESTED","NOT TESTED","NOT TESTED","NOT TESTED","NOT TESTED","NOT TESTED","NOT TESTED","NOT TESTED","NOT TESTED","NOT TESTED","NOT TESTED","NOT TESTED","NOT TESTED","NOT TESTED","NOT TESTED","NOT TESTED","NOT TESTED","NOT TESTED","NOT TESTED","NOT TESTED","NOT TESTED","NOT TESTED","NOT TESTED","NOT TESTED","NOT TESTED","NOT TESTED","NOT TESTED","NOT TESTED","NOT TESTED","NOT TESTED","NOT TESTED","NOT TESTED","NOT TESTED","NOT TESTED","NOT TESTED","NOT TESTED","NOT TESTED","NOT TESTED","NOT TESTED","NOT TESTED","NOT TESTED","NOT TESTED","NOT TESTED","NOT TESTED","NOT TESTED","NOT TESTED","NOT TESTED","NOT TESTED","NOT TESTED","NOT TESTED","NOT TESTED","NOT TESTED","NOT TESTED","NOT TESTED","NOT TESTED","NOT TESTED","NOT TESTED","NOT TESTED","NOT TESTED","NOT TESTED","NOT TESTED","NOT TESTED","NOT TESTED","NOT TESTED","NOT TESTED","NOT TESTED","NOT TESTED","NOT TESTED","NOT TESTED","NOT TESTED","NOT TESTED","NOT TESTED","NOT TESTED","NOT TESTED","NOT TESTED","NOT TESTED","NOT TESTED","NOT TESTED","NOT TESTED","NOT TESTED","NOT TESTED","NOT TESTED"]
[null,null,null,null,"When testing for conformance with AA, leave all AAA results set to Not Tested.\n\nWhen testing for conformance with AAA, delete the Not Tested result setting from all 50 columns even if fewer than 50 are being tested."]
["1.2.7","AAA","Extended Audio Description (Prerecorded)","Where pauses in foreground audio are insufficient to allow audio descriptions to convey the sense of the video, extended audio description is provided for all prerecorded video content in synchronized media.","NOT TESTED","NOT TESTED","NOT TESTED","NOT TESTED","NOT TESTED","NOT TESTED","NOT TESTED","NOT TESTED","NOT TESTED","NOT TESTED","NOT TESTED","NOT TESTED","NOT TESTED","NOT TESTED","NOT TESTED","NOT TESTED","NOT TESTED","NOT TESTED","NOT TESTED","NOT TESTED","NOT TESTED","NOT TESTED","NOT TESTED","NOT TESTED","NOT TESTED","NOT TESTED","NOT TESTED","NOT TESTED","NOT TESTED","NOT TESTED","NOT TESTED","NOT TESTED","NOT TESTED","NOT TESTED","NOT TESTED","NOT TESTED","NOT TESTED","NOT TESTED","NOT TESTED","NOT TESTED","NOT TESTED","NOT TESTED","NOT TESTED","NOT TESTED","NOT TESTED","NOT TESTED","NOT TESTED","NOT TESTED","NOT TESTED","NOT TESTED","NOT TESTED","NOT TESTED","NOT TESTED","NOT TESTED","NOT TESTED","NOT TESTED","NOT TESTED","NOT TESTED","NOT TESTED","NOT TESTED","NOT TESTED","NOT TESTED","NOT TESTED","NOT TESTED","NOT TESTED","NOT TESTED","NOT TESTED","NOT TESTED","NOT TESTED","NOT TESTED","NOT TESTED","NOT TESTED","NOT TESTED","NOT TESTED","NOT TESTED","NOT TESTED","NOT TESTED","NOT TESTED","NOT TESTED","NOT TESTED","NOT TESTED","NOT TESTED","NOT TESTED","NOT TESTED","NOT TESTED","NOT TESTED","NOT TESTED","NOT TESTED","NOT TESTED","NOT TESTED","NOT TESTED","NOT TESTED","NOT TESTED","NOT TESTED","NOT TESTED","NOT TESTED","NOT TESTED","NOT TESTED","NOT TESTED","NOT TESTED","NOT TESTED","NOT TESTED","NOT TESTED","NOT TESTED","NOT TESTED","NOT TESTED","NOT TESTED","NOT TESTED","NOT TESTED","NOT TESTED","NOT TESTED","NOT TESTED","NOT TESTED","NOT TESTED","NOT TESTED","NOT TESTED","NOT TESTED","NOT TESTED","NOT TESTED","NOT TESTED","NOT TESTED","NOT TESTED","NOT TESTED","NOT TESTED","NOT TESTED","NOT TESTED","NOT TESTED","NOT TESTED","NOT TESTED","NOT TESTED","NOT TESTED","NOT TESTED","NOT TESTED","NOT TESTED","NOT TESTED","NOT TESTED","NOT TESTED","NOT TESTED","NOT TESTED","NOT TESTED","NOT TESTED","NOT TESTED","NOT TESTED","NOT TESTED","NOT TESTED","NOT TESTED","NOT TESTED","NOT TESTED","NOT TESTED","NOT TESTED"]
[]
["1.2.8","AAA","Media Alternative (Prerecorded)","An alternative for time-based media is provided for all prerecorded synchronized media and for all prerecorded video-only media.","NOT TESTED","NOT TESTED","NOT TESTED","NOT TESTED","NOT TESTED","NOT TESTED","NOT TESTED","NOT TESTED","NOT TESTED","NOT TESTED","NOT TESTED","NOT TESTED","NOT TESTED","NOT TESTED","NOT TESTED","NOT TESTED","NOT TESTED","NOT TESTED","NOT TESTED","NOT TESTED","NOT TESTED","NOT TESTED","NOT TESTED","NOT TESTED","NOT TESTED","NOT TESTED","NOT TESTED","NOT TESTED","NOT TESTED","NOT TESTED","NOT TESTED","NOT TESTED","NOT TESTED","NOT TESTED","NOT TESTED","NOT TESTED","NOT TESTED","NOT TESTED","NOT TESTED","NOT TESTED","NOT TESTED","NOT TESTED","NOT TESTED","NOT TESTED","NOT TESTED","NOT TESTED","NOT TESTED","NOT TESTED","NOT TESTED","NOT TESTED","NOT TESTED","NOT TESTED","NOT TESTED","NOT TESTED","NOT TESTED","NOT TESTED","NOT TESTED","NOT TESTED","NOT TESTED","NOT TESTED","NOT TESTED","NOT TESTED","NOT TESTED","NOT TESTED","NOT TESTED","NOT TESTED","NOT TESTED","NOT TESTED","NOT TESTED","NOT TESTED","NOT TESTED","NOT TESTED","NOT TESTED","NOT TESTED","NOT TESTED","NOT TESTED","NOT TESTED","NOT TESTED","NOT TESTED","NOT TESTED","NOT TESTED","NOT TESTED","NOT TESTED","NOT TESTED","NOT TESTED","NOT TESTED","NOT TESTED","NOT TESTED","NOT TESTED","NOT TESTED","NOT TESTED","NOT TESTED","NOT TESTED","NOT TESTED","NOT TESTED","NOT TESTED","NOT TESTED","NOT TESTED","NOT TESTED","NOT TESTED","NOT TESTED","NOT TESTED","NOT TESTED","NOT TESTED","NOT TESTED","NOT TESTED","NOT TESTED","NOT TESTED","NOT TESTED","NOT TESTED","NOT TESTED","NOT TESTED","NOT TESTED","NOT TESTED","NOT TESTED","NOT TESTED","NOT TESTED","NOT TESTED","NOT TESTED","NOT TESTED","NOT TESTED","NOT TESTED","NOT TESTED","NOT TESTED","NOT TESTED","NOT TESTED","NOT TESTED","NOT TESTED","NOT TESTED","NOT TESTED","NOT TESTED","NOT TESTED","NOT TESTED","NOT TESTED","NOT TESTED","NOT TESTED","NOT TESTED","NOT TESTED","NOT TESTED","NOT TESTED","NOT TESTED","NOT TESTED","NOT TESTED","NOT TESTED","NOT TESTED","NOT TESTED","NOT TESTED","NOT TESTED","NOT TESTED","NOT TESTED"]
[]
["1.2.9","AAA","Audio-only (Live)","An alternative for time-based media that presents equivalent information for live audio-only content is provided.","NOT TESTED","NOT TESTED","NOT TESTED","NOT TESTED","NOT TESTED","NOT TESTED","NOT TESTED","NOT TESTED","NOT TESTED","NOT TESTED","NOT TESTED","NOT TESTED","NOT TESTED","NOT TESTED","NOT TESTED","NOT TESTED","NOT TESTED","NOT TESTED","NOT TESTED","NOT TESTED","NOT TESTED","NOT TESTED","NOT TESTED","NOT TESTED","NOT TESTED","NOT TESTED","NOT TESTED","NOT TESTED","NOT TESTED","NOT TESTED","NOT TESTED","NOT TESTED","NOT TESTED","NOT TESTED","NOT TESTED","NOT TESTED","NOT TESTED","NOT TESTED","NOT TESTED","NOT TESTED","NOT TESTED","NOT TESTED","NOT TESTED","NOT TESTED","NOT TESTED","NOT TESTED","NOT TESTED","NOT TESTED","NOT TESTED","NOT TESTED","NOT TESTED","NOT TESTED","NOT TESTED","NOT TESTED","NOT TESTED","NOT TESTED","NOT TESTED","NOT TESTED","NOT TESTED","NOT TESTED","NOT TESTED","NOT TESTED","NOT TESTED","NOT TESTED","NOT TESTED","NOT TESTED","NOT TESTED","NOT TESTED","NOT TESTED","NOT TESTED","NOT TESTED","NOT TESTED","NOT TESTED","NOT TESTED","NOT TESTED","NOT TESTED","NOT TESTED","NOT TESTED","NOT TESTED","NOT TESTED","NOT TESTED","NOT TESTED","NOT TESTED","NOT TESTED","NOT TESTED","NOT TESTED","NOT TESTED","NOT TESTED","NOT TESTED","NOT TESTED","NOT TESTED","NOT TESTED","NOT TESTED","NOT TESTED","NOT TESTED","NOT TESTED","NOT TESTED","NOT TESTED","NOT TESTED","NOT TESTED","NOT TESTED","NOT TESTED","NOT TESTED","NOT TESTED","NOT TESTED","NOT TESTED","NOT TESTED","NOT TESTED","NOT TESTED","NOT TESTED","NOT TESTED","NOT TESTED","NOT TESTED","NOT TESTED","NOT TESTED","NOT TESTED","NOT TESTED","NOT TESTED","NOT TESTED","NOT TESTED","NOT TESTED","NOT TESTED","NOT TESTED","NOT TESTED","NOT TESTED","NOT TESTED","NOT TESTED","NOT TESTED","NOT TESTED","NOT TESTED","NOT TESTED","NOT TESTED","NOT TESTED","NOT TESTED","NOT TESTED","NOT TESTED","NOT TESTED","NOT TESTED","NOT TESTED","NOT TESTED","NOT TESTED","NOT TESTED","NOT TESTED","NOT TESTED","NOT TESTED","NOT TESTED","NOT TESTED","NOT TESTED","NOT TESTED","NOT TESTED"]
[]
["1.3.6","AAA","Identify Purpose","In content implemented using markup languages, the purpose of User Interface Components, icons, and regions can be programmatically determined.","NOT TESTED","NOT TESTED","NOT TESTED","NOT TESTED","NOT TESTED","NOT TESTED","NOT TESTED","NOT TESTED","NOT TESTED","NOT TESTED","NOT TESTED","NOT TESTED","NOT TESTED","NOT TESTED","NOT TESTED","NOT TESTED","NOT TESTED","NOT TESTED","NOT TESTED","NOT TESTED","NOT TESTED","NOT TESTED","NOT TESTED","NOT TESTED","NOT TESTED","NOT TESTED","NOT TESTED","NOT TESTED","NOT TESTED","NOT TESTED","NOT TESTED","NOT TESTED","NOT TESTED","NOT TESTED","NOT TESTED","NOT TESTED","NOT TESTED","NOT TESTED","NOT TESTED","NOT TESTED","NOT TESTED","NOT TESTED","NOT TESTED","NOT TESTED","NOT TESTED","NOT TESTED","NOT TESTED","NOT TESTED","NOT TESTED","NOT TESTED","NOT TESTED","NOT TESTED","NOT TESTED","NOT TESTED","NOT TESTED","NOT TESTED","NOT TESTED","NOT TESTED","NOT TESTED","NOT TESTED","NOT TESTED","NOT TESTED","NOT TESTED","NOT TESTED","NOT TESTED","NOT TESTED","NOT TESTED","NOT TESTED","NOT TESTED","NOT TESTED","NOT TESTED","NOT TESTED","NOT TESTED","NOT TESTED","NOT TESTED","NOT TESTED","NOT TESTED","NOT TESTED","NOT TESTED","NOT TESTED","NOT TESTED","NOT TESTED","NOT TESTED","NOT TESTED","NOT TESTED","NOT TESTED","NOT TESTED","NOT TESTED","NOT TESTED","NOT TESTED","NOT TESTED","NOT TESTED","NOT TESTED","NOT TESTED","NOT TESTED","NOT TESTED","NOT TESTED","NOT TESTED","NOT TESTED","NOT TESTED","NOT TESTED","NOT TESTED","NOT TESTED","NOT TESTED","NOT TESTED","NOT TESTED","NOT TESTED","NOT TESTED","NOT TESTED","NOT TESTED","NOT TESTED","NOT TESTED","NOT TESTED","NOT TESTED","NOT TESTED","NOT TESTED","NOT TESTED","NOT TESTED","NOT TESTED","NOT TESTED","NOT TESTED","NOT TESTED","NOT TESTED","NOT TESTED","NOT TESTED","NOT TESTED","NOT TESTED","NOT TESTED","NOT TESTED","NOT TESTED","NOT TESTED","NOT TESTED","NOT TESTED","NOT TESTED","NOT TESTED","NOT TESTED","NOT TESTED","NOT TESTED","NOT TESTED","NOT TESTED","NOT TESTED","NOT TESTED","NOT TESTED","NOT TESTED","NOT TESTED","NOT TESTED","NOT TESTED","NOT TESTED","NOT TESTED","NOT TESTED"]
[]
["1.4.6","AAA","Contrast (Enhanced)","The visual presentation of text and images of text has a contrast ratio of at least 7:1, except for the following:","NOT TESTED","NOT TESTED","NOT TESTED","NOT TESTED","NOT TESTED","NOT TESTED","NOT TESTED","NOT TESTED","NOT TESTED","NOT TESTED","NOT TESTED","NOT TESTED","NOT TESTED","NOT TESTED","NOT TESTED","NOT TESTED","NOT TESTED","NOT TESTED","NOT TESTED","NOT TESTED","NOT TESTED","NOT TESTED","NOT TESTED","NOT TESTED","NOT TESTED","NOT TESTED","NOT TESTED","NOT TESTED","NOT TESTED","NOT TESTED","NOT TESTED","NOT TESTED","NOT TESTED","NOT TESTED","NOT TESTED","NOT TESTED","NOT TESTED","NOT TESTED","NOT TESTED","NOT TESTED","NOT TESTED","NOT TESTED","NOT TESTED","NOT TESTED","NOT TESTED","NOT TESTED","NOT TESTED","NOT TESTED","NOT TESTED","NOT TESTED","NOT TESTED","NOT TESTED","NOT TESTED","NOT TESTED","NOT TESTED","NOT TESTED","NOT TESTED","NOT TESTED","NOT TESTED","NOT TESTED","NOT TESTED","NOT TESTED","NOT TESTED","NOT TESTED","NOT TESTED","NOT TESTED","NOT TESTED","NOT TESTED","NOT TESTED","NOT TESTED","NOT TESTED","NOT TESTED","NOT TESTED","NOT TESTED","NOT TESTED","NOT TESTED","NOT TESTED","NOT TESTED","NOT TESTED","NOT TESTED","NOT TESTED","NOT TESTED","NOT TESTED","NOT TESTED","NOT TESTED","NOT TESTED","NOT TESTED","NOT TESTED","NOT TESTED","NOT TESTED","NOT TESTED","NOT TESTED","NOT TESTED","NOT TESTED","NOT TESTED","NOT TESTED","NOT TESTED","NOT TESTED","NOT TESTED","NOT TESTED","NOT TESTED","NOT TESTED","NOT TESTED","NOT TESTED","NOT TESTED","NOT TESTED","NOT TESTED","NOT TESTED","NOT TESTED","NOT TESTED","NOT TESTED","NOT TESTED","NOT TESTED","NOT TESTED","NOT TESTED","NOT TESTED","NOT TESTED","NOT TESTED","NOT TESTED","NOT TESTED","NOT TESTED","NOT TESTED","NOT TESTED","NOT TESTED","NOT TESTED","NOT TESTED","NOT TESTED","NOT TESTED","NOT TESTED","NOT TESTED","NOT TESTED","NOT TESTED","NOT TESTED","NOT TESTED","NOT TESTED","NOT TESTED","NOT TESTED","NOT TESTED","NOT TESTED","NOT TESTED","NOT TESTED","NOT TESTED","NOT TESTED","NOT TESTED","NOT TESTED","NOT TESTED","NOT TESTED","NOT TESTED","NOT TESTED","NOT TESTED"]
[null,null,null,"\nLarge Text: Large-scale text and images of large-scale text have a contrast ratio of at least 4.5:1;\nIncidental: Text or images of text that are part of an inactive user interface component, that are pure decoration, that are not visible to anyone, or that are part of a picture that contains significant other visual content, have no contrast requirement.\nLogotypes: Text that is part of a logo or brand name has no contrast requirement."]
["1.4.7","AAA","Low or No Background Audio","For prerecorded audio-only content that (1) contains primarily speech in the foreground, (2) is not an audio CAPTCHA or audio logo, and (3) is not vocalization intended to be primarily musical expression such as singing or rapping, at least one of the following is true:","NOT TESTED","NOT TESTED","NOT TESTED","NOT TESTED","NOT TESTED","NOT TESTED","NOT TESTED","NOT TESTED","NOT TESTED","NOT TESTED","NOT TESTED","NOT TESTED","NOT TESTED","NOT TESTED","NOT TESTED","NOT TESTED","NOT TESTED","NOT TESTED","NOT TESTED","NOT TESTED","NOT TESTED","NOT TESTED","NOT TESTED","NOT TESTED","NOT TESTED","NOT TESTED","NOT TESTED","NOT TESTED","NOT TESTED","NOT TESTED","NOT TESTED","NOT TESTED","NOT TESTED","NOT TESTED","NOT TESTED","NOT TESTED","NOT TESTED","NOT TESTED","NOT TESTED","NOT TESTED","NOT TESTED","NOT TESTED","NOT TESTED","NOT TESTED","NOT TESTED","NOT TESTED","NOT TESTED","NOT TESTED","NOT TESTED","NOT TESTED","NOT TESTED","NOT TESTED","NOT TESTED","NOT TESTED","NOT TESTED","NOT TESTED","NOT TESTED","NOT TESTED","NOT TESTED","NOT TESTED","NOT TESTED","NOT TESTED","NOT TESTED","NOT TESTED","NOT TESTED","NOT TESTED","NOT TESTED","NOT TESTED","NOT TESTED","NOT TESTED","NOT TESTED","NOT TESTED","NOT TESTED","NOT TESTED","NOT TESTED","NOT TESTED","NOT TESTED","NOT TESTED","NOT TESTED","NOT TESTED","NOT TESTED","NOT TESTED","NOT TESTED","NOT TESTED","NOT TESTED","NOT TESTED","NOT TESTED","NOT TESTED","NOT TESTED","NOT TESTED","NOT TESTED","NOT TESTED","NOT TESTED","NOT TESTED","NOT TESTED","NOT TESTED","NOT TESTED","NOT TESTED","NOT TESTED","NOT TESTED","NOT TESTED","NOT TESTED","NOT TESTED","NOT TESTED","NOT TESTED","NOT TESTED","NOT TESTED","NOT TESTED","NOT TESTED","NOT TESTED","NOT TESTED","NOT TESTED","NOT TESTED","NOT TESTED","NOT TESTED","NOT TESTED","NOT TESTED","NOT TESTED","NOT TESTED","NOT TESTED","NOT TESTED","NOT TESTED","NOT TESTED","NOT TESTED","NOT TESTED","NOT TESTED","NOT TESTED","NOT TESTED","NOT TESTED","NOT TESTED","NOT TESTED","NOT TESTED","NOT TESTED","NOT TESTED","NOT TESTED","NOT TESTED","NOT TESTED","NOT TESTED","NOT TESTED","NOT TESTED","NOT TESTED","NOT TESTED","NOT TESTED","NOT TESTED","NOT TESTED","NOT TESTED","NOT TESTED","NOT TESTED","NOT TESTED","NOT TESTED"]
[null,null,null,"\nNo Background: The audio does not contain background sounds.\nTurn Off: The background sounds can be turned off.\n20 dB: The background sounds are at least 20 decibels lower than the foreground speech content, with the exception of occasional sounds that last for only one or two seconds.\n"]
["1.4.8","AAA","Visual Presentation","For the visual presentation of blocks of text, a mechanism is available to achieve the following:","NOT TESTED","NOT TESTED","NOT TESTED","NOT TESTED","NOT TESTED","NOT TESTED","NOT TESTED","NOT TESTED","NOT TESTED","NOT TESTED","NOT TESTED","NOT TESTED","NOT TESTED","NOT TESTED","NOT TESTED","NOT TESTED","NOT TESTED","NOT TESTED","NOT TESTED","NOT TESTED","NOT TESTED","NOT TESTED","NOT TESTED","NOT TESTED","NOT TESTED","NOT TESTED","NOT TESTED","NOT TESTED","NOT TESTED","NOT TESTED","NOT TESTED","NOT TESTED","NOT TESTED","NOT TESTED","NOT TESTED","NOT TESTED","NOT TESTED","NOT TESTED","NOT TESTED","NOT TESTED","NOT TESTED","NOT TESTED","NOT TESTED","NOT TESTED","NOT TESTED","NOT TESTED","NOT TESTED","NOT TESTED","NOT TESTED","NOT TESTED","NOT TESTED","NOT TESTED","NOT TESTED","NOT TESTED","NOT TESTED","NOT TESTED","NOT TESTED","NOT TESTED","NOT TESTED","NOT TESTED","NOT TESTED","NOT TESTED","NOT TESTED","NOT TESTED","NOT TESTED","NOT TESTED","NOT TESTED","NOT TESTED","NOT TESTED","NOT TESTED","NOT TESTED","NOT TESTED","NOT TESTED","NOT TESTED","NOT TESTED","NOT TESTED","NOT TESTED","NOT TESTED","NOT TESTED","NOT TESTED","NOT TESTED","NOT TESTED","NOT TESTED","NOT TESTED","NOT TESTED","NOT TESTED","NOT TESTED","NOT TESTED","NOT TESTED","NOT TESTED","NOT TESTED","NOT TESTED","NOT TESTED","NOT TESTED","NOT TESTED","NOT TESTED","NOT TESTED","NOT TESTED","NOT TESTED","NOT TESTED","NOT TESTED","NOT TESTED","NOT TESTED","NOT TESTED","NOT TESTED","NOT TESTED","NOT TESTED","NOT TESTED","NOT TESTED","NOT TESTED","NOT TESTED","NOT TESTED","NOT TESTED","NOT TESTED","NOT TESTED","NOT TESTED","NOT TESTED","NOT TESTED","NOT TESTED","NOT TESTED","NOT TESTED","NOT TESTED","NOT TESTED","NOT TESTED","NOT TESTED","NOT TESTED","NOT TESTED","NOT TESTED","NOT TESTED","NOT TESTED","NOT TESTED","NOT TESTED","NOT TESTED","NOT TESTED","NOT TESTED","NOT TESTED","NOT TESTED","NOT TESTED","NOT TESTED","NOT TESTED","NOT TESTED","NOT TESTED","NOT TESTED","NOT TESTED","NOT TESTED","NOT TESTED","NOT TESTED","NOT TESTED","NOT TESTED","NOT TESTED"]
[null,null,null,"\na) Foreground and background colors can be selected by the user.\nb) Width is no more than 80 characters or glyphs (40 if CJK).\nc) Text is not justified (aligned to both the left and the right margins).\nd) Line spacing (leading) is at least space-and-a-half within paragraphs, and paragraph spacing is at least 1.5 times larger than the line spacing.\ne) Text can be resized without assistive technology up to 200 percent in a way that does not require the user to scroll horizontally to read a line of text on a full-screen window."]
["1.4.9","AAA","Images of Text (No Exception)","Images of text are only used for pure decoration or where a particular presentation of text is essential to the information being conveyed.","NOT TESTED","NOT TESTED","NOT TESTED","NOT TESTED","NOT TESTED","NOT TESTED","NOT TESTED","NOT TESTED","NOT TESTED","NOT TESTED","NOT TESTED","NOT TESTED","NOT TESTED","NOT TESTED","NOT TESTED","NOT TESTED","NOT TESTED","NOT TESTED","NOT TESTED","NOT TESTED","NOT TESTED","NOT TESTED","NOT TESTED","NOT TESTED","NOT TESTED","NOT TESTED","NOT TESTED","NOT TESTED","NOT TESTED","NOT TESTED","NOT TESTED","NOT TESTED","NOT TESTED","NOT TESTED","NOT TESTED","NOT TESTED","NOT TESTED","NOT TESTED","NOT TESTED","NOT TESTED","NOT TESTED","NOT TESTED","NOT TESTED","NOT TESTED","NOT TESTED","NOT TESTED","NOT TESTED","NOT TESTED","NOT TESTED","NOT TESTED","NOT TESTED","NOT TESTED","NOT TESTED","NOT TESTED","NOT TESTED","NOT TESTED","NOT TESTED","NOT TESTED","NOT TESTED","NOT TESTED","NOT TESTED","NOT TESTED","NOT TESTED","NOT TESTED","NOT TESTED","NOT TESTED","NOT TESTED","NOT TESTED","NOT TESTED","NOT TESTED","NOT TESTED","NOT TESTED","NOT TESTED","NOT TESTED","NOT TESTED","NOT TESTED","NOT TESTED","NOT TESTED","NOT TESTED","NOT TESTED","NOT TESTED","NOT TESTED","NOT TESTED","NOT TESTED","NOT TESTED","NOT TESTED","NOT TESTED","NOT TESTED","NOT TESTED","NOT TESTED","NOT TESTED","NOT TESTED","NOT TESTED","NOT TESTED","NOT TESTED","NOT TESTED","NOT TESTED","NOT TESTED","NOT TESTED","NOT TESTED","NOT TESTED","NOT TESTED","NOT TESTED","NOT TESTED","NOT TESTED","NOT TESTED","NOT TESTED","NOT TESTED","NOT TESTED","NOT TESTED","NOT TESTED","NOT TESTED","NOT TESTED","NOT TESTED","NOT TESTED","NOT TESTED","NOT TESTED","NOT TESTED","NOT TESTED","NOT TESTED","NOT TESTED","NOT TESTED","NOT TESTED","NOT TESTED","NOT TESTED","NOT TESTED","NOT TESTED","NOT TESTED","NOT TESTED","NOT TESTED","NOT TESTED","NOT TESTED","NOT TESTED","NOT TESTED","NOT TESTED","NOT TESTED","NOT TESTED","NOT TESTED","NOT TESTED","NOT TESTED","NOT TESTED","NOT TESTED","NOT TESTED","NOT TESTED","NOT TESTED","NOT TESTED","NOT TESTED","NOT TESTED","NOT TESTED","NOT TESTED"]
[]
["2.1.3","AAA","Keyboard (No Exception)","All functionality of the content is operable through a keyboard interface without requiring specific timings for individual keystrokes.","NOT TESTED","NOT TESTED","NOT TESTED","NOT TESTED","NOT TESTED","NOT TESTED","NOT TESTED","NOT TESTED","NOT TESTED","NOT TESTED","NOT TESTED","NOT TESTED","NOT TESTED","NOT TESTED","NOT TESTED","NOT TESTED","NOT TESTED","NOT TESTED","NOT TESTED","NOT TESTED","NOT TESTED","NOT TESTED","NOT TESTED","NOT TESTED","NOT TESTED","NOT TESTED","NOT TESTED","NOT TESTED","NOT TESTED","NOT TESTED","NOT TESTED","NOT TESTED","NOT TESTED","NOT TESTED","NOT TESTED","NOT TESTED","NOT TESTED","NOT TESTED","NOT TESTED","NOT TESTED","NOT TESTED","NOT TESTED","NOT TESTED","NOT TESTED","NOT TESTED","NOT TESTED","NOT TESTED","NOT TESTED","NOT TESTED","NOT TESTED","NOT TESTED","NOT TESTED","NOT TESTED","NOT TESTED","NOT TESTED","NOT TESTED","NOT TESTED","NOT TESTED","NOT TESTED","NOT TESTED","NOT TESTED","NOT TESTED","NOT TESTED","NOT TESTED","NOT TESTED","NOT TESTED","NOT TESTED","NOT TESTED","NOT TESTED","NOT TESTED","NOT TESTED","NOT TESTED","NOT TESTED","NOT TESTED","NOT TESTED","NOT TESTED","NOT TESTED","NOT TESTED","NOT TESTED","NOT TESTED","NOT TESTED","NOT TESTED","NOT TESTED","NOT TESTED","NOT TESTED","NOT TESTED","NOT TESTED","NOT TESTED","NOT TESTED","NOT TESTED","NOT TESTED","NOT TESTED","NOT TESTED","NOT TESTED","NOT TESTED","NOT TESTED","NOT TESTED","NOT TESTED","NOT TESTED","NOT TESTED","NOT TESTED","NOT TESTED","NOT TESTED","NOT TESTED","NOT TESTED","NOT TESTED","NOT TESTED","NOT TESTED","NOT TESTED","NOT TESTED","NOT TESTED","NOT TESTED","NOT TESTED","NOT TESTED","NOT TESTED","NOT TESTED","NOT TESTED","NOT TESTED","NOT TESTED","NOT TESTED","NOT TESTED","NOT TESTED","NOT TESTED","NOT TESTED","NOT TESTED","NOT TESTED","NOT TESTED","NOT TESTED","NOT TESTED","NOT TESTED","NOT TESTED","NOT TESTED","NOT TESTED","NOT TESTED","NOT TESTED","NOT TESTED","NOT TESTED","NOT TESTED","NOT TESTED","NOT TESTED","NOT TESTED","NOT TESTED","NOT TESTED","NOT TESTED","NOT TESTED","NOT TESTED","NOT TESTED","NOT TESTED","NOT TESTED","NOT TESTED"]
[]
["2.2.3","AAA","No Timing","Timing is not an essential part of the event or activity presented by the content, except for non-interactive synchronized media and real-time events.","NOT TESTED","NOT TESTED","NOT TESTED","NOT TESTED","NOT TESTED","NOT TESTED","NOT TESTED","NOT TESTED","NOT TESTED","NOT TESTED","NOT TESTED","NOT TESTED","NOT TESTED","NOT TESTED","NOT TESTED","NOT TESTED","NOT TESTED","NOT TESTED","NOT TESTED","NOT TESTED","NOT TESTED","NOT TESTED","NOT TESTED","NOT TESTED","NOT TESTED","NOT TESTED","NOT TESTED","NOT TESTED","NOT TESTED","NOT TESTED","NOT TESTED","NOT TESTED","NOT TESTED","NOT TESTED","NOT TESTED","NOT TESTED","NOT TESTED","NOT TESTED","NOT TESTED","NOT TESTED","NOT TESTED","NOT TESTED","NOT TESTED","NOT TESTED","NOT TESTED","NOT TESTED","NOT TESTED","NOT TESTED","NOT TESTED","NOT TESTED","NOT TESTED","NOT TESTED","NOT TESTED","NOT TESTED","NOT TESTED","NOT TESTED","NOT TESTED","NOT TESTED","NOT TESTED","NOT TESTED","NOT TESTED","NOT TESTED","NOT TESTED","NOT TESTED","NOT TESTED","NOT TESTED","NOT TESTED","NOT TESTED","NOT TESTED","NOT TESTED","NOT TESTED","NOT TESTED","NOT TESTED","NOT TESTED","NOT TESTED","NOT TESTED","NOT TESTED","NOT TESTED","NOT TESTED","NOT TESTED","NOT TESTED","NOT TESTED","NOT TESTED","NOT TESTED","NOT TESTED","NOT TESTED","NOT TESTED","NOT TESTED","NOT TESTED","NOT TESTED","NOT TESTED","NOT TESTED","NOT TESTED","NOT TESTED","NOT TESTED","NOT TESTED","NOT TESTED","NOT TESTED","NOT TESTED","NOT TESTED","NOT TESTED","NOT TESTED","NOT TESTED","NOT TESTED","NOT TESTED","NOT TESTED","NOT TESTED","NOT TESTED","NOT TESTED","NOT TESTED","NOT TESTED","NOT TESTED","NOT TESTED","NOT TESTED","NOT TESTED","NOT TESTED","NOT TESTED","NOT TESTED","NOT TESTED","NOT TESTED","NOT TESTED","NOT TESTED","NOT TESTED","NOT TESTED","NOT TESTED","NOT TESTED","NOT TESTED","NOT TESTED","NOT TESTED","NOT TESTED","NOT TESTED","NOT TESTED","NOT TESTED","NOT TESTED","NOT TESTED","NOT TESTED","NOT TESTED","NOT TESTED","NOT TESTED","NOT TESTED","NOT TESTED","NOT TESTED","NOT TESTED","NOT TESTED","NOT TESTED","NOT TESTED","NOT TESTED","NOT TESTED","NOT TESTED","NOT TESTED"]
[]
["2.2.4","AAA","Interruptions","Interruptions can be postponed or suppressed by the user, except interruptions involving an emergency.","NOT TESTED","NOT TESTED","NOT TESTED","NOT TESTED","NOT TESTED","NOT TESTED","NOT TESTED","NOT TESTED","NOT TESTED","NOT TESTED","NOT TESTED","NOT TESTED","NOT TESTED","NOT TESTED","NOT TESTED","NOT TESTED","NOT TESTED","NOT TESTED","NOT TESTED","NOT TESTED","NOT TESTED","NOT TESTED","NOT TESTED","NOT TESTED","NOT TESTED","NOT TESTED","NOT TESTED","NOT TESTED","NOT TESTED","NOT TESTED","NOT TESTED","NOT TESTED","NOT TESTED","NOT TESTED","NOT TESTED","NOT TESTED","NOT TESTED","NOT TESTED","NOT TESTED","NOT TESTED","NOT TESTED","NOT TESTED","NOT TESTED","NOT TESTED","NOT TESTED","NOT TESTED","NOT TESTED","NOT TESTED","NOT TESTED","NOT TESTED","NOT TESTED","NOT TESTED","NOT TESTED","NOT TESTED","NOT TESTED","NOT TESTED","NOT TESTED","NOT TESTED","NOT TESTED","NOT TESTED","NOT TESTED","NOT TESTED","NOT TESTED","NOT TESTED","NOT TESTED","NOT TESTED","NOT TESTED","NOT TESTED","NOT TESTED","NOT TESTED","NOT TESTED","NOT TESTED","NOT TESTED","NOT TESTED","NOT TESTED","NOT TESTED","NOT TESTED","NOT TESTED","NOT TESTED","NOT TESTED","NOT TESTED","NOT TESTED","NOT TESTED","NOT TESTED","NOT TESTED","NOT TESTED","NOT TESTED","NOT TESTED","NOT TESTED","NOT TESTED","NOT TESTED","NOT TESTED","NOT TESTED","NOT TESTED","NOT TESTED","NOT TESTED","NOT TESTED","NOT TESTED","NOT TESTED","NOT TESTED","NOT TESTED","NOT TESTED","NOT TESTED","NOT TESTED","NOT TESTED","NOT TESTED","NOT TESTED","NOT TESTED","NOT TESTED","NOT TESTED","NOT TESTED","NOT TESTED","NOT TESTED","NOT TESTED","NOT TESTED","NOT TESTED","NOT TESTED","NOT TESTED","NOT TESTED","NOT TESTED","NOT TESTED","NOT TESTED","NOT TESTED","NOT TESTED","NOT TESTED","NOT TESTED","NOT TESTED","NOT TESTED","NOT TESTED","NOT TESTED","NOT TESTED","NOT TESTED","NOT TESTED","NOT TESTED","NOT TESTED","NOT TESTED","NOT TESTED","NOT TESTED","NOT TESTED","NOT TESTED","NOT TESTED","NOT TESTED","NOT TESTED","NOT TESTED","NOT TESTED","NOT TESTED","NOT TESTED","NOT TESTED","NOT TESTED","NOT TESTED"]
[]
["2.2.5","AAA","Re-authenticating","When an authenticated session expires, the user can continue the activity without loss of data after re-authenticating.","NOT TESTED","NOT TESTED","NOT TESTED","NOT TESTED","NOT TESTED","NOT TESTED","NOT TESTED","NOT TESTED","NOT TESTED","NOT TESTED","NOT TESTED","NOT TESTED","NOT TESTED","NOT TESTED","NOT TESTED","NOT TESTED","NOT TESTED","NOT TESTED","NOT TESTED","NOT TESTED","NOT TESTED","NOT TESTED","NOT TESTED","NOT TESTED","NOT TESTED","NOT TESTED","NOT TESTED","NOT TESTED","NOT TESTED","NOT TESTED","NOT TESTED","NOT TESTED","NOT TESTED","NOT TESTED","NOT TESTED","NOT TESTED","NOT TESTED","NOT TESTED","NOT TESTED","NOT TESTED","NOT TESTED","NOT TESTED","NOT TESTED","NOT TESTED","NOT TESTED","NOT TESTED","NOT TESTED","NOT TESTED","NOT TESTED","NOT TESTED","NOT TESTED","NOT TESTED","NOT TESTED","NOT TESTED","NOT TESTED","NOT TESTED","NOT TESTED","NOT TESTED","NOT TESTED","NOT TESTED","NOT TESTED","NOT TESTED","NOT TESTED","NOT TESTED","NOT TESTED","NOT TESTED","NOT TESTED","NOT TESTED","NOT TESTED","NOT TESTED","NOT TESTED","NOT TESTED","NOT TESTED","NOT TESTED","NOT TESTED","NOT TESTED","NOT TESTED","NOT TESTED","NOT TESTED","NOT TESTED","NOT TESTED","NOT TESTED","NOT TESTED","NOT TESTED","NOT TESTED","NOT TESTED","NOT TESTED","NOT TESTED","NOT TESTED","NOT TESTED","NOT TESTED","NOT TESTED","NOT TESTED","NOT TESTED","NOT TESTED","NOT TESTED","NOT TESTED","NOT TESTED","NOT TESTED","NOT TESTED","NOT TESTED","NOT TESTED","NOT TESTED","NOT TESTED","NOT TESTED","NOT TESTED","NOT TESTED","NOT TESTED","NOT TESTED","NOT TESTED","NOT TESTED","NOT TESTED","NOT TESTED","NOT TESTED","NOT TESTED","NOT TESTED","NOT TESTED","NOT TESTED","NOT TESTED","NOT TESTED","NOT TESTED","NOT TESTED","NOT TESTED","NOT TESTED","NOT TESTED","NOT TESTED","NOT TESTED","NOT TESTED","NOT TESTED","NOT TESTED","NOT TESTED","NOT TESTED","NOT TESTED","NOT TESTED","NOT TESTED","NOT TESTED","NOT TESTED","NOT TESTED","NOT TESTED","NOT TESTED","NOT TESTED","NOT TESTED","NOT TESTED","NOT TESTED","NOT TESTED","NOT TESTED","NOT TESTED","NOT TESTED","NOT TESTED","NOT TESTED"]
[]
["2.2.6","AAA","Timeouts","Users are warned of the duration of any user inactivity that could cause data loss, unless the data is preserved for more than 20 hours when the user does not take any actions.","NOT TESTED","NOT TESTED","NOT TESTED","NOT TESTED","NOT TESTED","NOT TESTED","NOT TESTED","NOT TESTED","NOT TESTED","NOT TESTED","NOT TESTED","NOT TESTED","NOT TESTED","NOT TESTED","NOT TESTED","NOT TESTED","NOT TESTED","NOT TESTED","NOT TESTED","NOT TESTED","NOT TESTED","NOT TESTED","NOT TESTED","NOT TESTED","NOT TESTED","NOT TESTED","NOT TESTED","NOT TESTED","NOT TESTED","NOT TESTED","NOT TESTED","NOT TESTED","NOT TESTED","NOT TESTED","NOT TESTED","NOT TESTED","NOT TESTED","NOT TESTED","NOT TESTED","NOT TESTED","NOT TESTED","NOT TESTED","NOT TESTED","NOT TESTED","NOT TESTED","NOT TESTED","NOT TESTED","NOT TESTED","NOT TESTED","NOT TESTED","NOT TESTED","NOT TESTED","NOT TESTED","NOT TESTED","NOT TESTED","NOT TESTED","NOT TESTED","NOT TESTED","NOT TESTED","NOT TESTED","NOT TESTED","NOT TESTED","NOT TESTED","NOT TESTED","NOT TESTED","NOT TESTED","NOT TESTED","NOT TESTED","NOT TESTED","NOT TESTED","NOT TESTED","NOT TESTED","NOT TESTED","NOT TESTED","NOT TESTED","NOT TESTED","NOT TESTED","NOT TESTED","NOT TESTED","NOT TESTED","NOT TESTED","NOT TESTED","NOT TESTED","NOT TESTED","NOT TESTED","NOT TESTED","NOT TESTED","NOT TESTED","NOT TESTED","NOT TESTED","NOT TESTED","NOT TESTED","NOT TESTED","NOT TESTED","NOT TESTED","NOT TESTED","NOT TESTED","NOT TESTED","NOT TESTED","NOT TESTED","NOT TESTED","NOT TESTED","NOT TESTED","NOT TESTED","NOT TESTED","NOT TESTED","NOT TESTED","NOT TESTED","NOT TESTED","NOT TESTED","NOT TESTED","NOT TESTED","NOT TESTED","NOT TESTED","NOT TESTED","NOT TESTED","NOT TESTED","NOT TESTED","NOT TESTED","NOT TESTED","NOT TESTED","NOT TESTED","NOT TESTED","NOT TESTED","NOT TESTED","NOT TESTED","NOT TESTED","NOT TESTED","NOT TESTED","NOT TESTED","NOT TESTED","NOT TESTED","NOT TESTED","NOT TESTED","NOT TESTED","NOT TESTED","NOT TESTED","NOT TESTED","NOT TESTED","NOT TESTED","NOT TESTED","NOT TESTED","NOT TESTED","NOT TESTED","NOT TESTED","NOT TESTED","NOT TESTED","NOT TESTED","NOT TESTED","NOT TESTED"]
[]
["2.3.2","AAA","Three Flashes","Web pages do not contain anything that flashes more than three times in any one second period.","NOT TESTED","NOT TESTED","NOT TESTED","NOT TESTED","NOT TESTED","NOT TESTED","NOT TESTED","NOT TESTED","NOT TESTED","NOT TESTED","NOT TESTED","NOT TESTED","NOT TESTED","NOT TESTED","NOT TESTED","NOT TESTED","NOT TESTED","NOT TESTED","NOT TESTED","NOT TESTED","NOT TESTED","NOT TESTED","NOT TESTED","NOT TESTED","NOT TESTED","NOT TESTED","NOT TESTED","NOT TESTED","NOT TESTED","NOT TESTED","NOT TESTED","NOT TESTED","NOT TESTED","NOT TESTED","NOT TESTED","NOT TESTED","NOT TESTED","NOT TESTED","NOT TESTED","NOT TESTED","NOT TESTED","NOT TESTED","NOT TESTED","NOT TESTED","NOT TESTED","NOT TESTED","NOT TESTED","NOT TESTED","NOT TESTED","NOT TESTED","NOT TESTED","NOT TESTED","NOT TESTED","NOT TESTED","NOT TESTED","NOT TESTED","NOT TESTED","NOT TESTED","NOT TESTED","NOT TESTED","NOT TESTED","NOT TESTED","NOT TESTED","NOT TESTED","NOT TESTED","NOT TESTED","NOT TESTED","NOT TESTED","NOT TESTED","NOT TESTED","NOT TESTED","NOT TESTED","NOT TESTED","NOT TESTED","NOT TESTED","NOT TESTED","NOT TESTED","NOT TESTED","NOT TESTED","NOT TESTED","NOT TESTED","NOT TESTED","NOT TESTED","NOT TESTED","NOT TESTED","NOT TESTED","NOT TESTED","NOT TESTED","NOT TESTED","NOT TESTED","NOT TESTED","NOT TESTED","NOT TESTED","NOT TESTED","NOT TESTED","NOT TESTED","NOT TESTED","NOT TESTED","NOT TESTED","NOT TESTED","NOT TESTED","NOT TESTED","NOT TESTED","NOT TESTED","NOT TESTED","NOT TESTED","NOT TESTED","NOT TESTED","NOT TESTED","NOT TESTED","NOT TESTED","NOT TESTED","NOT TESTED","NOT TESTED","NOT TESTED","NOT TESTED","NOT TESTED","NOT TESTED","NOT TESTED","NOT TESTED","NOT TESTED","NOT TESTED","NOT TESTED","NOT TESTED","NOT TESTED","NOT TESTED","NOT TESTED","NOT TESTED","NOT TESTED","NOT TESTED","NOT TESTED","NOT TESTED","NOT TESTED","NOT TESTED","NOT TESTED","NOT TESTED","NOT TESTED","NOT TESTED","NOT TESTED","NOT TESTED","NOT TESTED","NOT TESTED","NOT TESTED","NOT TESTED","NOT TESTED","NOT TESTED","NOT TESTED","NOT TESTED","NOT TESTED","NOT TESTED"]
[]
["2.3.3","AAA","Animation from Interactions","Motion animation triggered by interaction can be disabled, unless the animation is essential to the functionality or the information being conveyed.","NOT TESTED","NOT TESTED","NOT TESTED","NOT TESTED","NOT TESTED","NOT TESTED","NOT TESTED","NOT TESTED","NOT TESTED","NOT TESTED","NOT TESTED","NOT TESTED","NOT TESTED","NOT TESTED","NOT TESTED","NOT TESTED","NOT TESTED","NOT TESTED","NOT TESTED","NOT TESTED","NOT TESTED","NOT TESTED","NOT TESTED","NOT TESTED","NOT TESTED","NOT TESTED","NOT TESTED","NOT TESTED","NOT TESTED","NOT TESTED","NOT TESTED","NOT TESTED","NOT TESTED","NOT TESTED","NOT TESTED","NOT TESTED","NOT TESTED","NOT TESTED","NOT TESTED","NOT TESTED","NOT TESTED","NOT TESTED","NOT TESTED","NOT TESTED","NOT TESTED","NOT TESTED","NOT TESTED","NOT TESTED","NOT TESTED","NOT TESTED","NOT TESTED","NOT TESTED","NOT TESTED","NOT TESTED","NOT TESTED","NOT TESTED","NOT TESTED","NOT TESTED","NOT TESTED","NOT TESTED","NOT TESTED","NOT TESTED","NOT TESTED","NOT TESTED","NOT TESTED","NOT TESTED","NOT TESTED","NOT TESTED","NOT TESTED","NOT TESTED","NOT TESTED","NOT TESTED","NOT TESTED","NOT TESTED","NOT TESTED","NOT TESTED","NOT TESTED","NOT TESTED","NOT TESTED","NOT TESTED","NOT TESTED","NOT TESTED","NOT TESTED","NOT TESTED","NOT TESTED","NOT TESTED","NOT TESTED","NOT TESTED","NOT TESTED","NOT TESTED","NOT TESTED","NOT TESTED","NOT TESTED","NOT TESTED","NOT TESTED","NOT TESTED","NOT TESTED","NOT TESTED","NOT TESTED","NOT TESTED","NOT TESTED","NOT TESTED","NOT TESTED","NOT TESTED","NOT TESTED","NOT TESTED","NOT TESTED","NOT TESTED","NOT TESTED","NOT TESTED","NOT TESTED","NOT TESTED","NOT TESTED","NOT TESTED","NOT TESTED","NOT TESTED","NOT TESTED","NOT TESTED","NOT TESTED","NOT TESTED","NOT TESTED","NOT TESTED","NOT TESTED","NOT TESTED","NOT TESTED","NOT TESTED","NOT TESTED","NOT TESTED","NOT TESTED","NOT TESTED","NOT TESTED","NOT TESTED","NOT TESTED","NOT TESTED","NOT TESTED","NOT TESTED","NOT TESTED","NOT TESTED","NOT TESTED","NOT TESTED","NOT TESTED","NOT TESTED","NOT TESTED","NOT TESTED","NOT TESTED","NOT TESTED","NOT TESTED","NOT TESTED","NOT TESTED","NOT TESTED"]
[]
["2.4.8","AAA","Location","Information about the user's location within a set of Web pages is available.","NOT TESTED","NOT TESTED","NOT TESTED","NOT TESTED","NOT TESTED","NOT TESTED","NOT TESTED","NOT TESTED","NOT TESTED","NOT TESTED","NOT TESTED","NOT TESTED","NOT TESTED","NOT TESTED","NOT TESTED","NOT TESTED","NOT TESTED","NOT TESTED","NOT TESTED","NOT TESTED","NOT TESTED","NOT TESTED","NOT TESTED","NOT TESTED","NOT TESTED","NOT TESTED","NOT TESTED","NOT TESTED","NOT TESTED","NOT TESTED","NOT TESTED","NOT TESTED","NOT TESTED","NOT TESTED","NOT TESTED","NOT TESTED","NOT TESTED","NOT TESTED","NOT TESTED","NOT TESTED","NOT TESTED","NOT TESTED","NOT TESTED","NOT TESTED","NOT TESTED","NOT TESTED","NOT TESTED","NOT TESTED","NOT TESTED","NOT TESTED","NOT TESTED","NOT TESTED","NOT TESTED","NOT TESTED","NOT TESTED","NOT TESTED","NOT TESTED","NOT TESTED","NOT TESTED","NOT TESTED","NOT TESTED","NOT TESTED","NOT TESTED","NOT TESTED","NOT TESTED","NOT TESTED","NOT TESTED","NOT TESTED","NOT TESTED","NOT TESTED","NOT TESTED","NOT TESTED","NOT TESTED","NOT TESTED","NOT TESTED","NOT TESTED","NOT TESTED","NOT TESTED","NOT TESTED","NOT TESTED","NOT TESTED","NOT TESTED","NOT TESTED","NOT TESTED","NOT TESTED","NOT TESTED","NOT TESTED","NOT TESTED","NOT TESTED","NOT TESTED","NOT TESTED","NOT TESTED","NOT TESTED","NOT TESTED","NOT TESTED","NOT TESTED","NOT TESTED","NOT TESTED","NOT TESTED","NOT TESTED","NOT TESTED","NOT TESTED","NOT TESTED","NOT TESTED","NOT TESTED","NOT TESTED","NOT TESTED","NOT TESTED","NOT TESTED","NOT TESTED","NOT TESTED","NOT TESTED","NOT TESTED","NOT TESTED","NOT TESTED","NOT TESTED","NOT TESTED","NOT TESTED","NOT TESTED","NOT TESTED","NOT TESTED","NOT TESTED","NOT TESTED","NOT TESTED","NOT TESTED","NOT TESTED","NOT TESTED","NOT TESTED","NOT TESTED","NOT TESTED","NOT TESTED","NOT TESTED","NOT TESTED","NOT TESTED","NOT TESTED","NOT TESTED","NOT TESTED","NOT TESTED","NOT TESTED","NOT TESTED","NOT TESTED","NOT TESTED","NOT TESTED","NOT TESTED","NOT TESTED","NOT TESTED","NOT TESTED","NOT TESTED","NOT TESTED","NOT TESTED"]
[]
["2.4.9","AAA","Link Purpose (Link Only)","A mechanism is available to allow the purpose of each link to be identified from link text alone, except where the purpose of the link would be ambiguous to users in general.","NOT TESTED","NOT TESTED","NOT TESTED","NOT TESTED","NOT TESTED","NOT TESTED","NOT TESTED","NOT TESTED","NOT TESTED","NOT TESTED","NOT TESTED","NOT TESTED","NOT TESTED","NOT TESTED","NOT TESTED","NOT TESTED","NOT TESTED","NOT TESTED","NOT TESTED","NOT TESTED","NOT TESTED","NOT TESTED","NOT TESTED","NOT TESTED","NOT TESTED","NOT TESTED","NOT TESTED","NOT TESTED","NOT TESTED","NOT TESTED","NOT TESTED","NOT TESTED","NOT TESTED","NOT TESTED","NOT TESTED","NOT TESTED","NOT TESTED","NOT TESTED","NOT TESTED","NOT TESTED","NOT TESTED","NOT TESTED","NOT TESTED","NOT TESTED","NOT TESTED","NOT TESTED","NOT TESTED","NOT TESTED","NOT TESTED","NOT TESTED","NOT TESTED","NOT TESTED","NOT TESTED","NOT TESTED","NOT TESTED","NOT TESTED","NOT TESTED","NOT TESTED","NOT TESTED","NOT TESTED","NOT TESTED","NOT TESTED","NOT TESTED","NOT TESTED","NOT TESTED","NOT TESTED","NOT TESTED","NOT TESTED","NOT TESTED","NOT TESTED","NOT TESTED","NOT TESTED","NOT TESTED","NOT TESTED","NOT TESTED","NOT TESTED","NOT TESTED","NOT TESTED","NOT TESTED","NOT TESTED","NOT TESTED","NOT TESTED","NOT TESTED","NOT TESTED","NOT TESTED","NOT TESTED","NOT TESTED","NOT TESTED","NOT TESTED","NOT TESTED","NOT TESTED","NOT TESTED","NOT TESTED","NOT TESTED","NOT TESTED","NOT TESTED","NOT TESTED","NOT TESTED","NOT TESTED","NOT TESTED","NOT TESTED","NOT TESTED","NOT TESTED","NOT TESTED","NOT TESTED","NOT TESTED","NOT TESTED","NOT TESTED","NOT TESTED","NOT TESTED","NOT TESTED","NOT TESTED","NOT TESTED","NOT TESTED","NOT TESTED","NOT TESTED","NOT TESTED","NOT TESTED","NOT TESTED","NOT TESTED","NOT TESTED","NOT TESTED","NOT TESTED","NOT TESTED","NOT TESTED","NOT TESTED","NOT TESTED","NOT TESTED","NOT TESTED","NOT TESTED","NOT TESTED","NOT TESTED","NOT TESTED","NOT TESTED","NOT TESTED","NOT TESTED","NOT TESTED","NOT TESTED","NOT TESTED","NOT TESTED","NOT TESTED","NOT TESTED","NOT TESTED","NOT TESTED","NOT TESTED","NOT TESTED","NOT TESTED","NOT TESTED","NOT TESTED","NOT TESTED"]
[]
["2.4.10","AAA","Section Headings","Section headings are used to organize the content.","NOT TESTED","NOT TESTED","NOT TESTED","NOT TESTED","NOT TESTED","NOT TESTED","NOT TESTED","NOT TESTED","NOT TESTED","NOT TESTED","NOT TESTED","NOT TESTED","NOT TESTED","NOT TESTED","NOT TESTED","NOT TESTED","NOT TESTED","NOT TESTED","NOT TESTED","NOT TESTED","NOT TESTED","NOT TESTED","NOT TESTED","NOT TESTED","NOT TESTED","NOT TESTED","NOT TESTED","NOT TESTED","NOT TESTED","NOT TESTED","NOT TESTED","NOT TESTED","NOT TESTED","NOT TESTED","NOT TESTED","NOT TESTED","NOT TESTED","NOT TESTED","NOT TESTED","NOT TESTED","NOT TESTED","NOT TESTED","NOT TESTED","NOT TESTED","NOT TESTED","NOT TESTED","NOT TESTED","NOT TESTED","NOT TESTED","NOT TESTED","NOT TESTED","NOT TESTED","NOT TESTED","NOT TESTED","NOT TESTED","NOT TESTED","NOT TESTED","NOT TESTED","NOT TESTED","NOT TESTED","NOT TESTED","NOT TESTED","NOT TESTED","NOT TESTED","NOT TESTED","NOT TESTED","NOT TESTED","NOT TESTED","NOT TESTED","NOT TESTED","NOT TESTED","NOT TESTED","NOT TESTED","NOT TESTED","NOT TESTED","NOT TESTED","NOT TESTED","NOT TESTED","NOT TESTED","NOT TESTED","NOT TESTED","NOT TESTED","NOT TESTED","NOT TESTED","NOT TESTED","NOT TESTED","NOT TESTED","NOT TESTED","NOT TESTED","NOT TESTED","NOT TESTED","NOT TESTED","NOT TESTED","NOT TESTED","NOT TESTED","NOT TESTED","NOT TESTED","NOT TESTED","NOT TESTED","NOT TESTED","NOT TESTED","NOT TESTED","NOT TESTED","NOT TESTED","NOT TESTED","NOT TESTED","NOT TESTED","NOT TESTED","NOT TESTED","NOT TESTED","NOT TESTED","NOT TESTED","NOT TESTED","NOT TESTED","NOT TESTED","NOT TESTED","NOT TESTED","NOT TESTED","NOT TESTED","NOT TESTED","NOT TESTED","NOT TESTED","NOT TESTED","NOT TESTED","NOT TESTED","NOT TESTED","NOT TESTED","NOT TESTED","NOT TESTED","NOT TESTED","NOT TESTED","NOT TESTED","NOT TESTED","NOT TESTED","NOT TESTED","NOT TESTED","NOT TESTED","NOT TESTED","NOT TESTED","NOT TESTED","NOT TESTED","NOT TESTED","NOT TESTED","NOT TESTED","NOT TESTED","NOT TESTED","NOT TESTED","NOT TESTED","NOT TESTED","NOT TESTED"]
[]
["2.5.5","AAA","Target Size","The size of the target for pointer inputs is at least 44 by 44 CSS pixels except when:","NOT TESTED","NOT TESTED","NOT TESTED","NOT TESTED","NOT TESTED","NOT TESTED","NOT TESTED","NOT TESTED","NOT TESTED","NOT TESTED","NOT TESTED","NOT TESTED","NOT TESTED","NOT TESTED","NOT TESTED","NOT TESTED","NOT TESTED","NOT TESTED","NOT TESTED","NOT TESTED","NOT TESTED","NOT TESTED","NOT TESTED","NOT TESTED","NOT TESTED","NOT TESTED","NOT TESTED","NOT TESTED","NOT TESTED","NOT TESTED","NOT TESTED","NOT TESTED","NOT TESTED","NOT TESTED","NOT TESTED","NOT TESTED","NOT TESTED","NOT TESTED","NOT TESTED","NOT TESTED","NOT TESTED","NOT TESTED","NOT TESTED","NOT TESTED","NOT TESTED","NOT TESTED","NOT TESTED","NOT TESTED","NOT TESTED","NOT TESTED","NOT TESTED","NOT TESTED","NOT TESTED","NOT TESTED","NOT TESTED","NOT TESTED","NOT TESTED","NOT TESTED","NOT TESTED","NOT TESTED","NOT TESTED","NOT TESTED","NOT TESTED","NOT TESTED","NOT TESTED","NOT TESTED","NOT TESTED","NOT TESTED","NOT TESTED","NOT TESTED","NOT TESTED","NOT TESTED","NOT TESTED","NOT TESTED","NOT TESTED","NOT TESTED","NOT TESTED","NOT TESTED","NOT TESTED","NOT TESTED","NOT TESTED","NOT TESTED","NOT TESTED","NOT TESTED","NOT TESTED","NOT TESTED","NOT TESTED","NOT TESTED","NOT TESTED","NOT TESTED","NOT TESTED","NOT TESTED","NOT TESTED","NOT TESTED","NOT TESTED","NOT TESTED","NOT TESTED","NOT TESTED","NOT TESTED","NOT TESTED","NOT TESTED","NOT TESTED","NOT TESTED","NOT TESTED","NOT TESTED","NOT TESTED","NOT TESTED","NOT TESTED","NOT TESTED","NOT TESTED","NOT TESTED","NOT TESTED","NOT TESTED","NOT TESTED","NOT TESTED","NOT TESTED","NOT TESTED","NOT TESTED","NOT TESTED","NOT TESTED","NOT TESTED","NOT TESTED","NOT TESTED","NOT TESTED","NOT TESTED","NOT TESTED","NOT TESTED","NOT TESTED","NOT TESTED","NOT TESTED","NOT TESTED","NOT TESTED","NOT TESTED","NOT TESTED","NOT TESTED","NOT TESTED","NOT TESTED","NOT TESTED","NOT TESTED","NOT TESTED","NOT TESTED","NOT TESTED","NOT TESTED","NOT TESTED","NOT TESTED","NOT TESTED","NOT TESTED","NOT TESTED","NOT TESTED","NOT TESTED"]
[null,null,null,"\nEquivalent: The target is available through an equivalent link or control on the same page that is at least 44 by 44 CSS pixels;\nInline: The target is in a sentence or block of text;\nUser Agent Control: The size of the target is determined by the user agent and is not modified by the author;\nEssential: A particular presentation of the target is essential to the information being conveyed.\n"]
["2.5.6","AAA","Concurrent Input Mechanisms","Web content does not restrict use of input modalities available on a platform except where the restriction is essential, required to ensure the security of the content, or required to respect user settings.","NOT TESTED","NOT TESTED","NOT TESTED","NOT TESTED","NOT TESTED","NOT TESTED","NOT TESTED","NOT TESTED","NOT TESTED","NOT TESTED","NOT TESTED","NOT TESTED","NOT TESTED","NOT TESTED","NOT TESTED","NOT TESTED","NOT TESTED","NOT TESTED","NOT TESTED","NOT TESTED","NOT TESTED","NOT TESTED","NOT TESTED","NOT TESTED","NOT TESTED","NOT TESTED","NOT TESTED","NOT TESTED","NOT TESTED","NOT TESTED","NOT TESTED","NOT TESTED","NOT TESTED","NOT TESTED","NOT TESTED","NOT TESTED","NOT TESTED","NOT TESTED","NOT TESTED","NOT TESTED","NOT TESTED","NOT TESTED","NOT TESTED","NOT TESTED","NOT TESTED","NOT TESTED","NOT TESTED","NOT TESTED","NOT TESTED","NOT TESTED","NOT TESTED","NOT TESTED","NOT TESTED","NOT TESTED","NOT TESTED","NOT TESTED","NOT TESTED","NOT TESTED","NOT TESTED","NOT TESTED","NOT TESTED","NOT TESTED","NOT TESTED","NOT TESTED","NOT TESTED","NOT TESTED","NOT TESTED","NOT TESTED","NOT TESTED","NOT TESTED","NOT TESTED","NOT TESTED","NOT TESTED","NOT TESTED","NOT TESTED","NOT TESTED","NOT TESTED","NOT TESTED","NOT TESTED","NOT TESTED","NOT TESTED","NOT TESTED","NOT TESTED","NOT TESTED","NOT TESTED","NOT TESTED","NOT TESTED","NOT TESTED","NOT TESTED","NOT TESTED","NOT TESTED","NOT TESTED","NOT TESTED","NOT TESTED","NOT TESTED","NOT TESTED","NOT TESTED","NOT TESTED","NOT TESTED","NOT TESTED","NOT TESTED","NOT TESTED","NOT TESTED","NOT TESTED","NOT TESTED","NOT TESTED","NOT TESTED","NOT TESTED","NOT TESTED","NOT TESTED","NOT TESTED","NOT TESTED","NOT TESTED","NOT TESTED","NOT TESTED","NOT TESTED","NOT TESTED","NOT TESTED","NOT TESTED","NOT TESTED","NOT TESTED","NOT TESTED","NOT TESTED","NOT TESTED","NOT TESTED","NOT TESTED","NOT TESTED","NOT TESTED","NOT TESTED","NOT TESTED","NOT TESTED","NOT TESTED","NOT TESTED","NOT TESTED","NOT TESTED","NOT TESTED","NOT TESTED","NOT TESTED","NOT TESTED","NOT TESTED","NOT TESTED","NOT TESTED","NOT TESTED","NOT TESTED","NOT TESTED","NOT TESTED","NOT TESTED","NOT TESTED","NOT TESTED","NOT TESTED"]
[]
["3.1.3","AAA","Unusual Words","A mechanism is available for identifying specific definitions of words or phrases used in an unusual or restricted way, including idioms and jargon.","NOT TESTED","NOT TESTED","NOT TESTED","NOT TESTED","NOT TESTED","NOT TESTED","NOT TESTED","NOT TESTED","NOT TESTED","NOT TESTED","NOT TESTED","NOT TESTED","NOT TESTED","NOT TESTED","NOT TESTED","NOT TESTED","NOT TESTED","NOT TESTED","NOT TESTED","NOT TESTED","NOT TESTED","NOT TESTED","NOT TESTED","NOT TESTED","NOT TESTED","NOT TESTED","NOT TESTED","NOT TESTED","NOT TESTED","NOT TESTED","NOT TESTED","NOT TESTED","NOT TESTED","NOT TESTED","NOT TESTED","NOT TESTED","NOT TESTED","NOT TESTED","NOT TESTED","NOT TESTED","NOT TESTED","NOT TESTED","NOT TESTED","NOT TESTED","NOT TESTED","NOT TESTED","NOT TESTED","NOT TESTED","NOT TESTED","NOT TESTED","NOT TESTED","NOT TESTED","NOT TESTED","NOT TESTED","NOT TESTED","NOT TESTED","NOT TESTED","NOT TESTED","NOT TESTED","NOT TESTED","NOT TESTED","NOT TESTED","NOT TESTED","NOT TESTED","NOT TESTED","NOT TESTED","NOT TESTED","NOT TESTED","NOT TESTED","NOT TESTED","NOT TESTED","NOT TESTED","NOT TESTED","NOT TESTED","NOT TESTED","NOT TESTED","NOT TESTED","NOT TESTED","NOT TESTED","NOT TESTED","NOT TESTED","NOT TESTED","NOT TESTED","NOT TESTED","NOT TESTED","NOT TESTED","NOT TESTED","NOT TESTED","NOT TESTED","NOT TESTED","NOT TESTED","NOT TESTED","NOT TESTED","NOT TESTED","NOT TESTED","NOT TESTED","NOT TESTED","NOT TESTED","NOT TESTED","NOT TESTED","NOT TESTED","NOT TESTED","NOT TESTED","NOT TESTED","NOT TESTED","NOT TESTED","NOT TESTED","NOT TESTED","NOT TESTED","NOT TESTED","NOT TESTED","NOT TESTED","NOT TESTED","NOT TESTED","NOT TESTED","NOT TESTED","NOT TESTED","NOT TESTED","NOT TESTED","NOT TESTED","NOT TESTED","NOT TESTED","NOT TESTED","NOT TESTED","NOT TESTED","NOT TESTED","NOT TESTED","NOT TESTED","NOT TESTED","NOT TESTED","NOT TESTED","NOT TESTED","NOT TESTED","NOT TESTED","NOT TESTED","NOT TESTED","NOT TESTED","NOT TESTED","NOT TESTED","NOT TESTED","NOT TESTED","NOT TESTED","NOT TESTED","NOT TESTED","NOT TESTED","NOT TESTED","NOT TESTED","NOT TESTED","NOT TESTED","NOT TESTED"]
[]
["3.1.4","AAA","Abbreviations","A mechanism for identifying the expanded form or meaning of abbreviations is available.","NOT TESTED","NOT TESTED","NOT TESTED","NOT TESTED","NOT TESTED","NOT TESTED","NOT TESTED","NOT TESTED","NOT TESTED","NOT TESTED","NOT TESTED","NOT TESTED","NOT TESTED","NOT TESTED","NOT TESTED","NOT TESTED","NOT TESTED","NOT TESTED","NOT TESTED","NOT TESTED","NOT TESTED","NOT TESTED","NOT TESTED","NOT TESTED","NOT TESTED","NOT TESTED","NOT TESTED","NOT TESTED","NOT TESTED","NOT TESTED","NOT TESTED","NOT TESTED","NOT TESTED","NOT TESTED","NOT TESTED","NOT TESTED","NOT TESTED","NOT TESTED","NOT TESTED","NOT TESTED","NOT TESTED","NOT TESTED","NOT TESTED","NOT TESTED","NOT TESTED","NOT TESTED","NOT TESTED","NOT TESTED","NOT TESTED","NOT TESTED","NOT TESTED","NOT TESTED","NOT TESTED","NOT TESTED","NOT TESTED","NOT TESTED","NOT TESTED","NOT TESTED","NOT TESTED","NOT TESTED","NOT TESTED","NOT TESTED","NOT TESTED","NOT TESTED","NOT TESTED","NOT TESTED","NOT TESTED","NOT TESTED","NOT TESTED","NOT TESTED","NOT TESTED","NOT TESTED","NOT TESTED","NOT TESTED","NOT TESTED","NOT TESTED","NOT TESTED","NOT TESTED","NOT TESTED","NOT TESTED","NOT TESTED","NOT TESTED","NOT TESTED","NOT TESTED","NOT TESTED","NOT TESTED","NOT TESTED","NOT TESTED","NOT TESTED","NOT TESTED","NOT TESTED","NOT TESTED","NOT TESTED","NOT TESTED","NOT TESTED","NOT TESTED","NOT TESTED","NOT TESTED","NOT TESTED","NOT TESTED","NOT TESTED","NOT TESTED","NOT TESTED","NOT TESTED","NOT TESTED","NOT TESTED","NOT TESTED","NOT TESTED","NOT TESTED","NOT TESTED","NOT TESTED","NOT TESTED","NOT TESTED","NOT TESTED","NOT TESTED","NOT TESTED","NOT TESTED","NOT TESTED","NOT TESTED","NOT TESTED","NOT TESTED","NOT TESTED","NOT TESTED","NOT TESTED","NOT TESTED","NOT TESTED","NOT TESTED","NOT TESTED","NOT TESTED","NOT TESTED","NOT TESTED","NOT TESTED","NOT TESTED","NOT TESTED","NOT TESTED","NOT TESTED","NOT TESTED","NOT TESTED","NOT TESTED","NOT TESTED","NOT TESTED","NOT TESTED","NOT TESTED","NOT TESTED","NOT TESTED","NOT TESTED","NOT TESTED","NOT TESTED","NOT TESTED","NOT TESTED"]
[]
["3.1.5","AAA","Reading Level","When text requires reading ability more advanced than the lower secondary education level after removal of proper names and titles, supplemental content, or a version that does not require reading ability more advanced than the lower secondary education level, is available.","NOT TESTED","NOT TESTED","NOT TESTED","NOT TESTED","NOT TESTED","NOT TESTED","NOT TESTED","NOT TESTED","NOT TESTED","NOT TESTED","NOT TESTED","NOT TESTED","NOT TESTED","NOT TESTED","NOT TESTED","NOT TESTED","NOT TESTED","NOT TESTED","NOT TESTED","NOT TESTED","NOT TESTED","NOT TESTED","NOT TESTED","NOT TESTED","NOT TESTED","NOT TESTED","NOT TESTED","NOT TESTED","NOT TESTED","NOT TESTED","NOT TESTED","NOT TESTED","NOT TESTED","NOT TESTED","NOT TESTED","NOT TESTED","NOT TESTED","NOT TESTED","NOT TESTED","NOT TESTED","NOT TESTED","NOT TESTED","NOT TESTED","NOT TESTED","NOT TESTED","NOT TESTED","NOT TESTED","NOT TESTED","NOT TESTED","NOT TESTED","NOT TESTED","NOT TESTED","NOT TESTED","NOT TESTED","NOT TESTED","NOT TESTED","NOT TESTED","NOT TESTED","NOT TESTED","NOT TESTED","NOT TESTED","NOT TESTED","NOT TESTED","NOT TESTED","NOT TESTED","NOT TESTED","NOT TESTED","NOT TESTED","NOT TESTED","NOT TESTED","NOT TESTED","NOT TESTED","NOT TESTED","NOT TESTED","NOT TESTED","NOT TESTED","NOT TESTED","NOT TESTED","NOT TESTED","NOT TESTED","NOT TESTED","NOT TESTED","NOT TESTED","NOT TESTED","NOT TESTED","NOT TESTED","NOT TESTED","NOT TESTED","NOT TESTED","NOT TESTED","NOT TESTED","NOT TESTED","NOT TESTED","NOT TESTED","NOT TESTED","NOT TESTED","NOT TESTED","NOT TESTED","NOT TESTED","NOT TESTED","NOT TESTED","NOT TESTED","NOT TESTED","NOT TESTED","NOT TESTED","NOT TESTED","NOT TESTED","NOT TESTED","NOT TESTED","NOT TESTED","NOT TESTED","NOT TESTED","NOT TESTED","NOT TESTED","NOT TESTED","NOT TESTED","NOT TESTED","NOT TESTED","NOT TESTED","NOT TESTED","NOT TESTED","NOT TESTED","NOT TESTED","NOT TESTED","NOT TESTED","NOT TESTED","NOT TESTED","NOT TESTED","NOT TESTED","NOT TESTED","NOT TESTED","NOT TESTED","NOT TESTED","NOT TESTED","NOT TESTED","NOT TESTED","NOT TESTED","NOT TESTED","NOT TESTED","NOT TESTED","NOT TESTED","NOT TESTED","NOT TESTED","NOT TESTED","NOT TESTED","NOT TESTED","NOT TESTED","NOT TESTED","NOT TESTED","NOT TESTED"]
[]
["3.1.6","AAA","Pronunciation","A mechanism is available for identifying specific pronunciation of words where meaning of the words, in context, is ambiguous without knowing the pronunciation.","NOT TESTED","NOT TESTED","NOT TESTED","NOT TESTED","NOT TESTED","NOT TESTED","NOT TESTED","NOT TESTED","NOT TESTED","NOT TESTED","NOT TESTED","NOT TESTED","NOT TESTED","NOT TESTED","NOT TESTED","NOT TESTED","NOT TESTED","NOT TESTED","NOT TESTED","NOT TESTED","NOT TESTED","NOT TESTED","NOT TESTED","NOT TESTED","NOT TESTED","NOT TESTED","NOT TESTED","NOT TESTED","NOT TESTED","NOT TESTED","NOT TESTED","NOT TESTED","NOT TESTED","NOT TESTED","NOT TESTED","NOT TESTED","NOT TESTED","NOT TESTED","NOT TESTED","NOT TESTED","NOT TESTED","NOT TESTED","NOT TESTED","NOT TESTED","NOT TESTED","NOT TESTED","NOT TESTED","NOT TESTED","NOT TESTED","NOT TESTED","NOT TESTED","NOT TESTED","NOT TESTED","NOT TESTED","NOT TESTED","NOT TESTED","NOT TESTED","NOT TESTED","NOT TESTED","NOT TESTED","NOT TESTED","NOT TESTED","NOT TESTED","NOT TESTED","NOT TESTED","NOT TESTED","NOT TESTED","NOT TESTED","NOT TESTED","NOT TESTED","NOT TESTED","NOT TESTED","NOT TESTED","NOT TESTED","NOT TESTED","NOT TESTED","NOT TESTED","NOT TESTED","NOT TESTED","NOT TESTED","NOT TESTED","NOT TESTED","NOT TESTED","NOT TESTED","NOT TESTED","NOT TESTED","NOT TESTED","NOT TESTED","NOT TESTED","NOT TESTED","NOT TESTED","NOT TESTED","NOT TESTED","NOT TESTED","NOT TESTED","NOT TESTED","NOT TESTED","NOT TESTED","NOT TESTED","NOT TESTED","NOT TESTED","NOT TESTED","NOT TESTED","NOT TESTED","NOT TESTED","NOT TESTED","NOT TESTED","NOT TESTED","NOT TESTED","NOT TESTED","NOT TESTED","NOT TESTED","NOT TESTED","NOT TESTED","NOT TESTED","NOT TESTED","NOT TESTED","NOT TESTED","NOT TESTED","NOT TESTED","NOT TESTED","NOT TESTED","NOT TESTED","NOT TESTED","NOT TESTED","NOT TESTED","NOT TESTED","NOT TESTED","NOT TESTED","NOT TESTED","NOT TESTED","NOT TESTED","NOT TESTED","NOT TESTED","NOT TESTED","NOT TESTED","NOT TESTED","NOT TESTED","NOT TESTED","NOT TESTED","NOT TESTED","NOT TESTED","NOT TESTED","NOT TESTED","NOT TESTED","NOT TESTED","NOT TESTED","NOT TESTED","NOT TESTED","NOT TESTED"]
[]
["3.2.5","AAA","Change on Request","Changes of context are initiated only by user request or a mechanism is available to turn off such changes.","NOT TESTED","NOT TESTED","NOT TESTED","NOT TESTED","NOT TESTED","NOT TESTED","NOT TESTED","NOT TESTED","NOT TESTED","NOT TESTED","NOT TESTED","NOT TESTED","NOT TESTED","NOT TESTED","NOT TESTED","NOT TESTED","NOT TESTED","NOT TESTED","NOT TESTED","NOT TESTED","NOT TESTED","NOT TESTED","NOT TESTED","NOT TESTED","NOT TESTED","NOT TESTED","NOT TESTED","NOT TESTED","NOT TESTED","NOT TESTED","NOT TESTED","NOT TESTED","NOT TESTED","NOT TESTED","NOT TESTED","NOT TESTED","NOT TESTED","NOT TESTED","NOT TESTED","NOT TESTED","NOT TESTED","NOT TESTED","NOT TESTED","NOT TESTED","NOT TESTED","NOT TESTED","NOT TESTED","NOT TESTED","NOT TESTED","NOT TESTED","NOT TESTED","NOT TESTED","NOT TESTED","NOT TESTED","NOT TESTED","NOT TESTED","NOT TESTED","NOT TESTED","NOT TESTED","NOT TESTED","NOT TESTED","NOT TESTED","NOT TESTED","NOT TESTED","NOT TESTED","NOT TESTED","NOT TESTED","NOT TESTED","NOT TESTED","NOT TESTED","NOT TESTED","NOT TESTED","NOT TESTED","NOT TESTED","NOT TESTED","NOT TESTED","NOT TESTED","NOT TESTED","NOT TESTED","NOT TESTED","NOT TESTED","NOT TESTED","NOT TESTED","NOT TESTED","NOT TESTED","NOT TESTED","NOT TESTED","NOT TESTED","NOT TESTED","NOT TESTED","NOT TESTED","NOT TESTED","NOT TESTED","NOT TESTED","NOT TESTED","NOT TESTED","NOT TESTED","NOT TESTED","NOT TESTED","NOT TESTED","NOT TESTED","NOT TESTED","NOT TESTED","NOT TESTED","NOT TESTED","NOT TESTED","NOT TESTED","NOT TESTED","NOT TESTED","NOT TESTED","NOT TESTED","NOT TESTED","NOT TESTED","NOT TESTED","NOT TESTED","NOT TESTED","NOT TESTED","NOT TESTED","NOT TESTED","NOT TESTED","NOT TESTED","NOT TESTED","NOT TESTED","NOT TESTED","NOT TESTED","NOT TESTED","NOT TESTED","NOT TESTED","NOT TESTED","NOT TESTED","NOT TESTED","NOT TESTED","NOT TESTED","NOT TESTED","NOT TESTED","NOT TESTED","NOT TESTED","NOT TESTED","NOT TESTED","NOT TESTED","NOT TESTED","NOT TESTED","NOT TESTED","NOT TESTED","NOT TESTED","NOT TESTED","NOT TESTED","NOT TESTED","NOT TESTED","NOT TESTED"]
[]
["3.3.5","AAA","Help","Context-sensitive help is available.","NOT TESTED","NOT TESTED","NOT TESTED","NOT TESTED","NOT TESTED","NOT TESTED","NOT TESTED","NOT TESTED","NOT TESTED","NOT TESTED","NOT TESTED","NOT TESTED","NOT TESTED","NOT TESTED","NOT TESTED","NOT TESTED","NOT TESTED","NOT TESTED","NOT TESTED","NOT TESTED","NOT TESTED","NOT TESTED","NOT TESTED","NOT TESTED","NOT TESTED","NOT TESTED","NOT TESTED","NOT TESTED","NOT TESTED","NOT TESTED","NOT TESTED","NOT TESTED","NOT TESTED","NOT TESTED","NOT TESTED","NOT TESTED","NOT TESTED","NOT TESTED","NOT TESTED","NOT TESTED","NOT TESTED","NOT TESTED","NOT TESTED","NOT TESTED","NOT TESTED","NOT TESTED","NOT TESTED","NOT TESTED","NOT TESTED","NOT TESTED","NOT TESTED","NOT TESTED","NOT TESTED","NOT TESTED","NOT TESTED","NOT TESTED","NOT TESTED","NOT TESTED","NOT TESTED","NOT TESTED","NOT TESTED","NOT TESTED","NOT TESTED","NOT TESTED","NOT TESTED","NOT TESTED","NOT TESTED","NOT TESTED","NOT TESTED","NOT TESTED","NOT TESTED","NOT TESTED","NOT TESTED","NOT TESTED","NOT TESTED","NOT TESTED","NOT TESTED","NOT TESTED","NOT TESTED","NOT TESTED","NOT TESTED","NOT TESTED","NOT TESTED","NOT TESTED","NOT TESTED","NOT TESTED","NOT TESTED","NOT TESTED","NOT TESTED","NOT TESTED","NOT TESTED","NOT TESTED","NOT TESTED","NOT TESTED","NOT TESTED","NOT TESTED","NOT TESTED","NOT TESTED","NOT TESTED","NOT TESTED","NOT TESTED","NOT TESTED","NOT TESTED","NOT TESTED","NOT TESTED","NOT TESTED","NOT TESTED","NOT TESTED","NOT TESTED","NOT TESTED","NOT TESTED","NOT TESTED","NOT TESTED","NOT TESTED","NOT TESTED","NOT TESTED","NOT TESTED","NOT TESTED","NOT TESTED","NOT TESTED","NOT TESTED","NOT TESTED","NOT TESTED","NOT TESTED","NOT TESTED","NOT TESTED","NOT TESTED","NOT TESTED","NOT TESTED","NOT TESTED","NOT TESTED","NOT TESTED","NOT TESTED","NOT TESTED","NOT TESTED","NOT TESTED","NOT TESTED","NOT TESTED","NOT TESTED","NOT TESTED","NOT TESTED","NOT TESTED","NOT TESTED","NOT TESTED","NOT TESTED","NOT TESTED","NOT TESTED","NOT TESTED","NOT TESTED","NOT TESTED"]
[]
["3.3.6","AAA","Error Prevention (All)","For Web pages that require the user to submit information, at least one of the following is true:","NOT TESTED","NOT TESTED","NOT TESTED","NOT TESTED","NOT TESTED","NOT TESTED","NOT TESTED","NOT TESTED","NOT TESTED","NOT TESTED","NOT TESTED","NOT TESTED","NOT TESTED","NOT TESTED","NOT TESTED","NOT TESTED","NOT TESTED","NOT TESTED","NOT TESTED","NOT TESTED","NOT TESTED","NOT TESTED","NOT TESTED","NOT TESTED","NOT TESTED","NOT TESTED","NOT TESTED","NOT TESTED","NOT TESTED","NOT TESTED","NOT TESTED","NOT TESTED","NOT TESTED","NOT TESTED","NOT TESTED","NOT TESTED","NOT TESTED","NOT TESTED","NOT TESTED","NOT TESTED","NOT TESTED","NOT TESTED","NOT TESTED","NOT TESTED","NOT TESTED","NOT TESTED","NOT TESTED","NOT TESTED","NOT TESTED","NOT TESTED","NOT TESTED","NOT TESTED","NOT TESTED","NOT TESTED","NOT TESTED","NOT TESTED","NOT TESTED","NOT TESTED","NOT TESTED","NOT TESTED","NOT TESTED","NOT TESTED","NOT TESTED","NOT TESTED","NOT TESTED","NOT TESTED","NOT TESTED","NOT TESTED","NOT TESTED","NOT TESTED","NOT TESTED","NOT TESTED","NOT TESTED","NOT TESTED","NOT TESTED","NOT TESTED","NOT TESTED","NOT TESTED","NOT TESTED","NOT TESTED","NOT TESTED","NOT TESTED","NOT TESTED","NOT TESTED","NOT TESTED","NOT TESTED","NOT TESTED","NOT TESTED","NOT TESTED","NOT TESTED","NOT TESTED","NOT TESTED","NOT TESTED","NOT TESTED","NOT TESTED","NOT TESTED","NOT TESTED","NOT TESTED","NOT TESTED","NOT TESTED","NOT TESTED","NOT TESTED","NOT TESTED","NOT TESTED","NOT TESTED","NOT TESTED","NOT TESTED","NOT TESTED","NOT TESTED","NOT TESTED","NOT TESTED","NOT TESTED","NOT TESTED","NOT TESTED","NOT TESTED","NOT TESTED","NOT TESTED","NOT TESTED","NOT TESTED","NOT TESTED","NOT TESTED","NOT TESTED","NOT TESTED","NOT TESTED","NOT TESTED","NOT TESTED","NOT TESTED","NOT TESTED","NOT TESTED","NOT TESTED","NOT TESTED","NOT TESTED","NOT TESTED","NOT TESTED","NOT TESTED","NOT TESTED","NOT TESTED","NOT TESTED","NOT TESTED","NOT TESTED","NOT TESTED","NOT TESTED","NOT TESTED","NOT TESTED","NOT TESTED","NOT TESTED","NOT TESTED","NOT TESTED","NOT TESTED","NOT TESTED"]
[null,null,null,"\nReversible: Submissions are reversible.\nChecked: Data entered by the user is checked for input errors and the user is provided an opportunity to correct them.\nConfirmed: A mechanism is available for reviewing, confirming, and correcting information before finalizing the submission.\n"]

{"sheet":"Colour Contrast Analysis","index":5,"n_rows":74,"n_cols":174,"rows_kept":74,"cut":false,"hidden":false,"merged":[[0,0,1,21]]}
["\nColour Contrast Analysis for combinations\nof background and foreground colours",null,null,null,null,null,null,null,null,null,null,null,null,null,null,null,null,null,null,null,null,null,null,null,{"$f":"IF(INDIRECT(\"'Statistics'!\" & ADDRESS(COLUMN()-10,2))=\"\",\"\",INDIRECT(\"'Statistics'!\" & ADDRESS(COLUMN()-10,2)))","v":"Header"},{"$f":"IF(INDIRECT(\"'Statistics'!\" & ADDRESS(COLUMN()-10,2))=\"\",\"\",INDIRECT(\"'Statistics'!\" & ADDRESS(COLUMN()-10,2)))","v":"Footer"},{"$f":"IF(INDIRECT(\"'Statistics'!\" & ADDRESS(COLUMN()-10,2))=\"\",\"\",INDIRECT(\"'Statistics'!\" & ADDRESS(COLUMN()-10,2)))","v":"Home page"},{"$f":"IF(INDIRECT(\"'Statistics'!\" & ADDRESS(COLUMN()-10,2))=\"\",\"\",INDIRECT(\"'Statistics'!\" & ADDRESS(COLUMN()-10,2)))","v":"Search - Find a volunteering role"},{"$f":"IF(INDIRECT(\"'Statistics'!\" & ADDRESS(COLUMN()-10,2))=\"\",\"\",INDIRECT(\"'Statistics'!\" & ADDRESS(COLUMN()-10,2)))","v":"Opportunity page"},{"$f":"IF(INDIRECT(\"'Statistics'!\" & ADDRESS(COLUMN()-10,2))=\"\",\"\",INDIRECT(\"'Statistics'!\" & ADDRESS(COLUMN()-10,2)))","v":"Find volunteers"},{"$f":"IF(INDIRECT(\"'Statistics'!\" & ADDRESS(COLUMN()-10,2))=\"\",\"\",INDIRECT(\"'Statistics'!\" & ADDRESS(COLUMN()-10,2)))","v":"Page 7"},{"$f":"IF(INDIRECT(\"'Statistics'!\" & ADDRESS(COLUMN()-10,2))=\"\",\"\",INDIRECT(\"'Statistics'!\" & ADDRESS(COLUMN()-10,2)))","v":"Page 8"},{"$f":"IF(INDIRECT(\"'Statistics'!\" & ADDRESS(COLUMN()-10,2))=\"\",\"\",INDIRECT(\"'Statistics'!\" & ADDRESS(COLUMN()-10,2)))","v":"Page 9"},{"$f":"IF(INDIRECT(\"'Statistics'!\" & ADDRESS(COLUMN()-10,2))=\"\",\"\",INDIRECT(\"'Statistics'!\" & ADDRESS(COLUMN()-10,2)))","v":"Page 10"},{"$f":"IF(INDIRECT(\"'Statistics'!\" & ADDRESS(COLUMN()-10,2))=\"\",\"\",INDIRECT(\"'Statistics'!\" & ADDRESS(COLUMN()-10,2)))","v":"Page 11"},{"$f":"IF(INDIRECT(\"'Statistics'!\" & ADDRESS(COLUMN()-10,2))=\"\",\"\",INDIRECT(\"'Statistics'!\" & ADDRESS(COLUMN()-10,2)))","v":"Page 12"},{"$f":"IF(INDIRECT(\"'Statistics'!\" & ADDRESS(COLUMN()-10,2))=\"\",\"\",INDIRECT(\"'Statistics'!\" & ADDRESS(COLUMN()-10,2)))","v":"Page 13"},{"$f":"IF(INDIRECT(\"'Statistics'!\" & ADDRESS(COLUMN()-10,2))=\"\",\"\",INDIRECT(\"'Statistics'!\" & ADDRESS(COLUMN()-10,2)))","v":"Page 14"},{"$f":"IF(INDIRECT(\"'Statistics'!\" & ADDRESS(COLUMN()-10,2))=\"\",\"\",INDIRECT(\"'Statistics'!\" & ADDRESS(COLUMN()-10,2)))","v":"Page 15"},{"$f":"IF(INDIRECT(\"'Statistics'!\" & ADDRESS(COLUMN()-10,2))=\"\",\"\",INDIRECT(\"'Statistics'!\" & ADDRESS(COLUMN()-10,2)))","v":"Page 16"},{"$f":"IF(INDIRECT(\"'Statistics'!\" & ADDRESS(COLUMN()-10,2))=\"\",\"\",INDIRECT(\"'Statistics'!\" & ADDRESS(COLUMN()-10,2)))","v":"Page 17"},{"$f":"IF(INDIRECT(\"'Statistics'!\" & ADDRESS(COLUMN()-10,2))=\"\",\"\",INDIRECT(\"'Statistics'!\" & ADDRESS(COLUMN()-10,2)))","v":"Page 18"},{"$f":"IF(INDIRECT(\"'Statistics'!\" & ADDRESS(COLUMN()-10,2))=\"\",\"\",INDIRECT(\"'Statistics'!\" & ADDRESS(COLUMN()-10,2)))","v":"Page 19"},{"$f":"IF(INDIRECT(\"'Statistics'!\" & ADDRESS(COLUMN()-10,2))=\"\",\"\",INDIRECT(\"'Statistics'!\" & ADDRESS(COLUMN()-10,2)))","v":"Page 20"},{"$f":"IF(INDIRECT(\"'Statistics'!\" & ADDRESS(COLUMN()-10,2))=\"\",\"\",INDIRECT(\"'Statistics'!\" & ADDRESS(COLUMN()-10,2)))","v":"Page 21"},{"$f":"IF(INDIRECT(\"'Statistics'!\" & ADDRESS(COLUMN()-10,2))=\"\",\"\",INDIRECT(\"'Statistics'!\" & ADDRESS(COLUMN()-10,2)))","v":"Page 22"},{"$f":"IF(INDIRECT(\"'Statistics'!\" & ADDRESS(COLUMN()-10,2))=\"\",\"\",INDIRECT(\"'Statistics'!\" & ADDRESS(COLUMN()-10,2)))","v":"Page 23"},{"$f":"IF(INDIRECT(\"'Statistics'!\" & ADDRESS(COLUMN()-10,2))=\"\",\"\",INDIRECT(\"'Statistics'!\" & ADDRESS(COLUMN()-10,2)))","v":"Page 24"},{"$f":"IF(INDIRECT(\"'Statistics'!\" & ADDRESS(COLUMN()-10,2))=\"\",\"\",INDIRECT(\"'Statistics'!\" & ADDRESS(COLUMN()-10,2)))","v":"Page 25"},{"$f":"IF(INDIRECT(\"'Statistics'!\" & ADDRESS(COLUMN()-10,2))=\"\",\"\",INDIRECT(\"'Statistics'!\" & ADDRESS(COLUMN()-10,2)))","v":"Page 26"},{"$f":"IF(INDIRECT(\"'Statistics'!\" & ADDRESS(COLUMN()-10,2))=\"\",\"\",INDIRECT(\"'Statistics'!\" & ADDRESS(COLUMN()-10,2)))","v":"Page 27"},{"$f":"IF(INDIRECT(\"'Statistics'!\" & ADDRESS(COLUMN()-10,2))=\"\",\"\",INDIRECT(\"'Statistics'!\" & ADDRESS(COLUMN()-10,2)))","v":"Page 28"},{"$f":"IF(INDIRECT(\"'Statistics'!\" & ADDRESS(COLUMN()-10,2))=\"\",\"\",INDIRECT(\"'Statistics'!\" & ADDRESS(COLUMN()-10,2)))","v":"Page 29"},{"$f":"IF(INDIRECT(\"'Statistics'!\" & ADDRESS(COLUMN()-10,2))=\"\",\"\",INDIRECT(\"'Statistics'!\" & ADDRESS(COLUMN()-10,2)))","v":"Page 30"},{"$f":"IF(INDIRECT(\"'Statistics'!\" & ADDRESS(COLUMN()-10,2))=\"\",\"\",INDIRECT(\"'Statistics'!\" & ADDRESS(COLUMN()-10,2)))","v":"Page 31"},{"$f":"IF(INDIRECT(\"'Statistics'!\" & ADDRESS(COLUMN()-10,2))=\"\",\"\",INDIRECT(\"'Statistics'!\" & ADDRESS(COLUMN()-10,2)))","v":"Page 32"},{"$f":"IF(INDIRECT(\"'Statistics'!\" & ADDRESS(COLUMN()-10,2))=\"\",\"\",INDIRECT(\"'Statistics'!\" & ADDRESS(COLUMN()-10,2)))","v":"Page 33"},{"$f":"IF(INDIRECT(\"'Statistics'!\" & ADDRESS(COLUMN()-10,2))=\"\",\"\",INDIRECT(\"'Statistics'!\" & ADDRESS(COLUMN()-10,2)))","v":"Page 34"},{"$f":"IF(INDIRECT(\"'Statistics'!\" & ADDRESS(COLUMN()-10,2))=\"\",\"\",INDIRECT(\"'Statistics'!\" & ADDRESS(COLUMN()-10,2)))","v":"Page 35"},{"$f":"IF(INDIRECT(\"'Statistics'!\" & ADDRESS(COLUMN()-10,2))=\"\",\"\",INDIRECT(\"'Statistics'!\" & ADDRESS(COLUMN()-10,2)))","v":"Page 36"},{"$f":"IF(INDIRECT(\"'Statistics'!\" & ADDRESS(COLUMN()-10,2))=\"\",\"\",INDIRECT(\"'Statistics'!\" & ADDRESS(COLUMN()-10,2)))","v":"Page 37"},{"$f":"IF(INDIRECT(\"'Statistics'!\" & ADDRESS(COLUMN()-10,2))=\"\",\"\",INDIRECT(\"'Statistics'!\" & ADDRESS(COLUMN()-10,2)))","v":"Page 38"},{"$f":"IF(INDIRECT(\"'Statistics'!\" & ADDRESS(COLUMN()-10,2))=\"\",\"\",INDIRECT(\"'Statistics'!\" & ADDRESS(COLUMN()-10,2)))","v":"Page 39"},{"$f":"IF(INDIRECT(\"'Statistics'!\" & ADDRESS(COLUMN()-10,2))=\"\",\"\",INDIRECT(\"'Statistics'!\" & ADDRESS(COLUMN()-10,2)))","v":"Page 40"},{"$f":"IF(INDIRECT(\"'Statistics'!\" & ADDRESS(COLUMN()-10,2))=\"\",\"\",INDIRECT(\"'Statistics'!\" & ADDRESS(COLUMN()-10,2)))","v":"Page 41"},{"$f":"IF(INDIRECT(\"'Statistics'!\" & ADDRESS(COLUMN()-10,2))=\"\",\"\",INDIRECT(\"'Statistics'!\" & ADDRESS(COLUMN()-10,2)))","v":"Page 42"},{"$f":"IF(INDIRECT(\"'Statistics'!\" & ADDRESS(COLUMN()-10,2))=\"\",\"\",INDIRECT(\"'Statistics'!\" & ADDRESS(COLUMN()-10,2)))","v":"Page 43"},{"$f":"IF(INDIRECT(\"'Statistics'!\" & ADDRESS(COLUMN()-10,2))=\"\",\"\",INDIRECT(\"'Statistics'!\" & ADDRESS(COLUMN()-10,2)))","v":"Page 44"},{"$f":"IF(INDIRECT(\"'Statistics'!\" & ADDRESS(COLUMN()-10,2))=\"\",\"\",INDIRECT(\"'Statistics'!\" & ADDRESS(COLUMN()-10,2)))","v":"Page 45"},{"$f":"IF(INDIRECT(\"'Statistics'!\" & ADDRESS(COLUMN()-10,2))=\"\",\"\",INDIRECT(\"'Statistics'!\" & ADDRESS(COLUMN()-10,2)))","v":"Page 46"},{"$f":"IF(INDIRECT(\"'Statistics'!\" & ADDRESS(COLUMN()-10,2))=\"\",\"\",INDIRECT(\"'Statistics'!\" & ADDRESS(COLUMN()-10,2)))","v":"Page 47"},{"$f":"IF(INDIRECT(\"'Statistics'!\" & ADDRESS(COLUMN()-10,2))=\"\",\"\",INDIRECT(\"'Statistics'!\" & ADDRESS(COLUMN()-10,2)))","v":"Page 48"},{"$f":"IF(INDIRECT(\"'Statistics'!\" & ADDRESS(COLUMN()-10,2))=\"\",\"\",INDIRECT(\"'Statistics'!\" & ADDRESS(COLUMN()-10,2)))","v":"Page 49"},{"$f":"IF(INDIRECT(\"'Statistics'!\" & ADDRESS(COLUMN()-10,2))=\"\",\"\",INDIRECT(\"'Statistics'!\" & ADDRESS(COLUMN()-10,2)))","v":"Page 50"},{"$f":"IF(INDIRECT(\"'Statistics'!\" & ADDRESS(COLUMN()-10,2))=\"\",\"\",INDIRECT(\"'Statistics'!\" & ADDRESS(COLUMN()-10,2)))","v":"Page 51"},{"$f":"IF(INDIRECT(\"'Statistics'!\" & ADDRESS(COLUMN()-10,2))=\"\",\"\",INDIRECT(\"'Statistics'!\" & ADDRESS(COLUMN()-10,2)))","v":"Page 52"},{"$f":"IF(INDIRECT(\"'Statistics'!\" & ADDRESS(COLUMN()-10,2))=\"\",\"\",INDIRECT(\"'Statistics'!\" & ADDRESS(COLUMN()-10,2)))","v":"Page 53"},{"$f":"IF(INDIRECT(\"'Statistics'!\" & ADDRESS(COLUMN()-10,2))=\"\",\"\",INDIRECT(\"'Statistics'!\" & ADDRESS(COLUMN()-10,2)))","v":"Page 54"},{"$f":"IF(INDIRECT(\"'Statistics'!\" & ADDRESS(COLUMN()-10,2))=\"\",\"\",INDIRECT(\"'Statistics'!\" & ADDRESS(COLUMN()-10,2)))","v":"Page 55"},{"$f":"IF(INDIRECT(\"'Statistics'!\" & ADDRESS(COLUMN()-10,2))=\"\",\"\",INDIRECT(\"'Statistics'!\" & ADDRESS(COLUMN()-10,2)))","v":"Page 56"},{"$f":"IF(INDIRECT(\"'Statistics'!\" & ADDRESS(COLUMN()-10,2))=\"\",\"\",INDIRECT(\"'Statistics'!\" & ADDRESS(COLUMN()-10,2)))","v":"Page 57"},{"$f":"IF(INDIRECT(\"'Statistics'!\" & ADDRESS(COLUMN()-10,2))=\"\",\"\",INDIRECT(\"'Statistics'!\" & ADDRESS(COLUMN()-10,2)))","v":"Page 58"},{"$f":"IF(INDIRECT(\"'Statistics'!\" & ADDRESS(COLUMN()-10,2))=\"\",\"\",INDIRECT(\"'Statistics'!\" & ADDRESS(COLUMN()-10,2)))","v":"Page 59"},{"$f":"IF(INDIRECT(\"'Statistics'!\" & ADDRESS(COLUMN()-10,2))=\"\",\"\",INDIRECT(\"'Statistics'!\" & ADDRESS(COLUMN()-10,2)))","v":"Page 60"},{"$f":"IF(INDIRECT(\"'Statistics'!\" & ADDRESS(COLUMN()-10,2))=\"\",\"\",INDIRECT(\"'Statistics'!\" & ADDRESS(COLUMN()-10,2)))","v":"Page 61"},{"$f":"IF(INDIRECT(\"'Statistics'!\" & ADDRESS(COLUMN()-10,2))=\"\",\"\",INDIRECT(\"'Statistics'!\" & ADDRESS(COLUMN()-10,2)))","v":"Page 62"},{"$f":"IF(INDIRECT(\"'Statistics'!\" & ADDRESS(COLUMN()-10,2))=\"\",\"\",INDIRECT(\"'Statistics'!\" & ADDRESS(COLUMN()-10,2)))","v":"Page 63"},{"$f":"IF(INDIRECT(\"'Statistics'!\" & ADDRESS(COLUMN()-10,2))=\"\",\"\",INDIRECT(\"'Statistics'!\" & ADDRESS(COLUMN()-10,2)))","v":"Page 64"},{"$f":"IF(INDIRECT(\"'Statistics'!\" & ADDRESS(COLUMN()-10,2))=\"\",\"\",INDIRECT(\"'Statistics'!\" & ADDRESS(COLUMN()-10,2)))","v":"Page 65"},{"$f":"IF(INDIRECT(\"'Statistics'!\" & ADDRESS(COLUMN()-10,2))=\"\",\"\",INDIRECT(\"'Statistics'!\" & ADDRESS(COLUMN()-10,2)))","v":"Page 66"},{"$f":"IF(INDIRECT(\"'Statistics'!\" & ADDRESS(COLUMN()-10,2))=\"\",\"\",INDIRECT(\"'Statistics'!\" & ADDRESS(COLUMN()-10,2)))","v":"Page 67"},{"$f":"IF(INDIRECT(\"'Statistics'!\" & ADDRESS(COLUMN()-10,2))=\"\",\"\",INDIRECT(\"'Statistics'!\" & ADDRESS(COLUMN()-10,2)))","v":"Page 68"},{"$f":"IF(INDIRECT(\"'Statistics'!\" & ADDRESS(COLUMN()-10,2))=\"\",\"\",INDIRECT(\"'Statistics'!\" & ADDRESS(COLUMN()-10,2)))","v":"Page 69"},{"$f":"IF(INDIRECT(\"'Statistics'!\" & ADDRESS(COLUMN()-10,2))=\"\",\"\",INDIRECT(\"'Statistics'!\" & ADDRESS(COLUMN()-10,2)))","v":"Page 70"},{"$f":"IF(INDIRECT(\"'Statistics'!\" & ADDRESS(COLUMN()-10,2))=\"\",\"\",INDIRECT(\"'Statistics'!\" & ADDRESS(COLUMN()-10,2)))","v":"Page 71"},{"$f":"IF(INDIRECT(\"'Statistics'!\" & ADDRESS(COLUMN()-10,2))=\"\",\"\",INDIRECT(\"'Statistics'!\" & ADDRESS(COLUMN()-10,2)))","v":"Page 72"},{"$f":"IF(INDIRECT(\"'Statistics'!\" & ADDRESS(COLUMN()-10,2))=\"\",\"\",INDIRECT(\"'Statistics'!\" & ADDRESS(COLUMN()-10,2)))","v":"Page 73"},{"$f":"IF(INDIRECT(\"'Statistics'!\" & ADDRESS(COLUMN()-10,2))=\"\",\"\",INDIRECT(\"'Statistics'!\" & ADDRESS(COLUMN()-10,2)))","v":"Page 74"},{"$f":"IF(INDIRECT(\"'Statistics'!\" & ADDRESS(COLUMN()-10,2))=\"\",\"\",INDIRECT(\"'Statistics'!\" & ADDRESS(COLUMN()-10,2)))","v":"Page 75"},{"$f":"IF(INDIRECT(\"'Statistics'!\" & ADDRESS(COLUMN()-10,2))=\"\",\"\",INDIRECT(\"'Statistics'!\" & ADDRESS(COLUMN()-10,2)))","v":"Page 76"},{"$f":"IF(INDIRECT(\"'Statistics'!\" & ADDRESS(COLUMN()-10,2))=\"\",\"\",INDIRECT(\"'Statistics'!\" & ADDRESS(COLUMN()-10,2)))","v":"Page 77"},{"$f":"IF(INDIRECT(\"'Statistics'!\" & ADDRESS(COLUMN()-10,2))=\"\",\"\",INDIRECT(\"'Statistics'!\" & ADDRESS(COLUMN()-10,2)))","v":"Page 78"},{"$f":"IF(INDIRECT(\"'Statistics'!\" & ADDRESS(COLUMN()-10,2))=\"\",\"\",INDIRECT(\"'Statistics'!\" & ADDRESS(COLUMN()-10,2)))","v":"Page 79"},{"$f":"IF(INDIRECT(\"'Statistics'!\" & ADDRESS(COLUMN()-10,2))=\"\",\"\",INDIRECT(\"'Statistics'!\" & ADDRESS(COLUMN()-10,2)))","v":"Page 80"},{"$f":"IF(INDIRECT(\"'Statistics'!\" & ADDRESS(COLUMN()-10,2))=\"\",\"\",INDIRECT(\"'Statistics'!\" & ADDRESS(COLUMN()-10,2)))","v":"Page 81"},{"$f":"IF(INDIRECT(\"'Statistics'!\" & ADDRESS(COLUMN()-10,2))=\"\",\"\",INDIRECT(\"'Statistics'!\" & ADDRESS(COLUMN()-10,2)))","v":"Page 82"},{"$f":"IF(INDIRECT(\"'Statistics'!\" & ADDRESS(COLUMN()-10,2))=\"\",\"\",INDIRECT(\"'Statistics'!\" & ADDRESS(COLUMN()-10,2)))","v":"Page 83"},{"$f":"IF(INDIRECT(\"'Statistics'!\" & ADDRESS(COLUMN()-10,2))=\"\",\"\",INDIRECT(\"'Statistics'!\" & ADDRESS(COLUMN()-10,2)))","v":"Page 84"},{"$f":"IF(INDIRECT(\"'Statistics'!\" & ADDRESS(COLUMN()-10,2))=\"\",\"\",INDIRECT(\"'Statistics'!\" & ADDRESS(COLUMN()-10,2)))","v":"Page 85"},{"$f":"IF(INDIRECT(\"'Statistics'!\" & ADDRESS(COLUMN()-10,2))=\"\",\"\",INDIRECT(\"'Statistics'!\" & ADDRESS(COLUMN()-10,2)))","v":"Page 86"},{"$f":"IF(INDIRECT(\"'Statistics'!\" & ADDRESS(COLUMN()-10,2))=\"\",\"\",INDIRECT(\"'Statistics'!\" & ADDRESS(COLUMN()-10,2)))","v":"Page 87"},{"$f":"IF(INDIRECT(\"'Statistics'!\" & ADDRESS(COLUMN()-10,2))=\"\",\"\",INDIRECT(\"'Statistics'!\" & ADDRESS(COLUMN()-10,2)))","v":"Page 88"},{"$f":"IF(INDIRECT(\"'Statistics'!\" & ADDRESS(COLUMN()-10,2))=\"\",\"\",INDIRECT(\"'Statistics'!\" & ADDRESS(COLUMN()-10,2)))","v":"Page 89"},{"$f":"IF(INDIRECT(\"'Statistics'!\" & ADDRESS(COLUMN()-10,2))=\"\",\"\",INDIRECT(\"'Statistics'!\" & ADDRESS(COLUMN()-10,2)))","v":"Page 90"},{"$f":"IF(INDIRECT(\"'Statistics'!\" & ADDRESS(COLUMN()-10,2))=\"\",\"\",INDIRECT(\"'Statistics'!\" & ADDRESS(COLUMN()-10,2)))","v":"Page 91"},{"$f":"IF(INDIRECT(\"'Statistics'!\" & ADDRESS(COLUMN()-10,2))=\"\",\"\",INDIRECT(\"'Statistics'!\" & ADDRESS(COLUMN()-10,2)))","v":"Page 92"},{"$f":"IF(INDIRECT(\"'Statistics'!\" & ADDRESS(COLUMN()-10,2))=\"\",\"\",INDIRECT(\"'Statistics'!\" & ADDRESS(COLUMN()-10,2)))","v":"Page 93"},{"$f":"IF(INDIRECT(\"'Statistics'!\" & ADDRESS(COLUMN()-10,2))=\"\",\"\",INDIRECT(\"'Statistics'!\" & ADDRESS(COLUMN()-10,2)))","v":"Page 94"},{"$f":"IF(INDIRECT(\"'Statistics'!\" & ADDRESS(COLUMN()-10,2))=\"\",\"\",INDIRECT(\"'Statistics'!\" & ADDRESS(COLUMN()-10,2)))","v":"Page 95"},{"$f":"IF(INDIRECT(\"'Statistics'!\" & ADDRESS(COLUMN()-10,2))=\"\",\"\",INDIRECT(\"'Statistics'!\" & ADDRESS(COLUMN()-10,2)))","v":"Page 96"},{"$f":"IF(INDIRECT(\"'Statistics'!\" & ADDRESS(COLUMN()-10,2))=\"\",\"\",INDIRECT(\"'Statistics'!\" & ADDRESS(COLUMN()-10,2)))","v":"Page 97"},{"$f":"IF(INDIRECT(\"'Statistics'!\" & ADDRESS(COLUMN()-10,2))=\"\",\"\",INDIRECT(\"'Statistics'!\" & ADDRESS(COLUMN()-10,2)))","v":"Page 98"},{"$f":"IF(INDIRECT(\"'Statistics'!\" & ADDRESS(COLUMN()-10,2))=\"\",\"\",INDIRECT(\"'Statistics'!\" & ADDRESS(COLUMN()-10,2)))","v":"Page 99"},{"$f":"IF(INDIRECT(\"'Statistics'!\" & ADDRESS(COLUMN()-10,2))=\"\",\"\",INDIRECT(\"'Statistics'!\" & ADDRESS(COLUMN()-10,2)))","v":"Page 100"},{"$f":"IF(INDIRECT(\"'Statistics'!\" & ADDRESS(COLUMN()-10,2))=\"\",\"\",INDIRECT(\"'Statistics'!\" & ADDRESS(COLUMN()-10,2)))","v":"Page 101"},{"$f":"IF(INDIRECT(\"'Statistics'!\" & ADDRESS(COLUMN()-10,2))=\"\",\"\",INDIRECT(\"'Statistics'!\" & ADDRESS(COLUMN()-10,2)))","v":"Page 102"},{"$f":"IF(INDIRECT(\"'Statistics'!\" & ADDRESS(COLUMN()-10,2))=\"\",\"\",INDIRECT(\"'Statistics'!\" & ADDRESS(COLUMN()-10,2)))","v":"Page 103"},{"$f":"IF(INDIRECT(\"'Statistics'!\" & ADDRESS(COLUMN()-10,2))=\"\",\"\",INDIRECT(\"'Statistics'!\" & ADDRESS(COLUMN()-10,2)))","v":"Page 104"},{"$f":"IF(INDIRECT(\"'Statistics'!\" & ADDRESS(COLUMN()-10,2))=\"\",\"\",INDIRECT(\"'Statistics'!\" & ADDRESS(COLUMN()-10,2)))","v":"Page 105"},{"$f":"IF(INDIRECT(\"'Statistics'!\" & ADDRESS(COLUMN()-10,2))=\"\",\"\",INDIRECT(\"'Statistics'!\" & ADDRESS(COLUMN()-10,2)))","v":"Page 106"},{"$f":"IF(INDIRECT(\"'Statistics'!\" & ADDRESS(COLUMN()-10,2))=\"\",\"\",INDIRECT(\"'Statistics'!\" & ADDRESS(COLUMN()-10,2)))","v":"Page 107"},{"$f":"IF(INDIRECT(\"'Statistics'!\" & ADDRESS(COLUMN()-10,2))=\"\",\"\",INDIRECT(\"'Statistics'!\" & ADDRESS(COLUMN()-10,2)))","v":"Page 108"},{"$f":"IF(INDIRECT(\"'Statistics'!\" & ADDRESS(COLUMN()-10,2))=\"\",\"\",INDIRECT(\"'Statistics'!\" & ADDRESS(COLUMN()-10,2)))","v":"Page 109"},{"$f":"IF(INDIRECT(\"'Statistics'!\" & ADDRESS(COLUMN()-10,2))=\"\",\"\",INDIRECT(\"'Statistics'!\" & ADDRESS(COLUMN()-10,2)))","v":"Page 110"},{"$f":"IF(INDIRECT(\"'Statistics'!\" & ADDRESS(COLUMN()-10,2))=\"\",\"\",INDIRECT(\"'Statistics'!\" & ADDRESS(COLUMN()-10,2)))","v":"Page 111"},{"$f":"IF(INDIRECT(\"'Statistics'!\" & ADDRESS(COLUMN()-10,2))=\"\",\"\",INDIRECT(\"'Statistics'!\" & ADDRESS(COLUMN()-10,2)))","v":"Page 112"},{"$f":"IF(INDIRECT(\"'Statistics'!\" & ADDRESS(COLUMN()-10,2))=\"\",\"\",INDIRECT(\"'Statistics'!\" & ADDRESS(COLUMN()-10,2)))","v":"Page 113"},{"$f":"IF(INDIRECT(\"'Statistics'!\" & ADDRESS(COLUMN()-10,2))=\"\",\"\",INDIRECT(\"'Statistics'!\" & ADDRESS(COLUMN()-10,2)))","v":"Page 114"},{"$f":"IF(INDIRECT(\"'Statistics'!\" & ADDRESS(COLUMN()-10,2))=\"\",\"\",INDIRECT(\"'Statistics'!\" & ADDRESS(COLUMN()-10,2)))","v":"Page 115"},{"$f":"IF(INDIRECT(\"'Statistics'!\" & ADDRESS(COLUMN()-10,2))=\"\",\"\",INDIRECT(\"'Statistics'!\" & ADDRESS(COLUMN()-10,2)))","v":"Page 116"},{"$f":"IF(INDIRECT(\"'Statistics'!\" & ADDRESS(COLUMN()-10,2))=\"\",\"\",INDIRECT(\"'Statistics'!\" & ADDRESS(COLUMN()-10,2)))","v":"Page 117"},{"$f":"IF(INDIRECT(\"'Statistics'!\" & ADDRESS(COLUMN()-10,2))=\"\",\"\",INDIRECT(\"'Statistics'!\" & ADDRESS(COLUMN()-10,2)))","v":"Page 118"},{"$f":"IF(INDIRECT(\"'Statistics'!\" & ADDRESS(COLUMN()-10,2))=\"\",\"\",INDIRECT(\"'Statistics'!\" & ADDRESS(COLUMN()-10,2)))","v":"Page 119"},{"$f":"IF(INDIRECT(\"'Statistics'!\" & ADDRESS(COLUMN()-10,2))=\"\",\"\",INDIRECT(\"'Statistics'!\" & ADDRESS(COLUMN()-10,2)))","v":"Page 120"},{"$f":"IF(INDIRECT(\"'Statistics'!\" & ADDRESS(COLUMN()-10,2))=\"\",\"\",INDIRECT(\"'Statistics'!\" & ADDRESS(COLUMN()-10,2)))","v":"Page 121"},{"$f":"IF(INDIRECT(\"'Statistics'!\" & ADDRESS(COLUMN()-10,2))=\"\",\"\",INDIRECT(\"'Statistics'!\" & ADDRESS(COLUMN()-10,2)))","v":"Page 122"},{"$f":"IF(INDIRECT(\"'Statistics'!\" & ADDRESS(COLUMN()-10,2))=\"\",\"\",INDIRECT(\"'Statistics'!\" & ADDRESS(COLUMN()-10,2)))","v":"Page 123"},{"$f":"IF(INDIRECT(\"'Statistics'!\" & ADDRESS(COLUMN()-10,2))=\"\",\"\",INDIRECT(\"'Statistics'!\" & ADDRESS(COLUMN()-10,2)))","v":"Page 124"},{"$f":"IF(INDIRECT(\"'Statistics'!\" & ADDRESS(COLUMN()-10,2))=\"\",\"\",INDIRECT(\"'Statistics'!\" & ADDRESS(COLUMN()-10,2)))","v":"Page 125"},{"$f":"IF(INDIRECT(\"'Statistics'!\" & ADDRESS(COLUMN()-10,2))=\"\",\"\",INDIRECT(\"'Statistics'!\" & ADDRESS(COLUMN()-10,2)))","v":"Page 126"},{"$f":"IF(INDIRECT(\"'Statistics'!\" & ADDRESS(COLUMN()-10,2))=\"\",\"\",INDIRECT(\"'Statistics'!\" & ADDRESS(COLUMN()-10,2)))","v":"Page 127"},{"$f":"IF(INDIRECT(\"'Statistics'!\" & ADDRESS(COLUMN()-10,2))=\"\",\"\",INDIRECT(\"'Statistics'!\" & ADDRESS(COLUMN()-10,2)))","v":"Page 128"},{"$f":"IF(INDIRECT(\"'Statistics'!\" & ADDRESS(COLUMN()-10,2))=\"\",\"\",INDIRECT(\"'Statistics'!\" & ADDRESS(COLUMN()-10,2)))","v":"Page 129"},{"$f":"IF(INDIRECT(\"'Statistics'!\" & ADDRESS(COLUMN()-10,2))=\"\",\"\",INDIRECT(\"'Statistics'!\" & ADDRESS(COLUMN()-10,2)))","v":"Page 130"},{"$f":"IF(INDIRECT(\"'Statistics'!\" & ADDRESS(COLUMN()-10,2))=\"\",\"\",INDIRECT(\"'Statistics'!\" & ADDRESS(COLUMN()-10,2)))","v":"Page 131"},{"$f":"IF(INDIRECT(\"'Statistics'!\" & ADDRESS(COLUMN()-10,2))=\"\",\"\",INDIRECT(\"'Statistics'!\" & ADDRESS(COLUMN()-10,2)))","v":"Page 132"},{"$f":"IF(INDIRECT(\"'Statistics'!\" & ADDRESS(COLUMN()-10,2))=\"\",\"\",INDIRECT(\"'Statistics'!\" & ADDRESS(COLUMN()-10,2)))","v":"Page 133"},{"$f":"IF(INDIRECT(\"'Statistics'!\" & ADDRESS(COLUMN()-10,2))=\"\",\"\",INDIRECT(\"'Statistics'!\" & ADDRESS(COLUMN()-10,2)))","v":"Page 134"},{"$f":"IF(INDIRECT(\"'Statistics'!\" & ADDRESS(COLUMN()-10,2))=\"\",\"\",INDIRECT(\"'Statistics'!\" & ADDRESS(COLUMN()-10,2)))","v":"Page 135"},{"$f":"IF(INDIRECT(\"'Statistics'!\" & ADDRESS(COLUMN()-10,2))=\"\",\"\",INDIRECT(\"'Statistics'!\" & ADDRESS(COLUMN()-10,2)))","v":"Page 136"},{"$f":"IF(INDIRECT(\"'Statistics'!\" & ADDRESS(COLUMN()-10,2))=\"\",\"\",INDIRECT(\"'Statistics'!\" & ADDRESS(COLUMN()-10,2)))","v":"Page 137"},{"$f":"IF(INDIRECT(\"'Statistics'!\" & ADDRESS(COLUMN()-10,2))=\"\",\"\",INDIRECT(\"'Statistics'!\" & ADDRESS(COLUMN()-10,2)))","v":"Page 138"},{"$f":"IF(INDIRECT(\"'Statistics'!\" & ADDRESS(COLUMN()-10,2))=\"\",\"\",INDIRECT(\"'Statistics'!\" & ADDRESS(COLUMN()-10,2)))","v":"Page 139"},{"$f":"IF(INDIRECT(\"'Statistics'!\" & ADDRESS(COLUMN()-10,2))=\"\",\"\",INDIRECT(\"'Statistics'!\" & ADDRESS(COLUMN()-10,2)))","v":"Page 140"},{"$f":"IF(INDIRECT(\"'Statistics'!\" & ADDRESS(COLUMN()-10,2))=\"\",\"\",INDIRECT(\"'Statistics'!\" & ADDRESS(COLUMN()-10,2)))","v":"Page 141"},{"$f":"IF(INDIRECT(\"'Statistics'!\" & ADDRESS(COLUMN()-10,2))=\"\",\"\",INDIRECT(\"'Statistics'!\" & ADDRESS(COLUMN()-10,2)))","v":"Page 142"},{"$f":"IF(INDIRECT(\"'Statistics'!\" & ADDRESS(COLUMN()-10,2))=\"\",\"\",INDIRECT(\"'Statistics'!\" & ADDRESS(COLUMN()-10,2)))","v":"Page 143"},{"$f":"IF(INDIRECT(\"'Statistics'!\" & ADDRESS(COLUMN()-10,2))=\"\",\"\",INDIRECT(\"'Statistics'!\" & ADDRESS(COLUMN()-10,2)))","v":"Page 144"},{"$f":"IF(INDIRECT(\"'Statistics'!\" & ADDRESS(COLUMN()-10,2))=\"\",\"\",INDIRECT(\"'Statistics'!\" & ADDRESS(COLUMN()-10,2)))","v":"Page 145"},{"$f":"IF(INDIRECT(\"'Statistics'!\" & ADDRESS(COLUMN()-10,2))=\"\",\"\",INDIRECT(\"'Statistics'!\" & ADDRESS(COLUMN()-10,2)))","v":"Page 146"},{"$f":"IF(INDIRECT(\"'Statistics'!\" & ADDRESS(COLUMN()-10,2))=\"\",\"\",INDIRECT(\"'Statistics'!\" & ADDRESS(COLUMN()-10,2)))","v":"Page 147"},{"$f":"IF(INDIRECT(\"'Statistics'!\" & ADDRESS(COLUMN()-10,2))=\"\",\"\",INDIRECT(\"'Statistics'!\" & ADDRESS(COLUMN()-10,2)))","v":"Page 148"},{"$f":"IF(INDIRECT(\"'Statistics'!\" & ADDRESS(COLUMN()-10,2))=\"\",\"\",INDIRECT(\"'Statistics'!\" & ADDRESS(COLUMN()-10,2)))","v":"Page 149"},{"$f":"IF(INDIRECT(\"'Statistics'!\" & ADDRESS(COLUMN()-10,2))=\"\",\"\",INDIRECT(\"'Statistics'!\" & ADDRESS(COLUMN()-10,2)))","v":"Page 150"}]
[null,null,null,null,null,null,null,null,null,null,null,null,null,null,null,null,null,null,null,null,null,null,null,null,{"$f":"IF(INDIRECT(\"'Statistics'!\" & ADDRESS(COLUMN()-10,3))=\"\",\"\",INDIRECT(\"'Statistics'!\" & ADDRESS(COLUMN()-10,3)))","v":" https://wwwtest.london.gov.uk/team-london/"},{"$f":"IF(INDIRECT(\"'Statistics'!\" & ADDRESS(COLUMN()-10,3))=\"\",\"\",INDIRECT(\"'Statistics'!\" & ADDRESS(COLUMN()-10,3)))","v":" https://wwwtest.london.gov.uk/team-london/"},{"$f":"IF(INDIRECT(\"'Statistics'!\" & ADDRESS(COLUMN()-10,3))=\"\",\"\",INDIRECT(\"'Statistics'!\" & ADDRESS(COLUMN()-10,3)))","v":"https://wwwtest.london.gov.uk/team-london/"},{"$f":"IF(INDIRECT(\"'Statistics'!\" & ADDRESS(COLUMN()-10,3))=\"\",\"\",INDIRECT(\"'Statistics'!\" & ADDRESS(COLUMN()-10,3)))","v":"https://wwwtest.london.gov.uk/team-london/search-opportunities?search_api_fulltext=&latlng%5Bvalue%5D=&latlng%5Bdistance%5D%5Bfrom%5D=100000"},{"$f":"IF(INDIRECT(\"'Statistics'!\" & ADDRESS(COLUMN()-10,3))=\"\",\"\",INDIRECT(\"'Statistics'!\" & ADDRESS(COLUMN()-10,3)))","v":"https://wwwtest.london.gov.uk/team-london/one-to-one-sports-and-games-coach-for-children-with-disabilities"},{"$f":"IF(INDIRECT(\"'Statistics'!\" & ADDRESS(COLUMN()-10,3))=\"\",\"\",INDIRECT(\"'Statistics'!\" & ADDRESS(COLUMN()-10,3)))","v":"https://wwwtest.london.gov.uk/team-london/find-volunteers"},{"$f":"IF(INDIRECT(\"'Statistics'!\" & ADDRESS(COLUMN()-10,3))=\"\",\"\",INDIRECT(\"'Statistics'!\" & ADDRESS(COLUMN()-10,3)))","v":"URL 7"},{"$f":"IF(INDIRECT(\"'Statistics'!\" & ADDRESS(COLUMN()-10,3))=\"\",\"\",INDIRECT(\"'Statistics'!\" & ADDRESS(COLUMN()-10,3)))","v":"URL 8"},{"$f":"IF(INDIRECT(\"'Statistics'!\" & ADDRESS(COLUMN()-10,3))=\"\",\"\",INDIRECT(\"'Statistics'!\" & ADDRESS(COLUMN()-10,3)))","v":"URL 9"},{"$f":"IF(INDIRECT(\"'Statistics'!\" & ADDRESS(COLUMN()-10,3))=\"\",\"\",INDIRECT(\"'Statistics'!\" & ADDRESS(COLUMN()-10,3)))","v":"URL 10"},{"$f":"IF(INDIRECT(\"'Statistics'!\" & ADDRESS(COLUMN()-10,3))=\"\",\"\",INDIRECT(\"'Statistics'!\" & ADDRESS(COLUMN()-10,3)))","v":"URL 11"},{"$f":"IF(INDIRECT(\"'Statistics'!\" & ADDRESS(COLUMN()-10,3))=\"\",\"\",INDIRECT(\"'Statistics'!\" & ADDRESS(COLUMN()-10,3)))","v":"URL 12"},{"$f":"IF(INDIRECT(\"'Statistics'!\" & ADDRESS(COLUMN()-10,3))=\"\",\"\",INDIRECT(\"'Statistics'!\" & ADDRESS(COLUMN()-10,3)))","v":"URL 13"},{"$f":"IF(INDIRECT(\"'Statistics'!\" & ADDRESS(COLUMN()-10,3))=\"\",\"\",INDIRECT(\"'Statistics'!\" & ADDRESS(COLUMN()-10,3)))","v":"URL 14"},{"$f":"IF(INDIRECT(\"'Statistics'!\" & ADDRESS(COLUMN()-10,3))=\"\",\"\",INDIRECT(\"'Statistics'!\" & ADDRESS(COLUMN()-10,3)))","v":"URL 15"},{"$f":"IF(INDIRECT(\"'Statistics'!\" & ADDRESS(COLUMN()-10,3))=\"\",\"\",INDIRECT(\"'Statistics'!\" & ADDRESS(COLUMN()-10,3)))","v":"URL 16"},{"$f":"IF(INDIRECT(\"'Statistics'!\" & ADDRESS(COLUMN()-10,3))=\"\",\"\",INDIRECT(\"'Statistics'!\" & ADDRESS(COLUMN()-10,3)))","v":"URL 17"},{"$f":"IF(INDIRECT(\"'Statistics'!\" & ADDRESS(COLUMN()-10,3))=\"\",\"\",INDIRECT(\"'Statistics'!\" & ADDRESS(COLUMN()-10,3)))","v":"URL 18"},{"$f":"IF(INDIRECT(\"'Statistics'!\" & ADDRESS(COLUMN()-10,3))=\"\",\"\",INDIRECT(\"'Statistics'!\" & ADDRESS(COLUMN()-10,3)))","v":"URL 19"},{"$f":"IF(INDIRECT(\"'Statistics'!\" & ADDRESS(COLUMN()-10,3))=\"\",\"\",INDIRECT(\"'Statistics'!\" & ADDRESS(COLUMN()-10,3)))","v":"URL 20"},{"$f":"IF(INDIRECT(\"'Statistics'!\" & ADDRESS(COLUMN()-10,3))=\"\",\"\",INDIRECT(\"'Statistics'!\" & ADDRESS(COLUMN()-10,3)))","v":"URL 21"},{"$f":"IF(INDIRECT(\"'Statistics'!\" & ADDRESS(COLUMN()-10,3))=\"\",\"\",INDIRECT(\"'Statistics'!\" & ADDRESS(COLUMN()-10,3)))","v":"URL 22"},{"$f":"IF(INDIRECT(\"'Statistics'!\" & ADDRESS(COLUMN()-10,3))=\"\",\"\",INDIRECT(\"'Statistics'!\" & ADDRESS(COLUMN()-10,3)))","v":"URL 23"},{"$f":"IF(INDIRECT(\"'Statistics'!\" & ADDRESS(COLUMN()-10,3))=\"\",\"\",INDIRECT(\"'Statistics'!\" & ADDRESS(COLUMN()-10,3)))","v":"URL 24"},{"$f":"IF(INDIRECT(\"'Statistics'!\" & ADDRESS(COLUMN()-10,3))=\"\",\"\",INDIRECT(\"'Statistics'!\" & ADDRESS(COLUMN()-10,3)))","v":"URL 25"},{"$f":"IF(INDIRECT(\"'Statistics'!\" & ADDRESS(COLUMN()-10,3))=\"\",\"\",INDIRECT(\"'Statistics'!\" & ADDRESS(COLUMN()-10,3)))","v":"URL 26"},{"$f":"IF(INDIRECT(\"'Statistics'!\" & ADDRESS(COLUMN()-10,3))=\"\",\"\",INDIRECT(\"'Statistics'!\" & ADDRESS(COLUMN()-10,3)))","v":"URL 27"},{"$f":"IF(INDIRECT(\"'Statistics'!\" & ADDRESS(COLUMN()-10,3))=\"\",\"\",INDIRECT(\"'Statistics'!\" & ADDRESS(COLUMN()-10,3)))","v":"URL 28"},{"$f":"IF(INDIRECT(\"'Statistics'!\" & ADDRESS(COLUMN()-10,3))=\"\",\"\",INDIRECT(\"'Statistics'!\" & ADDRESS(COLUMN()-10,3)))","v":"URL 29"},{"$f":"IF(INDIRECT(\"'Statistics'!\" & ADDRESS(COLUMN()-10,3))=\"\",\"\",INDIRECT(\"'Statistics'!\" & ADDRESS(COLUMN()-10,3)))","v":"URL 30"},{"$f":"IF(INDIRECT(\"'Statistics'!\" & ADDRESS(COLUMN()-10,3))=\"\",\"\",INDIRECT(\"'Statistics'!\" & ADDRESS(COLUMN()-10,3)))","v":"URL 31"},{"$f":"IF(INDIRECT(\"'Statistics'!\" & ADDRESS(COLUMN()-10,3))=\"\",\"\",INDIRECT(\"'Statistics'!\" & ADDRESS(COLUMN()-10,3)))","v":"URL 32"},{"$f":"IF(INDIRECT(\"'Statistics'!\" & ADDRESS(COLUMN()-10,3))=\"\",\"\",INDIRECT(\"'Statistics'!\" & ADDRESS(COLUMN()-10,3)))","v":"URL 33"},{"$f":"IF(INDIRECT(\"'Statistics'!\" & ADDRESS(COLUMN()-10,3))=\"\",\"\",INDIRECT(\"'Statistics'!\" & ADDRESS(COLUMN()-10,3)))","v":"URL 34"},{"$f":"IF(INDIRECT(\"'Statistics'!\" & ADDRESS(COLUMN()-10,3))=\"\",\"\",INDIRECT(\"'Statistics'!\" & ADDRESS(COLUMN()-10,3)))","v":"URL 35"},{"$f":"IF(INDIRECT(\"'Statistics'!\" & ADDRESS(COLUMN()-10,3))=\"\",\"\",INDIRECT(\"'Statistics'!\" & ADDRESS(COLUMN()-10,3)))","v":"URL 36"},{"$f":"IF(INDIRECT(\"'Statistics'!\" & ADDRESS(COLUMN()-10,3))=\"\",\"\",INDIRECT(\"'Statistics'!\" & ADDRESS(COLUMN()-10,3)))","v":"URL 37"},{"$f":"IF(INDIRECT(\"'Statistics'!\" & ADDRESS(COLUMN()-10,3))=\"\",\"\",INDIRECT(\"'Statistics'!\" & ADDRESS(COLUMN()-10,3)))","v":"URL 38"},{"$f":"IF(INDIRECT(\"'Statistics'!\" & ADDRESS(COLUMN()-10,3))=\"\",\"\",INDIRECT(\"'Statistics'!\" & ADDRESS(COLUMN()-10,3)))","v":"URL 39"},{"$f":"IF(INDIRECT(\"'Statistics'!\" & ADDRESS(COLUMN()-10,3))=\"\",\"\",INDIRECT(\"'Statistics'!\" & ADDRESS(COLUMN()-10,3)))","v":"URL 40"},{"$f":"IF(INDIRECT(\"'Statistics'!\" & ADDRESS(COLUMN()-10,3))=\"\",\"\",INDIRECT(\"'Statistics'!\" & ADDRESS(COLUMN()-10,3)))","v":"URL 41"},{"$f":"IF(INDIRECT(\"'Statistics'!\" & ADDRESS(COLUMN()-10,3))=\"\",\"\",INDIRECT(\"'Statistics'!\" & ADDRESS(COLUMN()-10,3)))","v":"URL 42"},{"$f":"IF(INDIRECT(\"'Statistics'!\" & ADDRESS(COLUMN()-10,3))=\"\",\"\",INDIRECT(\"'Statistics'!\" & ADDRESS(COLUMN()-10,3)))","v":"URL 43"},{"$f":"IF(INDIRECT(\"'Statistics'!\" & ADDRESS(COLUMN()-10,3))=\"\",\"\",INDIRECT(\"'Statistics'!\" & ADDRESS(COLUMN()-10,3)))","v":"URL 44"},{"$f":"IF(INDIRECT(\"'Statistics'!\" & ADDRESS(COLUMN()-10,3))=\"\",\"\",INDIRECT(\"'Statistics'!\" & ADDRESS(COLUMN()-10,3)))","v":"URL 45"},{"$f":"IF(INDIRECT(\"'Statistics'!\" & ADDRESS(COLUMN()-10,3))=\"\",\"\",INDIRECT(\"'Statistics'!\" & ADDRESS(COLUMN()-10,3)))","v":"URL 46"},{"$f":"IF(INDIRECT(\"'Statistics'!\" & ADDRESS(COLUMN()-10,3))=\"\",\"\",INDIRECT(\"'Statistics'!\" & ADDRESS(COLUMN()-10,3)))","v":"URL 47"},{"$f":"IF(INDIRECT(\"'Statistics'!\" & ADDRESS(COLUMN()-10,3))=\"\",\"\",INDIRECT(\"'Statistics'!\" & ADDRESS(COLUMN()-10,3)))","v":"URL 48"},{"$f":"IF(INDIRECT(\"'Statistics'!\" & ADDRESS(COLUMN()-10,3))=\"\",\"\",INDIRECT(\"'Statistics'!\" & ADDRESS(COLUMN()-10,3)))","v":"URL 49"},{"$f":"IF(INDIRECT(\"'Statistics'!\" & ADDRESS(COLUMN()-10,3))=\"\",\"\",INDIRECT(\"'Statistics'!\" & ADDRESS(COLUMN()-10,3)))","v":"URL 50"},{"$f":"IF(INDIRECT(\"'Statistics'!\" & ADDRESS(COLUMN()-10,3))=\"\",\"\",INDIRECT(\"'Statistics'!\" & ADDRESS(COLUMN()-10,3)))","v":"URL 51"},{"$f":"IF(INDIRECT(\"'Statistics'!\" & ADDRESS(COLUMN()-10,3))=\"\",\"\",INDIRECT(\"'Statistics'!\" & ADDRESS(COLUMN()-10,3)))","v":"URL 52"},{"$f":"IF(INDIRECT(\"'Statistics'!\" & ADDRESS(COLUMN()-10,3))=\"\",\"\",INDIRECT(\"'Statistics'!\" & ADDRESS(COLUMN()-10,3)))","v":"URL 53"},{"$f":"IF(INDIRECT(\"'Statistics'!\" & ADDRESS(COLUMN()-10,3))=\"\",\"\",INDIRECT(\"'Statistics'!\" & ADDRESS(COLUMN()-10,3)))","v":"URL 54"},{"$f":"IF(INDIRECT(\"'Statistics'!\" & ADDRESS(COLUMN()-10,3))=\"\",\"\",INDIRECT(\"'Statistics'!\" & ADDRESS(COLUMN()-10,3)))","v":"URL 55"},{"$f":"IF(INDIRECT(\"'Statistics'!\" & ADDRESS(COLUMN()-10,3))=\"\",\"\",INDIRECT(\"'Statistics'!\" & ADDRESS(COLUMN()-10,3)))","v":"URL 56"},{"$f":"IF(INDIRECT(\"'Statistics'!\" & ADDRESS(COLUMN()-10,3))=\"\",\"\",INDIRECT(\"'Statistics'!\" & ADDRESS(COLUMN()-10,3)))","v":"URL 57"},{"$f":"IF(INDIRECT(\"'Statistics'!\" & ADDRESS(COLUMN()-10,3))=\"\",\"\",INDIRECT(\"'Statistics'!\" & ADDRESS(COLUMN()-10,3)))","v":"URL 58"},{"$f":"IF(INDIRECT(\"'Statistics'!\" & ADDRESS(COLUMN()-10,3))=\"\",\"\",INDIRECT(\"'Statistics'!\" & ADDRESS(COLUMN()-10,3)))","v":"URL 59"},{"$f":"IF(INDIRECT(\"'Statistics'!\" & ADDRESS(COLUMN()-10,3))=\"\",\"\",INDIRECT(\"'Statistics'!\" & ADDRESS(COLUMN()-10,3)))","v":"URL 60"},{"$f":"IF(INDIRECT(\"'Statistics'!\" & ADDRESS(COLUMN()-10,3))=\"\",\"\",INDIRECT(\"'Statistics'!\" & ADDRESS(COLUMN()-10,3)))","v":"URL 61"},{"$f":"IF(INDIRECT(\"'Statistics'!\" & ADDRESS(COLUMN()-10,3))=\"\",\"\",INDIRECT(\"'Statistics'!\" & ADDRESS(COLUMN()-10,3)))","v":"URL 62"},{"$f":"IF(INDIRECT(\"'Statistics'!\" & ADDRESS(COLUMN()-10,3))=\"\",\"\",INDIRECT(\"'Statistics'!\" & ADDRESS(COLUMN()-10,3)))","v":"URL 63"},{"$f":"IF(INDIRECT(\"'Statistics'!\" & ADDRESS(COLUMN()-10,3))=\"\",\"\",INDIRECT(\"'Statistics'!\" & ADDRESS(COLUMN()-10,3)))","v":"URL 64"},{"$f":"IF(INDIRECT(\"'Statistics'!\" & ADDRESS(COLUMN()-10,3))=\"\",\"\",INDIRECT(\"'Statistics'!\" & ADDRESS(COLUMN()-10,3)))","v":"URL 65"},{"$f":"IF(INDIRECT(\"'Statistics'!\" & ADDRESS(COLUMN()-10,3))=\"\",\"\",INDIRECT(\"'Statistics'!\" & ADDRESS(COLUMN()-10,3)))","v":"URL 66"},{"$f":"IF(INDIRECT(\"'Statistics'!\" & ADDRESS(COLUMN()-10,3))=\"\",\"\",INDIRECT(\"'Statistics'!\" & ADDRESS(COLUMN()-10,3)))","v":"URL 67"},{"$f":"IF(INDIRECT(\"'Statistics'!\" & ADDRESS(COLUMN()-10,3))=\"\",\"\",INDIRECT(\"'Statistics'!\" & ADDRESS(COLUMN()-10,3)))","v":"URL 68"},{"$f":"IF(INDIRECT(\"'Statistics'!\" & ADDRESS(COLUMN()-10,3))=\"\",\"\",INDIRECT(\"'Statistics'!\" & ADDRESS(COLUMN()-10,3)))","v":"URL 69"},{"$f":"IF(INDIRECT(\"'Statistics'!\" & ADDRESS(COLUMN()-10,3))=\"\",\"\",INDIRECT(\"'Statistics'!\" & ADDRESS(COLUMN()-10,3)))","v":"URL 70"},{"$f":"IF(INDIRECT(\"'Statistics'!\" & ADDRESS(COLUMN()-10,3))=\"\",\"\",INDIRECT(\"'Statistics'!\" & ADDRESS(COLUMN()-10,3)))","v":"URL 71"},{"$f":"IF(INDIRECT(\"'Statistics'!\" & ADDRESS(COLUMN()-10,3))=\"\",\"\",INDIRECT(\"'Statistics'!\" & ADDRESS(COLUMN()-10,3)))","v":"URL 72"},{"$f":"IF(INDIRECT(\"'Statistics'!\" & ADDRESS(COLUMN()-10,3))=\"\",\"\",INDIRECT(\"'Statistics'!\" & ADDRESS(COLUMN()-10,3)))","v":"URL 73"},{"$f":"IF(INDIRECT(\"'Statistics'!\" & ADDRESS(COLUMN()-10,3))=\"\",\"\",INDIRECT(\"'Statistics'!\" & ADDRESS(COLUMN()-10,3)))","v":"URL 74"},{"$f":"IF(INDIRECT(\"'Statistics'!\" & ADDRESS(COLUMN()-10,3))=\"\",\"\",INDIRECT(\"'Statistics'!\" & ADDRESS(COLUMN()-10,3)))","v":"URL 75"},{"$f":"IF(INDIRECT(\"'Statistics'!\" & ADDRESS(COLUMN()-10,3))=\"\",\"\",INDIRECT(\"'Statistics'!\" & ADDRESS(COLUMN()-10,3)))","v":"URL 76"},{"$f":"IF(INDIRECT(\"'Statistics'!\" & ADDRESS(COLUMN()-10,3))=\"\",\"\",INDIRECT(\"'Statistics'!\" & ADDRESS(COLUMN()-10,3)))","v":"URL 77"},{"$f":"IF(INDIRECT(\"'Statistics'!\" & ADDRESS(COLUMN()-10,3))=\"\",\"\",INDIRECT(\"'Statistics'!\" & ADDRESS(COLUMN()-10,3)))","v":"URL 78"},{"$f":"IF(INDIRECT(\"'Statistics'!\" & ADDRESS(COLUMN()-10,3))=\"\",\"\",INDIRECT(\"'Statistics'!\" & ADDRESS(COLUMN()-10,3)))","v":"URL 79"},{"$f":"IF(INDIRECT(\"'Statistics'!\" & ADDRESS(COLUMN()-10,3))=\"\",\"\",INDIRECT(\"'Statistics'!\" & ADDRESS(COLUMN()-10,3)))","v":"URL 80"},{"$f":"IF(INDIRECT(\"'Statistics'!\" & ADDRESS(COLUMN()-10,3))=\"\",\"\",INDIRECT(\"'Statistics'!\" & ADDRESS(COLUMN()-10,3)))","v":"URL 81"},{"$f":"IF(INDIRECT(\"'Statistics'!\" & ADDRESS(COLUMN()-10,3))=\"\",\"\",INDIRECT(\"'Statistics'!\" & ADDRESS(COLUMN()-10,3)))","v":"URL 82"},{"$f":"IF(INDIRECT(\"'Statistics'!\" & ADDRESS(COLUMN()-10,3))=\"\",\"\",INDIRECT(\"'Statistics'!\" & ADDRESS(COLUMN()-10,3)))","v":"URL 83"},{"$f":"IF(INDIRECT(\"'Statistics'!\" & ADDRESS(COLUMN()-10,3))=\"\",\"\",INDIRECT(\"'Statistics'!\" & ADDRESS(COLUMN()-10,3)))","v":"URL 84"},{"$f":"IF(INDIRECT(\"'Statistics'!\" & ADDRESS(COLUMN()-10,3))=\"\",\"\",INDIRECT(\"'Statistics'!\" & ADDRESS(COLUMN()-10,3)))","v":"URL 85"},{"$f":"IF(INDIRECT(\"'Statistics'!\" & ADDRESS(COLUMN()-10,3))=\"\",\"\",INDIRECT(\"'Statistics'!\" & ADDRESS(COLUMN()-10,3)))","v":"URL 86"},{"$f":"IF(INDIRECT(\"'Statistics'!\" & ADDRESS(COLUMN()-10,3))=\"\",\"\",INDIRECT(\"'Statistics'!\" & ADDRESS(COLUMN()-10,3)))","v":"URL 87"},{"$f":"IF(INDIRECT(\"'Statistics'!\" & ADDRESS(COLUMN()-10,3))=\"\",\"\",INDIRECT(\"'Statistics'!\" & ADDRESS(COLUMN()-10,3)))","v":"URL 88"},{"$f":"IF(INDIRECT(\"'Statistics'!\" & ADDRESS(COLUMN()-10,3))=\"\",\"\",INDIRECT(\"'Statistics'!\" & ADDRESS(COLUMN()-10,3)))","v":"URL 89"},{"$f":"IF(INDIRECT(\"'Statistics'!\" & ADDRESS(COLUMN()-10,3))=\"\",\"\",INDIRECT(\"'Statistics'!\" & ADDRESS(COLUMN()-10,3)))","v":"URL 90"},{"$f":"IF(INDIRECT(\"'Statistics'!\" & ADDRESS(COLUMN()-10,3))=\"\",\"\",INDIRECT(\"'Statistics'!\" & ADDRESS(COLUMN()-10,3)))","v":"URL 91"},{"$f":"IF(INDIRECT(\"'Statistics'!\" & ADDRESS(COLUMN()-10,3))=\"\",\"\",INDIRECT(\"'Statistics'!\" & ADDRESS(COLUMN()-10,3)))","v":"URL 92"},{"$f":"IF(INDIRECT(\"'Statistics'!\" & ADDRESS(COLUMN()-10,3))=\"\",\"\",INDIRECT(\"'Statistics'!\" & ADDRESS(COLUMN()-10,3)))","v":"URL 93"},{"$f":"IF(INDIRECT(\"'Statistics'!\" & ADDRESS(COLUMN()-10,3))=\"\",\"\",INDIRECT(\"'Statistics'!\" & ADDRESS(COLUMN()-10,3)))","v":"URL 94"},{"$f":"IF(INDIRECT(\"'Statistics'!\" & ADDRESS(COLUMN()-10,3))=\"\",\"\",INDIRECT(\"'Statistics'!\" & ADDRESS(COLUMN()-10,3)))","v":"URL 95"},{"$f":"IF(INDIRECT(\"'Statistics'!\" & ADDRESS(COLUMN()-10,3))=\"\",\"\",INDIRECT(\"'Statistics'!\" & ADDRESS(COLUMN()-10,3)))","v":"URL 96"},{"$f":"IF(INDIRECT(\"'Statistics'!\" & ADDRESS(COLUMN()-10,3))=\"\",\"\",INDIRECT(\"'Statistics'!\" & ADDRESS(COLUMN()-10,3)))","v":"URL 97"},{"$f":"IF(INDIRECT(\"'Statistics'!\" & ADDRESS(COLUMN()-10,3))=\"\",\"\",INDIRECT(\"'Statistics'!\" & ADDRESS(COLUMN()-10,3)))","v":"URL 98"},{"$f":"IF(INDIRECT(\"'Statistics'!\" & ADDRESS(COLUMN()-10,3))=\"\",\"\",INDIRECT(\"'Statistics'!\" & ADDRESS(COLUMN()-10,3)))","v":"URL 99"},{"$f":"IF(INDIRECT(\"'Statistics'!\" & ADDRESS(COLUMN()-10,3))=\"\",\"\",INDIRECT(\"'Statistics'!\" & ADDRESS(COLUMN()-10,3)))","v":"URL 100"},{"$f":"IF(INDIRECT(\"'Statistics'!\" & ADDRESS(COLUMN()-10,3))=\"\",\"\",INDIRECT(\"'Statistics'!\" & ADDRESS(COLUMN()-10,3)))","v":"URL 101"},{"$f":"IF(INDIRECT(\"'Statistics'!\" & ADDRESS(COLUMN()-10,3))=\"\",\"\",INDIRECT(\"'Statistics'!\" & ADDRESS(COLUMN()-10,3)))","v":"URL 102"},{"$f":"IF(INDIRECT(\"'Statistics'!\" & ADDRESS(COLUMN()-10,3))=\"\",\"\",INDIRECT(\"'Statistics'!\" & ADDRESS(COLUMN()-10,3)))","v":"URL 103"},{"$f":"IF(INDIRECT(\"'Statistics'!\" & ADDRESS(COLUMN()-10,3))=\"\",\"\",INDIRECT(\"'Statistics'!\" & ADDRESS(COLUMN()-10,3)))","v":"URL 104"},{"$f":"IF(INDIRECT(\"'Statistics'!\" & ADDRESS(COLUMN()-10,3))=\"\",\"\",INDIRECT(\"'Statistics'!\" & ADDRESS(COLUMN()-10,3)))","v":"URL 105"},{"$f":"IF(INDIRECT(\"'Statistics'!\" & ADDRESS(COLUMN()-10,3))=\"\",\"\",INDIRECT(\"'Statistics'!\" & ADDRESS(COLUMN()-10,3)))","v":"URL 106"},{"$f":"IF(INDIRECT(\"'Statistics'!\" & ADDRESS(COLUMN()-10,3))=\"\",\"\",INDIRECT(\"'Statistics'!\" & ADDRESS(COLUMN()-10,3)))","v":"URL 107"},{"$f":"IF(INDIRECT(\"'Statistics'!\" & ADDRESS(COLUMN()-10,3))=\"\",\"\",INDIRECT(\"'Statistics'!\" & ADDRESS(COLUMN()-10,3)))","v":"URL 108"},{"$f":"IF(INDIRECT(\"'Statistics'!\" & ADDRESS(COLUMN()-10,3))=\"\",\"\",INDIRECT(\"'Statistics'!\" & ADDRESS(COLUMN()-10,3)))","v":"URL 109"},{"$f":"IF(INDIRECT(\"'Statistics'!\" & ADDRESS(COLUMN()-10,3))=\"\",\"\",INDIRECT(\"'Statistics'!\" & ADDRESS(COLUMN()-10,3)))","v":"URL 110"},{"$f":"IF(INDIRECT(\"'Statistics'!\" & ADDRESS(COLUMN()-10,3))=\"\",\"\",INDIRECT(\"'Statistics'!\" & ADDRESS(COLUMN()-10,3)))","v":"URL 111"},{"$f":"IF(INDIRECT(\"'Statistics'!\" & ADDRESS(COLUMN()-10,3))=\"\",\"\",INDIRECT(\"'Statistics'!\" & ADDRESS(COLUMN()-10,3)))","v":"URL 112"},{"$f":"IF(INDIRECT(\"'Statistics'!\" & ADDRESS(COLUMN()-10,3))=\"\",\"\",INDIRECT(\"'Statistics'!\" & ADDRESS(COLUMN()-10,3)))","v":"URL 113"},{"$f":"IF(INDIRECT(\"'Statistics'!\" & ADDRESS(COLUMN()-10,3))=\"\",\"\",INDIRECT(\"'Statistics'!\" & ADDRESS(COLUMN()-10,3)))","v":"URL 114"},{"$f":"IF(INDIRECT(\"'Statistics'!\" & ADDRESS(COLUMN()-10,3))=\"\",\"\",INDIRECT(\"'Statistics'!\" & ADDRESS(COLUMN()-10,3)))","v":"URL 115"},{"$f":"IF(INDIRECT(\"'Statistics'!\" & ADDRESS(COLUMN()-10,3))=\"\",\"\",INDIRECT(\"'Statistics'!\" & ADDRESS(COLUMN()-10,3)))","v":"URL 116"},{"$f":"IF(INDIRECT(\"'Statistics'!\" & ADDRESS(COLUMN()-10,3))=\"\",\"\",INDIRECT(\"'Statistics'!\" & ADDRESS(COLUMN()-10,3)))","v":"URL 117"},{"$f":"IF(INDIRECT(\"'Statistics'!\" & ADDRESS(COLUMN()-10,3))=\"\",\"\",INDIRECT(\"'Statistics'!\" & ADDRESS(COLUMN()-10,3)))","v":"URL 118"},{"$f":"IF(INDIRECT(\"'Statistics'!\" & ADDRESS(COLUMN()-10,3))=\"\",\"\",INDIRECT(\"'Statistics'!\" & ADDRESS(COLUMN()-10,3)))","v":"URL 119"},{"$f":"IF(INDIRECT(\"'Statistics'!\" & ADDRESS(COLUMN()-10,3))=\"\",\"\",INDIRECT(\"'Statistics'!\" & ADDRESS(COLUMN()-10,3)))","v":"URL 120"},{"$f":"IF(INDIRECT(\"'Statistics'!\" & ADDRESS(COLUMN()-10,3))=\"\",\"\",INDIRECT(\"'Statistics'!\" & ADDRESS(COLUMN()-10,3)))","v":"URL 121"},{"$f":"IF(INDIRECT(\"'Statistics'!\" & ADDRESS(COLUMN()-10,3))=\"\",\"\",INDIRECT(\"'Statistics'!\" & ADDRESS(COLUMN()-10,3)))","v":"URL 122"},{"$f":"IF(INDIRECT(\"'Statistics'!\" & ADDRESS(COLUMN()-10,3))=\"\",\"\",INDIRECT(\"'Statistics'!\" & ADDRESS(COLUMN()-10,3)))","v":"URL 123"},{"$f":"IF(INDIRECT(\"'Statistics'!\" & ADDRESS(COLUMN()-10,3))=\"\",\"\",INDIRECT(\"'Statistics'!\" & ADDRESS(COLUMN()-10,3)))","v":"URL 124"},{"$f":"IF(INDIRECT(\"'Statistics'!\" & ADDRESS(COLUMN()-10,3))=\"\",\"\",INDIRECT(\"'Statistics'!\" & ADDRESS(COLUMN()-10,3)))","v":"URL 125"},{"$f":"IF(INDIRECT(\"'Statistics'!\" & ADDRESS(COLUMN()-10,3))=\"\",\"\",INDIRECT(\"'Statistics'!\" & ADDRESS(COLUMN()-10,3)))","v":"URL 126"},{"$f":"IF(INDIRECT(\"'Statistics'!\" & ADDRESS(COLUMN()-10,3))=\"\",\"\",INDIRECT(\"'Statistics'!\" & ADDRESS(COLUMN()-10,3)))","v":"URL 127"},{"$f":"IF(INDIRECT(\"'Statistics'!\" & ADDRESS(COLUMN()-10,3))=\"\",\"\",INDIRECT(\"'Statistics'!\" & ADDRESS(COLUMN()-10,3)))","v":"URL 128"},{"$f":"IF(INDIRECT(\"'Statistics'!\" & ADDRESS(COLUMN()-10,3))=\"\",\"\",INDIRECT(\"'Statistics'!\" & ADDRESS(COLUMN()-10,3)))","v":"URL 129"},{"$f":"IF(INDIRECT(\"'Statistics'!\" & ADDRESS(COLUMN()-10,3))=\"\",\"\",INDIRECT(\"'Statistics'!\" & ADDRESS(COLUMN()-10,3)))","v":"URL 130"},{"$f":"IF(INDIRECT(\"'Statistics'!\" & ADDRESS(COLUMN()-10,3))=\"\",\"\",INDIRECT(\"'Statistics'!\" & ADDRESS(COLUMN()-10,3)))","v":"URL 131"},{"$f":"IF(INDIRECT(\"'Statistics'!\" & ADDRESS(COLUMN()-10,3))=\"\",\"\",INDIRECT(\"'Statistics'!\" & ADDRESS(COLUMN()-10,3)))","v":"URL 132"},{"$f":"IF(INDIRECT(\"'Statistics'!\" & ADDRESS(COLUMN()-10,3))=\"\",\"\",INDIRECT(\"'Statistics'!\" & ADDRESS(COLUMN()-10,3)))","v":"URL 133"},{"$f":"IF(INDIRECT(\"'Statistics'!\" & ADDRESS(COLUMN()-10,3))=\"\",\"\",INDIRECT(\"'Statistics'!\" & ADDRESS(COLUMN()-10,3)))","v":"URL 134"},{"$f":"IF(INDIRECT(\"'Statistics'!\" & ADDRESS(COLUMN()-10,3))=\"\",\"\",INDIRECT(\"'Statistics'!\" & ADDRESS(COLUMN()-10,3)))","v":"URL 135"},{"$f":"IF(INDIRECT(\"'Statistics'!\" & ADDRESS(COLUMN()-10,3))=\"\",\"\",INDIRECT(\"'Statistics'!\" & ADDRESS(COLUMN()-10,3)))","v":"URL 136"},{"$f":"IF(INDIRECT(\"'Statistics'!\" & ADDRESS(COLUMN()-10,3))=\"\",\"\",INDIRECT(\"'Statistics'!\" & ADDRESS(COLUMN()-10,3)))","v":"URL 137"},{"$f":"IF(INDIRECT(\"'Statistics'!\" & ADDRESS(COLUMN()-10,3))=\"\",\"\",INDIRECT(\"'Statistics'!\" & ADDRESS(COLUMN()-10,3)))","v":"URL 138"},{"$f":"IF(INDIRECT(\"'Statistics'!\" & ADDRESS(COLUMN()-10,3))=\"\",\"\",INDIRECT(\"'Statistics'!\" & ADDRESS(COLUMN()-10,3)))","v":"URL 139"},{"$f":"IF(INDIRECT(\"'Statistics'!\" & ADDRESS(COLUMN()-10,3))=\"\",\"\",INDIRECT(\"'Statistics'!\" & ADDRESS(COLUMN()-10,3)))","v":"URL 140"},{"$f":"IF(INDIRECT(\"'Statistics'!\" & ADDRESS(COLUMN()-10,3))=\"\",\"\",INDIRECT(\"'Statistics'!\" & ADDRESS(COLUMN()-10,3)))","v":"URL 141"},{"$f":"IF(INDIRECT(\"'Statistics'!\" & ADDRESS(COLUMN()-10,3))=\"\",\"\",INDIRECT(\"'Statistics'!\" & ADDRESS(COLUMN()-10,3)))","v":"URL 142"},{"$f":"IF(INDIRECT(\"'Statistics'!\" & ADDRESS(COLUMN()-10,3))=\"\",\"\",INDIRECT(\"'Statistics'!\" & ADDRESS(COLUMN()-10,3)))","v":"URL 143"},{"$f":"IF(INDIRECT(\"'Statistics'!\" & ADDRESS(COLUMN()-10,3))=\"\",\"\",INDIRECT(\"'Statistics'!\" & ADDRESS(COLUMN()-10,3)))","v":"URL 144"},{"$f":"IF(INDIRECT(\"'Statistics'!\" & ADDRESS(COLUMN()-10,3))=\"\",\"\",INDIRECT(\"'Statistics'!\" & ADDRESS(COLUMN()-10,3)))","v":"URL 145"},{"$f":"IF(INDIRECT(\"'Statistics'!\" & ADDRESS(COLUMN()-10,3))=\"\",\"\",INDIRECT(\"'Statistics'!\" & ADDRESS(COLUMN()-10,3)))","v":"URL 146"},{"$f":"IF(INDIRECT(\"'Statistics'!\" & ADDRESS(COLUMN()-10,3))=\"\",\"\",INDIRECT(\"'Statistics'!\" & ADDRESS(COLUMN()-10,3)))","v":"URL 147"},{"$f":"IF(INDIRECT(\"'Statistics'!\" & ADDRESS(COLUMN()-10,3))=\"\",\"\",INDIRECT(\"'Statistics'!\" & ADDRESS(COLUMN()-10,3)))","v":"URL 148"},{"$f":"IF(INDIRECT(\"'Statistics'!\" & ADDRESS(COLUMN()-10,3))=\"\",\"\",INDIRECT(\"'Statistics'!\" & ADDRESS(COLUMN()-10,3)))","v":"URL 149"},{"$f":"IF(INDIRECT(\"'Statistics'!\" & ADDRESS(COLUMN()-10,3))=\"\",\"\",INDIRECT(\"'Statistics'!\" & ADDRESS(COLUMN()-10,3)))","v":"URL 150"}]
[null,null,null,null,null,null,null,null,null,null,null,null,null,null,null,null,null,null,null,null,null,null,null,null,"Page #1","Page #2","Page #3","Page #4","Page #5","Page #6","Page #7","Page #8","Page #9","Page #10","Page #11","Page #12","Page #13","Page #14","Page #15","Page #16","Page #17","Page #18","Page #19","Page #20","Page #21","Page #22","Page #23","Page #24","Page #25","Page #26","Page #27","Page #28","Page #29","Page #30","Page #31","Page #32","Page #33","Page #34","Page #35","Page #36","Page #37","Page #38","Page #39","Page #40","Page #41","Page #42","Page #43","Page #44","Page #45","Page #46","Page #47","Page #48","Page #49","Page #50","Page #51","Page #52","Page #53","Page #54","Page #55","Page #56","Page #57","Page #58","Page #59","Page #60","Page #61","Page #62","Page #63","Page #64","Page #65","Page #66","Page #67","Page #68","Page #69","Page #70","Page #71","Page #72","Page #73","Page #74","Page #75","Page #76","Page #77","Page #78","Page #79","Page #80","Page #81","Page #82","Page #83","Page #84","Page #85","Page #86","Page #87","Page #88","Page #89","Page #90","Page #91","Page #92","Page #93","Page #94","Page #95","Page #96","Page #97","Page #98","Page #99","Page #100","Page #101","Page #102","Page #103","Page #104","Page #105","Page #106","Page #107","Page #108","Page #109","Page #110","Page #111","Page #112","Page #113","Page #114","Page #115","Page #116","Page #117","Page #118","Page #119","Page #120","Page #121","Page #122","Page #123","Page #124","Page #125","Page #126","Page #127","Page #128","Page #129","Page #130","Page #131","Page #132","Page #133","Page #134","Page #135","Page #136","Page #137","Page #138","Page #139","Page #140","Page #141","Page #142","Page #143","Page #144","Page #145","Page #146","Page #147","Page #148","Page #149","Page #150"]
["Page Area","Image","Foreground Colour","Background\nColour","Large (18pt or 14pt bold)","Valid","R RGB","Fail Only","G RGB","G","B RGB","B","Luminance","Valid","R RGB","R","G RGB","G","B RGB","B","Luminance","Contrast Ratio","All Results","Image / Text / Video",{"$f":"COUNTIF(Y5:Y1001,\"Fail\") & \" Fault\" & IF(COUNTIF(Y5:Y1001,\"Fail\")=1,\"\",\"s\")","v":"0 Faults"},"0 Faults","0 Faults","0 Faults","0 Faults","1 Fault","0 Faults","0 Faults","0 Faults","0 Faults","0 Faults","0 Faults","0 Faults","0 Faults","0 Faults","0 Faults","0 Faults","0 Faults","0 Faults","0 Faults","0 Faults","0 Faults","0 Faults","0 Faults","0 Faults","0 Faults","0 Faults","0 Faults","0 Faults","0 Faults","0 Faults","0 Faults",{"$f":"COUNTIF(BE5:BE1001,\"Fail\") & \" Fault\" & IF(COUNTIF(BE5:BE1001,\"Fail\")=1,\"\",\"s\")","v":"0 Faults"},"0 Faults","0 Faults","0 Faults","0 Faults","0 Faults","0 Faults","0 Faults","0 Faults","0 Faults","0 Faults","0 Faults","0 Faults","0 Faults","0 Faults","0 Faults","0 Faults","0 Faults",{"$f":"COUNTIF(BW5:BW1001,\"Fail\") & \" Fault\" & IF(COUNTIF(BW5:BW1001,\"Fail\")=1,\"\",\"s\")","v":"0 Faults"},"0 Faults","0 Faults","0 Faults","0 Faults","0 Faults","0 Faults","0 Faults","0 Faults","0 Faults","0 Faults","0 Faults","0 Faults","0 Faults","0 Faults","0 Faults","0 Faults","0 Faults","0 Faults","0 Faults","0 Faults","0 Faults","0 Faults","0 Faults","0 Faults","0 Faults","0 Faults","0 Faults","0 Faults","0 Faults","0 Faults","0 Faults","0 Faults","0 Faults","0 Faults","0 Faults","0 Faults","0 Faults","0 Faults","0 Faults","0 Faults","0 Faults","0 Faults","0 Faults","0 Faults","0 Faults","0 Faults","0 Faults","0 Faults","0 Faults","0 Faults","0 Faults","0 Faults","0 Faults","0 Faults","0 Faults","0 Faults","0 Faults","0 Faults","0 Faults","0 Faults","0 Faults","0 Faults","0 Faults",{"$f":"COUNTIF(EI5:EI1001,\"Fail\") & \" Fault\" & IF(COUNTIF(EI5:EI1001,\"Fail\")=1,\"\",\"s\")","v":"0 Faults"},"0 Faults","0 Faults","0 Faults","0 Faults","0 Faults","0 Faults","0 Faults","0 Faults","0 Faults","0 Faults","0 Faults","0 Faults","0 Faults","0 Faults","0 Faults","0 Faults","0 Faults","0 Faults","0 Faults","0 Faults","0 Faults","0 Faults","0 Faults","0 Faults","0 Faults","0 Faults","0 Faults","0 Faults","0 Faults","0 Faults","0 Faults","0 Faults","0 Faults","0 Faults","0 Faults"]
["Header",null,"#FFFFFF","#353D42","No",{"$f":"IF(LEN(D5)=0,\"\",AND(LEFT(D5,1)=\"#\",LEN(D5)=7))","v":true},{"$f":"HEX2DEC(RIGHT(LEFT(D5,3),2))","v":53},{"$f":"IF(G5/255<= 0.03928,G5/(255*12.92),(((G5/255)+0.055)/1.055)^2.4)","v":3.5601314875020329E-2},{"$f":"HEX2DEC(RIGHT(LEFT(D5,5),2))","v":61},{"$f":"IF(I5/255<= 0.03928,I5/(255*12.92),(((I5/255)+0.055)/1.055)^2.4)","v":4.6665086336880102E-2},{"$f":"HEX2DEC(RIGHT(D5,2))","v":66},{"$f":"IF(K5/255<= 0.03928,K5/(255*12.92),(((K5/255)+0.055)/1.055)^2.4)","v":5.4480276442442369E-2},{"$f":"(0.2126*H5)+(0.7152*J5)+(0.0722*L5)","v":4.4877185249710308E-2},{"$f":"IF(LEN(C5)=0,\"\",AND(LEFT(C5,1)=\"#\",LEN(C5)=7))","v":true},{"$f":"HEX2DEC(RIGHT(LEFT(C5,3),2))","v":255},{"$f":"IF(O5/255<= 0.03928,O5/(255*12.92),(((O5/255)+0.055)/1.055)^2.4)","v":1},{"$f":"HEX2DEC(RIGHT(LEFT(C5,5),2))","v":255},{"$f":"IF(Q5/255<= 0.03928,Q5/(255*12.92),(((Q5/255)+0.055)/1.055)^2.4)","v":1},{"$f":"HEX2DEC(RIGHT(C5,2))","v":255},{"$f":"IF(S5/255<= 0.03928,S5/(255*12.92),(((S5/255)+0.055)/1.055)^2.4)","v":1},{"$f":"(0.2126*P5)+(0.7152*R5)+(0.0722*T5)","v":1},{"$f":"IF(OR(F5=\"\",N5=\"\")=TRUE,\"\",IF(OR(F5=FALSE,N5=FALSE)=TRUE,\"ERROR\",ROUND(IF(M5>U5,(M5+0.05)/(U5+0.05),(U5+0.05)/(M5+0.05)),2)))","v":11.07},{"$f":"IF(V5=\"\",\"\",IF(V5>=Comboboxes!A$5,\"Pass\",IF(AND(V5>=Comboboxes!A$6,E5=\"Yes\"),\"Pass (large text)\",\"Fail\")))","v":"Pass"},"Text","Pass","N/A","N/A","N/A","N/A","N/A"]
["Header",null,"#FFFFFF","#E7135D","No",true,231,{"$f":"IF(G6/255<= 0.03928,G6/(255*12.92),(((G6/255)+0.055)/1.055)^2.4)","v":0.79910273801440901},19,{"$f":"IF(I6/255<= 0.03928,I6/(255*12.92),(((I6/255)+0.055)/1.055)^2.4)","v":6.5120907925944761E-3},93,{"$f":"IF(K6/255<= 0.03928,K6/(255*12.92),(((K6/255)+0.055)/1.055)^2.4)","v":0.10946171077829935},{"$f":"(0.2126*H6)+(0.7152*J6)+(0.0722*L6)","v":0.18244982495492015},true,255,{"$f":"IF(O6/255<= 0.03928,O6/(255*12.92),(((O6/255)+0.055)/1.055)^2.4)","v":1},255,{"$f":"IF(Q6/255<= 0.03928,Q6/(255*12.92),(((Q6/255)+0.055)/1.055)^2.4)","v":1},255,{"$f":"IF(S6/255<= 0.03928,S6/(255*12.92),(((S6/255)+0.055)/1.055)^2.4)","v":1},{"$f":"(0.2126*P6)+(0.7152*R6)+(0.0722*T6)","v":1},{"$f":"IF(OR(F6=\"\",N6=\"\")=TRUE,\"\",IF(OR(F6=FALSE,N6=FALSE)=TRUE,\"ERROR\",ROUND(IF(M6>U6,(M6+0.05)/(U6+0.05),(U6+0.05)/(M6+0.05)),2)))","v":4.5199999999999996},{"$f":"IF(V6=\"\",\"\",IF(V6>=Comboboxes!A$5,\"Pass\",IF(AND(V6>=Comboboxes!A$6,E6=\"Yes\"),\"Pass (large text)\",\"Fail\")))","v":"Pass"},"Text","Pass","N/A","N/A","Pass","N/A","N/A"]
["Header (Breadcrumb) / headings",null,"#333333","#EFEFEF","No",true,239,{"$f":"IF(G7/255<= 0.03928,G7/(255*12.92),(((G7/255)+0.055)/1.055)^2.4)","v":0.86315721345410235},239,{"$f":"IF(I7/255<= 0.03928,I7/(255*12.92),(((I7/255)+0.055)/1.055)^2.4)","v":0.86315721345410235},239,{"$f":"IF(K7/255<= 0.03928,K7/(255*12.92),(((K7/255)+0.055)/1.055)^2.4)","v":0.86315721345410235},{"$f":"(0.2126*H7)+(0.7152*J7)+(0.0722*L7)","v":0.86315721345410223},true,51,{"$f":"IF(O7/255<= 0.03928,O7/(255*12.92),(((O7/255)+0.055)/1.055)^2.4)","v":3.3104766570885055E-2},51,{"$f":"IF(Q7/255<= 0.03928,Q7/(255*12.92),(((Q7/255)+0.055)/1.055)^2.4)","v":3.3104766570885055E-2},51,{"$f":"IF(S7/255<= 0.03928,S7/(255*12.92),(((S7/255)+0.055)/1.055)^2.4)","v":3.3104766570885055E-2},{"$f":"(0.2126*P7)+(0.7152*R7)+(0.0722*T7)","v":3.3104766570885055E-2},10.99,{"$f":"IF(V7=\"\",\"\",IF(V7>=Comboboxes!A$5,\"Pass\",IF(AND(V7>=Comboboxes!A$6,E7=\"Yes\"),\"Pass (large text)\",\"Fail\")))","v":"Pass"},"Text","Pass","N/A","Pass","Pass","N/A","Pass"]
["Footer - Headings, text, links",null,"#FFFFFF","#1A1E21","No",true,26,1.0329823029626938E-2,30,1.2983032342173016E-2,33,1.5208514422912713E-2,1.2579639848555126E-2,true,255,1,255,1,255,1,1,16.78,{"$f":"IF(V8=\"\",\"\",IF(V8>=Comboboxes!A$5,\"Pass\",IF(AND(V8>=Comboboxes!A$6,E8=\"Yes\"),\"Pass (large text)\",\"Fail\")))","v":"Pass"},"Text","Pass","Pass","N/A","N/A","N/A","N/A"]
["Text",null,"#FFFFFF","#333333","No",true,51,3.3104766570885055E-2,51,3.3104766570885055E-2,51,3.3104766570885055E-2,3.3104766570885055E-2,true,255,1,255,1,255,1,1,12.63,{"$f":"IF(V9=\"\",\"\",IF(V9>=Comboboxes!A$5,\"Pass\",IF(AND(V9>=Comboboxes!A$6,E9=\"Yes\"),\"Pass (large text)\",\"Fail\")))","v":"Pass"},"Text","N/A","N/A","Pass","Pass","Pass","Pass"]
["Text",null,"#FFFFFF","#E7135D","No",true,231,0.79910273801440901,19,6.5120907925944761E-3,93,0.10946171077829935,0.18244982495492015,true,255,1,255,1,255,1,1,4.5199999999999996,{"$f":"IF(V10=\"\",\"\",IF(V10>=Comboboxes!A$5,\"Pass\",IF(AND(V10>=Comboboxes!A$6,E10=\"Yes\"),\"Pass (large text)\",\"Fail\")))","v":"Pass"},"Text","N/A","N/A","Pass","N/A","Pass","N/A"]
["Step-by-step",null,"#FFFFFF","#1D3F4D","Yes",true,29,1.2286488356915874E-2,63,4.9706565984127239E-2,77,7.4213568380149628E-2,4.3520463053574918E-2,true,255,1,255,1,255,1,1,{"$f":"IF(OR(F11=\"\",N11=\"\")=TRUE,\"\",IF(OR(F11=FALSE,N11=FALSE)=TRUE,\"ERROR\",ROUND(IF(M11>U11,(M11+0.05)/(U11+0.05),(U11+0.05)/(M11+0.05)),2)))","v":11.23},{"$f":"IF(V11=\"\",\"\",IF(V11>=Comboboxes!A$5,\"Pass\",IF(AND(V11>=Comboboxes!A$6,E11=\"Yes\"),\"Pass (large text)\",\"Fail\")))","v":"Pass"},"Text","N/A","N/A","N/A","N/A","N/A","Pass"]
["Step-by-step",null,"#FFFFFF","#25D366","Yes",true,37,{"$f":"IF(G12/255<= 0.03928,G12/(255*12.92),(((G12/255)+0.055)/1.055)^2.4)","v":1.8500220128379697E-2},211,{"$f":"IF(I12/255<= 0.03928,I12/(255*12.92),(((I12/255)+0.055)/1.055)^2.4)","v":0.65140563741982416},102,{"$f":"IF(K12/255<= 0.03928,K12/(255*12.92),(((K12/255)+0.055)/1.055)^2.4)","v":0.13286832155381798},{"$f":"(0.2126*H12)+(0.7152*J12)+(0.0722*L12)","v":0.47941155149813736},true,255,{"$f":"IF(O12/255<= 0.03928,O12/(255*12.92),(((O12/255)+0.055)/1.055)^2.4)","v":1},255,{"$f":"IF(Q12/255<= 0.03928,Q12/(255*12.92),(((Q12/255)+0.055)/1.055)^2.4)","v":1},255,{"$f":"IF(S12/255<= 0.03928,S12/(255*12.92),(((S12/255)+0.055)/1.055)^2.4)","v":1},{"$f":"(0.2126*P12)+(0.7152*R12)+(0.0722*T12)","v":1},{"$f":"IF(OR(F12=\"\",N12=\"\")=TRUE,\"\",IF(OR(F12=FALSE,N12=FALSE)=TRUE,\"ERROR\",ROUND(IF(M12>U12,(M12+0.05)/(U12+0.05),(U12+0.05)/(M12+0.05)),2)))","v":1.98},{"$f":"IF(V12=\"\",\"\",IF(V12>=Comboboxes!A$5,\"Pass\",IF(AND(V12>=Comboboxes!A$6,E12=\"Yes\"),\"Pass (large text)\",\"Fail\")))","v":"Fail"},"Text","N/A","N/A","N/A","N/A","N/A","Fail"]
["Step-by-step",null,"#FFFFFF","#9E0059","Yes",true,158,0.34191442490866097,0,0,89,9.9898728247113905E-2,7.9903694915022944E-2,true,255,1,255,1,255,1,1,8.08,{"$f":"IF(V13=\"\",\"\",IF(V13>=Comboboxes!A$5,\"Pass\",IF(AND(V13>=Comboboxes!A$6,E13=\"Yes\"),\"Pass (large text)\",\"Fail\")))","v":"Pass"},"Text","N/A","N/A","N/A","N/A","N/A","Pass"]
[null,null,null,null,null,"",0,0,0,0,0,0,0,"",0,0,0,0,0,0,0,"",{"$f":"IF(V14=\"\",\"\",IF(V14>=Comboboxes!A$5,\"Pass\",IF(AND(V14>=Comboboxes!A$6,E14=\"Yes\"),\"Pass (large text)\",\"Fail\")))","v":""},"Text"]
[null,null,null,null,null,"",0,0,0,0,0,0,0,"",0,0,0,0,0,0,0,"",{"$f":"IF(V15=\"\",\"\",IF(V15>=Comboboxes!A$5,\"Pass\",IF(AND(V15>=Comboboxes!A$6,E15=\"Yes\"),\"Pass (large text)\",\"Fail\")))","v":""},"Text"]
[null,null,null,null,null,"",0,0,0,0,0,0,0,"",0,0,0,0,0,0,0,"",{"$f":"IF(V16=\"\",\"\",IF(V16>=Comboboxes!A$5,\"Pass\",IF(AND(V16>=Comboboxes!A$6,E16=\"Yes\"),\"Pass (large text)\",\"Fail\")))","v":""},"Text"]
[null,null,null,null,null,"",0,0,0,0,0,0,0,"",0,0,0,0,0,0,0,"",{"$f":"IF(V17=\"\",\"\",IF(V17>=Comboboxes!A$5,\"Pass\",IF(AND(V17>=Comboboxes!A$6,E17=\"Yes\"),\"Pass (large text)\",\"Fail\")))","v":""},"Text"]
[null,null,null,null,null,"",0,0,0,0,0,0,0,"",0,0,0,0,0,0,0,"",{"$f":"IF(V18=\"\",\"\",IF(V18>=Comboboxes!A$5,\"Pass\",IF(AND(V18>=Comboboxes!A$6,E18=\"Yes\"),\"Pass (large text)\",\"Fail\")))","v":""},"Text"]
[null,null,null,null,null,"",0,0,0,0,0,0,0,"",0,0,0,0,0,0,0,"",{"$f":"IF(V19=\"\",\"\",IF(V19>=Comboboxes!A$5,\"Pass\",IF(AND(V19>=Comboboxes!A$6,E19=\"Yes\"),\"Pass (large text)\",\"Fail\")))","v":""},"Text"]
[null,null,null,null,null,"",0,0,0,0,0,0,0,"",0,0,0,0,0,0,0,"",{"$f":"IF(V20=\"\",\"\",IF(V20>=Comboboxes!A$5,\"Pass\",IF(AND(V20>=Comboboxes!A$6,E20=\"Yes\"),\"Pass (large text)\",\"Fail\")))","v":""},"Text"]
[null,null,null,null,null,"",0,0,0,0,0,0,0,"",0,0,0,0,0,0,0,"",{"$f":"IF(V21=\"\",\"\",IF(V21>=Comboboxes!A$5,\"Pass\",IF(AND(V21>=Comboboxes!A$6,E21=\"Yes\"),\"Pass (large text)\",\"Fail\")))","v":""},"Text"]
[null,null,null,null,null,"",0,0,0,0,0,0,0,"",0,0,0,0,0,0,0,"",{"$f":"IF(V22=\"\",\"\",IF(V22>=Comboboxes!A$5,\"Pass\",IF(AND(V22>=Comboboxes!A$6,E22=\"Yes\"),\"Pass (large text)\",\"Fail\")))","v":""},"Text"]
[null,null,null,null,null,"",0,0,0,0,0,0,0,"",0,0,0,0,0,0,0,"",{"$f":"IF(V23=\"\",\"\",IF(V23>=Comboboxes!A$5,\"Pass\",IF(AND(V23>=Comboboxes!A$6,E23=\"Yes\"),\"Pass (large text)\",\"Fail\")))","v":""},"Text"]
[null,null,null,null,null,"",0,0,0,0,0,0,0,"",0,0,0,0,0,0,0,"",{"$f":"IF(V24=\"\",\"\",IF(V24>=Comboboxes!A$5,\"Pass\",IF(AND(V24>=Comboboxes!A$6,E24=\"Yes\"),\"Pass (large text)\",\"Fail\")))","v":""},"Text"]
[null,null,null,null,null,"",0,0,0,0,0,0,0,"",0,0,0,0,0,0,0,"",{"$f":"IF(V25=\"\",\"\",IF(V25>=Comboboxes!A$5,\"Pass\",IF(AND(V25>=Comboboxes!A$6,E25=\"Yes\"),\"Pass (large text)\",\"Fail\")))","v":""},"Text"]
[null,null,null,null,null,"",0,0,0,0,0,0,0,"",0,0,0,0,0,0,0,"",{"$f":"IF(V26=\"\",\"\",IF(V26>=Comboboxes!A$5,\"Pass\",IF(AND(V26>=Comboboxes!A$6,E26=\"Yes\"),\"Pass (large text)\",\"Fail\")))","v":""},"Text"]
[null,null,null,null,null,"",0,0,0,0,0,0,0,"",0,0,0,0,0,0,0,"",{"$f":"IF(V27=\"\",\"\",IF(V27>=Comboboxes!A$5,\"Pass\",IF(AND(V27>=Comboboxes!A$6,E27=\"Yes\"),\"Pass (large text)\",\"Fail\")))","v":""},"Text"]
[null,null,null,null,null,"",0,0,0,0,0,0,0,"",0,0,0,0,0,0,0,"",{"$f":"IF(V28=\"\",\"\",IF(V28>=Comboboxes!A$5,\"Pass\",IF(AND(V28>=Comboboxes!A$6,E28=\"Yes\"),\"Pass (large text)\",\"Fail\")))","v":""},"Text"]
[null,null,null,null,null,"",0,0,0,0,0,0,0,"",0,0,0,0,0,0,0,"",{"$f":"IF(V29=\"\",\"\",IF(V29>=Comboboxes!A$5,\"Pass\",IF(AND(V29>=Comboboxes!A$6,E29=\"Yes\"),\"Pass (large text)\",\"Fail\")))","v":""},"Text"]
[null,null,null,null,null,"",0,0,0,0,0,0,{"$f":"(0.2126*H30)+(0.7152*J30)+(0.0722*L30)","v":0},"",0,0,0,0,0,0,{"$f":"(0.2126*P30)+(0.7152*R30)+(0.0722*T30)","v":0},"",{"$f":"IF(V30=\"\",\"\",IF(V30>=Comboboxes!A$5,\"Pass\",IF(AND(V30>=Comboboxes!A$6,E30=\"Yes\"),\"Pass (large text)\",\"Fail\")))","v":""},"Text"]
[null,null,null,null,null,"",0,0,0,0,0,0,0,"",0,0,0,0,0,0,0,"",{"$f":"IF(V31=\"\",\"\",IF(V31>=Comboboxes!A$5,\"Pass\",IF(AND(V31>=Comboboxes!A$6,E31=\"Yes\"),\"Pass (large text)\",\"Fail\")))","v":""},"Text"]
[null,null,null,null,null,"",0,0,0,0,0,0,0,"",0,0,0,0,0,0,0,"",{"$f":"IF(V32=\"\",\"\",IF(V32>=Comboboxes!A$5,\"Pass\",IF(AND(V32>=Comboboxes!A$6,E32=\"Yes\"),\"Pass (large text)\",\"Fail\")))","v":""},"Text"]
[null,null,null,null,null,"",0,0,0,0,0,0,0,"",0,0,0,0,0,0,0,"",{"$f":"IF(V33=\"\",\"\",IF(V33>=Comboboxes!A$5,\"Pass\",IF(AND(V33>=Comboboxes!A$6,E33=\"Yes\"),\"Pass (large text)\",\"Fail\")))","v":""},"Text"]
[null,null,null,null,null,"",0,0,0,0,0,0,0,"",0,0,0,0,0,0,0,"",{"$f":"IF(V34=\"\",\"\",IF(V34>=Comboboxes!A$5,\"Pass\",IF(AND(V34>=Comboboxes!A$6,E34=\"Yes\"),\"Pass (large text)\",\"Fail\")))","v":""},"Text"]
[null,null,null,null,null,"",0,0,0,0,0,0,0,"",0,0,0,0,0,0,0,"",{"$f":"IF(V35=\"\",\"\",IF(V35>=Comboboxes!A$5,\"Pass\",IF(AND(V35>=Comboboxes!A$6,E35=\"Yes\"),\"Pass (large text)\",\"Fail\")))","v":""},"Text"]
[null,null,null,null,null,"",0,0,0,0,0,0,0,"",0,0,0,0,0,0,0,"",{"$f":"IF(V36=\"\",\"\",IF(V36>=Comboboxes!A$5,\"Pass\",IF(AND(V36>=Comboboxes!A$6,E36=\"Yes\"),\"Pass (large text)\",\"Fail\")))","v":""},"Text"]
[null,null,null,null,null,{"$f":"IF(LEN(D37)=0,\"\",AND(LEFT(D37,1)=\"#\",LEN(D37)=7))","v":""},{"$f":"HEX2DEC(RIGHT(LEFT(D37,3),2))","v":0},0,{"$f":"HEX2DEC(RIGHT(LEFT(D37,5),2))","v":0},0,{"$f":"HEX2DEC(RIGHT(D37,2))","v":0},0,0,{"$f":"IF(LEN(C37)=0,\"\",AND(LEFT(C37,1)=\"#\",LEN(C37)=7))","v":""},{"$f":"HEX2DEC(RIGHT(LEFT(C37,3),2))","v":0},0,{"$f":"HEX2DEC(RIGHT(LEFT(C37,5),2))","v":0},0,{"$f":"HEX2DEC(RIGHT(C37,2))","v":0},0,0,"",{"$f":"IF(V37=\"\",\"\",IF(V37>=Comboboxes!A$5,\"Pass\",IF(AND(V37>=Comboboxes!A$6,E37=\"Yes\"),\"Pass (large text)\",\"Fail\")))","v":""},"Text"]
[null,null,null,null,null,"",0,0,0,0,0,0,0,"",0,0,0,0,0,0,0,"",{"$f":"IF(V38=\"\",\"\",IF(V38>=Comboboxes!A$5,\"Pass\",IF(AND(V38>=Comboboxes!A$6,E38=\"Yes\"),\"Pass (large text)\",\"Fail\")))","v":""},"Text"]
[null,null,null,null,null,"",0,0,0,0,0,0,0,"",0,0,0,0,0,0,0,"",{"$f":"IF(V39=\"\",\"\",IF(V39>=Comboboxes!A$5,\"Pass\",IF(AND(V39>=Comboboxes!A$6,E39=\"Yes\"),\"Pass (large text)\",\"Fail\")))","v":""},"Text"]
[null,null,null,null,null,"",0,0,0,0,0,0,0,"",0,0,0,0,0,0,0,"",{"$f":"IF(V40=\"\",\"\",IF(V40>=Comboboxes!A$5,\"Pass\",IF(AND(V40>=Comboboxes!A$6,E40=\"Yes\"),\"Pass (large text)\",\"Fail\")))","v":""},"Text"]
[null,null,null,null,null,"",0,0,0,0,0,0,0,"",0,0,0,0,0,0,0,"",{"$f":"IF(V41=\"\",\"\",IF(V41>=Comboboxes!A$5,\"Pass\",IF(AND(V41>=Comboboxes!A$6,E41=\"Yes\"),\"Pass (large text)\",\"Fail\")))","v":""},"Text"]
[null,null,null,null,null,"",0,0,0,0,0,0,{"$f":"(0.2126*H42)+(0.7152*J42)+(0.0722*L42)","v":0},"",0,0,0,0,0,0,{"$f":"(0.2126*P42)+(0.7152*R42)+(0.0722*T42)","v":0},{"$f":"IF(OR(F42=\"\",N42=\"\")=TRUE,\"\",IF(OR(F42=FALSE,N42=FALSE)=TRUE,\"ERROR\",ROUND(IF(M42>U42,(M42+0.05)/(U42+0.05),(U42+0.05)/(M42+0.05)),2)))","v":""},{"$f":"IF(V42=\"\",\"\",IF(V42>=Comboboxes!A$5,\"Pass\",IF(AND(V42>=Comboboxes!A$6,E42=\"Yes\"),\"Pass (large text)\",\"Fail\")))","v":""}]
[null,null,null,null,null,"",0,0,0,0,0,0,0,"",0,0,0,0,0,0,0,"",{"$f":"IF(V43=\"\",\"\",IF(V43>=Comboboxes!A$5,\"Pass\",IF(AND(V43>=Comboboxes!A$6,E43=\"Yes\"),\"Pass (large text)\",\"Fail\")))","v":""}]
[null,null,null,null,null,"",0,0,0,0,0,0,0,"",0,0,0,0,0,0,0,"",{"$f":"IF(V44=\"\",\"\",IF(V44>=Comboboxes!A$5,\"Pass\",IF(AND(V44>=Comboboxes!A$6,E44=\"Yes\"),\"Pass (large text)\",\"Fail\")))","v":""}]
[null,null,null,null,null,"",0,0,0,0,0,0,0,"",0,0,0,0,0,0,0,"",{"$f":"IF(V45=\"\",\"\",IF(V45>=Comboboxes!A$5,\"Pass\",IF(AND(V45>=Comboboxes!A$6,E45=\"Yes\"),\"Pass (large text)\",\"Fail\")))","v":""}]
[null,null,null,null,null,"",0,0,0,0,0,0,0,"",0,0,0,0,0,0,0,"",{"$f":"IF(V46=\"\",\"\",IF(V46>=Comboboxes!A$5,\"Pass\",IF(AND(V46>=Comboboxes!A$6,E46=\"Yes\"),\"Pass (large text)\",\"Fail\")))","v":""}]
[null,null,null,null,null,"",0,0,0,0,0,0,0,"",0,0,0,0,0,0,0,"",{"$f":"IF(V47=\"\",\"\",IF(V47>=Comboboxes!A$5,\"Pass\",IF(AND(V47>=Comboboxes!A$6,E47=\"Yes\"),\"Pass (large text)\",\"Fail\")))","v":""}]
[null,null,null,null,null,"",0,0,0,0,0,0,0,"",0,0,0,0,0,0,0,"",{"$f":"IF(V48=\"\",\"\",IF(V48>=Comboboxes!A$5,\"Pass\",IF(AND(V48>=Comboboxes!A$6,E48=\"Yes\"),\"Pass (large text)\",\"Fail\")))","v":""}]
[null,null,null,null,null,"",0,0,0,0,0,0,0,"",0,0,0,0,0,0,0,"",{"$f":"IF(V49=\"\",\"\",IF(V49>=Comboboxes!A$5,\"Pass\",IF(AND(V49>=Comboboxes!A$6,E49=\"Yes\"),\"Pass (large text)\",\"Fail\")))","v":""}]
[null,null,null,null,null,"",0,0,0,0,0,0,0,"",0,0,0,0,0,0,0,"",{"$f":"IF(V50=\"\",\"\",IF(V50>=Comboboxes!A$5,\"Pass\",IF(AND(V50>=Comboboxes!A$6,E50=\"Yes\"),\"Pass (large text)\",\"Fail\")))","v":""}]
[null,null,null,null,null,"",0,0,0,0,0,0,0,"",0,0,0,0,0,0,0,"",{"$f":"IF(V51=\"\",\"\",IF(V51>=Comboboxes!A$5,\"Pass\",IF(AND(V51>=Comboboxes!A$6,E51=\"Yes\"),\"Pass (large text)\",\"Fail\")))","v":""}]
[null,null,null,null,null,"",0,0,0,0,0,0,0,"",0,0,0,0,0,0,0,"",{"$f":"IF(V52=\"\",\"\",IF(V52>=Comboboxes!A$5,\"Pass\",IF(AND(V52>=Comboboxes!A$6,E52=\"Yes\"),\"Pass (large text)\",\"Fail\")))","v":""}]
[null,null,null,null,null,"",0,0,0,0,0,0,0,"",0,0,0,0,0,0,0,"",{"$f":"IF(V53=\"\",\"\",IF(V53>=Comboboxes!A$5,\"Pass\",IF(AND(V53>=Comboboxes!A$6,E53=\"Yes\"),\"Pass (large text)\",\"Fail\")))","v":""}]
[null,null,null,null,null,"",0,0,0,0,0,0,0,"",0,0,0,0,0,0,0,"",{"$f":"IF(V54=\"\",\"\",IF(V54>=Comboboxes!A$5,\"Pass\",IF(AND(V54>=Comboboxes!A$6,E54=\"Yes\"),\"Pass (large text)\",\"Fail\")))","v":""}]
[null,null,null,null,null,"",0,0,0,0,0,0,0,"",0,0,0,0,0,0,0,"",{"$f":"IF(V55=\"\",\"\",IF(V55>=Comboboxes!A$5,\"Pass\",IF(AND(V55>=Comboboxes!A$6,E55=\"Yes\"),\"Pass (large text)\",\"Fail\")))","v":""}]
[null,null,null,null,null,"",0,0,0,0,0,0,0,"",0,0,0,0,0,0,0,"",{"$f":"IF(V56=\"\",\"\",IF(V56>=Comboboxes!A$5,\"Pass\",IF(AND(V56>=Comboboxes!A$6,E56=\"Yes\"),\"Pass (large text)\",\"Fail\")))","v":""}]
[null,null,null,null,null,"",0,0,0,0,0,0,0,"",0,0,0,0,0,0,0,"",{"$f":"IF(V57=\"\",\"\",IF(V57>=Comboboxes!A$5,\"Pass\",IF(AND(V57>=Comboboxes!A$6,E57=\"Yes\"),\"Pass (large text)\",\"Fail\")))","v":""}]
[null,null,null,null,null,"",0,0,0,0,0,0,0,"",0,0,0,0,0,0,0,"",{"$f":"IF(V58=\"\",\"\",IF(V58>=Comboboxes!A$5,\"Pass\",IF(AND(V58>=Comboboxes!A$6,E58=\"Yes\"),\"Pass (large text)\",\"Fail\")))","v":""}]
[null,null,null,null,null,"",0,0,0,0,0,0,0,"",0,0,0,0,0,0,0,"",{"$f":"IF(V59=\"\",\"\",IF(V59>=Comboboxes!A$5,\"Pass\",IF(AND(V59>=Comboboxes!A$6,E59=\"Yes\"),\"Pass (large text)\",\"Fail\")))","v":""}]
[null,null,null,null,null,"",0,0,0,0,0,0,0,"",0,0,0,0,0,0,0,"",{"$f":"IF(V60=\"\",\"\",IF(V60>=Comboboxes!A$5,\"Pass\",IF(AND(V60>=Comboboxes!A$6,E60=\"Yes\"),\"Pass (large text)\",\"Fail\")))","v":""}]
[null,null,null,null,null,"",0,0,0,0,0,0,0,"",0,0,0,0,0,0,0,"",{"$f":"IF(V61=\"\",\"\",IF(V61>=Comboboxes!A$5,\"Pass\",IF(AND(V61>=Comboboxes!A$6,E61=\"Yes\"),\"Pass (large text)\",\"Fail\")))","v":""}]
[null,null,null,null,null,"",0,0,0,0,0,0,0,"",0,0,0,0,0,0,0,"",{"$f":"IF(V62=\"\",\"\",IF(V62>=Comboboxes!A$5,\"Pass\",IF(AND(V62>=Comboboxes!A$6,E62=\"Yes\"),\"Pass (large text)\",\"Fail\")))","v":""}]
[null,null,null,null,null,"",0,0,0,0,0,0,0,"",0,0,0,0,0,0,0,"",{"$f":"IF(V63=\"\",\"\",IF(V63>=Comboboxes!A$5,\"Pass\",IF(AND(V63>=Comboboxes!A$6,E63=\"Yes\"),\"Pass (large text)\",\"Fail\")))","v":""}]
[null,null,null,null,null,"",0,0,0,0,0,0,0,"",0,0,0,0,0,0,0,"",{"$f":"IF(V64=\"\",\"\",IF(V64>=Comboboxes!A$5,\"Pass\",IF(AND(V64>=Comboboxes!A$6,E64=\"Yes\"),\"Pass (large text)\",\"Fail\")))","v":""}]
[null,null,null,null,null,"",0,0,0,0,0,0,0,"",0,0,0,0,0,0,0,"",{"$f":"IF(V65=\"\",\"\",IF(V65>=Comboboxes!A$5,\"Pass\",IF(AND(V65>=Comboboxes!A$6,E65=\"Yes\"),\"Pass (large text)\",\"Fail\")))","v":""}]
[null,null,null,null,null,"",0,0,0,0,0,0,0,"",0,0,0,0,0,0,0,"",{"$f":"IF(V66=\"\",\"\",IF(V66>=Comboboxes!A$5,\"Pass\",IF(AND(V66>=Comboboxes!A$6,E66=\"Yes\"),\"Pass (large text)\",\"Fail\")))","v":""}]
[null,null,null,null,null,"",0,0,0,0,0,0,0,"",0,0,0,0,0,0,0,"",{"$f":"IF(V67=\"\",\"\",IF(V67>=Comboboxes!A$5,\"Pass\",IF(AND(V67>=Comboboxes!A$6,E67=\"Yes\"),\"Pass (large text)\",\"Fail\")))","v":""}]
[null,null,null,null,null,"",0,0,0,0,0,0,0,"",0,0,0,0,0,0,0,"",{"$f":"IF(V68=\"\",\"\",IF(V68>=Comboboxes!A$5,\"Pass\",IF(AND(V68>=Comboboxes!A$6,E68=\"Yes\"),\"Pass (large text)\",\"Fail\")))","v":""}]
[null,null,null,null,null,"",0,0,0,0,0,0,{"$f":"(0.2126*H69)+(0.7152*J69)+(0.0722*L69)","v":0},"",0,0,0,0,0,0,{"$f":"(0.2126*P69)+(0.7152*R69)+(0.0722*T69)","v":0},{"$f":"IF(OR(F69=\"\",N69=\"\")=TRUE,\"\",IF(OR(F69=FALSE,N69=FALSE)=TRUE,\"ERROR\",ROUND(IF(M69>U69,(M69+0.05)/(U69+0.05),(U69+0.05)/(M69+0.05)),2)))","v":""},{"$f":"IF(V69=\"\",\"\",IF(V69>=Comboboxes!A$5,\"Pass\",IF(AND(V69>=Comboboxes!A$6,E69=\"Yes\"),\"Pass (large text)\",\"Fail\")))","v":""}]
[null,null,null,null,null,"",0,0,0,0,0,0,{"$f":"(0.2126*H70)+(0.7152*J70)+(0.0722*L70)","v":0},"",0,0,0,0,0,0,{"$f":"(0.2126*P70)+(0.7152*R70)+(0.0722*T70)","v":0},{"$f":"IF(OR(F70=\"\",N70=\"\")=TRUE,\"\",IF(OR(F70=FALSE,N70=FALSE)=TRUE,\"ERROR\",ROUND(IF(M70>U70,(M70+0.05)/(U70+0.05),(U70+0.05)/(M70+0.05)),2)))","v":""},{"$f":"IF(V70=\"\",\"\",IF(V70>=Comboboxes!A$5,\"Pass\",IF(AND(V70>=Comboboxes!A$6,E70=\"Yes\"),\"Pass (large text)\",\"Fail\")))","v":""}]
[]
["Colour combinations shown in pink do not meet the contrast ratio (4.5:1 Minimum) recommended by W3C WCAG 2.0"]
[]
["Note that a contrast ratio of 3:1 is acceptable for large text e.g. 14 point bold or 18 point normal weight."]

{"sheet":"Non-text Contrast","index":6,"n_rows":74,"n_cols":176,"rows_kept":74,"cut":false,"hidden":false,"merged":[[0,0,1,6]]}
["\nColour Contrast Analysis for combinations\nof adjacent colours",null,null,null,null,null,null,null,null,null,null,null,null,null,null,null,null,null,null,null,null,null,null,null,null,null,{"$f":"IF(INDIRECT(\"'Statistics'!\" & ADDRESS(COLUMN()-12,2))=\"\",\"\",INDIRECT(\"'Statistics'!\" & ADDRESS(COLUMN()-12,2)))","v":"Header"},{"$f":"IF(INDIRECT(\"'Statistics'!\" & ADDRESS(COLUMN()-12,2))=\"\",\"\",INDIRECT(\"'Statistics'!\" & ADDRESS(COLUMN()-12,2)))","v":"Footer"},{"$f":"IF(INDIRECT(\"'Statistics'!\" & ADDRESS(COLUMN()-12,2))=\"\",\"\",INDIRECT(\"'Statistics'!\" & ADDRESS(COLUMN()-12,2)))","v":"Home page"},{"$f":"IF(INDIRECT(\"'Statistics'!\" & ADDRESS(COLUMN()-12,2))=\"\",\"\",INDIRECT(\"'Statistics'!\" & ADDRESS(COLUMN()-12,2)))","v":"Search - Find a volunteering role"},{"$f":"IF(INDIRECT(\"'Statistics'!\" & ADDRESS(COLUMN()-12,2))=\"\",\"\",INDIRECT(\"'Statistics'!\" & ADDRESS(COLUMN()-12,2)))","v":"Opportunity page"},{"$f":"IF(INDIRECT(\"'Statistics'!\" & ADDRESS(COLUMN()-12,2))=\"\",\"\",INDIRECT(\"'Statistics'!\" & ADDRESS(COLUMN()-12,2)))","v":"Find volunteers"},{"$f":"IF(INDIRECT(\"'Statistics'!\" & ADDRESS(COLUMN()-12,2))=\"\",\"\",INDIRECT(\"'Statistics'!\" & ADDRESS(COLUMN()-12,2)))","v":"Page 7"},{"$f":"IF(INDIRECT(\"'Statistics'!\" & ADDRESS(COLUMN()-12,2))=\"\",\"\",INDIRECT(\"'Statistics'!\" & ADDRESS(COLUMN()-12,2)))","v":"Page 8"},{"$f":"IF(INDIRECT(\"'Statistics'!\" & ADDRESS(COLUMN()-12,2))=\"\",\"\",INDIRECT(\"'Statistics'!\" & ADDRESS(COLUMN()-12,2)))","v":"Page 9"},{"$f":"IF(INDIRECT(\"'Statistics'!\" & ADDRESS(COLUMN()-12,2))=\"\",\"\",INDIRECT(\"'Statistics'!\" & ADDRESS(COLUMN()-12,2)))","v":"Page 10"},{"$f":"IF(INDIRECT(\"'Statistics'!\" & ADDRESS(COLUMN()-12,2))=\"\",\"\",INDIRECT(\"'Statistics'!\" & ADDRESS(COLUMN()-12,2)))","v":"Page 11"},{"$f":"IF(INDIRECT(\"'Statistics'!\" & ADDRESS(COLUMN()-12,2))=\"\",\"\",INDIRECT(\"'Statistics'!\" & ADDRESS(COLUMN()-12,2)))","v":"Page 12"},{"$f":"IF(INDIRECT(\"'Statistics'!\" & ADDRESS(COLUMN()-12,2))=\"\",\"\",INDIRECT(\"'Statistics'!\" & ADDRESS(COLUMN()-12,2)))","v":"Page 13"},{"$f":"IF(INDIRECT(\"'Statistics'!\" & ADDRESS(COLUMN()-12,2))=\"\",\"\",INDIRECT(\"'Statistics'!\" & ADDRESS(COLUMN()-12,2)))","v":"Page 14"},{"$f":"IF(INDIRECT(\"'Statistics'!\" & ADDRESS(COLUMN()-12,2))=\"\",\"\",INDIRECT(\"'Statistics'!\" & ADDRESS(COLUMN()-12,2)))","v":"Page 15"},{"$f":"IF(INDIRECT(\"'Statistics'!\" & ADDRESS(COLUMN()-12,2))=\"\",\"\",INDIRECT(\"'Statistics'!\" & ADDRESS(COLUMN()-12,2)))","v":"Page 16"},{"$f":"IF(INDIRECT(\"'Statistics'!\" & ADDRESS(COLUMN()-12,2))=\"\",\"\",INDIRECT(\"'Statistics'!\" & ADDRESS(COLUMN()-12,2)))","v":"Page 17"},{"$f":"IF(INDIRECT(\"'Statistics'!\" & ADDRESS(COLUMN()-12,2))=\"\",\"\",INDIRECT(\"'Statistics'!\" & ADDRESS(COLUMN()-12,2)))","v":"Page 18"},{"$f":"IF(INDIRECT(\"'Statistics'!\" & ADDRESS(COLUMN()-12,2))=\"\",\"\",INDIRECT(\"'Statistics'!\" & ADDRESS(COLUMN()-12,2)))","v":"Page 19"},{"$f":"IF(INDIRECT(\"'Statistics'!\" & ADDRESS(COLUMN()-12,2))=\"\",\"\",INDIRECT(\"'Statistics'!\" & ADDRESS(COLUMN()-12,2)))","v":"Page 20"},{"$f":"IF(INDIRECT(\"'Statistics'!\" & ADDRESS(COLUMN()-12,2))=\"\",\"\",INDIRECT(\"'Statistics'!\" & ADDRESS(COLUMN()-12,2)))","v":"Page 21"},{"$f":"IF(INDIRECT(\"'Statistics'!\" & ADDRESS(COLUMN()-12,2))=\"\",\"\",INDIRECT(\"'Statistics'!\" & ADDRESS(COLUMN()-12,2)))","v":"Page 22"},{"$f":"IF(INDIRECT(\"'Statistics'!\" & ADDRESS(COLUMN()-12,2))=\"\",\"\",INDIRECT(\"'Statistics'!\" & ADDRESS(COLUMN()-12,2)))","v":"Page 23"},{"$f":"IF(INDIRECT(\"'Statistics'!\" & ADDRESS(COLUMN()-12,2))=\"\",\"\",INDIRECT(\"'Statistics'!\" & ADDRESS(COLUMN()-12,2)))","v":"Page 24"},{"$f":"IF(INDIRECT(\"'Statistics'!\" & ADDRESS(COLUMN()-12,2))=\"\",\"\",INDIRECT(\"'Statistics'!\" & ADDRESS(COLUMN()-12,2)))","v":"Page 25"},{"$f":"IF(INDIRECT(\"'Statistics'!\" & ADDRESS(COLUMN()-12,2))=\"\",\"\",INDIRECT(\"'Statistics'!\" & ADDRESS(COLUMN()-12,2)))","v":"Page 26"},{"$f":"IF(INDIRECT(\"'Statistics'!\" & ADDRESS(COLUMN()-12,2))=\"\",\"\",INDIRECT(\"'Statistics'!\" & ADDRESS(COLUMN()-12,2)))","v":"Page 27"},{"$f":"IF(INDIRECT(\"'Statistics'!\" & ADDRESS(COLUMN()-12,2))=\"\",\"\",INDIRECT(\"'Statistics'!\" & ADDRESS(COLUMN()-12,2)))","v":"Page 28"},{"$f":"IF(INDIRECT(\"'Statistics'!\" & ADDRESS(COLUMN()-12,2))=\"\",\"\",INDIRECT(\"'Statistics'!\" & ADDRESS(COLUMN()-12,2)))","v":"Page 29"},{"$f":"IF(INDIRECT(\"'Statistics'!\" & ADDRESS(COLUMN()-12,2))=\"\",\"\",INDIRECT(\"'Statistics'!\" & ADDRESS(COLUMN()-12,2)))","v":"Page 30"},{"$f":"IF(INDIRECT(\"'Statistics'!\" & ADDRESS(COLUMN()-12,2))=\"\",\"\",INDIRECT(\"'Statistics'!\" & ADDRESS(COLUMN()-12,2)))","v":"Page 31"},{"$f":"IF(INDIRECT(\"'Statistics'!\" & ADDRESS(COLUMN()-12,2))=\"\",\"\",INDIRECT(\"'Statistics'!\" & ADDRESS(COLUMN()-12,2)))","v":"Page 32"},{"$f":"IF(INDIRECT(\"'Statistics'!\" & ADDRESS(COLUMN()-12,2))=\"\",\"\",INDIRECT(\"'Statistics'!\" & ADDRESS(COLUMN()-12,2)))","v":"Page 33"},{"$f":"IF(INDIRECT(\"'Statistics'!\" & ADDRESS(COLUMN()-12,2))=\"\",\"\",INDIRECT(\"'Statistics'!\" & ADDRESS(COLUMN()-12,2)))","v":"Page 34"},{"$f":"IF(INDIRECT(\"'Statistics'!\" & ADDRESS(COLUMN()-12,2))=\"\",\"\",INDIRECT(\"'Statistics'!\" & ADDRESS(COLUMN()-12,2)))","v":"Page 35"},{"$f":"IF(INDIRECT(\"'Statistics'!\" & ADDRESS(COLUMN()-12,2))=\"\",\"\",INDIRECT(\"'Statistics'!\" & ADDRESS(COLUMN()-12,2)))","v":"Page 36"},{"$f":"IF(INDIRECT(\"'Statistics'!\" & ADDRESS(COLUMN()-12,2))=\"\",\"\",INDIRECT(\"'Statistics'!\" & ADDRESS(COLUMN()-12,2)))","v":"Page 37"},{"$f":"IF(INDIRECT(\"'Statistics'!\" & ADDRESS(COLUMN()-12,2))=\"\",\"\",INDIRECT(\"'Statistics'!\" & ADDRESS(COLUMN()-12,2)))","v":"Page 38"},{"$f":"IF(INDIRECT(\"'Statistics'!\" & ADDRESS(COLUMN()-12,2))=\"\",\"\",INDIRECT(\"'Statistics'!\" & ADDRESS(COLUMN()-12,2)))","v":"Page 39"},{"$f":"IF(INDIRECT(\"'Statistics'!\" & ADDRESS(COLUMN()-12,2))=\"\",\"\",INDIRECT(\"'Statistics'!\" & ADDRESS(COLUMN()-12,2)))","v":"Page 40"},{"$f":"IF(INDIRECT(\"'Statistics'!\" & ADDRESS(COLUMN()-12,2))=\"\",\"\",INDIRECT(\"'Statistics'!\" & ADDRESS(COLUMN()-12,2)))","v":"Page 41"},{"$f":"IF(INDIRECT(\"'Statistics'!\" & ADDRESS(COLUMN()-12,2))=\"\",\"\",INDIRECT(\"'Statistics'!\" & ADDRESS(COLUMN()-12,2)))","v":"Page 42"},{"$f":"IF(INDIRECT(\"'Statistics'!\" & ADDRESS(COLUMN()-12,2))=\"\",\"\",INDIRECT(\"'Statistics'!\" & ADDRESS(COLUMN()-12,2)))","v":"Page 43"},{"$f":"IF(INDIRECT(\"'Statistics'!\" & ADDRESS(COLUMN()-12,2))=\"\",\"\",INDIRECT(\"'Statistics'!\" & ADDRESS(COLUMN()-12,2)))","v":"Page 44"},{"$f":"IF(INDIRECT(\"'Statistics'!\" & ADDRESS(COLUMN()-12,2))=\"\",\"\",INDIRECT(\"'Statistics'!\" & ADDRESS(COLUMN()-12,2)))","v":"Page 45"},{"$f":"IF(INDIRECT(\"'Statistics'!\" & ADDRESS(COLUMN()-12,2))=\"\",\"\",INDIRECT(\"'Statistics'!\" & ADDRESS(COLUMN()-12,2)))","v":"Page 46"},{"$f":"IF(INDIRECT(\"'Statistics'!\" & ADDRESS(COLUMN()-12,2))=\"\",\"\",INDIRECT(\"'Statistics'!\" & ADDRESS(COLUMN()-12,2)))","v":"Page 47"},{"$f":"IF(INDIRECT(\"'Statistics'!\" & ADDRESS(COLUMN()-12,2))=\"\",\"\",INDIRECT(\"'Statistics'!\" & ADDRESS(COLUMN()-12,2)))","v":"Page 48"},{"$f":"IF(INDIRECT(\"'Statistics'!\" & ADDRESS(COLUMN()-12,2))=\"\",\"\",INDIRECT(\"'Statistics'!\" & ADDRESS(COLUMN()-12,2)))","v":"Page 49"},{"$f":"IF(INDIRECT(\"'Statistics'!\" & ADDRESS(COLUMN()-12,2))=\"\",\"\",INDIRECT(\"'Statistics'!\" & ADDRESS(COLUMN()-12,2)))","v":"Page 50"},{"$f":"IF(INDIRECT(\"'Statistics'!\" & ADDRESS(COLUMN()-12,2))=\"\",\"\",INDIRECT(\"'Statistics'!\" & ADDRESS(COLUMN()-12,2)))","v":"Page 51"},{"$f":"IF(INDIRECT(\"'Statistics'!\" & ADDRESS(COLUMN()-12,2))=\"\",\"\",INDIRECT(\"'Statistics'!\" & ADDRESS(COLUMN()-12,2)))","v":"Page 52"},{"$f":"IF(INDIRECT(\"'Statistics'!\" & ADDRESS(COLUMN()-12,2))=\"\",\"\",INDIRECT(\"'Statistics'!\" & ADDRESS(COLUMN()-12,2)))","v":"Page 53"},{"$f":"IF(INDIRECT(\"'Statistics'!\" & ADDRESS(COLUMN()-12,2))=\"\",\"\",INDIRECT(\"'Statistics'!\" & ADDRESS(COLUMN()-12,2)))","v":"Page 54"},{"$f":"IF(INDIRECT(\"'Statistics'!\" & ADDRESS(COLUMN()-12,2))=\"\",\"\",INDIRECT(\"'Statistics'!\" & ADDRESS(COLUMN()-12,2)))","v":"Page 55"},{"$f":"IF(INDIRECT(\"'Statistics'!\" & ADDRESS(COLUMN()-12,2))=\"\",\"\",INDIRECT(\"'Statistics'!\" & ADDRESS(COLUMN()-12,2)))","v":"Page 56"},{"$f":"IF(INDIRECT(\"'Statistics'!\" & ADDRESS(COLUMN()-12,2))=\"\",\"\",INDIRECT(\"'Statistics'!\" & ADDRESS(COLUMN()-12,2)))","v":"Page 57"},{"$f":"IF(INDIRECT(\"'Statistics'!\" & ADDRESS(COLUMN()-12,2))=\"\",\"\",INDIRECT(\"'Statistics'!\" & ADDRESS(COLUMN()-12,2)))","v":"Page 58"},{"$f":"IF(INDIRECT(\"'Statistics'!\" & ADDRESS(COLUMN()-12,2))=\"\",\"\",INDIRECT(\"'Statistics'!\" & ADDRESS(COLUMN()-12,2)))","v":"Page 59"},{"$f":"IF(INDIRECT(\"'Statistics'!\" & ADDRESS(COLUMN()-12,2))=\"\",\"\",INDIRECT(\"'Statistics'!\" & ADDRESS(COLUMN()-12,2)))","v":"Page 60"},{"$f":"IF(INDIRECT(\"'Statistics'!\" & ADDRESS(COLUMN()-12,2))=\"\",\"\",INDIRECT(\"'Statistics'!\" & ADDRESS(COLUMN()-12,2)))","v":"Page 61"},{"$f":"IF(INDIRECT(\"'Statistics'!\" & ADDRESS(COLUMN()-12,2))=\"\",\"\",INDIRECT(\"'Statistics'!\" & ADDRESS(COLUMN()-12,2)))","v":"Page 62"},{"$f":"IF(INDIRECT(\"'Statistics'!\" & ADDRESS(COLUMN()-12,2))=\"\",\"\",INDIRECT(\"'Statistics'!\" & ADDRESS(COLUMN()-12,2)))","v":"Page 63"},{"$f":"IF(INDIRECT(\"'Statistics'!\" & ADDRESS(COLUMN()-12,2))=\"\",\"\",INDIRECT(\"'Statistics'!\" & ADDRESS(COLUMN()-12,2)))","v":"Page 64"},{"$f":"IF(INDIRECT(\"'Statistics'!\" & ADDRESS(COLUMN()-12,2))=\"\",\"\",INDIRECT(\"'Statistics'!\" & ADDRESS(COLUMN()-12,2)))","v":"Page 65"},{"$f":"IF(INDIRECT(\"'Statistics'!\" & ADDRESS(COLUMN()-12,2))=\"\",\"\",INDIRECT(\"'Statistics'!\" & ADDRESS(COLUMN()-12,2)))","v":"Page 66"},{"$f":"IF(INDIRECT(\"'Statistics'!\" & ADDRESS(COLUMN()-12,2))=\"\",\"\",INDIRECT(\"'Statistics'!\" & ADDRESS(COLUMN()-12,2)))","v":"Page 67"},{"$f":"IF(INDIRECT(\"'Statistics'!\" & ADDRESS(COLUMN()-12,2))=\"\",\"\",INDIRECT(\"'Statistics'!\" & ADDRESS(COLUMN()-12,2)))","v":"Page 68"},{"$f":"IF(INDIRECT(\"'Statistics'!\" & ADDRESS(COLUMN()-12,2))=\"\",\"\",INDIRECT(\"'Statistics'!\" & ADDRESS(COLUMN()-12,2)))","v":"Page 69"},{"$f":"IF(INDIRECT(\"'Statistics'!\" & ADDRESS(COLUMN()-12,2))=\"\",\"\",INDIRECT(\"'Statistics'!\" & ADDRESS(COLUMN()-12,2)))","v":"Page 70"},{"$f":"IF(INDIRECT(\"'Statistics'!\" & ADDRESS(COLUMN()-12,2))=\"\",\"\",INDIRECT(\"'Statistics'!\" & ADDRESS(COLUMN()-12,2)))","v":"Page 71"},{"$f":"IF(INDIRECT(\"'Statistics'!\" & ADDRESS(COLUMN()-12,2))=\"\",\"\",INDIRECT(\"'Statistics'!\" & ADDRESS(COLUMN()-12,2)))","v":"Page 72"},{"$f":"IF(INDIRECT(\"'Statistics'!\" & ADDRESS(COLUMN()-12,2))=\"\",\"\",INDIRECT(\"'Statistics'!\" & ADDRESS(COLUMN()-12,2)))","v":"Page 73"},{"$f":"IF(INDIRECT(\"'Statistics'!\" & ADDRESS(COLUMN()-12,2))=\"\",\"\",INDIRECT(\"'Statistics'!\" & ADDRESS(COLUMN()-12,2)))","v":"Page 74"},{"$f":"IF(INDIRECT(\"'Statistics'!\" & ADDRESS(COLUMN()-12,2))=\"\",\"\",INDIRECT(\"'Statistics'!\" & ADDRESS(COLUMN()-12,2)))","v":"Page 75"},{"$f":"IF(INDIRECT(\"'Statistics'!\" & ADDRESS(COLUMN()-12,2))=\"\",\"\",INDIRECT(\"'Statistics'!\" & ADDRESS(COLUMN()-12,2)))","v":"Page 76"},{"$f":"IF(INDIRECT(\"'Statistics'!\" & ADDRESS(COLUMN()-12,2))=\"\",\"\",INDIRECT(\"'Statistics'!\" & ADDRESS(COLUMN()-12,2)))","v":"Page 77"},{"$f":"IF(INDIRECT(\"'Statistics'!\" & ADDRESS(COLUMN()-12,2))=\"\",\"\",INDIRECT(\"'Statistics'!\" & ADDRESS(COLUMN()-12,2)))","v":"Page 78"},{"$f":"IF(INDIRECT(\"'Statistics'!\" & ADDRESS(COLUMN()-12,2))=\"\",\"\",INDIRECT(\"'Statistics'!\" & ADDRESS(COLUMN()-12,2)))","v":"Page 79"},{"$f":"IF(INDIRECT(\"'Statistics'!\" & ADDRESS(COLUMN()-12,2))=\"\",\"\",INDIRECT(\"'Statistics'!\" & ADDRESS(COLUMN()-12,2)))","v":"Page 80"},{"$f":"IF(INDIRECT(\"'Statistics'!\" & ADDRESS(COLUMN()-12,2))=\"\",\"\",INDIRECT(\"'Statistics'!\" & ADDRESS(COLUMN()-12,2)))","v":"Page 81"},{"$f":"IF(INDIRECT(\"'Statistics'!\" & ADDRESS(COLUMN()-12,2))=\"\",\"\",INDIRECT(\"'Statistics'!\" & ADDRESS(COLUMN()-12,2)))","v":"Page 82"},{"$f":"IF(INDIRECT(\"'Statistics'!\" & ADDRESS(COLUMN()-12,2))=\"\",\"\",INDIRECT(\"'Statistics'!\" & ADDRESS(COLUMN()-12,2)))","v":"Page 83"},{"$f":"IF(INDIRECT(\"'Statistics'!\" & ADDRESS(COLUMN()-12,2))=\"\",\"\",INDIRECT(\"'Statistics'!\" & ADDRESS(COLUMN()-12,2)))","v":"Page 84"},{"$f":"IF(INDIRECT(\"'Statistics'!\" & ADDRESS(COLUMN()-12,2))=\"\",\"\",INDIRECT(\"'Statistics'!\" & ADDRESS(COLUMN()-12,2)))","v":"Page 85"},{"$f":"IF(INDIRECT(\"'Statistics'!\" & ADDRESS(COLUMN()-12,2))=\"\",\"\",INDIRECT(\"'Statistics'!\" & ADDRESS(COLUMN()-12,2)))","v":"Page 86"},{"$f":"IF(INDIRECT(\"'Statistics'!\" & ADDRESS(COLUMN()-12,2))=\"\",\"\",INDIRECT(\"'Statistics'!\" & ADDRESS(COLUMN()-12,2)))","v":"Page 87"},{"$f":"IF(INDIRECT(\"'Statistics'!\" & ADDRESS(COLUMN()-12,2))=\"\",\"\",INDIRECT(\"'Statistics'!\" & ADDRESS(COLUMN()-12,2)))","v":"Page 88"},{"$f":"IF(INDIRECT(\"'Statistics'!\" & ADDRESS(COLUMN()-12,2))=\"\",\"\",INDIRECT(\"'Statistics'!\" & ADDRESS(COLUMN()-12,2)))","v":"Page 89"},{"$f":"IF(INDIRECT(\"'Statistics'!\" & ADDRESS(COLUMN()-12,2))=\"\",\"\",INDIRECT(\"'Statistics'!\" & ADDRESS(COLUMN()-12,2)))","v":"Page 90"},{"$f":"IF(INDIRECT(\"'Statistics'!\" & ADDRESS(COLUMN()-12,2))=\"\",\"\",INDIRECT(\"'Statistics'!\" & ADDRESS(COLUMN()-12,2)))","v":"Page 91"},{"$f":"IF(INDIRECT(\"'Statistics'!\" & ADDRESS(COLUMN()-12,2))=\"\",\"\",INDIRECT(\"'Statistics'!\" & ADDRESS(COLUMN()-12,2)))","v":"Page 92"},{"$f":"IF(INDIRECT(\"'Statistics'!\" & ADDRESS(COLUMN()-12,2))=\"\",\"\",INDIRECT(\"'Statistics'!\" & ADDRESS(COLUMN()-12,2)))","v":"Page 93"},{"$f":"IF(INDIRECT(\"'Statistics'!\" & ADDRESS(COLUMN()-12,2))=\"\",\"\",INDIRECT(\"'Statistics'!\" & ADDRESS(COLUMN()-12,2)))","v":"Page 94"},{"$f":"IF(INDIRECT(\"'Statistics'!\" & ADDRESS(COLUMN()-12,2))=\"\",\"\",INDIRECT(\"'Statistics'!\" & ADDRESS(COLUMN()-12,2)))","v":"Page 95"},{"$f":"IF(INDIRECT(\"'Statistics'!\" & ADDRESS(COLUMN()-12,2))=\"\",\"\",INDIRECT(\"'Statistics'!\" & ADDRESS(COLUMN()-12,2)))","v":"Page 96"},{"$f":"IF(INDIRECT(\"'Statistics'!\" & ADDRESS(COLUMN()-12,2))=\"\",\"\",INDIRECT(\"'Statistics'!\" & ADDRESS(COLUMN()-12,2)))","v":"Page 97"},{"$f":"IF(INDIRECT(\"'Statistics'!\" & ADDRESS(COLUMN()-12,2))=\"\",\"\",INDIRECT(\"'Statistics'!\" & ADDRESS(COLUMN()-12,2)))","v":"Page 98"},{"$f":"IF(INDIRECT(\"'Statistics'!\" & ADDRESS(COLUMN()-12,2))=\"\",\"\",INDIRECT(\"'Statistics'!\" & ADDRESS(COLUMN()-12,2)))","v":"Page 99"},{"$f":"IF(INDIRECT(\"'Statistics'!\" & ADDRESS(COLUMN()-12,2))=\"\",\"\",INDIRECT(\"'Statistics'!\" & ADDRESS(COLUMN()-12,2)))","v":"Page 100"},{"$f":"IF(INDIRECT(\"'Statistics'!\" & ADDRESS(COLUMN()-12,2))=\"\",\"\",INDIRECT(\"'Statistics'!\" & ADDRESS(COLUMN()-12,2)))","v":"Page 101"},{"$f":"IF(INDIRECT(\"'Statistics'!\" & ADDRESS(COLUMN()-12,2))=\"\",\"\",INDIRECT(\"'Statistics'!\" & ADDRESS(COLUMN()-12,2)))","v":"Page 102"},{"$f":"IF(INDIRECT(\"'Statistics'!\" & ADDRESS(COLUMN()-12,2))=\"\",\"\",INDIRECT(\"'Statistics'!\" & ADDRESS(COLUMN()-12,2)))","v":"Page 103"},{"$f":"IF(INDIRECT(\"'Statistics'!\" & ADDRESS(COLUMN()-12,2))=\"\",\"\",INDIRECT(\"'Statistics'!\" & ADDRESS(COLUMN()-12,2)))","v":"Page 104"},{"$f":"IF(INDIRECT(\"'Statistics'!\" & ADDRESS(COLUMN()-12,2))=\"\",\"\",INDIRECT(\"'Statistics'!\" & ADDRESS(COLUMN()-12,2)))","v":"Page 105"},{"$f":"IF(INDIRECT(\"'Statistics'!\" & ADDRESS(COLUMN()-12,2))=\"\",\"\",INDIRECT(\"'Statistics'!\" & ADDRESS(COLUMN()-12,2)))","v":"Page 106"},{"$f":"IF(INDIRECT(\"'Statistics'!\" & ADDRESS(COLUMN()-12,2))=\"\",\"\",INDIRECT(\"'Statistics'!\" & ADDRESS(COLUMN()-12,2)))","v":"Page 107"},{"$f":"IF(INDIRECT(\"'Statistics'!\" & ADDRESS(COLUMN()-12,2))=\"\",\"\",INDIRECT(\"'Statistics'!\" & ADDRESS(COLUMN()-12,2)))","v":"Page 108"},{"$f":"IF(INDIRECT(\"'Statistics'!\" & ADDRESS(COLUMN()-12,2))=\"\",\"\",INDIRECT(\"'Statistics'!\" & ADDRESS(COLUMN()-12,2)))","v":"Page 109"},{"$f":"IF(INDIRECT(\"'Statistics'!\" & ADDRESS(COLUMN()-12,2))=\"\",\"\",INDIRECT(\"'Statistics'!\" & ADDRESS(COLUMN()-12,2)))","v":"Page 110"},{"$f":"IF(INDIRECT(\"'Statistics'!\" & ADDRESS(COLUMN()-12,2))=\"\",\"\",INDIRECT(\"'Statistics'!\" & ADDRESS(COLUMN()-12,2)))","v":"Page 111"},{"$f":"IF(INDIRECT(\"'Statistics'!\" & ADDRESS(COLUMN()-12,2))=\"\",\"\",INDIRECT(\"'Statistics'!\" & ADDRESS(COLUMN()-12,2)))","v":"Page 112"},{"$f":"IF(INDIRECT(\"'Statistics'!\" & ADDRESS(COLUMN()-12,2))=\"\",\"\",INDIRECT(\"'Statistics'!\" & ADDRESS(COLUMN()-12,2)))","v":"Page 113"},{"$f":"IF(INDIRECT(\"'Statistics'!\" & ADDRESS(COLUMN()-12,2))=\"\",\"\",INDIRECT(\"'Statistics'!\" & ADDRESS(COLUMN()-12,2)))","v":"Page 114"},{"$f":"IF(INDIRECT(\"'Statistics'!\" & ADDRESS(COLUMN()-12,2))=\"\",\"\",INDIRECT(\"'Statistics'!\" & ADDRESS(COLUMN()-12,2)))","v":"Page 115"},{"$f":"IF(INDIRECT(\"'Statistics'!\" & ADDRESS(COLUMN()-12,2))=\"\",\"\",INDIRECT(\"'Statistics'!\" & ADDRESS(COLUMN()-12,2)))","v":"Page 116"},{"$f":"IF(INDIRECT(\"'Statistics'!\" & ADDRESS(COLUMN()-12,2))=\"\",\"\",INDIRECT(\"'Statistics'!\" & ADDRESS(COLUMN()-12,2)))","v":"Page 117"},{"$f":"IF(INDIRECT(\"'Statistics'!\" & ADDRESS(COLUMN()-12,2))=\"\",\"\",INDIRECT(\"'Statistics'!\" & ADDRESS(COLUMN()-12,2)))","v":"Page 118"},{"$f":"IF(INDIRECT(\"'Statistics'!\" & ADDRESS(COLUMN()-12,2))=\"\",\"\",INDIRECT(\"'Statistics'!\" & ADDRESS(COLUMN()-12,2)))","v":"Page 119"},{"$f":"IF(INDIRECT(\"'Statistics'!\" & ADDRESS(COLUMN()-12,2))=\"\",\"\",INDIRECT(\"'Statistics'!\" & ADDRESS(COLUMN()-12,2)))","v":"Page 120"},{"$f":"IF(INDIRECT(\"'Statistics'!\" & ADDRESS(COLUMN()-12,2))=\"\",\"\",INDIRECT(\"'Statistics'!\" & ADDRESS(COLUMN()-12,2)))","v":"Page 121"},{"$f":"IF(INDIRECT(\"'Statistics'!\" & ADDRESS(COLUMN()-12,2))=\"\",\"\",INDIRECT(\"'Statistics'!\" & ADDRESS(COLUMN()-12,2)))","v":"Page 122"},{"$f":"IF(INDIRECT(\"'Statistics'!\" & ADDRESS(COLUMN()-12,2))=\"\",\"\",INDIRECT(\"'Statistics'!\" & ADDRESS(COLUMN()-12,2)))","v":"Page 123"},{"$f":"IF(INDIRECT(\"'Statistics'!\" & ADDRESS(COLUMN()-12,2))=\"\",\"\",INDIRECT(\"'Statistics'!\" & ADDRESS(COLUMN()-12,2)))","v":"Page 124"},{"$f":"IF(INDIRECT(\"'Statistics'!\" & ADDRESS(COLUMN()-12,2))=\"\",\"\",INDIRECT(\"'Statistics'!\" & ADDRESS(COLUMN()-12,2)))","v":"Page 125"},{"$f":"IF(INDIRECT(\"'Statistics'!\" & ADDRESS(COLUMN()-12,2))=\"\",\"\",INDIRECT(\"'Statistics'!\" & ADDRESS(COLUMN()-12,2)))","v":"Page 126"},{"$f":"IF(INDIRECT(\"'Statistics'!\" & ADDRESS(COLUMN()-12,2))=\"\",\"\",INDIRECT(\"'Statistics'!\" & ADDRESS(COLUMN()-12,2)))","v":"Page 127"},{"$f":"IF(INDIRECT(\"'Statistics'!\" & ADDRESS(COLUMN()-12,2))=\"\",\"\",INDIRECT(\"'Statistics'!\" & ADDRESS(COLUMN()-12,2)))","v":"Page 128"},{"$f":"IF(INDIRECT(\"'Statistics'!\" & ADDRESS(COLUMN()-12,2))=\"\",\"\",INDIRECT(\"'Statistics'!\" & ADDRESS(COLUMN()-12,2)))","v":"Page 129"},{"$f":"IF(INDIRECT(\"'Statistics'!\" & ADDRESS(COLUMN()-12,2))=\"\",\"\",INDIRECT(\"'Statistics'!\" & ADDRESS(COLUMN()-12,2)))","v":"Page 130"},{"$f":"IF(INDIRECT(\"'Statistics'!\" & ADDRESS(COLUMN()-12,2))=\"\",\"\",INDIRECT(\"'Statistics'!\" & ADDRESS(COLUMN()-12,2)))","v":"Page 131"},{"$f":"IF(INDIRECT(\"'Statistics'!\" & ADDRESS(COLUMN()-12,2))=\"\",\"\",INDIRECT(\"'Statistics'!\" & ADDRESS(COLUMN()-12,2)))","v":"Page 132"},{"$f":"IF(INDIRECT(\"'Statistics'!\" & ADDRESS(COLUMN()-12,2))=\"\",\"\",INDIRECT(\"'Statistics'!\" & ADDRESS(COLUMN()-12,2)))","v":"Page 133"},{"$f":"IF(INDIRECT(\"'Statistics'!\" & ADDRESS(COLUMN()-12,2))=\"\",\"\",INDIRECT(\"'Statistics'!\" & ADDRESS(COLUMN()-12,2)))","v":"Page 134"},{"$f":"IF(INDIRECT(\"'Statistics'!\" & ADDRESS(COLUMN()-12,2))=\"\",\"\",INDIRECT(\"'Statistics'!\" & ADDRESS(COLUMN()-12,2)))","v":"Page 135"},{"$f":"IF(INDIRECT(\"'Statistics'!\" & ADDRESS(COLUMN()-12,2))=\"\",\"\",INDIRECT(\"'Statistics'!\" & ADDRESS(COLUMN()-12,2)))","v":"Page 136"},{"$f":"IF(INDIRECT(\"'Statistics'!\" & ADDRESS(COLUMN()-12,2))=\"\",\"\",INDIRECT(\"'Statistics'!\" & ADDRESS(COLUMN()-12,2)))","v":"Page 137"},{"$f":"IF(INDIRECT(\"'Statistics'!\" & ADDRESS(COLUMN()-12,2))=\"\",\"\",INDIRECT(\"'Statistics'!\" & ADDRESS(COLUMN()-12,2)))","v":"Page 138"},{"$f":"IF(INDIRECT(\"'Statistics'!\" & ADDRESS(COLUMN()-12,2))=\"\",\"\",INDIRECT(\"'Statistics'!\" & ADDRESS(COLUMN()-12,2)))","v":"Page 139"},{"$f":"IF(INDIRECT(\"'Statistics'!\" & ADDRESS(COLUMN()-12,2))=\"\",\"\",INDIRECT(\"'Statistics'!\" & ADDRESS(COLUMN()-12,2)))","v":"Page 140"},{"$f":"IF(INDIRECT(\"'Statistics'!\" & ADDRESS(COLUMN()-12,2))=\"\",\"\",INDIRECT(\"'Statistics'!\" & ADDRESS(COLUMN()-12,2)))","v":"Page 141"},{"$f":"IF(INDIRECT(\"'Statistics'!\" & ADDRESS(COLUMN()-12,2))=\"\",\"\",INDIRECT(\"'Statistics'!\" & ADDRESS(COLUMN()-12,2)))","v":"Page 142"},{"$f":"IF(INDIRECT(\"'Statistics'!\" & ADDRESS(COLUMN()-12,2))=\"\",\"\",INDIRECT(\"'Statistics'!\" & ADDRESS(COLUMN()-12,2)))","v":"Page 143"},{"$f":"IF(INDIRECT(\"'Statistics'!\" & ADDRESS(COLUMN()-12,2))=\"\",\"\",INDIRECT(\"'Statistics'!\" & ADDRESS(COLUMN()-12,2)))","v":"Page 144"},{"$f":"IF(INDIRECT(\"'Statistics'!\" & ADDRESS(COLUMN()-12,2))=\"\",\"\",INDIRECT(\"'Statistics'!\" & ADDRESS(COLUMN()-12,2)))","v":"Page 145"},{"$f":"IF(INDIRECT(\"'Statistics'!\" & ADDRESS(COLUMN()-12,2))=\"\",\"\",INDIRECT(\"'Statistics'!\" & ADDRESS(COLUMN()-12,2)))","v":"Page 146"},{"$f":"IF(INDIRECT(\"'Statistics'!\" & ADDRESS(COLUMN()-12,2))=\"\",\"\",INDIRECT(\"'Statistics'!\" & ADDRESS(COLUMN()-12,2)))","v":"Page 147"},{"$f":"IF(INDIRECT(\"'Statistics'!\" & ADDRESS(COLUMN()-12,2))=\"\",\"\",INDIRECT(\"'Statistics'!\" & ADDRESS(COLUMN()-12,2)))","v":"Page 148"},{"$f":"IF(INDIRECT(\"'Statistics'!\" & ADDRESS(COLUMN()-12,2))=\"\",\"\",INDIRECT(\"'Statistics'!\" & ADDRESS(COLUMN()-12,2)))","v":"Page 149"},{"$f":"IF(INDIRECT(\"'Statistics'!\" & ADDRESS(COLUMN()-12,2))=\"\",\"\",INDIRECT(\"'Statistics'!\" & ADDRESS(COLUMN()-12,2)))","v":"Page 150"}]
[null,null,null,null,null,null,null,null,null,null,null,null,null,null,null,null,null,null,null,null,null,null,null,null,null,null,{"$f":"IF(INDIRECT(\"'Statistics'!\" & ADDRESS(COLUMN()-12,3))=\"\",\"\",INDIRECT(\"'Statistics'!\" & ADDRESS(COLUMN()-12,3)))","v":" https://wwwtest.london.gov.uk/team-london/"},{"$f":"IF(INDIRECT(\"'Statistics'!\" & ADDRESS(COLUMN()-12,3))=\"\",\"\",INDIRECT(\"'Statistics'!\" & ADDRESS(COLUMN()-12,3)))","v":" https://wwwtest.london.gov.uk/team-london/"},{"$f":"IF(INDIRECT(\"'Statistics'!\" & ADDRESS(COLUMN()-12,3))=\"\",\"\",INDIRECT(\"'Statistics'!\" & ADDRESS(COLUMN()-12,3)))","v":"https://wwwtest.london.gov.uk/team-london/"},{"$f":"IF(INDIRECT(\"'Statistics'!\" & ADDRESS(COLUMN()-12,3))=\"\",\"\",INDIRECT(\"'Statistics'!\" & ADDRESS(COLUMN()-12,3)))","v":"https://wwwtest.london.gov.uk/team-london/search-opportunities?search_api_fulltext=&latlng%5Bvalue%5D=&latlng%5Bdistance%5D%5Bfrom%5D=100000"},{"$f":"IF(INDIRECT(\"'Statistics'!\" & ADDRESS(COLUMN()-12,3))=\"\",\"\",INDIRECT(\"'Statistics'!\" & ADDRESS(COLUMN()-12,3)))","v":"https://wwwtest.london.gov.uk/team-london/one-to-one-sports-and-games-coach-for-children-with-disabilities"},{"$f":"IF(INDIRECT(\"'Statistics'!\" & ADDRESS(COLUMN()-12,3))=\"\",\"\",INDIRECT(\"'Statistics'!\" & ADDRESS(COLUMN()-12,3)))","v":"https://wwwtest.london.gov.uk/team-london/find-volunteers"},{"$f":"IF(INDIRECT(\"'Statistics'!\" & ADDRESS(COLUMN()-12,3))=\"\",\"\",INDIRECT(\"'Statistics'!\" & ADDRESS(COLUMN()-12,3)))","v":"URL 7"},{"$f":"IF(INDIRECT(\"'Statistics'!\" & ADDRESS(COLUMN()-12,3))=\"\",\"\",INDIRECT(\"'Statistics'!\" & ADDRESS(COLUMN()-12,3)))","v":"URL 8"},{"$f":"IF(INDIRECT(\"'Statistics'!\" & ADDRESS(COLUMN()-12,3))=\"\",\"\",INDIRECT(\"'Statistics'!\" & ADDRESS(COLUMN()-12,3)))","v":"URL 9"},{"$f":"IF(INDIRECT(\"'Statistics'!\" & ADDRESS(COLUMN()-12,3))=\"\",\"\",INDIRECT(\"'Statistics'!\" & ADDRESS(COLUMN()-12,3)))","v":"URL 10"},{"$f":"IF(INDIRECT(\"'Statistics'!\" & ADDRESS(COLUMN()-12,3))=\"\",\"\",INDIRECT(\"'Statistics'!\" & ADDRESS(COLUMN()-12,3)))","v":"URL 11"},{"$f":"IF(INDIRECT(\"'Statistics'!\" & ADDRESS(COLUMN()-12,3))=\"\",\"\",INDIRECT(\"'Statistics'!\" & ADDRESS(COLUMN()-12,3)))","v":"URL 12"},{"$f":"IF(INDIRECT(\"'Statistics'!\" & ADDRESS(COLUMN()-12,3))=\"\",\"\",INDIRECT(\"'Statistics'!\" & ADDRESS(COLUMN()-12,3)))","v":"URL 13"},{"$f":"IF(INDIRECT(\"'Statistics'!\" & ADDRESS(COLUMN()-12,3))=\"\",\"\",INDIRECT(\"'Statistics'!\" & ADDRESS(COLUMN()-12,3)))","v":"URL 14"},{"$f":"IF(INDIRECT(\"'Statistics'!\" & ADDRESS(COLUMN()-12,3))=\"\",\"\",INDIRECT(\"'Statistics'!\" & ADDRESS(COLUMN()-12,3)))","v":"URL 15"},{"$f":"IF(INDIRECT(\"'Statistics'!\" & ADDRESS(COLUMN()-12,3))=\"\",\"\",INDIRECT(\"'Statistics'!\" & ADDRESS(COLUMN()-12,3)))","v":"URL 16"},{"$f":"IF(INDIRECT(\"'Statistics'!\" & ADDRESS(COLUMN()-12,3))=\"\",\"\",INDIRECT(\"'Statistics'!\" & ADDRESS(COLUMN()-12,3)))","v":"URL 17"},{"$f":"IF(INDIRECT(\"'Statistics'!\" & ADDRESS(COLUMN()-12,3))=\"\",\"\",INDIRECT(\"'Statistics'!\" & ADDRESS(COLUMN()-12,3)))","v":"URL 18"},{"$f":"IF(INDIRECT(\"'Statistics'!\" & ADDRESS(COLUMN()-12,3))=\"\",\"\",INDIRECT(\"'Statistics'!\" & ADDRESS(COLUMN()-12,3)))","v":"URL 19"},{"$f":"IF(INDIRECT(\"'Statistics'!\" & ADDRESS(COLUMN()-12,3))=\"\",\"\",INDIRECT(\"'Statistics'!\" & ADDRESS(COLUMN()-12,3)))","v":"URL 20"},{"$f":"IF(INDIRECT(\"'Statistics'!\" & ADDRESS(COLUMN()-12,3))=\"\",\"\",INDIRECT(\"'Statistics'!\" & ADDRESS(COLUMN()-12,3)))","v":"URL 21"},{"$f":"IF(INDIRECT(\"'Statistics'!\" & ADDRESS(COLUMN()-12,3))=\"\",\"\",INDIRECT(\"'Statistics'!\" & ADDRESS(COLUMN()-12,3)))","v":"URL 22"},{"$f":"IF(INDIRECT(\"'Statistics'!\" & ADDRESS(COLUMN()-12,3))=\"\",\"\",INDIRECT(\"'Statistics'!\" & ADDRESS(COLUMN()-12,3)))","v":"URL 23"},{"$f":"IF(INDIRECT(\"'Statistics'!\" & ADDRESS(COLUMN()-12,3))=\"\",\"\",INDIRECT(\"'Statistics'!\" & ADDRESS(COLUMN()-12,3)))","v":"URL 24"},{"$f":"IF(INDIRECT(\"'Statistics'!\" & ADDRESS(COLUMN()-12,3))=\"\",\"\",INDIRECT(\"'Statistics'!\" & ADDRESS(COLUMN()-12,3)))","v":"URL 25"},{"$f":"IF(INDIRECT(\"'Statistics'!\" & ADDRESS(COLUMN()-12,3))=\"\",\"\",INDIRECT(\"'Statistics'!\" & ADDRESS(COLUMN()-12,3)))","v":"URL 26"},{"$f":"IF(INDIRECT(\"'Statistics'!\" & ADDRESS(COLUMN()-12,3))=\"\",\"\",INDIRECT(\"'Statistics'!\" & ADDRESS(COLUMN()-12,3)))","v":"URL 27"},{"$f":"IF(INDIRECT(\"'Statistics'!\" & ADDRESS(COLUMN()-12,3))=\"\",\"\",INDIRECT(\"'Statistics'!\" & ADDRESS(COLUMN()-12,3)))","v":"URL 28"},{"$f":"IF(INDIRECT(\"'Statistics'!\" & ADDRESS(COLUMN()-12,3))=\"\",\"\",INDIRECT(\"'Statistics'!\" & ADDRESS(COLUMN()-12,3)))","v":"URL 29"},{"$f":"IF(INDIRECT(\"'Statistics'!\" & ADDRESS(COLUMN()-12,3))=\"\",\"\",INDIRECT(\"'Statistics'!\" & ADDRESS(COLUMN()-12,3)))","v":"URL 30"},{"$f":"IF(INDIRECT(\"'Statistics'!\" & ADDRESS(COLUMN()-12,3))=\"\",\"\",INDIRECT(\"'Statistics'!\" & ADDRESS(COLUMN()-12,3)))","v":"URL 31"},{"$f":"IF(INDIRECT(\"'Statistics'!\" & ADDRESS(COLUMN()-12,3))=\"\",\"\",INDIRECT(\"'Statistics'!\" & ADDRESS(COLUMN()-12,3)))","v":"URL 32"},{"$f":"IF(INDIRECT(\"'Statistics'!\" & ADDRESS(COLUMN()-12,3))=\"\",\"\",INDIRECT(\"'Statistics'!\" & ADDRESS(COLUMN()-12,3)))","v":"URL 33"},{"$f":"IF(INDIRECT(\"'Statistics'!\" & ADDRESS(COLUMN()-12,3))=\"\",\"\",INDIRECT(\"'Statistics'!\" & ADDRESS(COLUMN()-12,3)))","v":"URL 34"},{"$f":"IF(INDIRECT(\"'Statistics'!\" & ADDRESS(COLUMN()-12,3))=\"\",\"\",INDIRECT(\"'Statistics'!\" & ADDRESS(COLUMN()-12,3)))","v":"URL 35"},{"$f":"IF(INDIRECT(\"'Statistics'!\" & ADDRESS(COLUMN()-12,3))=\"\",\"\",INDIRECT(\"'Statistics'!\" & ADDRESS(COLUMN()-12,3)))","v":"URL 36"},{"$f":"IF(INDIRECT(\"'Statistics'!\" & ADDRESS(COLUMN()-12,3))=\"\",\"\",INDIRECT(\"'Statistics'!\" & ADDRESS(COLUMN()-12,3)))","v":"URL 37"},{"$f":"IF(INDIRECT(\"'Statistics'!\" & ADDRESS(COLUMN()-12,3))=\"\",\"\",INDIRECT(\"'Statistics'!\" & ADDRESS(COLUMN()-12,3)))","v":"URL 38"},{"$f":"IF(INDIRECT(\"'Statistics'!\" & ADDRESS(COLUMN()-12,3))=\"\",\"\",INDIRECT(\"'Statistics'!\" & ADDRESS(COLUMN()-12,3)))","v":"URL 39"},{"$f":"IF(INDIRECT(\"'Statistics'!\" & ADDRESS(COLUMN()-12,3))=\"\",\"\",INDIRECT(\"'Statistics'!\" & ADDRESS(COLUMN()-12,3)))","v":"URL 40"},{"$f":"IF(INDIRECT(\"'Statistics'!\" & ADDRESS(COLUMN()-12,3))=\"\",\"\",INDIRECT(\"'Statistics'!\" & ADDRESS(COLUMN()-12,3)))","v":"URL 41"},{"$f":"IF(INDIRECT(\"'Statistics'!\" & ADDRESS(COLUMN()-12,3))=\"\",\"\",INDIRECT(\"'Statistics'!\" & ADDRESS(COLUMN()-12,3)))","v":"URL 42"},{"$f":"IF(INDIRECT(\"'Statistics'!\" & ADDRESS(COLUMN()-12,3))=\"\",\"\",INDIRECT(\"'Statistics'!\" & ADDRESS(COLUMN()-12,3)))","v":"URL 43"},{"$f":"IF(INDIRECT(\"'Statistics'!\" & ADDRESS(COLUMN()-12,3))=\"\",\"\",INDIRECT(\"'Statistics'!\" & ADDRESS(COLUMN()-12,3)))","v":"URL 44"},{"$f":"IF(INDIRECT(\"'Statistics'!\" & ADDRESS(COLUMN()-12,3))=\"\",\"\",INDIRECT(\"'Statistics'!\" & ADDRESS(COLUMN()-12,3)))","v":"URL 45"},{"$f":"IF(INDIRECT(\"'Statistics'!\" & ADDRESS(COLUMN()-12,3))=\"\",\"\",INDIRECT(\"'Statistics'!\" & ADDRESS(COLUMN()-12,3)))","v":"URL 46"},{"$f":"IF(INDIRECT(\"'Statistics'!\" & ADDRESS(COLUMN()-12,3))=\"\",\"\",INDIRECT(\"'Statistics'!\" & ADDRESS(COLUMN()-12,3)))","v":"URL 47"},{"$f":"IF(INDIRECT(\"'Statistics'!\" & ADDRESS(COLUMN()-12,3))=\"\",\"\",INDIRECT(\"'Statistics'!\" & ADDRESS(COLUMN()-12,3)))","v":"URL 48"},{"$f":"IF(INDIRECT(\"'Statistics'!\" & ADDRESS(COLUMN()-12,3))=\"\",\"\",INDIRECT(\"'Statistics'!\" & ADDRESS(COLUMN()-12,3)))","v":"URL 49"},{"$f":"IF(INDIRECT(\"'Statistics'!\" & ADDRESS(COLUMN()-12,3))=\"\",\"\",INDIRECT(\"'Statistics'!\" & ADDRESS(COLUMN()-12,3)))","v":"URL 50"},{"$f":"IF(INDIRECT(\"'Statistics'!\" & ADDRESS(COLUMN()-12,3))=\"\",\"\",INDIRECT(\"'Statistics'!\" & ADDRESS(COLUMN()-12,3)))","v":"URL 51"},{"$f":"IF(INDIRECT(\"'Statistics'!\" & ADDRESS(COLUMN()-12,3))=\"\",\"\",INDIRECT(\"'Statistics'!\" & ADDRESS(COLUMN()-12,3)))","v":"URL 52"},{"$f":"IF(INDIRECT(\"'Statistics'!\" & ADDRESS(COLUMN()-12,3))=\"\",\"\",INDIRECT(\"'Statistics'!\" & ADDRESS(COLUMN()-12,3)))","v":"URL 53"},{"$f":"IF(INDIRECT(\"'Statistics'!\" & ADDRESS(COLUMN()-12,3))=\"\",\"\",INDIRECT(\"'Statistics'!\" & ADDRESS(COLUMN()-12,3)))","v":"URL 54"},{"$f":"IF(INDIRECT(\"'Statistics'!\" & ADDRESS(COLUMN()-12,3))=\"\",\"\",INDIRECT(\"'Statistics'!\" & ADDRESS(COLUMN()-12,3)))","v":"URL 55"},{"$f":"IF(INDIRECT(\"'Statistics'!\" & ADDRESS(COLUMN()-12,3))=\"\",\"\",INDIRECT(\"'Statistics'!\" & ADDRESS(COLUMN()-12,3)))","v":"URL 56"},{"$f":"IF(INDIRECT(\"'Statistics'!\" & ADDRESS(COLUMN()-12,3))=\"\",\"\",INDIRECT(\"'Statistics'!\" & ADDRESS(COLUMN()-12,3)))","v":"URL 57"},{"$f":"IF(INDIRECT(\"'Statistics'!\" & ADDRESS(COLUMN()-12,3))=\"\",\"\",INDIRECT(\"'Statistics'!\" & ADDRESS(COLUMN()-12,3)))","v":"URL 58"},{"$f":"IF(INDIRECT(\"'Statistics'!\" & ADDRESS(COLUMN()-12,3))=\"\",\"\",INDIRECT(\"'Statistics'!\" & ADDRESS(COLUMN()-12,3)))","v":"URL 59"},{"$f":"IF(INDIRECT(\"'Statistics'!\" & ADDRESS(COLUMN()-12,3))=\"\",\"\",INDIRECT(\"'Statistics'!\" & ADDRESS(COLUMN()-12,3)))","v":"URL 60"},{"$f":"IF(INDIRECT(\"'Statistics'!\" & ADDRESS(COLUMN()-12,3))=\"\",\"\",INDIRECT(\"'Statistics'!\" & ADDRESS(COLUMN()-12,3)))","v":"URL 61"},{"$f":"IF(INDIRECT(\"'Statistics'!\" & ADDRESS(COLUMN()-12,3))=\"\",\"\",INDIRECT(\"'Statistics'!\" & ADDRESS(COLUMN()-12,3)))","v":"URL 62"},{"$f":"IF(INDIRECT(\"'Statistics'!\" & ADDRESS(COLUMN()-12,3))=\"\",\"\",INDIRECT(\"'Statistics'!\" & ADDRESS(COLUMN()-12,3)))","v":"URL 63"},{"$f":"IF(INDIRECT(\"'Statistics'!\" & ADDRESS(COLUMN()-12,3))=\"\",\"\",INDIRECT(\"'Statistics'!\" & ADDRESS(COLUMN()-12,3)))","v":"URL 64"},{"$f":"IF(INDIRECT(\"'Statistics'!\" & ADDRESS(COLUMN()-12,3))=\"\",\"\",INDIRECT(\"'Statistics'!\" & ADDRESS(COLUMN()-12,3)))","v":"URL 65"},{"$f":"IF(INDIRECT(\"'Statistics'!\" & ADDRESS(COLUMN()-12,3))=\"\",\"\",INDIRECT(\"'Statistics'!\" & ADDRESS(COLUMN()-12,3)))","v":"URL 66"},{"$f":"IF(INDIRECT(\"'Statistics'!\" & ADDRESS(COLUMN()-12,3))=\"\",\"\",INDIRECT(\"'Statistics'!\" & ADDRESS(COLUMN()-12,3)))","v":"URL 67"},{"$f":"IF(INDIRECT(\"'Statistics'!\" & ADDRESS(COLUMN()-12,3))=\"\",\"\",INDIRECT(\"'Statistics'!\" & ADDRESS(COLUMN()-12,3)))","v":"URL 68"},{"$f":"IF(INDIRECT(\"'Statistics'!\" & ADDRESS(COLUMN()-12,3))=\"\",\"\",INDIRECT(\"'Statistics'!\" & ADDRESS(COLUMN()-12,3)))","v":"URL 69"},{"$f":"IF(INDIRECT(\"'Statistics'!\" & ADDRESS(COLUMN()-12,3))=\"\",\"\",INDIRECT(\"'Statistics'!\" & ADDRESS(COLUMN()-12,3)))","v":"URL 70"},{"$f":"IF(INDIRECT(\"'Statistics'!\" & ADDRESS(COLUMN()-12,3))=\"\",\"\",INDIRECT(\"'Statistics'!\" & ADDRESS(COLUMN()-12,3)))","v":"URL 71"},{"$f":"IF(INDIRECT(\"'Statistics'!\" & ADDRESS(COLUMN()-12,3))=\"\",\"\",INDIRECT(\"'Statistics'!\" & ADDRESS(COLUMN()-12,3)))","v":"URL 72"},{"$f":"IF(INDIRECT(\"'Statistics'!\" & ADDRESS(COLUMN()-12,3))=\"\",\"\",INDIRECT(\"'Statistics'!\" & ADDRESS(COLUMN()-12,3)))","v":"URL 73"},{"$f":"IF(INDIRECT(\"'Statistics'!\" & ADDRESS(COLUMN()-12,3))=\"\",\"\",INDIRECT(\"'Statistics'!\" & ADDRESS(COLUMN()-12,3)))","v":"URL 74"},{"$f":"IF(INDIRECT(\"'Statistics'!\" & ADDRESS(COLUMN()-12,3))=\"\",\"\",INDIRECT(\"'Statistics'!\" & ADDRESS(COLUMN()-12,3)))","v":"URL 75"},{"$f":"IF(INDIRECT(\"'Statistics'!\" & ADDRESS(COLUMN()-12,3))=\"\",\"\",INDIRECT(\"'Statistics'!\" & ADDRESS(COLUMN()-12,3)))","v":"URL 76"},{"$f":"IF(INDIRECT(\"'Statistics'!\" & ADDRESS(COLUMN()-12,3))=\"\",\"\",INDIRECT(\"'Statistics'!\" & ADDRESS(COLUMN()-12,3)))","v":"URL 77"},{"$f":"IF(INDIRECT(\"'Statistics'!\" & ADDRESS(COLUMN()-12,3))=\"\",\"\",INDIRECT(\"'Statistics'!\" & ADDRESS(COLUMN()-12,3)))","v":"URL 78"},{"$f":"IF(INDIRECT(\"'Statistics'!\" & ADDRESS(COLUMN()-12,3))=\"\",\"\",INDIRECT(\"'Statistics'!\" & ADDRESS(COLUMN()-12,3)))","v":"URL 79"},{"$f":"IF(INDIRECT(\"'Statistics'!\" & ADDRESS(COLUMN()-12,3))=\"\",\"\",INDIRECT(\"'Statistics'!\" & ADDRESS(COLUMN()-12,3)))","v":"URL 80"},{"$f":"IF(INDIRECT(\"'Statistics'!\" & ADDRESS(COLUMN()-12,3))=\"\",\"\",INDIRECT(\"'Statistics'!\" & ADDRESS(COLUMN()-12,3)))","v":"URL 81"},{"$f":"IF(INDIRECT(\"'Statistics'!\" & ADDRESS(COLUMN()-12,3))=\"\",\"\",INDIRECT(\"'Statistics'!\" & ADDRESS(COLUMN()-12,3)))","v":"URL 82"},{"$f":"IF(INDIRECT(\"'Statistics'!\" & ADDRESS(COLUMN()-12,3))=\"\",\"\",INDIRECT(\"'Statistics'!\" & ADDRESS(COLUMN()-12,3)))","v":"URL 83"},{"$f":"IF(INDIRECT(\"'Statistics'!\" & ADDRESS(COLUMN()-12,3))=\"\",\"\",INDIRECT(\"'Statistics'!\" & ADDRESS(COLUMN()-12,3)))","v":"URL 84"},{"$f":"IF(INDIRECT(\"'Statistics'!\" & ADDRESS(COLUMN()-12,3))=\"\",\"\",INDIRECT(\"'Statistics'!\" & ADDRESS(COLUMN()-12,3)))","v":"URL 85"},{"$f":"IF(INDIRECT(\"'Statistics'!\" & ADDRESS(COLUMN()-12,3))=\"\",\"\",INDIRECT(\"'Statistics'!\" & ADDRESS(COLUMN()-12,3)))","v":"URL 86"},{"$f":"IF(INDIRECT(\"'Statistics'!\" & ADDRESS(COLUMN()-12,3))=\"\",\"\",INDIRECT(\"'Statistics'!\" & ADDRESS(COLUMN()-12,3)))","v":"URL 87"},{"$f":"IF(INDIRECT(\"'Statistics'!\" & ADDRESS(COLUMN()-12,3))=\"\",\"\",INDIRECT(\"'Statistics'!\" & ADDRESS(COLUMN()-12,3)))","v":"URL 88"},{"$f":"IF(INDIRECT(\"'Statistics'!\" & ADDRESS(COLUMN()-12,3))=\"\",\"\",INDIRECT(\"'Statistics'!\" & ADDRESS(COLUMN()-12,3)))","v":"URL 89"},{"$f":"IF(INDIRECT(\"'Statistics'!\" & ADDRESS(COLUMN()-12,3))=\"\",\"\",INDIRECT(\"'Statistics'!\" & ADDRESS(COLUMN()-12,3)))","v":"URL 90"},{"$f":"IF(INDIRECT(\"'Statistics'!\" & ADDRESS(COLUMN()-12,3))=\"\",\"\",INDIRECT(\"'Statistics'!\" & ADDRESS(COLUMN()-12,3)))","v":"URL 91"},{"$f":"IF(INDIRECT(\"'Statistics'!\" & ADDRESS(COLUMN()-12,3))=\"\",\"\",INDIRECT(\"'Statistics'!\" & ADDRESS(COLUMN()-12,3)))","v":"URL 92"},{"$f":"IF(INDIRECT(\"'Statistics'!\" & ADDRESS(COLUMN()-12,3))=\"\",\"\",INDIRECT(\"'Statistics'!\" & ADDRESS(COLUMN()-12,3)))","v":"URL 93"},{"$f":"IF(INDIRECT(\"'Statistics'!\" & ADDRESS(COLUMN()-12,3))=\"\",\"\",INDIRECT(\"'Statistics'!\" & ADDRESS(COLUMN()-12,3)))","v":"URL 94"},{"$f":"IF(INDIRECT(\"'Statistics'!\" & ADDRESS(COLUMN()-12,3))=\"\",\"\",INDIRECT(\"'Statistics'!\" & ADDRESS(COLUMN()-12,3)))","v":"URL 95"},{"$f":"IF(INDIRECT(\"'Statistics'!\" & ADDRESS(COLUMN()-12,3))=\"\",\"\",INDIRECT(\"'Statistics'!\" & ADDRESS(COLUMN()-12,3)))","v":"URL 96"},{"$f":"IF(INDIRECT(\"'Statistics'!\" & ADDRESS(COLUMN()-12,3))=\"\",\"\",INDIRECT(\"'Statistics'!\" & ADDRESS(COLUMN()-12,3)))","v":"URL 97"},{"$f":"IF(INDIRECT(\"'Statistics'!\" & ADDRESS(COLUMN()-12,3))=\"\",\"\",INDIRECT(\"'Statistics'!\" & ADDRESS(COLUMN()-12,3)))","v":"URL 98"},{"$f":"IF(INDIRECT(\"'Statistics'!\" & ADDRESS(COLUMN()-12,3))=\"\",\"\",INDIRECT(\"'Statistics'!\" & ADDRESS(COLUMN()-12,3)))","v":"URL 99"},{"$f":"IF(INDIRECT(\"'Statistics'!\" & ADDRESS(COLUMN()-12,3))=\"\",\"\",INDIRECT(\"'Statistics'!\" & ADDRESS(COLUMN()-12,3)))","v":"URL 100"},{"$f":"IF(INDIRECT(\"'Statistics'!\" & ADDRESS(COLUMN()-12,3))=\"\",\"\",INDIRECT(\"'Statistics'!\" & ADDRESS(COLUMN()-12,3)))","v":"URL 101"},{"$f":"IF(INDIRECT(\"'Statistics'!\" & ADDRESS(COLUMN()-12,3))=\"\",\"\",INDIRECT(\"'Statistics'!\" & ADDRESS(COLUMN()-12,3)))","v":"URL 102"},{"$f":"IF(INDIRECT(\"'Statistics'!\" & ADDRESS(COLUMN()-12,3))=\"\",\"\",INDIRECT(\"'Statistics'!\" & ADDRESS(COLUMN()-12,3)))","v":"URL 103"},{"$f":"IF(INDIRECT(\"'Statistics'!\" & ADDRESS(COLUMN()-12,3))=\"\",\"\",INDIRECT(\"'Statistics'!\" & ADDRESS(COLUMN()-12,3)))","v":"URL 104"},{"$f":"IF(INDIRECT(\"'Statistics'!\" & ADDRESS(COLUMN()-12,3))=\"\",\"\",INDIRECT(\"'Statistics'!\" & ADDRESS(COLUMN()-12,3)))","v":"URL 105"},{"$f":"IF(INDIRECT(\"'Statistics'!\" & ADDRESS(COLUMN()-12,3))=\"\",\"\",INDIRECT(\"'Statistics'!\" & ADDRESS(COLUMN()-12,3)))","v":"URL 106"},{"$f":"IF(INDIRECT(\"'Statistics'!\" & ADDRESS(COLUMN()-12,3))=\"\",\"\",INDIRECT(\"'Statistics'!\" & ADDRESS(COLUMN()-12,3)))","v":"URL 107"},{"$f":"IF(INDIRECT(\"'Statistics'!\" & ADDRESS(COLUMN()-12,3))=\"\",\"\",INDIRECT(\"'Statistics'!\" & ADDRESS(COLUMN()-12,3)))","v":"URL 108"},{"$f":"IF(INDIRECT(\"'Statistics'!\" & ADDRESS(COLUMN()-12,3))=\"\",\"\",INDIRECT(\"'Statistics'!\" & ADDRESS(COLUMN()-12,3)))","v":"URL 109"},{"$f":"IF(INDIRECT(\"'Statistics'!\" & ADDRESS(COLUMN()-12,3))=\"\",\"\",INDIRECT(\"'Statistics'!\" & ADDRESS(COLUMN()-12,3)))","v":"URL 110"},{"$f":"IF(INDIRECT(\"'Statistics'!\" & ADDRESS(COLUMN()-12,3))=\"\",\"\",INDIRECT(\"'Statistics'!\" & ADDRESS(COLUMN()-12,3)))","v":"URL 111"},{"$f":"IF(INDIRECT(\"'Statistics'!\" & ADDRESS(COLUMN()-12,3))=\"\",\"\",INDIRECT(\"'Statistics'!\" & ADDRESS(COLUMN()-12,3)))","v":"URL 112"},{"$f":"IF(INDIRECT(\"'Statistics'!\" & ADDRESS(COLUMN()-12,3))=\"\",\"\",INDIRECT(\"'Statistics'!\" & ADDRESS(COLUMN()-12,3)))","v":"URL 113"},{"$f":"IF(INDIRECT(\"'Statistics'!\" & ADDRESS(COLUMN()-12,3))=\"\",\"\",INDIRECT(\"'Statistics'!\" & ADDRESS(COLUMN()-12,3)))","v":"URL 114"},{"$f":"IF(INDIRECT(\"'Statistics'!\" & ADDRESS(COLUMN()-12,3))=\"\",\"\",INDIRECT(\"'Statistics'!\" & ADDRESS(COLUMN()-12,3)))","v":"URL 115"},{"$f":"IF(INDIRECT(\"'Statistics'!\" & ADDRESS(COLUMN()-12,3))=\"\",\"\",INDIRECT(\"'Statistics'!\" & ADDRESS(COLUMN()-12,3)))","v":"URL 116"},{"$f":"IF(INDIRECT(\"'Statistics'!\" & ADDRESS(COLUMN()-12,3))=\"\",\"\",INDIRECT(\"'Statistics'!\" & ADDRESS(COLUMN()-12,3)))","v":"URL 117"},{"$f":"IF(INDIRECT(\"'Statistics'!\" & ADDRESS(COLUMN()-12,3))=\"\",\"\",INDIRECT(\"'Statistics'!\" & ADDRESS(COLUMN()-12,3)))","v":"URL 118"},{"$f":"IF(INDIRECT(\"'Statistics'!\" & ADDRESS(COLUMN()-12,3))=\"\",\"\",INDIRECT(\"'Statistics'!\" & ADDRESS(COLUMN()-12,3)))","v":"URL 119"},{"$f":"IF(INDIRECT(\"'Statistics'!\" & ADDRESS(COLUMN()-12,3))=\"\",\"\",INDIRECT(\"'Statistics'!\" & ADDRESS(COLUMN()-12,3)))","v":"URL 120"},{"$f":"IF(INDIRECT(\"'Statistics'!\" & ADDRESS(COLUMN()-12,3))=\"\",\"\",INDIRECT(\"'Statistics'!\" & ADDRESS(COLUMN()-12,3)))","v":"URL 121"},{"$f":"IF(INDIRECT(\"'Statistics'!\" & ADDRESS(COLUMN()-12,3))=\"\",\"\",INDIRECT(\"'Statistics'!\" & ADDRESS(COLUMN()-12,3)))","v":"URL 122"},{"$f":"IF(INDIRECT(\"'Statistics'!\" & ADDRESS(COLUMN()-12,3))=\"\",\"\",INDIRECT(\"'Statistics'!\" & ADDRESS(COLUMN()-12,3)))","v":"URL 123"},{"$f":"IF(INDIRECT(\"'Statistics'!\" & ADDRESS(COLUMN()-12,3))=\"\",\"\",INDIRECT(\"'Statistics'!\" & ADDRESS(COLUMN()-12,3)))","v":"URL 124"},{"$f":"IF(INDIRECT(\"'Statistics'!\" & ADDRESS(COLUMN()-12,3))=\"\",\"\",INDIRECT(\"'Statistics'!\" & ADDRESS(COLUMN()-12,3)))","v":"URL 125"},{"$f":"IF(INDIRECT(\"'Statistics'!\" & ADDRESS(COLUMN()-12,3))=\"\",\"\",INDIRECT(\"'Statistics'!\" & ADDRESS(COLUMN()-12,3)))","v":"URL 126"},{"$f":"IF(INDIRECT(\"'Statistics'!\" & ADDRESS(COLUMN()-12,3))=\"\",\"\",INDIRECT(\"'Statistics'!\" & ADDRESS(COLUMN()-12,3)))","v":"URL 127"},{"$f":"IF(INDIRECT(\"'Statistics'!\" & ADDRESS(COLUMN()-12,3))=\"\",\"\",INDIRECT(\"'Statistics'!\" & ADDRESS(COLUMN()-12,3)))","v":"URL 128"},{"$f":"IF(INDIRECT(\"'Statistics'!\" & ADDRESS(COLUMN()-12,3))=\"\",\"\",INDIRECT(\"'Statistics'!\" & ADDRESS(COLUMN()-12,3)))","v":"URL 129"},{"$f":"IF(INDIRECT(\"'Statistics'!\" & ADDRESS(COLUMN()-12,3))=\"\",\"\",INDIRECT(\"'Statistics'!\" & ADDRESS(COLUMN()-12,3)))","v":"URL 130"},{"$f":"IF(INDIRECT(\"'Statistics'!\" & ADDRESS(COLUMN()-12,3))=\"\",\"\",INDIRECT(\"'Statistics'!\" & ADDRESS(COLUMN()-12,3)))","v":"URL 131"},{"$f":"IF(INDIRECT(\"'Statistics'!\" & ADDRESS(COLUMN()-12,3))=\"\",\"\",INDIRECT(\"'Statistics'!\" & ADDRESS(COLUMN()-12,3)))","v":"URL 132"},{"$f":"IF(INDIRECT(\"'Statistics'!\" & ADDRESS(COLUMN()-12,3))=\"\",\"\",INDIRECT(\"'Statistics'!\" & ADDRESS(COLUMN()-12,3)))","v":"URL 133"},{"$f":"IF(INDIRECT(\"'Statistics'!\" & ADDRESS(COLUMN()-12,3))=\"\",\"\",INDIRECT(\"'Statistics'!\" & ADDRESS(COLUMN()-12,3)))","v":"URL 134"},{"$f":"IF(INDIRECT(\"'Statistics'!\" & ADDRESS(COLUMN()-12,3))=\"\",\"\",INDIRECT(\"'Statistics'!\" & ADDRESS(COLUMN()-12,3)))","v":"URL 135"},{"$f":"IF(INDIRECT(\"'Statistics'!\" & ADDRESS(COLUMN()-12,3))=\"\",\"\",INDIRECT(\"'Statistics'!\" & ADDRESS(COLUMN()-12,3)))","v":"URL 136"},{"$f":"IF(INDIRECT(\"'Statistics'!\" & ADDRESS(COLUMN()-12,3))=\"\",\"\",INDIRECT(\"'Statistics'!\" & ADDRESS(COLUMN()-12,3)))","v":"URL 137"},{"$f":"IF(INDIRECT(\"'Statistics'!\" & ADDRESS(COLUMN()-12,3))=\"\",\"\",INDIRECT(\"'Statistics'!\" & ADDRESS(COLUMN()-12,3)))","v":"URL 138"},{"$f":"IF(INDIRECT(\"'Statistics'!\" & ADDRESS(COLUMN()-12,3))=\"\",\"\",INDIRECT(\"'Statistics'!\" & ADDRESS(COLUMN()-12,3)))","v":"URL 139"},{"$f":"IF(INDIRECT(\"'Statistics'!\" & ADDRESS(COLUMN()-12,3))=\"\",\"\",INDIRECT(\"'Statistics'!\" & ADDRESS(COLUMN()-12,3)))","v":"URL 140"},{"$f":"IF(INDIRECT(\"'Statistics'!\" & ADDRESS(COLUMN()-12,3))=\"\",\"\",INDIRECT(\"'Statistics'!\" & ADDRESS(COLUMN()-12,3)))","v":"URL 141"},{"$f":"IF(INDIRECT(\"'Statistics'!\" & ADDRESS(COLUMN()-12,3))=\"\",\"\",INDIRECT(\"'Statistics'!\" & ADDRESS(COLUMN()-12,3)))","v":"URL 142"},{"$f":"IF(INDIRECT(\"'Statistics'!\" & ADDRESS(COLUMN()-12,3))=\"\",\"\",INDIRECT(\"'Statistics'!\" & ADDRESS(COLUMN()-12,3)))","v":"URL 143"},{"$f":"IF(INDIRECT(\"'Statistics'!\" & ADDRESS(COLUMN()-12,3))=\"\",\"\",INDIRECT(\"'Statistics'!\" & ADDRESS(COLUMN()-12,3)))","v":"URL 144"},{"$f":"IF(INDIRECT(\"'Statistics'!\" & ADDRESS(COLUMN()-12,3))=\"\",\"\",INDIRECT(\"'Statistics'!\" & ADDRESS(COLUMN()-12,3)))","v":"URL 145"},{"$f":"IF(INDIRECT(\"'Statistics'!\" & ADDRESS(COLUMN()-12,3))=\"\",\"\",INDIRECT(\"'Statistics'!\" & ADDRESS(COLUMN()-12,3)))","v":"URL 146"},{"$f":"IF(INDIRECT(\"'Statistics'!\" & ADDRESS(COLUMN()-12,3))=\"\",\"\",INDIRECT(\"'Statistics'!\" & ADDRESS(COLUMN()-12,3)))","v":"URL 147"},{"$f":"IF(INDIRECT(\"'Statistics'!\" & ADDRESS(COLUMN()-12,3))=\"\",\"\",INDIRECT(\"'Statistics'!\" & ADDRESS(COLUMN()-12,3)))","v":"URL 148"},{"$f":"IF(INDIRECT(\"'Statistics'!\" & ADDRESS(COLUMN()-12,3))=\"\",\"\",INDIRECT(\"'Statistics'!\" & ADDRESS(COLUMN()-12,3)))","v":"URL 149"},{"$f":"IF(INDIRECT(\"'Statistics'!\" & ADDRESS(COLUMN()-12,3))=\"\",\"\",INDIRECT(\"'Statistics'!\" & ADDRESS(COLUMN()-12,3)))","v":"URL 150"}]
[null,null,null,null,null,null,null,null,null,null,null,null,null,null,null,null,null,null,null,null,null,null,null,null,null,null,"Page #1","Page #2","Page #3","Page #4","Page #5","Page #6","Page #7","Page #8","Page #9","Page #10","Page #11","Page #12","Page #13","Page #14","Page #15","Page #16","Page #17","Page #18","Page #19","Page #20","Page #21","Page #22","Page #23","Page #24","Page #25","Page #26","Page #27","Page #28","Page #29","Page #30","Page #31","Page #32","Page #33","Page #34","Page #35","Page #36","Page #37","Page #38","Page #39","Page #40","Page #41","Page #42","Page #43","Page #44","Page #45","Page #46","Page #47","Page #48","Page #49","Page #50","Page #51","Page #52","Page #53","Page #54","Page #55","Page #56","Page #57","Page #58","Page #59","Page #60","Page #61","Page #62","Page #63","Page #64","Page #65","Page #66","Page #67","Page #68","Page #69","Page #70","Page #71","Page #72","Page #73","Page #74","Page #75","Page #76","Page #77","Page #78","Page #79","Page #80","Page #81","Page #82","Page #83","Page #84","Page #85","Page #86","Page #87","Page #88","Page #89","Page #90","Page #91","Page #92","Page #93","Page #94","Page #95","Page #96","Page #97","Page #98","Page #99","Page #100","Page #101","Page #102","Page #103","Page #104","Page #105","Page #106","Page #107","Page #108","Page #109","Page #110","Page #111","Page #112","Page #113","Page #114","Page #115","Page #116","Page #117","Page #118","Page #119","Page #120","Page #121","Page #122","Page #123","Page #124","Page #125","Page #126","Page #127","Page #128","Page #129","Page #130","Page #131","Page #132","Page #133","Page #134","Page #135","Page #136","Page #137","Page #138","Page #139","Page #140","Page #141","Page #142","Page #143","Page #144","Page #145","Page #146","Page #147","Page #148","Page #149","Page #150"]
["Page Area","What we are comparing","Image","Recommendation (image)","Recommendation (description)","Colour","Adjacent Colour","Adjacent Colour","Adjacent Colour","Adjacent Colour","Adjacent Colour","Adjacent Colour","Adjacent Colour","Adjacent Colour","Adjacent Colour","Adjacent Colour","Adjacent Colour","Adjacent Colour","Adjacent Colour","Adjacent Colour","Adjacent Colour","Adjacent Colour","Adjacent Colour","Contrast Ratio","Exempt","All Results",{"$f":"COUNTIF(AA5:AA1001,\"Fail\") & \" Fault\" & IF(COUNTIF(AA5:AA1001,\"Fail\")=1,\"\",\"s\")","v":"3 Faults"},{"$f":"COUNTIF(AB5:AB1001,\"Fail\") & \" Fault\" & IF(COUNTIF(AB5:AB1001,\"Fail\")=1,\"\",\"s\")","v":"1 Fault"},{"$f":"COUNTIF(AC5:AC1001,\"Fail\") & \" Fault\" & IF(COUNTIF(AC5:AC1001,\"Fail\")=1,\"\",\"s\")","v":"0 Faults"},{"$f":"COUNTIF(AD5:AD1001,\"Fail\") & \" Fault\" & IF(COUNTIF(AD5:AD1001,\"Fail\")=1,\"\",\"s\")","v":"0 Faults"},"0 Faults","0 Faults","0 Faults","0 Faults","0 Faults","0 Faults","0 Faults","0 Faults","0 Faults","0 Faults","0 Faults","0 Faults","0 Faults","0 Faults","0 Faults","0 Faults","0 Faults","0 Faults","0 Faults","0 Faults","0 Faults","0 Faults","0 Faults","0 Faults","0 Faults","0 Faults","0 Faults","0 Faults","0 Faults","0 Faults","0 Faults","0 Faults","0 Faults","0 Faults","0 Faults","0 Faults","0 Faults","0 Faults","0 Faults","0 Faults","0 Faults","0 Faults","0 Faults","0 Faults","0 Faults","0 Faults",{"$f":"COUNTIF(BY5:BY1001,\"Fail\") & \" Fault\" & IF(COUNTIF(BY5:BY1001,\"Fail\")=1,\"\",\"s\")","v":"0 Faults"},"0 Faults","0 Faults","0 Faults","0 Faults","0 Faults","0 Faults","0 Faults","0 Faults","0 Faults","0 Faults","0 Faults","0 Faults","0 Faults","0 Faults","0 Faults","0 Faults","0 Faults","0 Faults","0 Faults","0 Faults","0 Faults","0 Faults","0 Faults","0 Faults","0 Faults","0 Faults","0 Faults","0 Faults","0 Faults","0 Faults","0 Faults","0 Faults","0 Faults","0 Faults","0 Faults","0 Faults","0 Faults","0 Faults","0 Faults","0 Faults","0 Faults","0 Faults","0 Faults","0 Faults","0 Faults","0 Faults","0 Faults","0 Faults","0 Faults","0 Faults","0 Faults","0 Faults","0 Faults","0 Faults","0 Faults","0 Faults","0 Faults","0 Faults","0 Faults","0 Faults","0 Faults","0 Faults","0 Faults",{"$f":"COUNTIF(EK5:EK1001,\"Fail\") & \" Fault\" & IF(COUNTIF(EK5:EK1001,\"Fail\")=1,\"\",\"s\")","v":"0 Faults"},"0 Faults","0 Faults","0 Faults","0 Faults","0 Faults","0 Faults","0 Faults","0 Faults","0 Faults","0 Faults","0 Faults","0 Faults","0 Faults","0 Faults","0 Faults","0 Faults","0 Faults","0 Faults","0 Faults","0 Faults","0 Faults","0 Faults","0 Faults","0 Faults","0 Faults","0 Faults","0 Faults","0 Faults","0 Faults","0 Faults","0 Faults","0 Faults","0 Faults","0 Faults","0 Faults"]
["Header (Chrome)","White focus indicator against dark grey background",null,null,null,"#FFFFFF","#353D42",{"$f":"IF(LEN(F5)=0,\"\",AND(LEFT(F5,1)=\"#\",LEN(F5)=7))","v":true},{"$f":"HEX2DEC(RIGHT(LEFT(F5,3),2))","v":255},{"$f":"IF(I5/255<= 0.03928,I5/(255*12.92),(((I5/255)+0.055)/1.055)^2.4)","v":1},{"$f":"HEX2DEC(RIGHT(LEFT(F5,5),2))","v":255},{"$f":"IF(K5/255<= 0.03928,K5/(255*12.92),(((K5/255)+0.055)/1.055)^2.4)","v":1},{"$f":"HEX2DEC(RIGHT(F5,2))","v":255},{"$f":"IF(M5/255<= 0.03928,M5/(255*12.92),(((M5/255)+0.055)/1.055)^2.4)","v":1},{"$f":"(0.2126*J5)+(0.7152*L5)+(0.0722*N5)","v":1},{"$f":"IF(LEN(G5)=0,\"\",AND(LEFT(G5,1)=\"#\",LEN(G5)=7))","v":true},{"$f":"HEX2DEC(RIGHT(LEFT(G5,3),2))","v":53},{"$f":"IF(Q5/255<= 0.03928,Q5/(255*12.92),(((Q5/255)+0.055)/1.055)^2.4)","v":3.5601314875020329E-2},{"$f":"HEX2DEC(RIGHT(LEFT(G5,5),2))","v":61},{"$f":"IF(S5/255<= 0.03928,S5/(255*12.92),(((S5/255)+0.055)/1.055)^2.4)","v":4.6665086336880102E-2},{"$f":"HEX2DEC(RIGHT(G5,2))","v":66},{"$f":"IF(U5/255<= 0.03928,U5/(255*12.92),(((U5/255)+0.055)/1.055)^2.4)","v":5.4480276442442369E-2},{"$f":"(0.2126*R5)+(0.7152*T5)+(0.0722*V5)","v":4.4877185249710308E-2},{"$f":"IF(OR(H5=\"\",P5=\"\")=TRUE,\"\",IF(OR(H5=FALSE,P5=FALSE)=TRUE,\"ERROR\",ROUND(IF(O5>W5,(O5+0.05)/(W5+0.05),(W5+0.05)/(O5+0.05)),2)))","v":11.07},"No",{"$f":"IF(OR(Y5=\"\",Y5=\"No\")=TRUE,IF(X5=\"\",\"\",IF(X5>=3,\"Pass\",\"Fail\")),\"Exempt\")","v":"Pass"},"Pass","N/A","N/A","N/A","N/A","N/A"]
["Header (Chrome)","White focus indicator against dark pink background",null,null,null,"#FFFFFF","#E7135D",true,255,{"$f":"IF(I6/255<= 0.03928,I6/(255*12.92),(((I6/255)+0.055)/1.055)^2.4)","v":1},255,{"$f":"IF(K6/255<= 0.03928,K6/(255*12.92),(((K6/255)+0.055)/1.055)^2.4)","v":1},255,{"$f":"IF(M6/255<= 0.03928,M6/(255*12.92),(((M6/255)+0.055)/1.055)^2.4)","v":1},{"$f":"(0.2126*J6)+(0.7152*L6)+(0.0722*N6)","v":1},true,231,{"$f":"IF(Q6/255<= 0.03928,Q6/(255*12.92),(((Q6/255)+0.055)/1.055)^2.4)","v":0.79910273801440901},19,{"$f":"IF(S6/255<= 0.03928,S6/(255*12.92),(((S6/255)+0.055)/1.055)^2.4)","v":6.5120907925944761E-3},93,{"$f":"IF(U6/255<= 0.03928,U6/(255*12.92),(((U6/255)+0.055)/1.055)^2.4)","v":0.10946171077829935},{"$f":"(0.2126*R6)+(0.7152*T6)+(0.0722*V6)","v":0.18244982495492015},4.5199999999999996,"No",{"$f":"IF(OR(Y6=\"\",Y6=\"No\")=TRUE,IF(X6=\"\",\"\",IF(X6>=3,\"Pass\",\"Fail\")),\"Exempt\")","v":"Pass"},"Pass","N/A","N/A","N/A","N/A","N/A"]
["Header (Breadcrumb) (Chrome)","Dark grey focus indicator against light grey background",null,null,null,"#101010","#EFEFEF",true,16,5.1815167023383868E-3,16,5.1815167023383868E-3,16,5.1815167023383868E-3,5.1815167023383868E-3,true,239,0.86315721345410235,239,0.86315721345410235,239,0.86315721345410235,0.86315721345410223,16.55,"No","Pass","Pass","N/A","Pass","Pass","N/A","Pass"]
["Footer (Chrome)","White focus indicator against dark grey background",null,null,null,"#FFFFFF","#1A1E21",true,255,1,255,1,255,1,1,true,26,1.0329823029626938E-2,30,1.2983032342173016E-2,33,1.5208514422912713E-2,1.2579639848555126E-2,16.78,"No","Pass","N/A","Pass","N/A","N/A","N/A","N/A"]
["Header (Firefox)","Blue focus indicator against dark grey background",null,null,null,"#0060DF","#353D42",true,0,{"$f":"IF(I9/255<= 0.03928,I9/(255*12.92),(((I9/255)+0.055)/1.055)^2.4)","v":0},96,{"$f":"IF(K9/255<= 0.03928,K9/(255*12.92),(((K9/255)+0.055)/1.055)^2.4)","v":0.11697066775851085},223,{"$f":"IF(M9/255<= 0.03928,M9/(255*12.92),(((M9/255)+0.055)/1.055)^2.4)","v":0.73791040877273095},{"$f":"(0.2126*J9)+(0.7152*L9)+(0.0722*N9)","v":0.13693455309427813},true,53,{"$f":"IF(Q9/255<= 0.03928,Q9/(255*12.92),(((Q9/255)+0.055)/1.055)^2.4)","v":3.5601314875020329E-2},61,{"$f":"IF(S9/255<= 0.03928,S9/(255*12.92),(((S9/255)+0.055)/1.055)^2.4)","v":4.6665086336880102E-2},66,{"$f":"IF(U9/255<= 0.03928,U9/(255*12.92),(((U9/255)+0.055)/1.055)^2.4)","v":5.4480276442442369E-2},{"$f":"(0.2126*R9)+(0.7152*T9)+(0.0722*V9)","v":4.4877185249710308E-2},1.97,"No","Fail","Fail","N/A","N/A","N/A","N/A","N/A"]
["Header (Firefox)","White focus indicator against dark pink background",null,null,null,"#0060DF","#E7135D",true,0,0,96,0.11697066775851085,223,0.73791040877273095,0.13693455309427813,true,231,0.79910273801440901,19,6.5120907925944761E-3,93,0.10946171077829935,0.18244982495492015,1.24,null,"Fail","Fail","N/A","N/A","N/A","N/A","N/A"]
["Header (Breadcrumb) (Firefox)","Dark grey focus indicator against light grey background",null,null,null,"#0060DF","#EFEFEF",true,0,{"$f":"IF(I11/255<= 0.03928,I11/(255*12.92),(((I11/255)+0.055)/1.055)^2.4)","v":0},96,{"$f":"IF(K11/255<= 0.03928,K11/(255*12.92),(((K11/255)+0.055)/1.055)^2.4)","v":0.11697066775851085},223,{"$f":"IF(M11/255<= 0.03928,M11/(255*12.92),(((M11/255)+0.055)/1.055)^2.4)","v":0.73791040877273095},{"$f":"(0.2126*J11)+(0.7152*L11)+(0.0722*N11)","v":0.13693455309427813},true,239,{"$f":"IF(Q11/255<= 0.03928,Q11/(255*12.92),(((Q11/255)+0.055)/1.055)^2.4)","v":0.86315721345410235},239,{"$f":"IF(S11/255<= 0.03928,S11/(255*12.92),(((S11/255)+0.055)/1.055)^2.4)","v":0.86315721345410235},239,{"$f":"IF(U11/255<= 0.03928,U11/(255*12.92),(((U11/255)+0.055)/1.055)^2.4)","v":0.86315721345410235},{"$f":"(0.2126*R11)+(0.7152*T11)+(0.0722*V11)","v":0.86315721345410223},4.88,null,"Pass","Pass","N/A","Pass","Pass","Pass","Pass"]
["Footer (Firefox)","White focus indicator against dark grey background",null,null,null,"#0060DF","#1A1E21",true,0,0,96,0.11697066775851085,223,0.73791040877273095,0.13693455309427813,true,26,1.0329823029626938E-2,30,1.2983032342173016E-2,33,1.5208514422912713E-2,1.2579639848555126E-2,2.99,null,"Fail","Fail","Fail","N/A","N/A","N/A","N/A"]
["Forms","Pink focus indicator against white background",null,null,null,"#E7135D","#FFFFFF",true,231,{"$f":"IF(I13/255<= 0.03928,I13/(255*12.92),(((I13/255)+0.055)/1.055)^2.4)","v":0.79910273801440901},19,{"$f":"IF(K13/255<= 0.03928,K13/(255*12.92),(((K13/255)+0.055)/1.055)^2.4)","v":6.5120907925944761E-3},93,{"$f":"IF(M13/255<= 0.03928,M13/(255*12.92),(((M13/255)+0.055)/1.055)^2.4)","v":0.10946171077829935},{"$f":"(0.2126*J13)+(0.7152*L13)+(0.0722*N13)","v":0.18244982495492015},true,255,{"$f":"IF(Q13/255<= 0.03928,Q13/(255*12.92),(((Q13/255)+0.055)/1.055)^2.4)","v":1},255,{"$f":"IF(S13/255<= 0.03928,S13/(255*12.92),(((S13/255)+0.055)/1.055)^2.4)","v":1},255,{"$f":"IF(U13/255<= 0.03928,U13/(255*12.92),(((U13/255)+0.055)/1.055)^2.4)","v":1},{"$f":"(0.2126*R13)+(0.7152*T13)+(0.0722*V13)","v":1},4.5199999999999996,null,"Pass","N/A","N/A","N/A","Pass","N/A","N/A"]
["Controls","Dark grey focus indicator against white background",null,null,null,"#000804","#FFFFFF",true,0,0,8,2.4282158683907001E-3,4,1.2141079341953501E-3,1.8243185819219329E-3,true,255,1,255,1,255,1,1,20.260000000000002,null,"Pass","N/A","N/A","Pass","Pass","Pass","Pass"]
[null,null,null,null,null,null,null,"",0,0,0,0,0,0,0,"",0,0,0,0,0,0,0,"",null,""]
[null,null,null,null,null,null,null,"",0,0,0,0,0,0,0,"",0,0,0,0,0,0,0,"",null,""]
[null,null,null,null,null,null,null,"",0,0,0,0,0,0,0,"",0,0,0,0,0,0,0,"",null,""]
[null,null,null,null,null,null,null,"",0,0,0,0,0,0,0,"",0,0,0,0,0,0,0,"",null,""]
[null,null,null,null,null,null,null,"",0,0,0,0,0,0,0,"",0,0,0,0,0,0,0,"",null,""]
[null,null,null,null,null,null,null,"",0,0,0,0,0,0,0,"",0,0,0,0,0,0,0,"",null,""]
[null,null,null,null,null,null,null,"",0,0,0,0,0,0,0,"",0,0,0,0,0,0,0,"",null,""]
[null,null,null,null,null,null,null,"",0,0,0,0,0,0,0,"",0,0,0,0,0,0,0,"",null,""]
[null,null,null,null,null,null,null,"",0,0,0,0,0,0,0,"",0,0,0,0,0,0,0,"",null,""]
[null,null,null,null,null,null,null,"",0,0,0,0,0,0,0,"",0,0,0,0,0,0,0,"",null,""]
[null,null,null,null,null,null,null,"",0,0,0,0,0,0,0,"",0,0,0,0,0,0,0,"",null,""]
[null,null,null,null,null,null,null,"",0,0,0,0,0,0,0,"",0,0,0,0,0,0,0,"",null,""]
[null,null,null,null,null,null,null,"",0,0,0,0,0,0,0,"",0,0,0,0,0,0,0,"",null,""]
[null,null,null,null,null,null,null,"",0,0,0,0,0,0,0,"",0,0,0,0,0,0,0,"",null,""]
[null,null,null,null,null,null,null,"",0,0,0,0,0,0,0,"",0,0,0,0,0,0,0,"",null,""]
[null,null,null,null,null,null,null,"",0,0,0,0,0,0,0,"",0,0,0,0,0,0,0,"",null,""]
[null,null,null,null,null,null,null,"",0,0,0,0,0,0,0,"",0,0,0,0,0,0,0,"",null,""]
[null,null,null,null,null,null,null,"",0,0,0,0,0,0,0,"",0,0,0,0,0,0,0,"",null,""]
[null,null,null,null,null,null,null,"",0,0,0,0,0,0,0,"",0,0,0,0,0,0,0,"",null,""]
[null,null,null,null,null,null,null,"",0,0,0,0,0,0,0,"",0,0,0,0,0,0,0,"",null,""]
[null,null,null,null,null,null,null,"",0,0,0,0,0,0,0,"",0,0,0,0,0,0,0,"",null,""]
[null,null,null,null,null,null,null,"",0,0,0,0,0,0,0,"",0,0,0,0,0,0,0,"",null,""]
[null,null,null,null,null,null,null,{"$f":"IF(LEN(F37)=0,\"\",AND(LEFT(F37,1)=\"#\",LEN(F37)=7))","v":""},{"$f":"HEX2DEC(RIGHT(LEFT(F37,3),2))","v":0},0,{"$f":"HEX2DEC(RIGHT(LEFT(F37,5),2))","v":0},0,{"$f":"HEX2DEC(RIGHT(F37,2))","v":0},0,0,{"$f":"IF(LEN(G37)=0,\"\",AND(LEFT(G37,1)=\"#\",LEN(G37)=7))","v":""},{"$f":"HEX2DEC(RIGHT(LEFT(G37,3),2))","v":0},0,{"$f":"HEX2DEC(RIGHT(LEFT(G37,5),2))","v":0},0,{"$f":"HEX2DEC(RIGHT(G37,2))","v":0},0,0,{"$f":"IF(OR(H37=\"\",P37=\"\")=TRUE,\"\",IF(OR(H37=FALSE,P37=FALSE)=TRUE,\"ERROR\",ROUND(IF(O37>W37,(O37+0.05)/(W37+0.05),(W37+0.05)/(O37+0.05)),2)))","v":""},null,""]
[null,null,null,null,null,null,null,"",0,0,0,0,0,0,0,"",0,0,0,0,0,0,0,"",null,""]
[null,null,null,null,null,null,null,"",0,0,0,0,0,0,0,"",0,0,0,0,0,0,0,"",null,""]
[null,null,null,null,null,null,null,"",0,0,0,0,0,0,0,"",0,0,0,0,0,0,0,"",null,""]
[null,null,null,null,null,null,null,"",0,0,0,0,0,0,0,"",0,0,0,0,0,0,0,"",null,""]
[null,null,null,null,null,null,null,"",0,0,0,0,0,0,0,"",0,0,0,0,0,0,0,"",null,""]
[null,null,null,null,null,null,null,"",0,0,0,0,0,0,0,"",0,0,0,0,0,0,0,"",null,""]
[null,null,null,null,null,null,null,"",0,0,0,0,0,0,0,"",0,0,0,0,0,0,0,"",null,""]
[null,null,null,null,null,null,null,"",0,0,0,0,0,0,0,"",0,0,0,0,0,0,0,"",null,""]
[null,null,null,null,null,null,null,"",0,0,0,0,0,0,0,"",0,0,0,0,0,0,0,"",null,""]
[null,null,null,null,null,null,null,"",0,0,0,0,0,0,0,"",0,0,0,0,0,0,0,"",null,""]
[null,null,null,null,null,null,null,"",0,0,0,0,0,0,0,"",0,0,0,0,0,0,0,"",null,""]
[null,null,null,null,null,null,null,"",0,0,0,0,0,0,0,"",0,0,0,0,0,0,0,"",null,""]
[null,null,null,null,null,null,null,"",0,0,0,0,0,0,0,"",0,0,0,0,0,0,0,"",null,""]
[null,null,null,null,null,null,null,"",0,0,0,0,0,0,0,"",0,0,0,0,0,0,0,"",null,""]
[null,null,null,null,null,null,null,"",0,0,0,0,0,0,0,"",0,0,0,0,0,0,0,"",null,""]
[null,null,null,null,null,null,null,"",0,0,0,0,0,0,0,"",0,0,0,0,0,0,0,"",null,""]
[null,null,null,null,null,null,null,"",0,0,0,0,0,0,0,"",0,0,0,0,0,0,0,"",null,""]
[null,null,null,null,null,null,null,"",0,0,0,0,0,0,0,"",0,0,0,0,0,0,0,"",null,""]
[null,null,null,null,null,null,null,"",0,0,0,0,0,0,0,"",0,0,0,0,0,0,0,"",null,""]
[null,null,null,null,null,null,null,"",0,0,0,0,0,0,0,"",0,0,0,0,0,0,0,"",null,""]
[null,null,null,null,null,null,null,"",0,0,0,0,0,0,0,"",0,0,0,0,0,0,0,"",null,""]
[null,null,null,null,null,null,null,"",0,0,0,0,0,0,0,"",0,0,0,0,0,0,0,"",null,""]
[null,null,null,null,null,null,null,"",0,0,0,0,0,0,0,"",0,0,0,0,0,0,0,"",null,""]
[null,null,null,null,null,null,null,"",0,0,0,0,0,0,0,"",0,0,0,0,0,0,0,"",null,""]
[null,null,null,null,null,null,null,"",0,0,0,0,0,0,0,"",0,0,0,0,0,0,0,"",null,""]
[null,null,null,null,null,null,null,"",0,0,0,0,0,0,0,"",0,0,0,0,0,0,0,"",null,""]
[null,null,null,null,null,null,null,"",0,0,0,0,0,0,0,"",0,0,0,0,0,0,0,"",null,""]
[null,null,null,null,null,null,null,"",0,0,0,0,0,0,0,"",0,0,0,0,0,0,0,"",null,""]
[null,null,null,null,null,null,null,"",0,0,0,0,0,0,0,"",0,0,0,0,0,0,0,"",null,""]
[null,null,null,null,null,null,null,"",0,0,0,0,0,0,0,"",0,0,0,0,0,0,0,"",null,""]
[null,null,null,null,null,null,null,"",0,0,0,0,0,0,0,"",0,0,0,0,0,0,0,"",null,""]
[null,null,null,null,null,null,null,"",0,0,0,0,0,0,0,"",0,0,0,0,0,0,0,{"$f":"IF(OR(H69=\"\",P69=\"\")=TRUE,\"\",IF(OR(H69=FALSE,P69=FALSE)=TRUE,\"ERROR\",ROUND(IF(O69>W69,(O69+0.05)/(W69+0.05),(W69+0.05)/(O69+0.05)),2)))","v":""},null,""]
[null,null,null,null,null,null,null,"",0,0,0,0,0,0,0,"",0,0,0,0,0,0,0,"",null,{"$f":"IF(OR(Y70=\"\",Y70=\"No\")=TRUE,IF(X70=\"\",\"\",IF(X70>=3,\"Pass\",\"Fail\")),\"Exempt\")","v":""}]
[null,null,null,null,null,null,null,"",0,0,0,0,0,0,{"$f":"(0.2126*J71)+(0.7152*L71)+(0.0722*N71)","v":0},"",0,0,0,0,0,0,{"$f":"(0.2126*R71)+(0.7152*T71)+(0.0722*V71)","v":0},"",null,""]
[null,null,null,null,null,null,null,"",0,0,0,0,0,0,{"$f":"(0.2126*J72)+(0.7152*L72)+(0.0722*N72)","v":0},"",0,0,0,0,0,0,{"$f":"(0.2126*R72)+(0.7152*T72)+(0.0722*V72)","v":0},"",null,""]
[]
["Colour combinations shown in pink do not meet the contrast ratio (3:1 Minimum) recommended by W3C WCAG 2.1"]

{"sheet":"Changelog","index":7,"n_rows":13,"n_cols":2,"rows_kept":13,"cut":false,"hidden":true,"merged":[]}
["Version","Changes"]
[3.2,"1. Set the results for all AAA success criteria to Not Tested. Added instruction to delete them all when testing for compliance with AAA.\n\n2. Added a combobox to the header of the Colour Contrast Analysis worksheet to switch between the different thresholds that apply at AA and AAA. The combobox setting automatically sets the appropriate thresholds in the formulae in the Results column.\n\n3. Hid the Cover worksheet. We should update it at some point but it is very low priority.\n\n4. Changed the Hyperlink style so the URL on the Statistics sheet is 11pt bold, the same as the other cells."]
[3.3,"1. Added examples in the Non-text Contrast worksheet.\n\n2. Added the \"What we are comparing\" and \"Recommendation (description) columns to the Non-text Contrast worksheet and reduced the width of most columns.\n\n3. Fixed the VBA so the Fail Only link works on the Non-text Contrast worksheet."]
[3.4,"Screenshots worksheet\n1. Added this worksheet. It's primarily for adding screenshots of components or mobile app screens, both as a record of what was tested and also to avoid any ambiguity because components and mobile app screens often do not have a unique or reliable means of identification.\n\nStatistics worksheet\n2. Added the \"Page or Component\" column. This will eventually be used to calculate the number of errors per page. The current means of calculation gives incorrect results if we have columns of results for the header and footer or any other common component.\n3. Added the Scope selector so the tester can specify whether they are testing to level A, AA or AAA. This does not do much now, but it will perform important functions in future versions of the report.\n\nSuccess Criteria worksheet\n4. Added \"Press Ctrl+Colon to enter today's date\" in row 2 to remind testers to record the date each page was tested.\n5. Added formulae in row 6 to calculate the number of non-compliances per page.\n6. Added formulae to automatically populate the results for the colour contrast and non-text contrast success criteria.\n7. Increased the width of the results columns to 250px on the Success Criteria worksheet so row 6 does not wrap.\n8. Added \"View screenshot\" links in row 5. These point to the corresponding heading on the Screenshots worksheet.\n\nColour Contrast Analysis worksheet\n9. Added formulae in row 3 to calculate the number of non-compliances per page.\n10. Changed the options in the dropdown for the results to just Pass, Pass (large text), Fail and N/A.\n\nNon-text Contrast worksheet\n11. Added formulae in row 3 to calculate the number of non-compliances per page.\n12. Removed the Initial State column from the Non-text Contrast worksheet and renamed the Focus State heading to Image. This is because we have been misinterpreting SC 1.4.11 - it only requires comparison of colours that are displayed at the same time.\n13. Changed the options in the dropdown for the results to just Pass, Fail and N/A.\n14. Corrected the heading to refer to \"adjacent colours\" instead of \"background and foreground colours\"."]
[3.5,"Statistics worksheet\n1. Changed cell I10 from \"Flash Version\" to \"Secondary Browser 3\". This is because Flash is pretty much deprecated and we ought to start testing with Microsoft Edge as well as Chrome, Firefox and Internet Explorer 11.\n2. Merged cell D12 with the cells to its left to improve the appearance.\n\nSuccess Criteria worksheet\n3. Reversed the order of the \"Foreground colour\" and \"Background colour\" columns so they are consistent with the order in all the major colour contrast analysers."]
[3.6,"Statistics worksheet\n1. Added 100 more rows to accommodate 150 pages.\n2. Changed the formulae in E14 to T163 to the same formulae we used in the last BEIS Registry report. This allows additional rows and colums to be added much more easily.\n3. Fixed the formulae for the totals.\n4. Added the Document option to the Page or Component listbox.\n5. Added \"Primary PDF Reader\" to the Test Environment column.\n\nSuccess Criteria worksheet\n6. Added 100 more columns to accommodate 150 pages.\n7. Changed the formulae in E3 to EX4 to the same formulae we used in the last BEIS Registry report.\n8. Added the page numbers in row 5.\n9. Deleted the \"View screenshot\" links from the columns for pages 51 to 150 to avoid having to add 100 more headings on the Screenshots worksheet. Ideally, all components and pages that require screenshots will be in the first 50 pages. Testers can add more \"View screenshot\" links if required for a specific project.\n\nColour Contrast Analysis worksheet\n10. Added 100 more columns to accommodate 150 pages.\n11. Changed the formulae in Y1 to FR2 to the same formulae we used in the last BEIS Registry report.\n12. Added the page numbers in row 3.\n\nNon-text Contrast worksheet\n13. Added 100 more columns to accommodate 150 pages.\n14. Changed the formulae in Z1 to FS2 to the same formulae we used in the last BEIS Registry report.\n15. Added the page numbers in row 3.\n\nScreenshots worksheet\n16. Increased the width of column A to 900 pixels.\n17. Added a blank row between each heading and set the height to 60 pixels."]
[3.7,"Statistics worksheet\n1. Added fields to record the report reviewer's name and date in addition to the tester's name and date.\n\nSuccess Criteria worksheet\n2. Fixed the formulae in E3 to EX4. They were wrong by 1 because a row was added to the Statistics worksheet in version 3.6.\n\nColour Contrast Analysis worksheet\n3. Fixed the formulae in Y1 to FR2. They were wrong by 1 because a row was added to the Statistics worksheet in version 3.6.\n4. Set all results colums to 69 pixels wide. Some had been erroneously set to 64 pixels.\n\nNon-text Contrast worksheet\n5. Fixed the formulae in Z1 to FS2. They were wrong by 1 because a row was added to the Statistics worksheet in version 3.6."]
["3.10","Screenshots worksheet\n1. Added formulae to automatically populate all 150 headings by pulling through the page numbers and names from the Statistics worksheet. Updated the instructions accordingly."]
["3.10\ncont.","Statistics worksheet\n2.Changed all instances of \"COMPLIANT\" to \"CONFORMANT\".\n3. Changed the options for the Page or Component comboboxes to HTML Page, HTML Component, Document, Mobile App Screen and Mobile App Overlay. Changed them to use the list on the Comboboxes worksheet instead of a hard coded list.\n4. Changed the options for the Scope to use the list on the Comboboxes worksheet instead of a hard coded list."]
["3.10\ncont.","Success Criteria worksheet\n5. Updated all the URLs in column A to point to the relevant WCAG 2.1 Understanding page.\n6. Split the definitions of SC 2.1.4, 2.5.2, 2.5.4, 1.3.5, 1.4.5, 1.4.10, 1.4.11, 1.4.12, 1.4.13, 1.4.6, 1.4.7, 1.4.8. 2.5.5 and 3.3.6 into two cells, so the Pass / Fail status cells are not stupidly tall.\n7. Changed all instances of \"COMPLIANT\" to \"CONFORMANT\" to match the changes on the Statistics worksheet.\n8. Changed the data validation of the results status from a list to an array in the Comboboxes worksheet.\n9. Deleted about a million Conditional Formatting rules and reinstated the 7 we actually need.\n10. Changed the Freeze Panes setting so the Page # is now visible all the time."]
["3.10\ncont.","Conformance Statement worksheet\n11. Added this worksheet. Where possible, the data is automatically pulled through from the Statistics worksheet to minimise the amount of effort required. This sheet contains the only new VBA, which is being used to protect cells you are not supposed to edit."]
["3.10\ncont.","Colour Contrast Analysis worksheet\n12. Changed the Image / Text / Flash column heading to Image / Text / Video and changed the combobox options in that column.\n13. Deleted a few Conditional Formatting rules and reinstated the 3 we actually need."]
["3.10\ncont.","Non-text Contrast worksheet\n14. Added an Exempt column. Set the combobox options in that column to Pass, Fail, N/A and Exempt. Added “Exempt” to the options in the Results column.\n15. Fixed the formulae in row 1 that broke when I added the column.\n16. Deleted a few hundred Conditional Formatting rules and reinstated the 3 we actually need. Set Exempt to tan.\n17. Added some examples to show how to report exempt colour combinations."]

{"sheet":"Comboboxes","index":8,"n_rows":16,"n_cols":9,"rows_kept":16,"cut":false,"hidden":true,"merged":[]}
["Level","Variable Name","Image","No","Pass","Please select","Yes","PASS","Please select"]
["(Level AA)","Option value 1","Text","Browser default colours","Fail","Fully conformant","No","PASS with comments","HTML Page"]
["(Level AAA)","Option value 2","Video","Disabled state","N/A","Partially conformant",null,"NON CONFORMANT","HTML Component"]
["(Level AA)","Selected value",null,null,"Exempt","Non-conformant",null,"NOT TESTED","Document"]
[{"$f":"IF(A4=A2,4.5,7)","v":4.5},"Colour contrast ratio (small text)",null,null,null,"Not assessed",null,"N/A","Mobile App Screen"]
[{"$f":"IF(A4=A2,3,4.5)","v":3},"Colour contrast ratio (large text)",null,null,null,null,null,"TO DO","Mobile App Overlay"]
[]
[]
[]
[]
["Enter data","Enter data"]
["View AA results","View results"]
["View AAA results"]
["Enter data","View results"]
[{"$f":"IF(Statistics!S$5=\"Yes\",7,4.5)","v":4.5},"Colour contrast ratio (small text)"]
[{"$f":"IF(Statistics!S$5=\"Yes\",4.5,3)","v":3},"Colour contrast ratio (large text)"]

{"sheet":"Data Table","index":9,"n_rows":51,"n_cols":7,"rows_kept":51,"cut":false,"hidden":true,"merged":[]}
["Page","WCAG 2.0 Level A Criteria\nFailed / Total\n","WCAG 2.0 Level AA Criteria\nFailed / Total\n","Total WCAG 2.0 Criteria\nFailed / Total\n",null,null,"Instructions for copying this data table into the Management Summary Report"]
[{"$f":"Statistics!B15","v":"Header"},{"$f":"CONCATENATE(Statistics!F15,\" / 25\")","v":"1 / 25"},{"$f":"CONCATENATE(Statistics!J15,\" / 13\")","v":"0 / 13"},{"$f":"CONCATENATE(Statistics!R15,\" / 38\")","v":"1 / 38"},null,1,"Locate the Statistics data table in the Management Summary Report."]
[{"$f":"Statistics!B16","v":"Footer"},{"$f":"CONCATENATE(Statistics!F16,\" / 25\")","v":"1 / 25"},{"$f":"CONCATENATE(Statistics!J16,\" / 13\")","v":"0 / 13"},{"$f":"CONCATENATE(Statistics!R16,\" / 38\")","v":"1 / 38"},null,2,"Delete the contents of the data table."]
[{"$f":"Statistics!B17","v":"Home page"},{"$f":"CONCATENATE(Statistics!F17,\" / 25\")","v":"2 / 25"},{"$f":"CONCATENATE(Statistics!J17,\" / 13\")","v":"0 / 13"},{"$f":"CONCATENATE(Statistics!R17,\" / 38\")","v":"2 / 38"},null,3,"Add or delete rows and columns in the data table such that they match the number of rows and columns in the data in this worksheet, including the heading row."]
[{"$f":"Statistics!B18","v":"Search - Find a volunteering role"},{"$f":"CONCATENATE(Statistics!F18,\" / 25\")","v":"3 / 25"},{"$f":"CONCATENATE(Statistics!J18,\" / 13\")","v":"0 / 13"},{"$f":"CONCATENATE(Statistics!R18,\" / 38\")","v":"3 / 38"},null,4,"Select all the cells in the data table in this worksheet."]
[{"$f":"Statistics!B19","v":"Opportunity page"},{"$f":"CONCATENATE(Statistics!F19,\" / 25\")","v":"1 / 25"},{"$f":"CONCATENATE(Statistics!J19,\" / 13\")","v":"0 / 13"},{"$f":"CONCATENATE(Statistics!R19,\" / 38\")","v":"1 / 38"},null,5,"Copy the cells (Ctrl+C is the easiest way to do this)."]
[{"$f":"Statistics!B20","v":"Find volunteers"},{"$f":"CONCATENATE(Statistics!F20,\" / 25\")","v":"1 / 25"},{"$f":"CONCATENATE(Statistics!J20,\" / 13\")","v":"2 / 13"},{"$f":"CONCATENATE(Statistics!R20,\" / 38\")","v":"3 / 38"},null,6,"Select all the cells in the data table in the Management Summary Report."]
[{"$f":"Statistics!B21","v":"Page 7"},{"$f":"CONCATENATE(Statistics!F21,\" / 25\")","v":"0 / 25"},{"$f":"CONCATENATE(Statistics!J21,\" / 13\")","v":"0 / 13"},{"$f":"CONCATENATE(Statistics!R21,\" / 38\")","v":"0 / 38"},null,7,"Paste the cells into the Management Summary Report (Ctrl+V is the easiest way to do this)."]
[{"$f":"Statistics!B22","v":"Page 8"},{"$f":"CONCATENATE(Statistics!F22,\" / 25\")","v":"0 / 25"},{"$f":"CONCATENATE(Statistics!J22,\" / 13\")","v":"0 / 13"},{"$f":"CONCATENATE(Statistics!R22,\" / 38\")","v":"0 / 38"},null,8,"While the cells are still selected, set the Paragraph Spacing to 3pt Before and 3pt After."]
[{"$f":"Statistics!B23","v":"Page 9"},{"$f":"CONCATENATE(Statistics!F23,\" / 25\")","v":"0 / 25"},{"$f":"CONCATENATE(Statistics!J23,\" / 13\")","v":"0 / 13"},{"$f":"CONCATENATE(Statistics!R23,\" / 38\")","v":"0 / 38"},null,9,"Make the column headings bold."]
[{"$f":"Statistics!B24","v":"Page 10"},{"$f":"CONCATENATE(Statistics!F24,\" / 25\")","v":"0 / 25"},{"$f":"CONCATENATE(Statistics!J24,\" / 13\")","v":"0 / 13"},{"$f":"CONCATENATE(Statistics!R24,\" / 38\")","v":"0 / 38"},null,10,"Select all the data cells but not the row and column headings."]
[{"$f":"Statistics!B25","v":"Page 11"},{"$f":"CONCATENATE(Statistics!F25,\" / 25\")","v":"0 / 25"},{"$f":"CONCATENATE(Statistics!J25,\" / 13\")","v":"0 / 13"},{"$f":"CONCATENATE(Statistics!R25,\" / 38\")","v":"0 / 38"},null,11,"Right-click anywhere in the selected area. A dropdown menu will appear. Select Cell Alignment > Align Centre (the option in the middle)."]
[{"$f":"Statistics!B26","v":"Page 12"},{"$f":"CONCATENATE(Statistics!F26,\" / 25\")","v":"0 / 25"},{"$f":"CONCATENATE(Statistics!J26,\" / 13\")","v":"0 / 13"},{"$f":"CONCATENATE(Statistics!R26,\" / 38\")","v":"0 / 38"}]
[{"$f":"Statistics!B27","v":"Page 13"},{"$f":"CONCATENATE(Statistics!F27,\" / 25\")","v":"0 / 25"},{"$f":"CONCATENATE(Statistics!J27,\" / 13\")","v":"0 / 13"},{"$f":"CONCATENATE(Statistics!R27,\" / 38\")","v":"0 / 38"},null,null,"This sheet needs to be updated for WCAG 2.1 AAA"]
[{"$f":"Statistics!B28","v":"Page 14"},{"$f":"CONCATENATE(Statistics!F28,\" / 25\")","v":"0 / 25"},{"$f":"CONCATENATE(Statistics!J28,\" / 13\")","v":"0 / 13"},{"$f":"CONCATENATE(Statistics!R28,\" / 38\")","v":"0 / 38"}]
[{"$f":"Statistics!B29","v":"Page 15"},{"$f":"CONCATENATE(Statistics!F29,\" / 25\")","v":"0 / 25"},{"$f":"CONCATENATE(Statistics!J29,\" / 13\")","v":"0 / 13"},{"$f":"CONCATENATE(Statistics!R29,\" / 38\")","v":"0 / 38"}]
[{"$f":"Statistics!B30","v":"Page 16"},{"$f":"CONCATENATE(Statistics!F30,\" / 25\")","v":"0 / 25"},{"$f":"CONCATENATE(Statistics!J30,\" / 13\")","v":"0 / 13"},{"$f":"CONCATENATE(Statistics!R30,\" / 38\")","v":"0 / 38"}]
[{"$f":"Statistics!B31","v":"Page 17"},{"$f":"CONCATENATE(Statistics!F31,\" / 25\")","v":"0 / 25"},{"$f":"CONCATENATE(Statistics!J31,\" / 13\")","v":"0 / 13"},{"$f":"CONCATENATE(Statistics!R31,\" / 38\")","v":"0 / 38"}]
[{"$f":"Statistics!B32","v":"Page 18"},{"$f":"CONCATENATE(Statistics!F32,\" / 25\")","v":"0 / 25"},{"$f":"CONCATENATE(Statistics!J32,\" / 13\")","v":"0 / 13"},{"$f":"CONCATENATE(Statistics!R32,\" / 38\")","v":"0 / 38"}]
[{"$f":"Statistics!B33","v":"Page 19"},{"$f":"CONCATENATE(Statistics!F33,\" / 25\")","v":"0 / 25"},{"$f":"CONCATENATE(Statistics!J33,\" / 13\")","v":"0 / 13"},{"$f":"CONCATENATE(Statistics!R33,\" / 38\")","v":"0 / 38"}]
[{"$f":"Statistics!B34","v":"Page 20"},{"$f":"CONCATENATE(Statistics!F34,\" / 25\")","v":"0 / 25"},{"$f":"CONCATENATE(Statistics!J34,\" / 13\")","v":"0 / 13"},{"$f":"CONCATENATE(Statistics!R34,\" / 38\")","v":"0 / 38"}]
[{"$f":"Statistics!B35","v":"Page 21"},{"$f":"CONCATENATE(Statistics!F35,\" / 25\")","v":"0 / 25"},{"$f":"CONCATENATE(Statistics!J35,\" / 13\")","v":"0 / 13"},{"$f":"CONCATENATE(Statistics!R35,\" / 38\")","v":"0 / 38"}]
[{"$f":"Statistics!B36","v":"Page 22"},{"$f":"CONCATENATE(Statistics!F36,\" / 25\")","v":"0 / 25"},{"$f":"CONCATENATE(Statistics!J36,\" / 13\")","v":"0 / 13"},{"$f":"CONCATENATE(Statistics!R36,\" / 38\")","v":"0 / 38"}]
[{"$f":"Statistics!B37","v":"Page 23"},{"$f":"CONCATENATE(Statistics!F37,\" / 25\")","v":"0 / 25"},{"$f":"CONCATENATE(Statistics!J37,\" / 13\")","v":"0 / 13"},{"$f":"CONCATENATE(Statistics!R37,\" / 38\")","v":"0 / 38"}]
[{"$f":"Statistics!B38","v":"Page 24"},{"$f":"CONCATENATE(Statistics!F38,\" / 25\")","v":"0 / 25"},{"$f":"CONCATENATE(Statistics!J38,\" / 13\")","v":"0 / 13"},{"$f":"CONCATENATE(Statistics!R38,\" / 38\")","v":"0 / 38"}]
[{"$f":"Statistics!B39","v":"Page 25"},{"$f":"CONCATENATE(Statistics!F39,\" / 25\")","v":"0 / 25"},{"$f":"CONCATENATE(Statistics!J39,\" / 13\")","v":"0 / 13"},{"$f":"CONCATENATE(Statistics!R39,\" / 38\")","v":"0 / 38"}]
[{"$f":"Statistics!B40","v":"Page 26"},{"$f":"CONCATENATE(Statistics!F40,\" / 25\")","v":"0 / 25"},{"$f":"CONCATENATE(Statistics!J40,\" / 13\")","v":"0 / 13"},{"$f":"CONCATENATE(Statistics!R40,\" / 38\")","v":"0 / 38"}]
[{"$f":"Statistics!B41","v":"Page 27"},{"$f":"CONCATENATE(Statistics!F41,\" / 25\")","v":"0 / 25"},{"$f":"CONCATENATE(Statistics!J41,\" / 13\")","v":"0 / 13"},{"$f":"CONCATENATE(Statistics!R41,\" / 38\")","v":"0 / 38"}]
[{"$f":"Statistics!B42","v":"Page 28"},{"$f":"CONCATENATE(Statistics!F42,\" / 25\")","v":"0 / 25"},{"$f":"CONCATENATE(Statistics!J42,\" / 13\")","v":"0 / 13"},{"$f":"CONCATENATE(Statistics!R42,\" / 38\")","v":"0 / 38"}]
[{"$f":"Statistics!B43","v":"Page 29"},{"$f":"CONCATENATE(Statistics!F43,\" / 25\")","v":"0 / 25"},{"$f":"CONCATENATE(Statistics!J43,\" / 13\")","v":"0 / 13"},{"$f":"CONCATENATE(Statistics!R43,\" / 38\")","v":"0 / 38"}]
[{"$f":"Statistics!B44","v":"Page 30"},{"$f":"CONCATENATE(Statistics!F44,\" / 25\")","v":"0 / 25"},{"$f":"CONCATENATE(Statistics!J44,\" / 13\")","v":"0 / 13"},{"$f":"CONCATENATE(Statistics!R44,\" / 38\")","v":"0 / 38"}]
[{"$f":"Statistics!B45","v":"Page 31"},{"$f":"CONCATENATE(Statistics!F45,\" / 25\")","v":"0 / 25"},{"$f":"CONCATENATE(Statistics!J45,\" / 13\")","v":"0 / 13"},{"$f":"CONCATENATE(Statistics!R45,\" / 38\")","v":"0 / 38"}]
[{"$f":"Statistics!B46","v":"Page 32"},{"$f":"CONCATENATE(Statistics!F46,\" / 25\")","v":"0 / 25"},{"$f":"CONCATENATE(Statistics!J46,\" / 13\")","v":"0 / 13"},{"$f":"CONCATENATE(Statistics!R46,\" / 38\")","v":"0 / 38"}]
[{"$f":"Statistics!B47","v":"Page 33"},{"$f":"CONCATENATE(Statistics!F47,\" / 25\")","v":"0 / 25"},{"$f":"CONCATENATE(Statistics!J47,\" / 13\")","v":"0 / 13"},{"$f":"CONCATENATE(Statistics!R47,\" / 38\")","v":"0 / 38"}]
[{"$f":"Statistics!B48","v":"Page 34"},{"$f":"CONCATENATE(Statistics!F48,\" / 25\")","v":"0 / 25"},{"$f":"CONCATENATE(Statistics!J48,\" / 13\")","v":"0 / 13"},{"$f":"CONCATENATE(Statistics!R48,\" / 38\")","v":"0 / 38"}]
[{"$f":"Statistics!B49","v":"Page 35"},{"$f":"CONCATENATE(Statistics!F49,\" / 25\")","v":"0 / 25"},{"$f":"CONCATENATE(Statistics!J49,\" / 13\")","v":"0 / 13"},{"$f":"CONCATENATE(Statistics!R49,\" / 38\")","v":"0 / 38"}]
[{"$f":"Statistics!B50","v":"Page 36"},{"$f":"CONCATENATE(Statistics!F50,\" / 25\")","v":"0 / 25"},{"$f":"CONCATENATE(Statistics!J50,\" / 13\")","v":"0 / 13"},{"$f":"CONCATENATE(Statistics!R50,\" / 38\")","v":"0 / 38"}]
[{"$f":"Statistics!B51","v":"Page 37"},{"$f":"CONCATENATE(Statistics!F51,\" / 25\")","v":"0 / 25"},{"$f":"CONCATENATE(Statistics!J51,\" / 13\")","v":"0 / 13"},{"$f":"CONCATENATE(Statistics!R51,\" / 38\")","v":"0 / 38"}]
[{"$f":"Statistics!B52","v":"Page 38"},{"$f":"CONCATENATE(Statistics!F52,\" / 25\")","v":"0 / 25"},{"$f":"CONCATENATE(Statistics!J52,\" / 13\")","v":"0 / 13"},{"$f":"CONCATENATE(Statistics!R52,\" / 38\")","v":"0 / 38"}]
[{"$f":"Statistics!B53","v":"Page 39"},{"$f":"CONCATENATE(Statistics!F53,\" / 25\")","v":"0 / 25"},{"$f":"CONCATENATE(Statistics!J53,\" / 13\")","v":"0 / 13"},{"$f":"CONCATENATE(Statistics!R53,\" / 38\")","v":"0 / 38"}]
[{"$f":"Statistics!B54","v":"Page 40"},{"$f":"CONCATENATE(Statistics!F54,\" / 25\")","v":"0 / 25"},{"$f":"CONCATENATE(Statistics!J54,\" / 13\")","v":"0 / 13"},{"$f":"CONCATENATE(Statistics!R54,\" / 38\")","v":"0 / 38"}]
[{"$f":"Statistics!B55","v":"Page 41"},{"$f":"CONCATENATE(Statistics!F55,\" / 25\")","v":"0 / 25"},{"$f":"CONCATENATE(Statistics!J55,\" / 13\")","v":"0 / 13"},{"$f":"CONCATENATE(Statistics!R55,\" / 38\")","v":"0 / 38"}]
[{"$f":"Statistics!B56","v":"Page 42"},{"$f":"CONCATENATE(Statistics!F56,\" / 25\")","v":"0 / 25"},{"$f":"CONCATENATE(Statistics!J56,\" / 13\")","v":"0 / 13"},{"$f":"CONCATENATE(Statistics!R56,\" / 38\")","v":"0 / 38"}]
[{"$f":"Statistics!B57","v":"Page 43"},{"$f":"CONCATENATE(Statistics!F57,\" / 25\")","v":"0 / 25"},{"$f":"CONCATENATE(Statistics!J57,\" / 13\")","v":"0 / 13"},{"$f":"CONCATENATE(Statistics!R57,\" / 38\")","v":"0 / 38"}]
[{"$f":"Statistics!B58","v":"Page 44"},{"$f":"CONCATENATE(Statistics!F58,\" / 25\")","v":"0 / 25"},{"$f":"CONCATENATE(Statistics!J58,\" / 13\")","v":"0 / 13"},{"$f":"CONCATENATE(Statistics!R58,\" / 38\")","v":"0 / 38"}]
[{"$f":"Statistics!B59","v":"Page 45"},{"$f":"CONCATENATE(Statistics!F59,\" / 25\")","v":"0 / 25"},{"$f":"CONCATENATE(Statistics!J59,\" / 13\")","v":"0 / 13"},{"$f":"CONCATENATE(Statistics!R59,\" / 38\")","v":"0 / 38"}]
[{"$f":"Statistics!B60","v":"Page 46"},{"$f":"CONCATENATE(Statistics!F60,\" / 25\")","v":"0 / 25"},{"$f":"CONCATENATE(Statistics!J60,\" / 13\")","v":"0 / 13"},{"$f":"CONCATENATE(Statistics!R60,\" / 38\")","v":"0 / 38"}]
[{"$f":"Statistics!B61","v":"Page 47"},{"$f":"CONCATENATE(Statistics!F61,\" / 25\")","v":"0 / 25"},{"$f":"CONCATENATE(Statistics!J61,\" / 13\")","v":"0 / 13"},{"$f":"CONCATENATE(Statistics!R61,\" / 38\")","v":"0 / 38"}]
[{"$f":"Statistics!B62","v":"Page 48"},{"$f":"CONCATENATE(Statistics!F62,\" / 25\")","v":"0 / 25"},{"$f":"CONCATENATE(Statistics!J62,\" / 13\")","v":"0 / 13"},{"$f":"CONCATENATE(Statistics!R62,\" / 38\")","v":"0 / 38"}]
[{"$f":"Statistics!B63","v":"Page 49"},{"$f":"CONCATENATE(Statistics!F63,\" / 25\")","v":"0 / 25"},{"$f":"CONCATENATE(Statistics!J63,\" / 13\")","v":"0 / 13"},{"$f":"CONCATENATE(Statistics!R63,\" / 38\")","v":"0 / 38"}]
[{"$f":"Statistics!B64","v":"Page 50"},{"$f":"CONCATENATE(Statistics!F64,\" / 25\")","v":"0 / 25"},{"$f":"CONCATENATE(Statistics!J64,\" / 13\")","v":"0 / 13"},{"$f":"CONCATENATE(Statistics!R64,\" / 38\")","v":"0 / 38"}]